{"text_format":"1","workbook":"xlsx","n_sheets":49,"sheets":["Post Code Degree Days","floor u values","Scope","Design Details","U Value Calculator","Design Tables","1","2","3","4","5","6","7","8","9","10","11","12","13","14","15","MCS020","GL Sizing","MCS022 data","HP Rad sizing","Solid","Suspended","UFH Guide","Graphs","Compliance Certificate v1.2","CC v1.2 Guidance","Compliance Certificate v2.0","CC v2.0 Guidance","16","17","18","19","20","21","22","23","24","25","26","27","28","29","30","Version"],"not_rendered":{"charts":2,"images":4,"macros":1,"external_links":4,"defined_names":100,"comments":0,"pivot_tables":0},"unopened":[],"bounds":{"document_bytes":16777216,"sheet_cells":100000,"rows_first":2000,"rows_last":500,"rows_between":2000,"halvings":0,"cell_chars":16384,"cell_head_chars":4096},"cells_cut":0,"cells_raw":0,"read":"whole","date_system":"1900"}

{"sheet":"Post Code Degree Days","index":0,"n_rows":126,"n_cols":8,"rows_kept":126,"cut":false,"hidden":true,"merged":[]}
[null,"Area",null,41.045999999999999]
[null,"CIBSE","degree days","52 Week","39 week","39 Week"]
["AB",-4.2,2668,{"$f":"SUM(C3/$D$1)","v":65.00024362909906},{"$f":"SUM(C3*95%)","v":2534.6},{"$f":"SUM(E3/41.046)","v":61.750231447644104},"NE Scotland (Dyce)",8.5]
["AL",-2,2033,{"$f":"SUM(C4/$D$1)","v":49.529795838814991},{"$f":"SUM(C4*95%)","v":1931.35},{"$f":"SUM(E4/41.046)","v":47.053306046874241},"Thames Valley (Heathrow)",11.3]
["B",-3.4,2425,59.080056521950979,2303.75,56.126053695853436,"Midland (Elmdon)",9.8000000000000007]
["BA",-1.7,1835,44.705939677435076,1743.25,42.47064269356332,"Severn Valley (Filton)",10.6]
["BB",-2.2000000000000002,2228,54.280563270477025,2116.6,51.566535106953175,"W Pennines (Ringway)",10]
["BD",-2.5,2307,56.2052331530478,2191.65,53.39497149539541,"E Pennines (Finningley)",10]
["BH",-1.5,2224,54.18311163085319,2112.7999999999997,51.473956049310523,"Southern (Hurn)",10.4]
["BL",-2.2000000000000002,2228,54.280563270477025,2116.6,51.566535106953175,"W Pennines (Ringway)",10]
["BN",-2.1,2224,54.18311163085319,2112.7999999999997,51.473956049310523,"Southern (Hurn)",10.4]
["BR",-3.2,2255,54.938361837937926,2142.25,52.191443746041031,"South-eastern (Gatwick)",10.199999999999999]
["BS",-1.7,1835,44.705939677435076,1743.25,42.47064269356332,"Severn Valley (Filton)",10.6]
["BT",-1.2,2360,57.496467378063635,2242,54.621644009160455,"Northern Ireland (Belfast)",9.4]
["CA",-3.7,2388,58.178628855430496,2268.6,55.269697412658964,"North-western (Carlisle)",9.4]
["CB",-2.5,2033,49.529795838814991,1931.35,47.053306046874241,"Thames Valley (Heathrow)",11.3]
["CF",-1.6,1835,44.705939677435076,1743.25,42.47064269356332,"Severn Valley (Filton)",10.6]
["CH",-2.2000000000000002,2228,54.280563270477025,2116.6,51.566535106953175,"W Pennines (Ringway)",10]
["CM",-2.2999999999999998,2033,49.529795838814991,1931.35,47.053306046874241,"Thames Valley (Heathrow)",11.3]
["CO",-2.2999999999999998,2254,54.913998928031965,2141.2999999999997,52.168298981630358,"E Anglia (Honington)",10]
["CR",-2,2224,54.18311163085319,2112.7999999999997,51.473956049310523,"Southern (Hurn)",10.4]
["CT",-3.2,2255,54.938361837937926,2142.25,52.191443746041031,"South-eastern (Gatwick)",10.199999999999999]
["CV",-3.4,2425,59.080056521950979,2303.75,56.126053695853436,"Midland (Elmdon)",9.8000000000000007]
["CW",-2.7,2228,54.280563270477025,2116.6,51.566535106953175,"W Pennines (Ringway)",10]
["DA",-3.2,2255,54.938361837937926,2142.25,52.191443746041031,"South-eastern (Gatwick)",10.199999999999999]
["DD",-3.8,2577,62.783218827656775,2448.15,59.644057886273941,"E Scotland (Leuchars)",8.8000000000000007]
["DE",-2.2000000000000002,2228,54.280563270477025,2116.6,51.566535106953175,"W Pennines (Ringway)",10]
["DG",-3.8,2483,60.493105296496616,2358.85,57.468450031671779,"Borders (Boulmer)",9]
["DH",-3.7,2370,57.740096477123231,2251.5,54.853091653267064,"North-eastern (Leeming)",9.4]
["DL",-3.7,2388,58.178628855430496,2268.6,55.269697412658964,"North-western (Carlisle)",9.4]
["DN",-3.4,2307,56.2052331530478,2191.65,53.39497149539541,"E Pennines (Finningley)",10]
["DT",-1.7,2224,54.18311163085319,2112.7999999999997,51.473956049310523,"Southern (Hurn)",10.4]
["DY",-3.4,2425,59.080056521950979,2303.75,56.126053695853436,"Midland (Elmdon)",9.8000000000000007]
["E",-1.8,2033,49.529795838814991,1931.35,47.053306046874241,"Thames Valley (Heathrow)",11.3]
["EC",-1.8,2033,49.529795838814991,1931.35,47.053306046874241,"Thames Valley (Heathrow)",11.3]
["EH",-3.4,2577,62.783218827656775,2448.15,59.644057886273941,"E Scotland (Leuchars)",8.8000000000000007]
["EN",-2.1,2255,54.938361837937926,2142.25,52.191443746041031,"South-eastern (Gatwick)",10.199999999999999]
["EX",-1.5,1858,45.266286605272136,1765.1,43.002972275008524,"South-western (Plymouth)",11]
["FK",-3.7,2577,62.783218827656775,2448.15,59.644057886273941,"E Scotland (Leuchars)",8.8000000000000007]
["FY",-2.2000000000000002,2388,58.178628855430496,2268.6,55.269697412658964,"North-western (Carlisle)",9.4]
["G",-3.9,2494,60.761097305462165,2369.2999999999997,57.723042440189047,"W Scotland (Abbotsinch)",9.1]
["GL",-3.3,2425,59.080056521950979,2303.75,56.126053695853436,"Midland (Elmdon)",9.8000000000000007]
["GU",-2.2000000000000002,2033,49.529795838814991,1931.35,47.053306046874241,"Thames Valley (Heathrow)",11.3]
["GY",-1,1800,43.853237830726499,1710,41.660575939190174,"South-eastern (Gatwick)",10.199999999999999]
["HA",-1.8,2033,49.529795838814991,1931.35,47.053306046874241,"Thames Valley (Heathrow)",11.3]
["HD",-3.5,2307,56.2052331530478,2191.65,53.39497149539541,"E Pennines (Finningley)",10]
["HG",-3.5,2307,56.2052331530478,2191.65,53.39497149539541,"E Pennines (Finningley)",10]
["HP",-2,2033,49.529795838814991,1931.35,47.053306046874241,"Thames Valley (Heathrow)",11.3]
["HR",-2,2425,59.080056521950979,2303.75,56.126053695853436,"Midland (Elmdon)",9.8000000000000007]
["HS",-1,1800,43.853237830726499,1710,41.660575939190174,"NW Scotland (Stornoway)",8.6]
["HU",-3,2307,56.2052331530478,2191.65,53.39497149539541,"E Pennines (Finningley)",10]
["HX",-2.5,2228,54.280563270477025,2116.6,51.566535106953175,"W Pennines (Ringway)",10]
["IG",-1.8,2033,49.529795838814991,1931.35,47.053306046874241,"Thames Valley (Heathrow)",11.3]
["IM",-2.5,2228,54.280563270477025,2116.6,51.566535106953175,"W Pennines (Ringway)",10]
["IP",-2.2999999999999998,2254,54.913998928031965,2141.2999999999997,52.168298981630358,"E Anglia (Honington)",10]
["IV",-4,2668,65.00024362909906,2534.6,61.750231447644104,"NE Scotland (Dyce)",8.5]
["JE",-1,1800,43.853237830726499,1710,41.660575939190174,"South-eastern (Gatwick)",10.199999999999999]
["KA",-3.7,2494,60.761097305462165,2369.2999999999997,57.723042440189047,"W Scotland (Abbotsinch)",9.1]
["KT",-1.8,2033,49.529795838814991,1931.35,47.053306046874241,"Thames Valley (Heathrow)",11.3]
["KW",-4.2,2668,65.00024362909906,2534.6,61.750231447644104,"NE Scotland (Dyce)",8.5]
["KY",-3.4,2577,62.783218827656775,2448.15,59.644057886273941,"E Scotland (Leuchars)",8.8000000000000007]
["L",-2.4,2228,54.280563270477025,2116.6,51.566535106953175,"W Pennines (Ringway)",10]
["LA",-2.2000000000000002,2388,58.178628855430496,2268.6,55.269697412658964,"North-western (Carlisle)",9.4]
["LD",-2.9,2161,52.648248306777759,2052.9499999999998,50.015835891438869,"Wales (Aberporth)",9.9]
["LE",-3,2425,59.080056521950979,2303.75,56.126053695853436,"Midland (Elmdon)",9.8000000000000007]
["LL",-3,2228,54.280563270477025,2116.6,51.566535106953175,"W Pennines (Ringway)",10]
["LN",-3,2307,56.2052331530478,2191.65,53.39497149539541,"E Pennines (Finningley)",10]
["LS",-2.5,2307,56.2052331530478,2191.65,53.39497149539541,"E Pennines (Finningley)",10]
["LU",-2.4,2033,{"$f":"SUM(C69/$D$1)","v":49.529795838814991},{"$f":"SUM(C69*95%)","v":1931.35},{"$f":"SUM(E69/41.046)","v":47.053306046874241},"Thames Valley (Heathrow)",11.3]
["M",-2.2000000000000002,2228,54.280563270477025,2116.6,51.566535106953175,"W Pennines (Ringway)",10]
["ME",-1.8,2033,49.529795838814991,1931.35,47.053306046874241,"Thames Valley (Heathrow)",11.3]
["MK",-3.4,2425,59.080056521950979,2303.75,56.126053695853436,"Midland (Elmdon)",9.8000000000000007]
["ML",-3.9,2494,60.761097305462165,2369.2999999999997,57.723042440189047,"W Scotland (Abbotsinch)",9.1]
["N",-1.8,2033,49.529795838814991,1931.35,47.053306046874241,"Thames Valley (Heathrow)",11.3]
["NE",-3.4,2370,57.740096477123231,2251.5,54.853091653267064,"North-eastern (Leeming)",9.4]
["NG",-3.2,2254,54.913998928031965,2141.2999999999997,52.168298981630358,"E Anglia (Honington)",10]
["NN",-3,2425,59.080056521950979,2303.75,56.126053695853436,"Midland (Elmdon)",9.8000000000000007]
["NP",-1.6,2425,59.080056521950979,2303.75,56.126053695853436,"Midland (Elmdon)",9.8000000000000007]
["NR",-2.4,2254,54.913998928031965,2141.2999999999997,52.168298981630358,"E Anglia (Honington)",10]
["NW",-1.8,2033,49.529795838814991,1931.35,47.053306046874241,"Thames Valley (Heathrow)",11.3]
["OL",-3.2,2228,54.280563270477025,2116.6,51.566535106953175,"W Pennines (Ringway)",10]
["OX",-2.4,2425,59.080056521950979,2303.75,56.126053695853436,"Midland (Elmdon)",9.8000000000000007]
["PA",-4,2494,60.761097305462165,2369.2999999999997,57.723042440189047,"W Scotland (Abbotsinch)",9.1]
["PE",-3,2254,54.913998928031965,2141.2999999999997,52.168298981630358,"E Anglia (Honington)",10]
["PH",-3.8,2668,65.00024362909906,2534.6,61.750231447644104,"NE Scotland (Dyce)",8.5]
["PL",-0.2,1858,45.266286605272136,1765.1,43.002972275008524,"South-western (Plymouth)",11]
["PO",-1.8,2224,54.18311163085319,2112.7999999999997,51.473956049310523,"Southern (Hurn)",10.4]
["PR",-3.2,2388,58.178628855430496,2268.6,55.269697412658964,"North-western (Carlisle)",9.4]
["RG",-2.2000000000000002,2033,49.529795838814991,1931.35,47.053306046874241,"Thames Valley (Heathrow)",11.3]
["RH",-1.9,2033,49.529795838814991,1931.35,47.053306046874241,"Thames Valley (Heathrow)",11.3]
["RM",-1.8,2033,49.529795838814991,1931.35,47.053306046874241,"Thames Valley (Heathrow)",11.3]
["S",-2.8,2228,54.280563270477025,2116.6,51.566535106953175,"W Pennines (Ringway)",10]
["SA",-1.6,2161,52.648248306777759,2052.9499999999998,50.015835891438869,"Wales (Aberporth)",9.9]
["SE",-1.8,2033,49.529795838814991,1931.35,47.053306046874241,"Thames Valley (Heathrow)",11.3]
["SG",-2,2033,49.529795838814991,1931.35,47.053306046874241,"Thames Valley (Heathrow)",11.3]
["SK",-2.9,2228,54.280563270477025,2116.6,51.566535106953175,"W Pennines (Ringway)",10]
["SL",-2,2033,49.529795838814991,1931.35,47.053306046874241,"Thames Valley (Heathrow)",11.3]
["SM",-1.8,2033,49.529795838814991,1931.35,47.053306046874241,"Thames Valley (Heathrow)",11.3]
["SN",-2.2000000000000002,2425,59.080056521950979,2303.75,56.126053695853436,"Midland (Elmdon)",9.8000000000000007]
["SO",-1.8,2224,54.18311163085319,2112.7999999999997,51.473956049310523,"Southern (Hurn)",10.4]
["SP",-1.8,2224,54.18311163085319,2112.7999999999997,51.473956049310523,"Southern (Hurn)",10.4]
["SR",-3.7,2370,57.740096477123231,2251.5,54.853091653267064,"North-eastern (Leeming)",9.4]
["SS",-2.2999999999999998,2033,49.529795838814991,1931.35,47.053306046874241,"Thames Valley (Heathrow)",11.3]
["ST",-3,2228,54.280563270477025,2116.6,51.566535106953175,"W Pennines (Ringway)",10]
["SW",-1.8,2033,49.529795838814991,1931.35,47.053306046874241,"Thames Valley (Heathrow)",11.3]
["SY",-3.3,2161,52.648248306777759,2052.9499999999998,50.015835891438869,"Wales (Aberporth)",9.9]
["TA",-2.1,1835,44.705939677435076,1743.25,42.47064269356332,"Severn Valley (Filton)",10.6]
["TD",-3.8,2483,60.493105296496616,2358.85,57.468450031671779,"Borders (Boulmer)",9]
["TF",-3.4,2425,59.080056521950979,2303.75,56.126053695853436,"Midland (Elmdon)",9.8000000000000007]
["TN",-3.2,2255,54.938361837937926,2142.25,52.191443746041031,"South-eastern (Gatwick)",10.199999999999999]
["TQ",-1.3,1858,45.266286605272136,1765.1,43.002972275008524,"South-western (Plymouth)",11]
["TR",-1.4,1858,45.266286605272136,1765.1,43.002972275008524,"South-western (Plymouth)",11]
["TS",-2.9,2370,57.740096477123231,2251.5,54.853091653267064,"North-eastern (Leeming)",9.4]
["TW",-1.8,2203,53.671490522828044,2092.85,50.987915996686645,"Thames Valley (Heathrow)",11.3]
["UB",-1.8,2203,53.671490522828044,2092.85,50.987915996686645,"Thames Valley (Heathrow)",11.3]
["W",-1.8,2203,53.671490522828044,2092.85,50.987915996686645,"Thames Valley (Heathrow)",11.3]
["WA",-2.1,2228,54.280563270477025,2116.6,51.566535106953175,"W Pennines (Ringway)",10]
["WC",-1.8,2203,53.671490522828044,2092.85,50.987915996686645,"Thames Valley (Heathrow)",11.3]
["WD",-2,2203,53.671490522828044,2092.85,50.987915996686645,"Thames Valley (Heathrow)",11.3]
["WF",-2.5,2307,56.2052331530478,2191.65,53.39497149539541,"E Pennines (Finningley)",10]
["WN",-2.1,2228,54.280563270477025,2116.6,51.566535106953175,"W Pennines (Ringway)",10]
["WR",-3.3,2425,59.080056521950979,2303.75,56.126053695853436,"Midland (Elmdon)",9.8000000000000007]
["WS",-3.4,2425,59.080056521950979,2303.75,56.126053695853436,"Midland (Elmdon)",9.8000000000000007]
["WV",-3.4,2425,59.080056521950979,2303.75,56.126053695853436,"Midland (Elmdon)",9.8000000000000007]
["YO",-3.7,2307,56.2052331530478,2191.65,53.39497149539541,"E Pennines (Finningley)",10]
["ZE",-3,2668,65.00024362909906,2534.6,61.750231447644104,"NE Scotland (Dyce)",8.5]

{"sheet":"floor u values","index":1,"n_rows":114,"n_cols":19,"rows_kept":114,"cut":false,"hidden":true,"merged":[]}
[null,"Room Name","External Wall","Short length (depth)","long length","Insulation","Type of floor","External walls","insulation select solid","insulation select suspended",null,{"$f":"S5","v":"Two adjacent"},{"$f":"S6","v":"Two opposite"},{"$f":"S3","v":"3 edges (short single)"},{"$f":"S2","v":"3 edges (long single)"},{"$f":"S4","v":"One edge"}]
[1,{"$f":"'Design Details'!A87","v":"Living "},{"$f":"SUM('1'!$B$24:$B$26)","v":6.8},{"$f":"'1'!$L$24","v":0},{"$f":"'1'!$N$24","v":0},{"$f":"IF('1'!$B$3=\"Ground Floor\",'Design Details'!$D$45,IF('1'!$B$3=\"Single Storey\",'Design Details'!$D$75,0))","v":0},{"$f":"'1'!$L$20","v":"Solid Floor (in contact with ground)"},{"$f":"'1'!$L$22","v":0},{"$f":"IF(F2=0,3,IF(F2=25,4,IF(F2=50,5,IF(F2=75,6,IF(F2=100,7,0)))))","v":3},{"$f":"IF(F2=0,9,IF(F2=25,10,IF(F2=50,11,IF(F2=75,12,IF(F2=100,13,0)))))","v":9},{"$f":"IF(H2=$L$1,L2,IF(H2=$M$1,M2,IF(H2=$N$1,N2,IF(H2=$O$1,O2,IF(H2=$P$1,P2,0)))))","v":0},{"$f":"VLOOKUP(C2,$C$36:$O$44,IF(G2=C33,I2,J2),TRUE)","v":0.9},{"$f":"VLOOKUP(ROUNDDOWN(D2,0),$C$48:$O$53,IF(G2=$C$33,I2,J2),TRUE)","v":{"$error":"#N/A"}},{"$f":"IF(D2<4,VLOOKUP(E2,$C$58:$O$61,IF(G2=$C$33,I2,J2),TRUE),IF(AND(D2>=4,D2<5),VLOOKUP(E2,$C$62:$O$63,IF(G2=$C$33,I2,J2),TRUE),IF(AND(D2>=5,D2<6),VLOOKUP(E2,$C$64:$O$65,IF(G2=$C$33,I2,J2),TRUE),IF(D2>6,VLOOKUP(E2,$C$66:$O$67,IF(G2=$C$33,I2,J2),TRUE),0))))","v":{"$error":"#N/A"}},{"$f":"IF(D2<4,VLOOKUP(E2,$C$71:$O$74,IF(G2=$C$33,I2,J2),TRUE),IF(AND(D2>=4,D2<5),VLOOKUP(E2,$C$75:$O$77,IF(G2=$C$33,I2,J2),TRUE),IF(AND(D2>=5,D2<6),VLOOKUP(E2,$C$78:$O$80,IF(G2=$C$33,I2,J2),TRUE),IF(D2>6,VLOOKUP(E2,$C$81:$O$82,IF(G2=$C$33,I2,J2),TRUE),0))))","v":{"$error":"#N/A"}},{"$f":"VLOOKUP(D2,$C$86:$O$91,IF(G2=$C$33,I2,J2),TRUE)","v":{"$error":"#N/A"}},null,null,"3 edges (long single)"]
[2,{"$f":"'Design Details'!A88","v":"Studio "},{"$f":"SUM('2'!$B$24:$B$26)","v":13.2},{"$f":"'2'!$L$24","v":4},{"$f":"'2'!$N$24","v":5.2},{"$f":"IF('2'!$B$3=\"Ground Floor\",'Design Details'!$D$45,IF('2'!$B$3=\"Single Storey\",'Design Details'!$D$75,0))","v":0},{"$f":"'2'!$L$20","v":"Solid Floor (in contact with ground)"},{"$f":"'2'!$L$22","v":"3 edges (long single)"},3,9,{"$f":"IF(H3=$L$1,L3,IF(H3=$M$1,M3,IF(H3=$N$1,N3,IF(H3=$O$1,O3,IF(H3=$P$1,P3,0)))))","v":0.95},{"$f":"VLOOKUP(C3,$C$36:$O$44,IF(G3=C34,I3,J3),TRUE)","v":0.57999999999999996},{"$f":"VLOOKUP(ROUNDDOWN(D3,0),$C$48:$O$53,IF(G3=$C$33,I3,J3),TRUE)","v":0.73},{"$f":"IF(D3<4,VLOOKUP(E3,$C$58:$O$61,IF(G3=$C$33,I3,J3),TRUE),IF(AND(D3>=4,D3<5),VLOOKUP(E3,$C$62:$O$63,IF(G3=$C$33,I3,J3),TRUE),IF(AND(D3>=5,D3<6),VLOOKUP(E3,$C$64:$O$65,IF(G3=$C$33,I3,J3),TRUE),IF(D3>6,VLOOKUP(E3,$C$66:$O$67,IF(G3=$C$33,I3,J3),TRUE),0))))","v":0.95},{"$f":"IF(D3<4,VLOOKUP(E3,$C$71:$O$74,IF(G3=$C$33,I3,J3),TRUE),IF(AND(D3>=4,D3<5),VLOOKUP(E3,$C$75:$O$77,IF(G3=$C$33,I3,J3),TRUE),IF(AND(D3>=5,D3<6),VLOOKUP(E3,$C$78:$O$80,IF(G3=$C$33,I3,J3),TRUE),IF(D3>6,VLOOKUP(E3,$C$81:$O$82,IF(G3=$C$33,I3,J3),TRUE),0))))","v":0.95},{"$f":"VLOOKUP(D3,$C$86:$O$91,IF(G3=$C$33,I3,J3),TRUE)","v":0.45},null,null,"3 edges (short single)"]
[3,{"$f":"'Design Details'!A89","v":"Sun room "},{"$f":"SUM('3'!$B$24:$B$26)","v":6.97},{"$f":"'3'!$L$24","v":0},{"$f":"'3'!$N$24","v":0},{"$f":"IF('3'!$B$3=\"Ground Floor\",'Design Details'!$D$45,IF('3'!$B$3=\"Single Storey\",'Design Details'!$D$75,0))","v":0},{"$f":"'3'!$L$20","v":"Solid Floor (in contact with ground)"},{"$f":"'3'!$L$22","v":0},3,9,0,{"$f":"VLOOKUP(C4,$C$36:$O$44,IF(G4=C35,I4,J4),TRUE)","v":0.93},{"$f":"VLOOKUP(ROUNDDOWN(D4,0),$C$48:$O$53,IF(G4=$C$33,I4,J4),TRUE)","v":{"$error":"#N/A"}},{"$error":"#N/A"},{"$error":"#N/A"},{"$error":"#N/A"},null,null,"One edge"]
[4,{"$f":"'Design Details'!A90","v":"Music room "},{"$f":"SUM('4'!$B$24:$B$26)","v":5.63},{"$f":"'4'!$L$24","v":1.27},{"$f":"'4'!$N$24","v":3.09},{"$f":"IF('4'!$B$3=\"Ground Floor\",'Design Details'!$D$45,IF('4'!$B$3=\"Single Storey\",'Design Details'!$D$75,0))","v":0},{"$f":"'4'!$L$20","v":"Solid Floor (in contact with ground)"},{"$f":"'4'!$L$22","v":"3 edges (long single)"},3,9,1.05,1.05,{"$error":"#N/A"},1.1499999999999999,1.05,0.9,null,null,"Two adjacent"]
[5,{"$f":"'Design Details'!A91","v":"Hall "},{"$f":"SUM('5'!$B$24:$B$26)","v":1.67},{"$f":"'5'!$L$24","v":1.79},{"$f":"'5'!$N$24","v":0},{"$f":"IF('5'!$B$3=\"Ground Floor\",'Design Details'!$D$45,IF('5'!$B$3=\"Single Storey\",'Design Details'!$D$75,0))","v":0},{"$f":"'5'!$L$20","v":"Solid Floor (in contact with ground)"},{"$f":"'5'!$L$22","v":"One edge"},3,9,0.73,{"$error":"#N/A"},{"$error":"#N/A"},{"$error":"#N/A"},{"$error":"#N/A"},0.73,null,null,"Two opposite"]
[6,{"$f":"'Design Details'!A92","v":"Utility "},{"$f":"SUM('6'!$B$24:$B$26)","v":4.9000000000000004},{"$f":"'6'!$L$24","v":1.2749999999999999},{"$f":"'6'!$N$24","v":2.35},{"$f":"IF('6'!$B$3=\"Ground Floor\",'Design Details'!$D$45,IF('6'!$B$3=\"Single Storey\",'Design Details'!$D$75,0))","v":0},{"$f":"'6'!$L$20","v":"Solid Floor (in contact with ground)"},{"$f":"'6'!$L$22","v":"3 edges (long single)"},3,9,{"$error":"#N/A"},{"$error":"#N/A"},{"$error":"#N/A"},{"$error":"#N/A"},{"$error":"#N/A"},0.9]
[7,{"$f":"'Design Details'!A93","v":"WC "},{"$f":"SUM('7'!$B$24:$B$26)","v":1.06},{"$f":"'7'!$L$24","v":0},{"$f":"'7'!$N$24","v":0},{"$f":"IF('7'!$B$3=\"Ground Floor\",'Design Details'!$D$45,IF('7'!$B$3=\"Single Storey\",'Design Details'!$D$75,0))","v":0},{"$f":"'7'!$L$20","v":"Solid Floor (in contact with ground)"},{"$f":"'7'!$L$22","v":0},3,9,0,{"$error":"#N/A"},{"$error":"#N/A"},{"$error":"#N/A"},{"$error":"#N/A"},{"$error":"#N/A"}]
[8,{"$f":"'Design Details'!A94","v":"Kitchen "},{"$f":"SUM('8'!$B$24:$B$26)","v":10.76},{"$f":"'8'!$L$24","v":0},{"$f":"'8'!$N$24","v":0},{"$f":"IF('8'!$B$3=\"Ground Floor\",'Design Details'!$D$45,IF('8'!$B$3=\"Single Storey\",'Design Details'!$D$75,0))","v":0},{"$f":"'8'!$L$20","v":"Solid Floor (in contact with ground)"},{"$f":"'8'!$L$22","v":"Two adjacent"},3,9,0.65,0.65,{"$error":"#N/A"},{"$error":"#N/A"},{"$error":"#N/A"},{"$error":"#N/A"}]
[9,{"$f":"'Design Details'!A95","v":"Bedroom 1"},{"$f":"SUM('9'!$B$24:$B$26)","v":6.95},{"$f":"'9'!$L$24","v":0},{"$f":"'9'!$N$24","v":0},{"$f":"IF('9'!$B$3=\"Ground Floor\",'Design Details'!$D$45,IF('9'!$B$3=\"Single Storey\",'Design Details'!$D$75,0))","v":0},{"$f":"'9'!$L$20","v":0},{"$f":"'9'!$L$22","v":0},3,9,0,0.93,{"$error":"#N/A"},{"$error":"#N/A"},{"$error":"#N/A"},{"$error":"#N/A"}]
[10,{"$f":"'Design Details'!A96","v":"Bedroom 2"},{"$f":"SUM('10'!$B$24:$B$26)","v":3.14},{"$f":"'10'!$L$24","v":0},{"$f":"'10'!$N$24","v":0},{"$f":"IF('10'!$B$3=\"Ground Floor\",'Design Details'!$D$45,IF('10'!$B$3=\"Single Storey\",'Design Details'!$D$75,0))","v":0},{"$f":"'10'!$L$20","v":0},{"$f":"'10'!$L$22","v":0},3,9,0,{"$error":"#N/A"},{"$error":"#N/A"},{"$error":"#N/A"},{"$error":"#N/A"},{"$error":"#N/A"}]
[11,{"$f":"'Design Details'!A97","v":"Bedroom 3"},{"$f":"SUM('11'!$B$24:$B$26)","v":3.54},{"$f":"'11'!$L$24","v":0},{"$f":"'11'!$N$24","v":0},{"$f":"IF('11'!$B$3=\"Ground Floor\",'Design Details'!$D$45,IF('11'!$B$3=\"Single Storey\",'Design Details'!$D$75,0))","v":0},{"$f":"'11'!$L$20","v":0},{"$f":"'11'!$L$22","v":0},3,9,0,{"$error":"#N/A"},{"$error":"#N/A"},{"$error":"#N/A"},{"$error":"#N/A"},{"$error":"#N/A"}]
[12,{"$f":"'Design Details'!A98","v":"Bedroom 4"},{"$f":"SUM('12'!$B$24:$B$26)","v":6.87},{"$f":"'12'!$L$24","v":0},{"$f":"'12'!$N$24","v":0},{"$f":"IF('12'!$B$3=\"Ground Floor\",'Design Details'!$D$45,IF('12'!$B$3=\"Single Storey\",'Design Details'!$D$75,0))","v":0},{"$f":"'12'!$L$20","v":0},{"$f":"'12'!$L$22","v":0},3,9,0,0.93,{"$error":"#N/A"},{"$error":"#N/A"},{"$error":"#N/A"},{"$error":"#N/A"}]
[13,{"$f":"'Design Details'!A99","v":"En-suite "},{"$f":"SUM('13'!$B$24:$B$26)","v":0},{"$f":"'13'!$L$24","v":0},{"$f":"'13'!$N$24","v":0},{"$f":"IF('13'!$B$3=\"Ground Floor\",'Design Details'!$D$45,IF('13'!$B$3=\"Single Storey\",'Design Details'!$D$75,0))","v":0},{"$f":"'13'!$L$20","v":0},{"$f":"'13'!$L$22","v":0},3,9,0,{"$error":"#N/A"},{"$error":"#N/A"},{"$error":"#N/A"},{"$error":"#N/A"},{"$error":"#N/A"}]
[14,{"$f":"'Design Details'!A100","v":"Bath "},{"$f":"SUM('14'!$B$24:$B$26)","v":4.5500000000000007},{"$f":"'14'!$L$24","v":0},{"$f":"'14'!$N$24","v":0},{"$f":"IF('14'!$B$3=\"Ground Floor\",'Design Details'!$D$45,IF('14'!$B$3=\"Single Storey\",'Design Details'!$D$75,0))","v":0},{"$f":"'14'!$L$20","v":0},{"$f":"'14'!$L$22","v":0},3,9,0,{"$error":"#N/A"},{"$error":"#N/A"},{"$error":"#N/A"},{"$error":"#N/A"},{"$error":"#N/A"}]
[15,{"$f":"'Design Details'!A101","v":"Landing "},{"$f":"SUM('15'!$B$24:$B$26)","v":1.28},{"$f":"'15'!$L$24","v":0},{"$f":"'15'!$N$24","v":0},{"$f":"IF('15'!$B$3=\"Ground Floor\",'Design Details'!$D$45,IF('15'!$B$3=\"Single Storey\",'Design Details'!$D$75,0))","v":0},{"$f":"'15'!$L$20","v":0},{"$f":"'15'!$L$22","v":0},3,9,0,{"$error":"#N/A"},{"$error":"#N/A"},{"$error":"#N/A"},{"$error":"#N/A"},{"$error":"#N/A"}]
[16,{"$f":"'Design Details'!A102","v":"- "},{"$f":"SUM('16'!$B$24:$B$26)","v":0},{"$f":"'16'!$L$24","v":0},{"$f":"'16'!$N$24","v":0},{"$f":"IF('16'!$B$3=\"Ground Floor\",'Design Details'!$D$45,IF('16'!$B$3=\"Single Storey\",'Design Details'!$D$75,0))","v":0},{"$f":"'16'!$L$20","v":0},{"$f":"'16'!$L$22","v":0},3,9,0,{"$error":"#N/A"},{"$error":"#N/A"},{"$error":"#N/A"},{"$error":"#N/A"},{"$error":"#N/A"}]
[17,{"$f":"'Design Details'!A103","v":"- "},{"$f":"SUM('17'!$B$24:$B$26)","v":0},{"$f":"'17'!$L$24","v":0},{"$f":"'17'!$N$24","v":0},{"$f":"IF('17'!$B$3=\"Ground Floor\",'Design Details'!$D$45,IF('17'!$B$3=\"Single Storey\",'Design Details'!$D$75,0))","v":0},{"$f":"'17'!$L$20","v":0},{"$f":"'17'!$L$22","v":0},3,9,0,{"$error":"#N/A"},{"$error":"#N/A"},{"$error":"#N/A"},{"$error":"#N/A"},{"$error":"#N/A"}]
[18,{"$f":"'Design Details'!A104","v":"- "},{"$f":"SUM('18'!$B$24:$B$26)","v":0},{"$f":"'18'!$L$24","v":0},{"$f":"'18'!$N$24","v":0},{"$f":"IF('18'!$B$3=\"Ground Floor\",'Design Details'!$D$45,IF('18'!$B$3=\"Single Storey\",'Design Details'!$D$75,0))","v":0},{"$f":"'18'!$L$20","v":0},{"$f":"'18'!$L$22","v":0},3,9,0,{"$error":"#N/A"},{"$error":"#N/A"},{"$error":"#N/A"},{"$error":"#N/A"},{"$error":"#N/A"}]
[19,{"$f":"'Design Details'!A105","v":"- "},{"$f":"SUM('19'!$B$24:$B$26)","v":0},{"$f":"'19'!$L$24","v":0},{"$f":"'19'!$N$24","v":0},{"$f":"IF('19'!$B$3=\"Ground Floor\",'Design Details'!$D$45,IF('19'!$B$3=\"Single Storey\",'Design Details'!$D$75,0))","v":0},{"$f":"'19'!$L$20","v":"n/a"},{"$f":"'19'!$L$22","v":0},3,9,0,{"$error":"#N/A"},{"$error":"#N/A"},{"$error":"#N/A"},{"$error":"#N/A"},{"$error":"#N/A"}]
[20,{"$f":"'Design Details'!A106","v":"- "},{"$f":"SUM('20'!$B$24:$B$26)","v":0},{"$f":"'20'!$L$24","v":0},{"$f":"'20'!$N$24","v":0},{"$f":"IF('20'!$B$3=\"Ground Floor\",'Design Details'!$D$45,IF('20'!$B$3=\"Single Storey\",'Design Details'!$D$75,0))","v":0},{"$f":"'20'!$L$20","v":0},{"$f":"'20'!$L$22","v":0},3,9,0,{"$error":"#N/A"},{"$error":"#N/A"},{"$error":"#N/A"},{"$error":"#N/A"},{"$error":"#N/A"}]
[21,{"$f":"'Design Details'!A107","v":"- "},{"$f":"SUM('21'!$B$24:$B$26)","v":0},{"$f":"'21'!$L$24","v":0},{"$f":"'21'!$N$24","v":0},{"$f":"IF('21'!$B$3=\"Ground Floor\",'Design Details'!$D$45,IF('21'!$B$3=\"Single Storey\",'Design Details'!$D$75,0))","v":0},{"$f":"'21'!$L$20","v":0},{"$f":"'21'!$L$22","v":0},3,9,0,{"$error":"#N/A"},{"$error":"#N/A"},{"$error":"#N/A"},{"$error":"#N/A"},{"$error":"#N/A"}]
[22,{"$f":"'Design Details'!A108","v":"- "},{"$f":"SUM('22'!$B$24:$B$26)","v":0},{"$f":"'22'!$L$24","v":0},{"$f":"'22'!$N$24","v":0},{"$f":"IF('22'!$B$3=\"Ground Floor\",'Design Details'!$D$45,IF('22'!$B$3=\"Single Storey\",'Design Details'!$D$75,0))","v":0},{"$f":"'22'!$L$20","v":0},{"$f":"'22'!$L$22","v":0},3,9,0,{"$error":"#N/A"},{"$error":"#N/A"},{"$error":"#N/A"},{"$error":"#N/A"},{"$error":"#N/A"}]
[23,{"$f":"'Design Details'!A109","v":"- "},{"$f":"SUM('23'!$B$24:$B$26)","v":0},{"$f":"'23'!$L$24","v":0},{"$f":"'23'!$N$24","v":0},{"$f":"IF('23'!$B$3=\"Ground Floor\",'Design Details'!$D$45,IF('23'!$B$3=\"Single Storey\",'Design Details'!$D$75,0))","v":0},{"$f":"'23'!$L$20","v":0},{"$f":"'23'!$L$22","v":0},3,9,0,{"$error":"#N/A"},{"$error":"#N/A"},{"$error":"#N/A"},{"$error":"#N/A"},{"$error":"#N/A"}]
[24,{"$f":"'Design Details'!A110","v":"- "},{"$f":"SUM('24'!$B$24:$B$26)","v":0},{"$f":"'24'!$L$24","v":0},{"$f":"'24'!$N$24","v":0},{"$f":"IF('24'!$B$3=\"Ground Floor\",'Design Details'!$D$45,IF('24'!$B$3=\"Single Storey\",'Design Details'!$D$75,0))","v":0},{"$f":"'24'!$L$20","v":0},{"$f":"'24'!$L$22","v":0},3,9,0,{"$error":"#N/A"},{"$error":"#N/A"},{"$error":"#N/A"},{"$error":"#N/A"},{"$error":"#N/A"}]
[25,{"$f":"'Design Details'!A111","v":"- "},{"$f":"SUM('25'!$B$24:$B$26)","v":0},{"$f":"'25'!$L$24","v":0},{"$f":"'25'!$N$24","v":0},{"$f":"IF('25'!$B$3=\"Ground Floor\",'Design Details'!$D$45,IF('25'!$B$3=\"Single Storey\",'Design Details'!$D$75,0))","v":0},{"$f":"'25'!$L$20","v":0},{"$f":"'25'!$L$22","v":0},3,9,0,{"$error":"#N/A"},{"$error":"#N/A"},{"$error":"#N/A"},{"$error":"#N/A"},{"$error":"#N/A"}]
[26,{"$f":"'Design Details'!A112","v":"- "},{"$f":"SUM('26'!$B$24:$B$26)","v":0},{"$f":"'26'!$L$24","v":0},{"$f":"'26'!$N$24","v":0},{"$f":"IF('26'!$B$3=\"Ground Floor\",'Design Details'!$D$45,IF('26'!$B$3=\"Single Storey\",'Design Details'!$D$75,0))","v":0},{"$f":"'26'!$L$20","v":0},{"$f":"'26'!$L$22","v":0},3,9,0,{"$error":"#N/A"},{"$error":"#N/A"},{"$error":"#N/A"},{"$error":"#N/A"},{"$error":"#N/A"}]
[27,{"$f":"'Design Details'!A113","v":"- "},{"$f":"SUM('27'!$B$24:$B$26)","v":0},{"$f":"'27'!$L$24","v":0},{"$f":"'27'!$N$24","v":0},{"$f":"IF('27'!$B$3=\"Ground Floor\",'Design Details'!$D$45,IF('27'!$B$3=\"Single Storey\",'Design Details'!$D$75,0))","v":0},{"$f":"'27'!$L$20","v":0},{"$f":"'27'!$L$22","v":0},3,9,0,{"$error":"#N/A"},{"$error":"#N/A"},{"$error":"#N/A"},{"$error":"#N/A"},{"$error":"#N/A"}]
[28,{"$f":"'Design Details'!A114","v":"- "},{"$f":"SUM('28'!$B$24:$B$26)","v":0},{"$f":"'28'!$L$24","v":0},{"$f":"'28'!$N$24","v":0},{"$f":"IF('28'!$B$3=\"Ground Floor\",'Design Details'!$D$45,IF('28'!$B$3=\"Single Storey\",'Design Details'!$D$75,0))","v":0},{"$f":"'28'!$L$20","v":0},{"$f":"'28'!$L$22","v":0},3,9,0,{"$error":"#N/A"},{"$error":"#N/A"},{"$error":"#N/A"},{"$error":"#N/A"},{"$error":"#N/A"}]
[29,{"$f":"'Design Details'!A115","v":"- "},{"$f":"SUM('29'!$B$24:$B$26)","v":0},{"$f":"'29'!$L$24","v":0},{"$f":"'29'!$N$24","v":0},{"$f":"IF('29'!$B$3=\"Ground Floor\",'Design Details'!$D$45,IF('29'!$B$3=\"Single Storey\",'Design Details'!$D$75,0))","v":0},{"$f":"'29'!$L$20","v":0},{"$f":"'29'!$L$22","v":0},3,9,0,{"$error":"#N/A"},{"$error":"#N/A"},{"$error":"#N/A"},{"$error":"#N/A"},{"$error":"#N/A"}]
[30,{"$f":"'Design Details'!A116","v":"- "},{"$f":"SUM('30'!$B$24:$B$26)","v":0},{"$f":"'30'!$L$24","v":0},{"$f":"'30'!$N$24","v":0},{"$f":"IF('30'!$B$3=\"Ground Floor\",'Design Details'!$D$45,IF('30'!$B$3=\"Single Storey\",'Design Details'!$D$75,0))","v":0},{"$f":"'30'!$L$20","v":0},{"$f":"'30'!$L$22","v":0},3,9,0,{"$error":"#N/A"},{"$error":"#N/A"},{"$error":"#N/A"},{"$error":"#N/A"},{"$error":"#N/A"}]
[]
[null,null,"Solid Floor (in contact with ground)",null,null,null,null,null,null,"Suspended Floors"]
[null,null,"Table 6.9 (Two adjacent edges exposed)",null,null,null,null,null,null,"Table 6.12 (Two adjacent edges exposed)"]
[null,null,"a+b(m)",null,0,25,50,75,100,null,0,25,50,75,100]
[null,"\"5-6",5,null,1.02,0.57999999999999996,0.41,0.31,0.26,null,1.05,0.59,0.41,0.32,0.26]
[null,"\"6-7",6,null,0.9,0.54,0.39,0.3,0.25,null,0.93,0.55000000000000004,0.39,0.3,0.25]
[null,"\"7-8",7,null,0.82,0.51,0.37,0.28999999999999998,0.24,null,0.86,0.53,0.38,0.3,0.24]
[null,"\"8-9",8,null,0.76,0.49,0.36,0.28000000000000003,0.23,null,0.79,0.5,0.37,0.28999999999999998,0.24]
[null,"\"9-10",9,null,0.7,0.46,0.34,0.27,0.23,null,0.75,0.48,0.36,0.28000000000000003,0.23]
[null,"\"10-12",10,null,0.6,0.41,0.32,0.26,0.22,null,0.65,0.44,0.33,0.27,0.22]
[null,"\"12-14",12,null,0.52,0.38,0.28999999999999998,0.24,0.21,null,0.57999999999999996,0.41,0.31,0.25,0.21]
[null,"\"14-17",14,null,0.45,0.34,0.27,0.23,0.19,null,0.71,0.37,0.28999999999999998,0.24,0.2]
[null,"\"17-20",17,null,0.39,0.3,0.25,0.21,0.18,null,0.43,0.33,0.26,0.22,0.19]
[]
[null,null,"Table 6.10c (Two opposite edges exposed)",null,null,null,null,"a",null,"Table 6.10c (Two opposite edges exposed)",null,null,null,null,"a"]
[null,null,"a (m)",null,0,25,50,75,100,null,0,25,50,75,100]
[null,"\"2-3",2,null,1.1499999999999999,0.62,0.43,0.32,0.26,null,1.1000000000000001,0.61,0.42,0.32,0.26]
[null,"\"3-4",3,null,0.9,0.54,0.39,0.3,0.25,null,0.95,0.56000000000000005,0.4,0.31,0.25]
[null,"\"4-5",4,null,0.73,0.47,0.35,0.28000000000000003,0.23,null,0.83,0.51,0.37,0.28999999999999998,0.23]
[null,"\"5-6",5,null,0.62,0.43,0.32,0.26,0.22,null,0.74,0.48,0.35,0.26,0.23]
[null,"\"6-8",6,null,0.55000000000000004,0.39,0.3,0.25,0.21,null,0.67,0.45,0.34,0.27,0.23]
[null,"\"8-10",8,null,0.44,0.33,0.27,0.22,0.19,null,0.55000000000000004,0.39,0.3,0.25,0.21]
[]
[]
[null,null,"Table 6.10a (Three adjacent edges exposed)",null,null,null,null,"s",null,"Table 6.13a (Three adjacent edges exposed)",null,null,null,null,"s"]
[null,"short","long",null,0,25,50,75,100,null,0,25,50,75,100]
[null,3,3,null,1.1499999999999999,0.62,0.43,0.32,0.26,null,1.1499999999999999,0.62,0.43,0.32,0.26]
[null,3,4,null,1.03,0.57999999999999996,0.41,0.31,0.26,null,1.03,0.57999999999999996,0.41,0.31,0.26]
[null,3,6,null,1,0.56999999999999995,0.4,0.31,0.25,null,1,0.56999999999999995,0.4,0.31,0.25]
[null,3,8,null,0.96,0.56000000000000005,0.4,0.31,0.25,null,0.99,0.56000000000000005,0.4,0.31,0.25]
[null,4,4,null,0.95,0.56000000000000005,0.4,0.31,0.25,null,0.95,0.56000000000000005,0.4,0.31,0.25]
[null,4,6,null,0.85,0.52,0.38,0.28999999999999998,0.24,null,0.87,0.53,0.38,0.3,0.24]
[null,5,5,null,0.81,0.51,0.37,0.28999999999999998,0.24,null,0.83,0.51,0.37,0.28999999999999998,0.24]
[null,5,7,null,0.74,0.48,0.35,0.28000000000000003,0.23,null,0.8,0.5,0.37,0.28999999999999998,0.24]
[null,6,6,null,0.71,0.46,0.35,0.28000000000000003,0.23,null,0.75,0.48,0.36,0.28000000000000003,0.23]
[null,6,8,null,0.65,0.44,0.33,0.27,0.22,null,0.72,0.47,0.35,0.28000000000000003,0.23]
[]
[null,null,"Table 6.10b (Three adjacent edges exposed)",null,null,null,null,"L",null,"Table 6.13b (Three adjacent edges exposed)",null,null,null,null,"L"]
[null,"short","long",null,0,25,50,75,100,null,0,25,50,75,100]
[null,3,3,null,1.05,0.59,0.41,0.32,0.26,null,1,0.56999999999999995,0.4,0.31,0.25]
[null,3,5,null,0.9,0.54,0.39,0.3,0.25,null,0.85,0.52,0.38,0.28999999999999998,0.24]
[null,3,7,null,0.85,0.52,0.38,0.28999999999999998,0.24,null,0.8,0.5,0.37,0.28999999999999998,0.24]
[null,3,9,null,0.77,0.49,0.36,0.28000000000000003,0.24,null,0.77,0.49,0.36,0.28000000000000003,0.24]
[null,4,4,null,0.95,0.56000000000000005,0.4,0.31,0.25,null,0.85,0.52,0.38,0.28999999999999998,0.24]
[null,4,6,null,0.87,0.53,0.38,0.3,0.24,null,0.79,0.5,0.37,0.28999999999999998,0.24]
[null,4,8,null,0.76,0.49,0.36,0.28000000000000003,0.24,null,0.73,0.47,0.35,0.28000000000000003,0.23]
[null,5,5,null,0.83,0.51,0.37,0.28999999999999998,0.24,null,0.77,0.49,0.36,0.28000000000000003,0.24]
[null,5,7,null,0.77,0.49,0.36,0.28000000000000003,0.24,null,0.72,0.47,0.35,0.28000000000000003,0.23]
[null,5,9,null,0.68,0.45,0.34,0.27,0.23,null,0.66,0.44,0.33,0.27,0.23]
[null,6,6,null,0.75,0.48,0.36,0.28000000000000003,0.23,null,0.69,0.46,0.34,0.27,0.23]
[null,6,8,null,0.7,0.46,0.34,0.27,0.23,null,0.67,0.45,0.34,0.27,0.23]
[]
[null,null,"Table 6.11 (One adjacent edge exposed)",null,null,null,null,"a",null,"Table 6.14b (One adjacent edge exposed)",null,null,null,null,"a"]
[null,null,"a(m)",null,0,25,50,75,100,null,0,25,50,75,100]
[null,"\"1.25-1.75",1.25,null,0.9,0.54,0.39,0.3,0.25,null,1.1000000000000001,0.61,0.42,0.32,0.26]
[null,"\"1.75-2",1.75,null,0.73,0.47,0.35,0.28000000000000003,0.23,null,0.83,0.51,0.37,0.28999999999999998,0.24]
[null,"\"2-3",2,null,0.55000000000000004,0.39,0.3,0.25,0.21,null,0.67,0.45,0.34,0.27,0.23]
[null,"\"3-5",3,null,0.45,0.34,0.27,0.23,0.19,null,0.56000000000000005,0.4,0.31,0.25,0.21]
[null,"\"5-7",5,null,0.38,0.3,0.24,0.21,0.18,null,0.48,0.35,0.28000000000000003,0.23,0.2]
[null,"\"7-10",7,null,0.28000000000000003,0.23,0.2,0.17,0.15,null,0.38,0.3,0.24,0.21,0.19]
[]
[]
[null,null,null,null,null,null,null,null,null,"Menu_floor_construction","menu no","col"]
[null,null,null,null,null,null,null,null,null,"Solid floor - Enter a U-value",0]
[null,null,null,null,null,null,null,null,null,"Suspended floor - Enter U-value",0]
[null,null,null,null,null,null,null,null,null,"Solid no insulation",1,3]
[null,null,null,null,null,null,null,null,null,"Solid 25mm insulation",2,4]
[null,null,null,null,null,null,null,null,null,"Solid 50mm insulation",3,5]
[null,null,null,null,null,null,null,null,null,"Solid 75mm insulation",4,6]
[null,null,null,null,null,null,null,null,null,"Solid 100mm insulation",5,7]
[null,null,null,null,null,null,null,null,null,"Suspended no insulation",6,10]
[null,null,null,null,null,null,null,null,null,"Suspended 25mm insulation",7,11]
[null,null,null,null,null,null,null,null,null,"Suspended 50mm insulation",8,12]
[null,null,null,null,null,null,null,null,null,"Suspended 75mm insulation",9,13]
[null,null,null,null,null,null,null,null,null,"Suspended 100mm insulation",10,14]
[]
[null,null,null,null,null,null,null,null,null,"Menu_floor_exposed_sides"]
[null,null,null,null,null,null,null,null,null,"One edge (short)",1]
[null,null,null,null,null,null,null,null,null,"One edge (long)",2]
[null,null,null,null,null,null,null,null,null,"Two adjacent edges",3]
[null,null,null,null,null,null,null,null,null,"Two opposite edges",4]
[null,null,null,null,null,null,null,null,null,"Three edges (short outer edge)",5]
[null,null,null,null,null,null,null,null,null,"Three edges (long outer edge)",6]

{"sheet":"Scope","index":2,"n_rows":17,"n_cols":3,"rows_kept":17,"cut":false,"hidden":false,"merged":[[16,2,16,3],[8,2,8,6],[10,2,10,6],[12,2,12,6],[14,2,14,6]]}
[]
[]
[null,null,"MCS Heat Pump Calculator"]
[]
[]
[]
[]
[]
[null,null,"This spreadsheet provides a method for carrying out the design calculations required by MIS 3005. Its use is optional and installers may choose to use their own calculations as long as these comply with the requirements of MIS 3005."]
[]
[null,null,"The calculator is designed for use as an Excel Macro Enabled workbook. Please submit any feedback to mcs@gemserv.com with a subject heading of 'MCS heat pump calculator feedback'. This calculator is the property of the Microgeneration Certification Scheme. © MCS 2015"]
[]
[null,null,"Please note the following:\n-the spreadsheet is locked and data can only be entered into editable cells\n-cells shown in grey contain default values and can be edited if the user wants to over-ride the default values\n-cells shown in light blue contain are locked and cannot be edited"]
[]
[null,null,"A copy of the MCS Compliance Certificate is also incorporated and populated using the data from the heat loss calculations. In order to upload the compliance certificate to the MCS Installation Database, select the tab and save as a PDF.  "]
[]
[null,null,"Version 1.9"]

{"sheet":"Design Details","index":3,"n_rows":117,"n_cols":52,"rows_kept":117,"cut":false,"hidden":false,"merged":[[78,2,78,8],[79,2,79,8],[80,2,80,8],[81,2,81,8],[82,2,82,8],[38,5,38,8],[39,5,39,8],[40,5,40,8],[44,4,44,8],[45,2,45,8],[46,2,46,8],[47,2,47,8],[48,2,48,8],[49,2,49,8],[73,2,73,7],[66,2,66,8],[67,2,67,8],[68,2,68,8],[69,2,69,8],[70,2,70,8],[71,2,71,8],[72,2,72,8],[74,4,74,8],[75,2,75,8],[76,2,76,8],[50,2,50,8],[51,2,51,8],[52,2,52,8],[54,2,54,8],[55,2,55,8],[56,2,56,8],[57,2,57,8],[58,2,58,8],[59,2,59,8],[60,2,60,8],[61,2,61,8],[62,2,62,8],[64,2,64,8],[65,2,65,8],[63,2,63,7],[77,2,77,8],[53,2,53,7],[0,0,0,7],[25,1,25,3],[20,1,20,3],[15,1,15,3],[13,1,13,3],[14,1,14,3],[21,1,21,3],[1,1,1,3],[43,2,43,7],[3,1,3,3],[4,1,4,3],[2,1,2,3],[9,1,9,3],[10,5,10,8],[39,1,39,3],[27,1,27,3],[28,1,28,3],[29,1,29,3],[19,1,19,3],[38,1,38,3],[33,1,33,3],[13,5,13,8],[30,5,30,8],[31,5,31,8],[32,5,32,8],[33,5,33,8],[36,5,36,8],[37,5,37,8],[31,1,31,3],[36,1,36,3],[14,5,14,8],[15,5,15,8],[16,5,16,8],[18,5,18,8],[19,5,19,8],[20,5,20,8],[21,5,21,8],[30,1,30,3],[24,1,24,3],[23,1,23,3],[40,1,40,3],[18,1,18,3],[32,1,32,3],[1,5,1,8],[2,5,2,8],[3,5,3,8],[5,5,5,8],[4,5,4,8],[6,5,6,8],[7,5,7,8],[8,5,8,8],[9,5,9,8],[37,1,37,3],[10,1,10,3],[5,1,5,3],[6,1,6,3],[8,1,8,3],[7,1,7,3],[23,5,23,8],[24,5,24,8],[25,5,25,8],[27,5,27,8],[28,5,28,8],[29,5,29,8]]}
["Design Details",null,null,null,null,null,null,null,null,null,null,null,null,null,null,null,null,null,null,null,null,null,null,null,null,"Rooms","Temp","Pre 2000","Post 2000","Post 2006","Non select a/c","selected column",null,null,null,null,null,null,null,"Hot Water Energy Calculation",null,null,null,"Calculations","Electric","Gas","LPG","Oil","Constants and Assumptions"]
["Project Reference:","Martin. LL62 5PE. Tyn Cae",null,null,"MCS Designer:","Matthew Warzytz",null,null,null,null,null,null,null,null,null,0,"Air Source","Bungalow","Pre 2000",30,0,0,"Fan Convector","Single Phase","Horizontal","Bath",22,3,1.5,1.5,1,{"$f":"MATCH(B15,Z1:AF1,0)","v":3},null,"Up to 40","No",5,"No",{"$f":"IF(AND(E87=$AK$3,H87<=40),$AJ$3,IF(AND(E87=$AK$3,H87>40),$AJ$5,IF(AND(E87=$AK$4,H87<=40),$AJ$2,IF(AND(E87=$AK$4,H87>40),$AJ$4,0))))","v":0},0,"HW energy HP/day",{"$f":"IF(F14=0,0,F14+1)*F15*F21*(F33-AY4)*AY2/(AY3*B34*(F34))","v":3.904326743752331},"kWh into HP for HW/day",null,"CO2 kg",0.51900000000000002,0.216,0.24099999999999999,0.29799999999999999,"SHC Water",null,4187,"J/kgK"]
["Date:","2025-08-29",null,null,"Company Name:","Sprint Renewables",null,null,null,null,null,null,null,null,null,25,"Ground Source","Detached","Post 2000",35,1,10,"Radiators","Three Phase","Vertical","Bed & Ensuite",21,"2.0","1.5","1.0",1,null,null,"Up to 40","Yes",3,"Yes (with throat restrictor)",0,7,"HW energy immersion/week",{"$f":"AY2*IF(F14=0,0,F14+1)*F15*F21*(60-F33)/AY3","v":2.6168749999999998},"kWh into Immersion for HW/week",null,"HP Capacity @ DOT °C/Flow temp",{"$f":"'Design Details'!B31","v":12.61},null,null,null,"J to kWh",null,3600000]
["Customer Name:","Louise Martin",null,null,"MCS No:","NIC 600080",null,null,null,null,null,null,null,null,null,50,"Water Source","End Terrace","Post 2006",40,2,20,"Radiators/Fan Convectors",null,"Water","Bed/Study",21,"1.5","1.5","0.5",1,null,null,"Up to 70","No",4,"Yes (without throat restrictor)",0,14,"Total HW energy/day",{"$f":"IF(F14=0,0,F14+1)*F15*F21*(50-AY4)*AY2/AY3","v":10.467499999999999},"kWh for HW/day",null,"FLEQ space heating",{"$f":"C117/AS3","v":1774.5434210635624},null,null,null,"water mains input temp",null,10,"°C"]
["Site Address:","Tyn Cae",null,null,"Address:","Unit 9C Mapplewell Business Park",null,null,null,null,null,null,null,null,null,75,null,"Flat",null,45,3,30,"UFH",null,"n/a","Bedroom",{"$f":"IF($B$15=\"Post 2006\",21,18)","v":18},"1.0","1.0","0.5",1,null,null,"Up to 70","Yes",2,null,0,null,"HP Energy (kWh)",{"$f":"AO2*365","v":1425.0792614696009},null,null,"SPF space heating",{"$f":"'Design Details'!B33","v":3.83},null,null,null,"kg to litres water",null,1]
[null,"Paradwys",null,null,null,"Mapplewell",null,null,null,null,null,null,null,null,null,100,null,"Light Commercial ",null,50,4,40,"UFH/Fan Convectors",null,null,"Bedsitting",21,"1.5","1.0","0.5",1,null,null,null,null,null,null,0,null,null,null,null,null,"Electrical Energy HP space heating",{"$f":"C117/AS5","v":5842.5567988541834}]
[null,"Bodorgan",null,null,null,"Barnsley",null,null,null,null,null,null,null,null,null,null,null,"Semi-Detached",null,55,5,50,"UFH/Radiators",null,null,"Breakfast",21,1.5,"1.0","0.5",1,null,null,null,null,null,null,0,null,null,null,null,null,"Electrical Energy HP HW heating",{"$f":"AO5","v":1425.0792614696009}]
[null,null,null,null,null,null,null,null,null,null,null,null,null,null,null,null,null,"Terrace",null,60,6,60,"UFH/Radiators/Fan Convectors",null,null,"Cloaks/WC",{"$f":"IF($B$15=\"Post 2006\",21,18)","v":18},2,1.5,1.5,1,null,null,null,null,null,null,0,null,null,null,null,null,"HW heat energy from HP",{"$f":"AO2*B34*(F34)*365","v":3820.6374999999998}]
["Post Code:","LL62 5PE",null,null,"Post Code:","S75 6BP",null,null,null,null,null,null,null,null,null,null,null,null,null,65,7,70,null,null,null,"Dining",21,1.5,"1.0","0.5",1,null,null,null,null,null,null,0,null,null,null,null,null,"FLEQ HW heating",{"$f":"AS8/B32","v":290.54277566539923}]
["Contact Nos.",null,null,null,"Contact Nos.","01226 337654",null,null,null,null,null,null,null,null,null,null,null,null,null,null,8,80,null,null,null,"Dressing",{"$f":"IF($B$15=\"Post 2006\",21,18)","v":18},"1.5","1.0","0.5",1,null,null,null,null,null,null,0,null,null,null,null,null,"Running Hours CH pump",{"$f":"AS4+AS9","v":2065.0861967289616},"Running hours HW + space heating or 8760 if 24/7 operation"]
["Email Address:",null,null,null,"Email Address:","info@sprintrenewables.co.uk",null,null,null,null,null,null,null,null,null,null,null,null,null,null,9,90,null,null,null,"Family",21,2,1.5,1.5,1,null,null,null,null,null,null,0,null,null,null,null,null,"Power CH Pump (W)",null,"If known please use"]
[null,null,null,null,null,null,null,null,null,null,null,null,null,null,null,null,null,null,null,null,10,100,null,null,null,"Games",21,"1.5","1.0","0.5",1,null,null,null,null,null,null,0,null,null,null,null,null,"Running Hours Ground HX pump",{"$f":"AS4+AS9","v":2065.0861967289616}]
["Property Details",null,null,null,null,null,null,null,null,null,null,null,null,null,null,null,null,null,null,null,null,110,null,null,null,"Hall",{"$f":"IF($B$15=\"Post 2006\",21,18)","v":18},"2.0","1.0","0.5",1,null,null,null,null,null,null,0,null,null,null,null,null,"Power Ground HX pump (W)",{"$f":"IF('Design Details'!B28=\"Air Source\",0,'GL Sizing'!F26)","v":0}]
["House Type","Detached",null,null,"Amount of Bedrooms",4,null,null,null,null,null,null,null,null,null,null,null,null,null,null,null,120,null,null,null,"Internal",{"$f":"IF($B$15=\"Post 2006\",21,18)","v":18},"0.0","0.0","0.0",1,null,null,null,null,null,null,0]
["Built (year)","Pre 2000",null,null,"Occupants per Bedroom",1,null,null,null,null,null,null,null,null,null,null,null,null,null,null,null,130,null,null,null,"Kitchen",{"$f":"IF($B$15=\"Post 2006\",21,18)","v":18},2,1.5,1.5,1,null,null,null,null,null,null,0]
["Electrical Supply","Single Phase",null,null,"Total Floor Area (m²)",{"$f":"G117","v":183.99050000000003},null,null,null,null,null,null,null,null,null,null,null,null,null,null,null,140,null,null,null,"Landing",{"$f":"IF($B$15=\"Post 2006\",21,18)","v":18},"2.0","1.0","0.5",1,null,null,null,null,null,null,0]
[null,null,null,null,"Total Volume (m³)",{"$f":"H117","v":432.33640200000002},null,null,null,null,null,null,null,null,null,null,null,null,null,null,null,150,null,null,null,"Living",21,1.5,1,"0.5",1,null,null,null,null,null,null,0]
["Design Data",null,null,null,null,null,null,null,null,null,null,null,null,null,null,null,null,null,null,null,null,160,null,null,null,"Lounge",21,1.5,1,"0.5",1,null,null,null,null,null,null,0]
["Outside Design Temp - ODT (⁰C)",{"$f":"LOOKUP(LEFT(B9,2),'Post Code Degree Days'!A3:B126,'Post Code Degree Days'!B3:B126)+IF(AND(F19>90,F19<200),-0.6,IF(AND(F19>190,F19<300),-1.2,IF(AND(F19>290,F19<400),-1.8,IF(AND(F19>390,F19<500),-2.4,0))))","v":-3},null,null,"Altitude (m)",20,null,null,null,null,null,null,null,null,null,null,null,null,null,null,null,170,null,null,null,"Shower",22,3,1.5,1.5,1,null,null,null,null,null,null,0]
["Degree Days (DD)",{"$f":"LOOKUP((LEFT(B9,2)),'Post Code Degree Days'!A3:C126,'Post Code Degree Days'!C3:C126)","v":2228},null,null,"Min Hot Water Cylinder (litres)",{"$f":"IFERROR(IF(F14=0,0,F21*(F14+1)*F15),0)","v":225},null,null,null,null,null,null,null,null,null,null,null,null,null,null,null,180,null,null,null,"Store",16,"1.0","0.5","0.5",1,null,null,null,null,null,null,0]
["Mean air temp - MAT (°C)",{"$f":"LOOKUP((LEFT(B9,2)),'Post Code Degree Days'!A3:H126,'Post Code Degree Days'!H3:H126)","v":10},null,null,"Hot water per occupant (l/day)",45,null,null,null,null,null,null,null,null,null,null,null,null,null,null,null,190,null,null,null,"Study",21,1.5,1.5,"0.5",1,null,null,null,null,null,null,0]
["MAT Location",{"$f":"LOOKUP((LEFT(B9,2)),'Post Code Degree Days'!A3:H126,'Post Code Degree Days'!G3:G126)","v":"W Pennines (Ringway)"},null,null,"Legionnaires' protection (days)",7,null,null,null,null,null,null,null,null,null,null,null,null,null,null,null,200,null,null,null,"Toilet",{"$f":"IF($B$15=\"Post 2006\",21,18)","v":18},3,1.5,1.5,1,null,null,null,null,null,null,0]
["Building Requirements",null,null,null,null,null,null,null,null,null,null,null,null,null,null,null,null,null,null,null,null,210,null,null,null,"Utility",{"$f":"IF($B$15=\"Post 2006\",21,18)","v":18},3,2,0.5,1,null,null,null,null,null,null,0]
["Space Heating load (kW)",{"$f":"B117/1000","v":11.594816123999999},null,null,"Annual Hot water heating demand (kWh/yr)",{"$f":"IFERROR(AO4*365,0)","v":3820.6374999999998},null,null,null,null,null,null,null,null,null,null,null,null,null,null,null,220,null,null,null,null,null,null,null,null,null,null,null,null,null,null,null,0]
["Heat loss W/m²",{"$f":"IFERROR(B117/G117,0)","v":63.018558697324032},null,null,"Immersion Energy (kWh)",{"$f":"IFERROR(AO3*ROUND((365/F22),0),0)","v":136.07749999999999},null,null,null,null,null,null,null,null,null,null,null,null,null,null,null,230,null,null,null,null,null,null,null,null,null,null,null,null,null,null,null,0]
["Space Heating (kWh/yr)",{"$f":"C117","v":22376.992539611521},null,null,"Total Energy Usage (kWh/yr)",{"$f":"SUM(F24:H24,B26)","v":26197.630039611522},null,null,null,null,null,null,null,null,null,null,null,null,null,null,null,240,null,null,null,null,null,null,null,null,null,null,null,null,null,null,null,0]
["Selection",null,null,null,null,null,null,null,null,null,null,null,null,null,null,null,null,null,null,null,null,250,null,null,null,null,null,null,null,null,null,null,null,null,null,null,null,0]
["Type of Heat Pump","Air Source",null,null,"Buffer Vessel (litres)",25,null,null,null,null,null,null,null,null,null,null,null,null,null,null,null,260,null,null,null,null,null,null,null,null,null,null,null,null,null,null,null,0]
["Manufacturer","Ideal",null,null,"Hot Water Cylinder (litres)",200,null,null,null,null,null,null,null,null,null,null,null,null,null,null,null,270,null,null,null,null,null,null,null,null,null,null,null,null,null,null,null,0]
["Model","Logic Air HP 290 14kw",null,null,"Type of Emitters","Radiators",null,null,null,null,null,null,null,null,null,null,null,null,null,null,null,280,null,null,null,null,null,null,null,null,null,null,null,null,null,null,null,0]
["Output @ ODT/DFT (kW)",12.61,null,null,"Design Flow Temp - DFT (°C)",50,null,null,null,null,null,null,null,null,null,null,null,null,null,null,null,290,null,null,null,null,null,null,null,null,null,null,null,null,null,null,null,0]
["Output @ 0°C/HW (kW)",13.15,null,null,"CH pump power (W)",100,null,null,null,null,null,null,null,null,null,null,null,null,null,null,null,300]
["Manufacturers htg SCOP",3.83,null,null,"Hot Water storage temp (°C)",50,null,null,null,null,null,null,null,null,null,null,null,null,null,null,null,310]
["Manufacturers HW SCOP",3.83,null,null,"Hot Water system efficiency",0.7,null,null,null,null,null,null,null,null,null,null,null,null,null,null,null,320]
[null,null,null,null,null,null,null,null,null,null,null,null,null,null,null,null,null,null,null,null,null,330]
["Estimated Running Costs",null,null,null,null,null,null,null,null,null,null,null,null,null,null,null,null,null,null,null,null,340]
["Space Heating",{"$f":"IFERROR(AS6*F38,0)","v":1402.213631725004},null,null,"Ground Pump",{"$f":"IFERROR(F38*AS12*AS13/1000,0)","v":0},null,null,null,null,null,null,null,null,null,null,null,null,null,null,null,350]
["Hot Water from Heat Pump",{"$f":"IFERROR(AS7*F38,0)","v":342.01902275270419},null,null,"Electric (p/kWh)",0.24,null,null,null,null,null,null,null,null,null,null,null,null,null,null,null,360]
["Hot Water from Immersion",{"$f":"F25*F38","v":32.658599999999993},null,null,"Gas (p/kWh)",7.0000000000000007E-2,null,null,null,null,null,null,null,null,null,null,null,null,null,null,null,370]
["Total Running Costs",{"$f":"SUM(B37:D39,F37:H37)","v":1776.8912544777081},null,null,"LPG (p/kWh)",0.75,null,null,null,null,null,null,null,null,null,null,null,null,null,null,null,380]
["Central Heating Pump",{"$f":"IFERROR(F38*AS10*F32/1000,0)","v":49.562068721495073},null,null,"Oil (p/kWh)",0.8,null,null,null,null,null,null,null,null,null,null,null,null,null,null,null,390]
[null,null,null,null,null,null,null,null,null,null,null,null,null,null,null,null,null,null,null,null,null,400]
["Property assumed U Values"]
["Ground Floor","U' Value","Construction"]
["Floor",0,"Floor Insulation:",0,"mm          If 'U' value not known please select insulation level and select exposed edges per room"]
["Windows",{"$f":"IFERROR(LOOKUP(C46,'U Value Calculator'!$O$3:$P$17,'U Value Calculator'!$P$3:$P$17),0)","v":2.8},"Wood/PVC Double Glazed"]
["Door",2.8,"Glazed wood or PVC-U door Enter a U-value"]
["External Wall",{"$f":"IFERROR(LOOKUP(C48,'U Value Calculator'!$K$3:$L$88,'U Value Calculator'!$L$3:$L$88),0)","v":0.44},"Render 19mm, brick 102mm, mineral wool slab in\ncavity 50mm, 100mm standard aerated block, 13mm plaster"]
["Ceiling",{"$f":"IFERROR(LOOKUP(C49,'U Value Calculator'!$K$116:$L$124,'U Value Calculator'!$L$116:$L$124),0)","v":1.73},"Intermediate floors, boarding 19mm, airspace between joists, 9.5mm plasterboard heat flow upward"]
["Pitched Roof",{"$f":"IFERROR(LOOKUP(C50,'U Value Calculator'!$K$96:$L$115,'U Value Calculator'!$L$96:$L$115),0)","v":0}]
["Internal Wall",1.4,"Plaster 13mm, brick 102.5mm, plaster 13mm"]
["Party Wall",1]
["Roof Glazing",2.8]
["Mid-Floor","U' Value","Construction"]
["Floor",{"$f":"IFERROR(LOOKUP(C55,'U Value Calculator'!$K$116:$L$124,'U Value Calculator'!$L$116:$L$124),0)","v":0}]
["Windows",{"$f":"IFERROR(LOOKUP(C56,'U Value Calculator'!$O$3:$P$17,'U Value Calculator'!$P$3:$P$17),0)","v":0}]
["Door",{"$f":"IFERROR(LOOKUP(C57,'U Value Calculator'!$O$18:$P$26,'U Value Calculator'!$P$18:$P$26),0)","v":0}]
["External Wall",{"$f":"IFERROR(LOOKUP(C58,'U Value Calculator'!$K$3:$L$88,'U Value Calculator'!$L$3:$L$88),0)","v":0}]
["Ceiling",{"$f":"IFERROR(LOOKUP(C59,'U Value Calculator'!$K$116:$L$124,'U Value Calculator'!$L$116:$L$124),0)","v":0}]
["Pitched Roof",{"$f":"IFERROR(LOOKUP(C60,'U Value Calculator'!$K$96:$L$115,'U Value Calculator'!$L$96:$L$115),0)","v":0}]
["Internal Wall",{"$f":"IFERROR(LOOKUP(C61,'U Value Calculator'!$K$89:$L$95,'U Value Calculator'!$L$89:$L$95),0)","v":0}]
["Party Wall",0.5]
["Roof Glazing",{"$f":"IFERROR(LOOKUP(C63,'U Value Calculator'!$O$3:$P$17,'U Value Calculator'!$P$3:$P$17),0)","v":0}]
["Upper-Floor","U' Value","Construction"]
["Floor",{"$f":"IFERROR(LOOKUP(C65,'U Value Calculator'!$K$116:$L$124,'U Value Calculator'!$L$116:$L$124),0)","v":0}]
["Windows",{"$f":"IFERROR(LOOKUP(C66,'U Value Calculator'!$O$3:$P$17,'U Value Calculator'!$P$3:$P$17),0)","v":2.8},"Wood/PVC Double Glazed"]
["Door",2.8]
["External Wall",{"$f":"IFERROR(LOOKUP(C68,'U Value Calculator'!$K$3:$L$88,'U Value Calculator'!$L$3:$L$88),0)","v":0.44},"Render 19mm, brick 102mm, mineral wool slab in\ncavity 50mm, 100mm standard aerated block, 13mm plaster"]
["Roof",{"$f":"IFERROR(LOOKUP(C69,'U Value Calculator'!$K$96:$L$115,'U Value Calculator'!$L$96:$L$115),0)","v":0.12},"Pitched roof - Slates or tiles, , ventilated air space, 300mm insulation between joists, 9.5 mm plasterboard"]
["Pitched Roof",{"$f":"IFERROR(LOOKUP(C70,'U Value Calculator'!$K$96:$L$115,'U Value Calculator'!$L$96:$L$115),0)","v":0.12},"Pitched roof - Slates or tiles, , ventilated air space, 300mm insulation between joists, 9.5 mm plasterboard"]
["Internal Wall",{"$f":"IFERROR(LOOKUP(C71,'U Value Calculator'!$K$89:$L$95,'U Value Calculator'!$L$89:$L$95),0)","v":1.72},"Plasterboard 12.5mm, studding 75mm, plasterboard 12.5mm"]
["Party Wall",1]
["Roof Glazing",2.8]
["Single Storey","U' Value","Construction"]
["Floor",0,"Floor Insulation:",0,"mm          If 'U' value not known please select insulation level and select exposed edges per room"]
["Windows",2.8]
["Door",2.8]
["External Wall",{"$f":"IFERROR(LOOKUP(C78,'U Value Calculator'!$K$3:$L$88,'U Value Calculator'!$L$3:$L$88),0)","v":1.86},"Stone 610mm (24in)"]
["Roof",0.35]
["Pitched Roof",{"$f":"IFERROR(LOOKUP(C80,'U Value Calculator'!$K$96:$L$115,'U Value Calculator'!$L$96:$L$115),0)","v":0}]
["Internal Wall",1.76]
["Party Wall",1]
["Roof Glazing",{"$f":"IFERROR(LOOKUP(C83,'U Value Calculator'!$O$3:$P$17,'U Value Calculator'!$P$3:$P$17),0)","v":0}]
[]
["Space Heating"]
["Room","Heat loss (W)","Energy usage (kWh)","Design Temp","Open Flue","ac/h","Floor Area (m2)","Volume (m3)","W/m²"]
[{"$f":"CONCATENATE('1'!$B$2,\" \",'1'!$C$2)","v":"Living "},{"$f":"'1'!$N6","v":2055.8216000000002},{"$f":"'1'!$N7","v":3131.9857255680004},{"$f":"IFERROR(LOOKUP(A87,$Z$2:$AA$23,$AA$2:$AA$23),0)","v":21},null,{"$f":"IFERROR(IF(LEFT(E87,3)=\"Yes\",AL2,VLOOKUP(A87,$Z$2:$AE$23,$AF$2,TRUE)),0)","v":1.5},{"$f":"SUM('1'!$F$20:$F$22)","v":29.68},{"$f":"SUM('1'!$F$4)","v":66.483200000000011},{"$f":"IFERROR(B87/G87,0)","v":69.266226415094351}]
[{"$f":"CONCATENATE('2'!$B$2,\" \",'2'!$C$2)","v":"Studio "},{"$f":"'2'!$N6","v":1393.2480879999998},{"$f":"'2'!$N7","v":3557.2786997760004},16,null,{"$f":"IFERROR(IF(LEFT(E88,3)=\"Yes\",AL3,VLOOKUP(A88,$Z$2:$AE$23,$AF$2,TRUE)),0)","v":"1.0"},{"$f":"SUM('2'!$F$20:$F$22)","v":20.8},{"$f":"SUM('2'!$F$4)","v":49.088000000000001},{"$f":"IFERROR(B88/G88,0)","v":66.983081153846143}]
[{"$f":"CONCATENATE('3'!$B$2,\" \",'3'!$C$2)","v":"Sun room "},{"$f":"'3'!$N6","v":1242.9980860000001},{"$f":"'3'!$N7","v":2384.908094208},21,null,1.5,{"$f":"SUM('3'!$F$20:$F$22)","v":12.074999999999999},{"$f":"SUM('3'!$F$4)","v":38.055},102.93980008281575]
[{"$f":"CONCATENATE('4'!$B$2,\" \",'4'!$C$2)","v":"Music room "},{"$f":"'4'!$N6","v":878.21873359999995},{"$f":"'4'!$N7","v":1828.4751790271998},21,null,1.5,{"$f":"SUM('4'!$F$20:$F$22)","v":14.213999999999999},{"$f":"SUM('4'!$F$4)","v":31.697219999999998},61.785474433656958]
[{"$f":"CONCATENATE('5'!$B$2,\" \",'5'!$C$2)","v":"Hall "},{"$f":"'5'!$N6","v":227.22712512000001},{"$f":"'5'!$N7","v":506.16452750591998},18,null,"2.0",{"$f":"SUM('5'!$F$20:$F$22)","v":2.9057999999999997},{"$f":"SUM('5'!$F$4)","v":6.6489919999999998},78.197785504852376]
[{"$f":"CONCATENATE('6'!$B$2,\" \",'6'!$C$2)","v":"Utility "},{"$f":"'6'!$N6","v":435.82518300000004},{"$f":"'6'!$N7","v":676.91557641600002},18,null,3,{"$f":"SUM('6'!$F$20:$F$22)","v":5.4420000000000002},{"$f":"SUM('6'!$F$4)","v":12.2445},80.085480154355025]
[{"$f":"CONCATENATE('7'!$B$2,\" \",'7'!$C$2)","v":"WC "},{"$f":"'7'!$N6","v":86.44144},{"$f":"'7'!$N7","v":152.66042112000002},18,null,3,{"$f":"SUM('7'!$F$20:$F$22)","v":0.84800000000000009},{"$f":"SUM('7'!$F$4)","v":1.9080000000000001},101.93566037735847]
[{"$f":"CONCATENATE('8'!$B$2,\" \",'8'!$C$2)","v":"Kitchen "},{"$f":"'8'!$N6","v":1336.731544},{"$f":"'8'!$N7","v":3067.3545469439996},18,null,2,{"$f":"SUM('8'!$F$20:$F$22)","v":27.04},{"$f":"SUM('8'!$F$4)","v":59.217599999999997},49.435338165680477]
[{"$f":"CONCATENATE('9'!$B$2,\" \",'9'!$C$2)","v":"Bedroom 1"},{"$f":"'9'!$N6","v":545.95488},{"$f":"'9'!$N7","v":1270.7513856},18,null,"1.0",{"$f":"SUM('9'!$F$20:$F$22)","v":11.8},{"$f":"SUM('9'!$F$4)","v":28.32},46.267362711864408]
[{"$f":"CONCATENATE('10'!$B$2,\" \",'10'!$C$2)","v":"Bedroom 2"},{"$f":"'10'!$N6","v":485.41553759999994},{"$f":"'10'!$N7","v":1236.0066488831999},18,null,"1.0",{"$f":"SUM('10'!$F$20:$F$22)","v":8.5408000000000008},{"$f":"SUM('10'!$F$4)","v":20.497920000000001},56.834902772573983]
[{"$f":"CONCATENATE('11'!$B$2,\" \",'11'!$C$2)","v":"Bedroom 3"},{"$f":"'11'!$N6","v":849.67528531999994},{"$f":"'11'!$N7","v":1562.01566461824},18,null,"1.0",{"$f":"SUM('11'!$F$20:$F$22)","v":13.755899999999999},{"$f":"SUM('11'!$F$4)","v":32.463923999999999},61.768062091175423]
[{"$f":"CONCATENATE('12'!$B$2,\" \",'12'!$C$2)","v":"Bedroom 4"},{"$f":"'12'!$N6","v":547.09836280000002},{"$f":"'12'!$N7","v":1248.9144260736002},18,null,"1.0",{"$f":"SUM('12'!$F$20:$F$22)","v":11.693599999999998},{"$f":"SUM('12'!$F$4)","v":27.479959999999998},46.786136245467617]
[{"$f":"CONCATENATE('13'!$B$2,\" \",'13'!$C$2)","v":"En-suite "},{"$f":"'13'!$N6","v":84.190939},{"$f":"'13'!$N7","v":73.071252576000006},18,null,"1.5",{"$f":"SUM('13'!$F$20:$F$22)","v":1.526},{"$f":"SUM('13'!$F$4)","v":3.5861000000000001},55.170995412844036]
[{"$f":"CONCATENATE('14'!$B$2,\" \",'14'!$C$2)","v":"Bath "},{"$f":"'14'!$N6","v":1064.4392088000002},{"$f":"'14'!$N7","v":1154.2271068032003},22,null,3,{"$f":"SUM('14'!$F$20:$F$22)","v":14.32},{"$f":"SUM('14'!$F$4)","v":32.300920000000005},74.332346983240228]
[{"$f":"CONCATENATE('15'!$B$2,\" \",'15'!$C$2)","v":"Landing "},{"$f":"'15'!$N6","v":361.53011076000001},{"$f":"'15'!$N7","v":526.2632844921601},18,null,"2.0",{"$f":"SUM('15'!$F$20:$F$22)","v":9.3493999999999993},{"$f":"SUM('15'!$F$4)","v":22.345066000000003},38.668803426957886]
[{"$f":"CONCATENATE('16'!$B$2,\" \",'16'!$C$2)","v":"- "},{"$f":"'16'!$N6","v":0},{"$f":"'16'!$N7","v":0},0,null,0,{"$f":"SUM('16'!$F$20:$F$22)","v":0},{"$f":"SUM('16'!$F$4)","v":0},0]
[{"$f":"CONCATENATE('17'!$B$2,\" \",'17'!$C$2)","v":"- "},{"$f":"'17'!$N6","v":0},{"$f":"'17'!$N7","v":0},0,null,0,{"$f":"SUM('17'!$F$20:$F$22)","v":0},{"$f":"SUM('17'!$F$4)","v":0},0]
[{"$f":"CONCATENATE('18'!$B$2,\" \",'18'!$C$2)","v":"- "},{"$f":"'18'!$N6","v":0},{"$f":"'18'!$N7","v":0},0,null,0,{"$f":"SUM('18'!$F$20:$F$22)","v":0},{"$f":"SUM('18'!$F$4)","v":0},0]
[{"$f":"CONCATENATE('19'!$B$2,\" \",'19'!$C$2)","v":"- "},{"$f":"'19'!$N6","v":0},{"$f":"'19'!$N7","v":0},0,null,0,{"$f":"SUM('19'!$F$20:$F$22)","v":0},{"$f":"SUM('19'!$F$4)","v":0},0]
[{"$f":"CONCATENATE('20'!$B$2,\" \",'20'!$C$2)","v":"- "},{"$f":"'20'!$N6","v":0},{"$f":"'20'!$N7","v":0},0,null,0,{"$f":"SUM('20'!$F$20:$F$22)","v":0},{"$f":"SUM('20'!$F$4)","v":0},0]
[{"$f":"CONCATENATE('21'!$B$2,\" \",'21'!$C$2)","v":"- "},{"$f":"'21'!$N6","v":0},{"$f":"'21'!$N7","v":0},0,null,0,{"$f":"SUM('21'!$F$20:$F$22)","v":0},{"$f":"SUM('21'!$F$4)","v":0},0]
[{"$f":"CONCATENATE('22'!$B$2,\" \",'22'!$C$2)","v":"- "},{"$f":"'22'!$N6","v":0},{"$f":"'22'!$N7","v":0},0,null,0,{"$f":"SUM('22'!$F$20:$F$22)","v":0},{"$f":"SUM('22'!$F$4)","v":0},0]
[{"$f":"CONCATENATE('23'!$B$2,\" \",'23'!$C$2)","v":"- "},{"$f":"'23'!$N6","v":0},{"$f":"'23'!$N7","v":0},0,null,0,{"$f":"SUM('23'!$F$20:$F$22)","v":0},{"$f":"SUM('23'!$F$4)","v":0},0]
[{"$f":"CONCATENATE('24'!$B$2,\" \",'24'!$C$2)","v":"- "},{"$f":"'24'!$N6","v":0},{"$f":"'24'!$N7","v":0},0,null,0,{"$f":"SUM('24'!$F$20:$F$22)","v":0},{"$f":"SUM('24'!$F$4)","v":0},0]
[{"$f":"CONCATENATE('25'!$B$2,\" \",'25'!$C$2)","v":"- "},{"$f":"'25'!$N6","v":0},{"$f":"'25'!$N7","v":0},0,null,0,{"$f":"SUM('25'!$F$20:$F$22)","v":0},{"$f":"SUM('25'!$F$4)","v":0},0]
[{"$f":"CONCATENATE('26'!$B$2,\" \",'26'!$C$2)","v":"- "},{"$f":"'26'!$N6","v":0},{"$f":"'26'!$N7","v":0},0,null,0,{"$f":"SUM('26'!$F$20:$F$22)","v":0},{"$f":"SUM('26'!$F$4)","v":0},0]
[{"$f":"CONCATENATE('27'!$B$2,\" \",'27'!$C$2)","v":"- "},{"$f":"'27'!$N6","v":0},{"$f":"'27'!$N7","v":0},0,null,0,{"$f":"SUM('27'!$F$20:$F$22)","v":0},{"$f":"SUM('27'!$F$4)","v":0},0]
[{"$f":"CONCATENATE('28'!$B$2,\" \",'28'!$C$2)","v":"- "},{"$f":"'28'!$N6","v":0},{"$f":"'28'!$N7","v":0},0,null,0,{"$f":"SUM('28'!$F$20:$F$22)","v":0},{"$f":"SUM('28'!$F$4)","v":0},0]
[{"$f":"CONCATENATE('29'!$B$2,\" \",'29'!$C$2)","v":"- "},{"$f":"'29'!$N6","v":0},{"$f":"'29'!$N7","v":0},0,null,0,{"$f":"SUM('29'!$F$20:$F$22)","v":0},{"$f":"SUM('29'!$F$4)","v":0},0]
[{"$f":"CONCATENATE('30'!$B$2,\" \",'30'!$C$2)","v":"- "},{"$f":"'30'!$N6","v":0},{"$f":"'30'!$N7","v":0},0,null,0,{"$f":"SUM('30'!$F$20:$F$22)","v":0},{"$f":"SUM('30'!$F$4)","v":0},0]
["Total",{"$f":"SUM(B87:B116)","v":11594.816123999999},{"$f":"SUM(C87:C116)","v":22376.992539611521},null,null,null,{"$f":"SUM(G87:G116)","v":183.99050000000003},{"$f":"SUM(H87:H116)","v":432.33640200000002},{"$f":"IFERROR(B117/G117,0)","v":63.018558697324032}]

{"sheet":"U Value Calculator","index":4,"n_rows":124,"n_cols":25,"rows_kept":124,"cut":false,"hidden":false,"merged":[[35,3,35,4],[36,3,36,4],[37,3,37,4],[38,3,38,4],[39,3,39,4],[40,3,40,4],[41,3,41,4],[42,3,42,4],[44,3,44,4],[22,3,22,4],[23,3,23,4],[24,3,24,4],[25,3,25,4],[26,3,26,4],[31,3,31,4],[32,3,32,4],[33,3,33,4],[34,3,34,4],[17,0,17,2],[18,0,20,2],[1,21,27,21],[28,21,33,21],[34,21,43,21],[43,0,43,4],[42,5,42,6],[33,0,36,2],[37,0,40,2],[30,0,32,2],[27,0,29,2],[21,0,23,2],[24,0,26,2],[41,0,41,2],[42,0,42,2],[17,3,17,4],[18,3,18,4],[19,3,19,4],[20,3,20,4],[21,3,21,4],[27,3,27,4],[28,3,28,4],[29,3,29,4],[30,3,30,4],[56,3,57,4],[58,3,59,4],[60,3,61,4],[62,3,63,4],[65,5,65,6],[56,0,63,2],[48,0,55,2],[44,21,50,21],[51,21,61,21],[44,0,45,2],[46,0,47,4],[45,3,45,4],[46,5,46,6],[48,5,49,5],[48,6,49,6],[50,5,51,5],[50,6,51,6],[48,3,49,4],[50,3,51,4],[52,3,53,4],[54,3,55,4],[68,6,69,6],[58,5,59,5],[58,6,59,6],[60,5,61,5],[60,6,61,6],[62,5,63,5],[62,6,63,6],[52,5,53,5],[52,6,53,6],[54,5,55,5],[54,6,55,6],[56,5,57,5],[56,6,57,6],[85,5,86,6],[65,3,65,4],[68,3,69,4],[67,3,67,4],[72,3,73,4],[74,3,75,4],[76,3,77,4],[78,3,79,4],[80,5,81,5],[80,6,81,6],[82,5,84,5],[82,6,84,6],[80,3,81,4],[82,3,84,4],[76,5,77,5],[76,6,77,6],[78,5,79,5],[78,6,79,6],[70,5,70,6],[72,5,73,5],[72,6,73,6],[74,5,75,5],[74,6,75,6],[68,5,69,5],[67,0,69,2],[65,0,65,2],[66,0,66,4],[70,0,71,4],[85,3,86,4],[85,0,86,2],[80,0,84,2],[78,0,79,2],[72,0,77,2],[101,6,102,6],[103,5,104,5],[103,6,104,6],[101,3,102,4],[103,3,104,4],[96,5,97,5],[96,6,97,6],[98,5,98,6],[99,5,100,5],[99,6,100,6],[98,0,98,2],[98,3,98,4],[99,0,106,2],[99,3,100,4],[111,5,112,5],[111,6,112,6],[111,7,112,7],[113,5,114,5],[113,6,114,6],[113,7,114,7],[111,3,112,4],[113,3,114,4],[105,5,106,5],[105,6,106,6],[107,5,107,7],[109,5,110,5],[109,6,110,6],[109,7,110,7],[105,3,106,4],[107,0,108,4],[109,0,114,2],[109,3,110,4],[89,7,106,7],[101,5,102,5],[88,0,88,2],[88,3,88,4],[88,5,88,7],[89,0,90,4],[91,0,97,2],[91,3,91,4],[92,3,93,4],[94,3,95,4],[96,3,97,4],[89,5,89,6],[92,5,93,5],[92,6,93,6],[94,5,95,5],[94,6,95,6]]}
[null,null,null,null,null,null,null,null,null,null,"Wall/Roof/ceiling/non-ground floors U-values (SOURCE Domestic heating guide section 6)","U-value W/m²K ",null,null,"Window_description","U-value W/m²K ",null,null,"Type of surface/air gap","Thermal resistance",null,"Element","Material","Density kg/m³","k factor W/mK"]
[null,"U VALUE CALCULATOR",null,null,null,null,null,null,null,null,"Enter a U-value",null,null,null,"Enter a U-value",null,null,null,"Outside surface of exterior wall",0.06,null,"Walls","Asbestos cement sheet",700,0.36]
[null,"Fabric Type:",null,null,null,null,null,null,null,null,"19mm Render, 75mm foam board, Brick 102mm, Plaster",0.3,null,null,"Metal Double Glazed",3.4,null,null,"Inside surface of wall",0.12,null,null,"Autoclaved aerated concrete block",600,0.18]
[null,null,null,null,null,null,null,null,null,null,"19mm Render, 75mm foam board, Brick 228mm, Plaster",0.28000000000000003,null,null,"Metal Double Glazed, low-E glass ",2.8,null,null,"Air Gap",0.18,null,null,"Brickwork (inner leaf)",1700,0.62]
["Layer","Element","Material","Thickness (mm)","Thermal Conductivity (W/mK)","Resistance R m²K/W",null,null,null,null,"19mm Render, 75mm foam board, Brick 343mm, Plaster",0.27,null,null,"Metal Double Glazed, low-E glass, argon filled ",2.6,null,null,null,null,null,null,"Brickwork (outer leaf)",1700,0.84]
[1,null,null,null,{"$f":"IFERROR(IF(B6=\"Air Gap\",\"n/a\",LOOKUP(C6,$W$2:$W$62,$Y$2:$Y$62)),\"\")","v":""},{"$f":"IFERROR(IF(B6=\"Air Gap\",$T$4,(D6/1000)/E6),\"\")","v":""},null,null,null,null,"19mm Render, 75mm foam board, concrete 102mm, Plaster",0.31,null,null,"Metal Single Glazed",5.7,null,null,"Fabric Type",null,null,null,"Concrete (lightweight)",1200,0.38]
[2,null,null,null,"","",null,null,null,null,"19mm Render, 75mm foam board, concrete 152mm, Plaster",0.3,null,null,"Metal Triple Glazed",2.6,null,null,"External wall",null,null,null,"Concrete (medium density)",1800,1.1299999999999999]
[3,null,null,null,"","",null,null,null,null,"19mm Render, 75mm foam board, concrete 204mm, Plaster",0.3,null,null,"Metal Triple Glazed, low-E glass ",2.1,null,null,"Internal wall",null,null,null,"Concrete (dense)",2100,1.4]
[4,null,null,null,"","",null,null,null,null,"19mm Render, 75mm foam board, concrete 254mm, Plaster",0.3,null,null,"Metal Triple Glazed, low-E glass, argon filled ",2,null,null,"Roof",null,null,null,"Concrete (high density)",2400,1.93]
[5,null,null,null,"","",null,null,null,null,"Brick 102 mm, plaster",2.97,null,null,"Single glazed window with Secondary Glazing",2.4,null,null,null,null,null,null,"Concrete block (heavyweight)",2300,1.63]
[6,null,null,null,"","",null,null,null,null,"Brick 102.5mm, cavity, membrane, plywood 10mm, studding 100mm, with infill  insulation 80mm, vapour membrane, plasterboard 12.5mm",0.32,null,null,"Wood/PVC Double Glazed",2.8,null,null,null,null,null,null,"Concrete block (lightweight)",600,0.19]
[7,null,null,null,"","",null,null,null,null,"Brick 102.5mm, cavity, membrane, plywood 10mm, studding 100mm, with infill insulation 60mm, vapour membrane, plasterboard 12.5mm",0.43,null,null,"Wood/PVC Double Glazed, low-E glass ",2.2999999999999998,null,null,null,null,null,null,"Concrete block (medium weight)",1400,0.51]
[8,null,null,null,"","",null,null,null,null,"Brick 102.5mm, cavity, membrane, plywood 10mm, studding 100mm, with infill insulation 80mm, vapour membrane, plasterboard 12.5mm",0.36,null,null,"Wood/PVC Double Glazed, low-E glass, argon filled ",2.1,null,null,"Walls",null,null,null,"Fibreboard",300,0.06]
[null,null,null,null,"Total Resistance",{"$f":"IF(C3=\"External wall\",SUM(F6:F13,T2:T3),IF(C3=\"Internal wall\",SUM(F6:F13,T3,T3),SUM(F6:F13)))","v":0},null,null,null,null,"Brick 102mm, 50mm  mineral slab, brick 102mm, 13mm plaster",0.56000000000000005,null,null,"Wood/PVC Single Glazed",4.8,null,null,"Surface Finishes",null,null,null,"Gypsum",600,0.18]
[null,null,null,null,"U value of construction (W/m²K)",{"$f":"1/F14","v":{"$error":"#DIV/0!"}},null,null,null,null,"Brick 102mm, 50mm mineral slab, brick 102mm, 12.5mm plasterboard on dabs",0.53,null,null,"Wood/PVC Triple Glazed",2.1,null,null,"Roofs",null,null,null,"Lightweight aggregate concrete block",1400,0.56999999999999995]
[null,null,null,null,null,null,null,null,null,null,"Brick 102mm, 75mm foam board, 12.5mm plasterboard",0.3,null,null,"Wood/PVC Triple Glazed, low-E glass ",1.7,null,null,"Floors",null,null,null,"Limestone (soft)",1800,1.1000000000000001]
[null,null,null,null,null,null,null,null,null,null,"Brick 102mm, cavity, 100mm high performance aerated block (k=0.11), 12.5mm plasterboard on dabs",0.64,null,null,"Wood/PVC Triple Glazed, low-E glass, argon filled ",1.6,null,null,"Insulation",null,null,null,"Limestone (hard)",2200,1.7]
["EXTERNAL WALL TYPE - SOLID",null,null,"Description",null,"U-value W/m²K",null,null,null,null,"Brick 102mm, cavity, 100mm high performance aerated block (k=0.11), 13mm plaster",0.68,null,null,{"$f":"$O$27&\" \"&O1","v":"Glazed wood or PVC-U door Window_description"},{"$f":"P1","v":"U-value W/m²K "},null,null,"Air Gap",null,null,null,"Mortar (exposed",1750,0.94]
["Solid Brick Wall",null,null,"Brick 102mm, Plaster",null,2.97,null,null,null,null,"Brick 102mm, cavity, 100mm standard aerated block (k=0.17), 12.5mm plasterboard on dabs",0.8,null,null,"Glazed wood or PVC-U door Enter a U-value",0,null,null,null,null,null,null,"Mortar (protected)",1750,0.88]
[null,null,null,"Brick 228mm, Plaster",null,2.11,null,null,null,null,"Brick 102mm, cavity, 100mm standard aerated block (k=0.17), 13mm plaster",0.87,null,null,"Glazed wood or PVC-U door Metal Double Glazed",3.4,null,null,null,null,null,null,"Plasterboard",650,0.16]
[null,null,null,"Brick 343mm, Plaster",null,1.64,null,null,null,null,"Brick 102mm, cavity, 125mm high performance aerated block (k=0.11), 12.5mm plasterboard on dabs",0.56000000000000005,null,null,"Glazed wood or PVC-U door Metal Double Glazed, low-E glass ",2.8,null,null,null,null,null,null,"Reinforced concrete (1% steel)",2300,2.2999999999999998]
["Solid Brick Insulated Externally",null,null,"19mm Render, 75mm foam board, Brick 102mm, Plaster",null,0.3,null,null,null,null,"Brick 102mm, cavity, 125mm high performance aerated block (k=0.11), 13mm plaster",0.59,null,null,"Glazed wood or PVC-U door Metal Double Glazed, low-E glass, argon filled ",2.6,null,null,null,null,null,null,"Reinforced concrete (2% steel)",2400,2.5]
[null,null,null,"19mm Render, 75mm foam board, Brick 228mm, Plaster",null,0.28000000000000003,null,null,null,null,"Brick 102mm, cavity, 125mm standard aerated block (k=0.17), 12.5mm plasterboard on dabs",0.72,null,null,"Glazed wood or PVC-U door Metal Single Glazed",5.7,null,null,null,null,null,null,"Sandstone",2600,2.2999999999999998]
[null,null,null,"19mm Render, 75mm foam board, Brick 343mm, Plaster",null,0.27,null,null,null,null,"Brick 102mm, cavity, 125mm standard aerated block (k=0.17), 13mm plaster",0.77,null,null,"Glazed wood or PVC-U door Metal Triple Glazed",2.6,null,null,null,null,null,null,"Stone (artificial)",1750,1.3]
["Solid Brink Insulated Internally",null,null,"Brick 102mm, 75mm foam board, 12.5mm plasterboard",null,0.3,null,null,null,null,"Brick 102mm, cavity, brick 102mm, 12.5mm plasterboard on dabs",1.21,null,null,"solid wood door (external)",3,null,null,null,null,null,null,"Stone (granite)",2640,2.93]
[null,null,null,"Brick 228mm, 75mm foam board, 12.5mm plasterboard",null,0.28999999999999998,null,null,null,null,"Brick 102mm, cavity, brick 102mm, 13mm plaster",1.37,null,null,"Solid wood door to unheated corridor",1.4,null,null,null,null,null,null,"Tile Hanging",1900,0.84]
[null,null,null,"Brick 343mm, 75mm foam board, 12.5mm plasterboard",null,0.28000000000000003,null,null,null,null,"Brick 102mm, mineral wool slab in cavity 50mm, 100mm high performance aerated block (k=0.11), 13mm plaster",0.39,null,null,"Glazed wood or PVC-U door",null,null,null,null,null,null,null,"Timber (Hardwood)",700,0.18]
["Solid Stone Wall, Unplastered",null,null,"Stone 305mm (12\")",null,2.78,null,null,null,null,"Brick 102mm, mineral wool slab in cavity 50mm, 100mm standard aerated block (k=0.17), 13mm plaster",0.45,null,null,null,null,null,null,null,null,null,null,"Timber (softwood, plywood, chipboard)",500,0.13]
[null,null,null,"Stone 457mm (18\")",null,2.23,null,null,null,null,"Brick 102mm, mineral wool slab in cavity 50mm, 120mm high performance aerated block (k=0.11), 13mm plaster",0.36,null,null,null,null,null,null,null,null,null,"Surface Finishes","External rendering",1330,0.56999999999999995]
[null,null,null,"Stone 610mm (24\")",null,1.86,null,null,null,null,"Brick 102mm, mineral wool slab in cavity 50mm, 120mm standard aerated block (k=0.17), 13mm plaster",0.42,null,null,null,null,null,null,null,null,null,null,"Fibreboard",400,0.1]
["Solid Stone Wall, Internally Insulated",null,null,"Stone 305mm, 100mm mineral wool, plasterboard on battens",null,0.33,null,null,null,null,"Brick 102mm, mineral wool slab in cavity 50mm,100mm high performance aerated block (k=0.11), 12.5mm plasterboard on dabs",0.38,null,null,null,null,null,null,null,null,null,null,"Plaster (dense)",1300,0.56999999999999995]
[null,null,null,"Stone 457mm, 100mm mineral wool, plasterboard on battens",null,0.32,null,null,null,null,"Brick 102mm, mineral wool slab in cavity 50mm,100mm standard aerated block (k=0.17), 12.5mm plasterboard on dabs",0.43,null,null,null,null,null,null,null,null,null,null,"Plaster (lightweight",600,0.18]
[null,null,null,"Stone 610mm, 100mm mineral wool, plasterboard on battens",null,0.32,null,null,null,null,"Brick 102mm, mineral wool slab in cavity 50mm,125mm high performance aerated block (k=0.11), 12.5mm plasterboard on dabs",0.35,null,null,null,null,null,null,null,null,null,null,"Plasterboard",900,0.25]
["Solid Concrete Wall, Dense Plaster",null,null,"Concrete 102mm, Plaster",null,3.51,null,null,null,null,"Brick 102mm, mineral wool slab in cavity 50mm,125mm standard aerated block (k=0.17), 12.5mm plasterboard on dabs",0.41,null,null,null,null,null,null,null,null,null,null,"Tiles (ceramic)",2300,1.3]
[null,null,null,"Concrete 152mm, Plaster",null,3.12,null,null,null,null,"Brick 228 mm, plaster",2.11,null,null,null,null,null,null,null,null,null,"Roofs","Aerated concrete slab",500,0.16]
[null,null,null,"Concrete 204mm, Plaster",null,2.8,null,null,null,null,"Brick 228mm, 75mm foam board, 12.5mm plasterboard",0.28999999999999998,null,null,null,null,null,null,null,null,null,null,"Asphalt",1700,0.5]
[null,null,null,"Concrete 254mm, Plaster",null,2.54,null,null,null,null,"Brick 343 mm, plaster",1.64,null,null,null,null,null,null,null,null,null,null,"Asphalt",2100,0.7]
["Solid Concrete Wall Insulated External, Dense Plaster",null,null,"19mm Render, 75mm foam board, concrete 102mm, Plaster",null,0.31,null,null,null,null,"Brick 343mm, 75mm foam board, 12.5mm plasterboard",0.28000000000000003,null,null,null,null,null,null,null,null,null,null,"Felt/Bitumen layers",1100,0.23]
[null,null,null,"19mm Render, 75mm foam board, concrete 152mm, Plaster",null,0.3,null,null,null,null,"Concrete 102mm, plaster",3.51,null,null,null,null,null,null,null,null,null,null,"Felt/Bitumen layers",1700,0.5]
[null,null,null,"19mm Render, 75mm foam board, concrete 204mm, Plaster",null,0.3,null,null,null,null,"Concrete 152mm, plaster",3.12,null,null,null,null,null,null,null,null,null,null,"Screed (light weight)",1200,0.41]
[null,null,null,"19mm Render, 75mm foam board, concrete 254mm, Plaster",null,0.3,null,null,null,null,"Concrete 204mm, plaster",2.8,null,null,null,null,null,null,null,null,null,null,"Stone Chippings",1800,0.96]
[null,null,null,null,null,null,null,null,null,null,"Concrete 254 mm, plaster",2.54,null,null,null,null,null,null,null,null,null,null,"Tiles (clay)",2000,1]
["EXTERNAL WALL TYPE - CAVITY",null,null,"Description",null,"U-value W/m²K",null,null,null,null,"Render 19mm, brick 102mm, 50mm mineral wool slab,  brick 102mm, 13mm plaster",0.54,null,null,null,null,null,null,null,null,null,null,"Tiles (concrete)",2100,1.5]
[null,null,null,null,null,"Open Cavity","Mineral Wool 50mm",null,null,null,"Render 19mm, brick 102mm, 50mm mineral wool slab, brick 102mm, 12.5mm plasterboard on dabs",0.51,null,null,null,null,null,null,null,null,null,null,"Wood wool slab",500,0.1]
["Cavity Wall (Open cavity or mineral Wool Slab), Lightweight Plaster",null,null,"Brick 102mm, Brick 102mm, 13mm Plaster & Skim",null,1.37,0.56000000000000005,null,null,null,"Render 19mm, brick 102mm, cavity, 100mm standard aerated block, 13mm plaster",0.82,null,null,null,null,null,null,null,null,null,"Floors","Cast concrete",2000,1.35]
[null,null,null,"Brick 102mm, Brick 102mm, 12mm Plaster on dabs",null,1.21,0.53,null,null,null,"Render 19mm, brick 102mm, cavity, 125mm standard aerated block, 13mm plaster",0.73,null,null,null,null,null,null,null,null,null,null,"Metal tray (steel)",7800,50]
[null,null,null,null,null,"Inner Leaf Thickness",null,null,null,null,"Render 19mm, brick 102mm, cavity, brick 102mm, 12.5mm plasterboard on dabs",1.1100000000000001,null,null,null,null,null,null,null,null,null,null,"Screed (concrete)",1950,1.2]
[null,null,null,null,null,"100mm","125mm",null,null,null,"Render 19mm, brick 102mm, cavity, brick 102mm, 13mm plaster",1.25,null,null,null,null,null,null,null,null,null,null,"Timber (softwood, plywood, chipboard)",500,0.13]
["Cavity Wall, aerated block inner leaf, lightweight plaster",null,null,"Brick 102mm open cavity, standard aerated block (k=0.17), 13mm Plaster",null,0.87,0.77,null,null,null,"Render 19mm, brick 102mm, mineral wool slab in\ncavity 50mm, 100mm standard aerated block, 13mm plaster",0.44,null,null,null,null,null,null,null,null,null,null,"Timber (hardwood)",700,0.18]
[null,null,null,null,null,null,null,null,null,null,"Render 19mm, brick 102mm, mineral wool slab in\ncavity 50mm, 125mm standard aerated block, 13mm plaster",0.41,null,null,null,null,null,null,null,null,null,null,"Timber flooring",650,0.14000000000000001]
[null,null,null,"Brick 102mm open cavity, standard aerated block (k=0.17), 12.5mm plasterboard on dabs",null,0.8,0.72,null,null,null,"Render 19mm, high performance aerated block (k=0.11) 215mm, 13mm plaster",0.44,null,null,null,null,null,null,null,null,null,null,"Wood blocks",650,0.14000000000000001]
[null,null,null,null,null,null,null,null,null,null,"Render 19mm, standard aerated block 100mm, cavity, 100mm  high performance aerated block (k=0.11), 13mm plaster",0.51,null,null,null,null,null,null,null,null,null,"Insulation","Expanded polystyrene slab",15,0.04]
[null,null,null,"Brick 102mm, mineral wool slab in cavity 50mm, standard aerated block (k=0.17), 13mm Plaster",null,0.45,0.42,null,null,null,"Render 19mm, standard aerated block 100mm, cavity, 100mm standard aerated block, 13mm plaster",0.61,null,null,null,null,null,null,null,null,null,null,"Expanded polystyrene slab",25,3.5000000000000003E-2]
[null,null,null,null,null,null,null,null,null,null,"Render 19mm, standard aerated block 100mm, cavity, 125mm high performance aerated block (k=0.11), 13mm plaster",0.45,null,null,null,null,null,null,null,null,null,null,"Glass fibre quilt",12,0.04]
[null,null,null,"Brick 102mm, mineral wool slab in cavity 50mm, standard aerated block (k=0.17), 12.5mm plasterboard on dabs",null,0.43,0.41,null,null,null,"Render 19mm, standard aerated block 100mm, cavity, 125mm standard aerated block, 13mm plaster",0.56000000000000005,null,null,null,null,null,null,null,null,null,null,"Glass fibre slab",25,3.5000000000000003E-2]
[null,null,null,null,null,null,null,null,null,null,"Render 19mm, standard aerated block 100mm, mineral wool slab in cavity 50mm, 100mm  high performance aerated block (k=0.11), 13mm plaster",0.33,null,null,null,null,null,null,null,null,null,null,"Mineral fibre slab",30,3.5000000000000003E-2]
["Cavity Wall, high performance aerated block inner leaf, lightweight plaster or plasterboard",null,null,"Brick 102mm open cavity, high performance aerated block (k=0.11), 13mm Plaster",null,0.68,0.59,null,null,null,"Render 19mm, standard aerated block 100mm, mineral wool slab in cavity 50mm, 100mm standard aerated block, 13mm plaster",0.37,null,null,null,null,null,null,null,null,null,null,"Mineral wool batt",25,3.7999999999999999E-2]
[null,null,null,null,null,null,null,null,null,null,"Render 19mm, standard aerated block 100mm, mineral wool slab in cavity 50mm, 125mm high performance aerated block (k=0.11), 13mm plaster",0.31,null,null,null,null,null,null,null,null,null,null,"Mineral wool quilt",12,4.2000000000000003E-2]
[null,null,null,"Brick 102mm open cavity, high performance aerated block (k=0.11), 12.5mm plasterboard on dabs",null,0.64,0.56000000000000005,null,null,null,"Render 19mm, standard aerated block 100mm, mineral wool slab in cavity 50mm, 125mm standard aerated block, 13mm plaster",0.35,null,null,null,null,null,null,null,null,null,null,"Phenolic foam",30,0.04]
[null,null,null,null,null,null,null,null,null,null,"shiplap boards, airspace, cavity, membrane, plywood 10mm, studding 100mm, with infill  insulation 80mm, vapour membrane, plasterboard 12.5mm",0.32,null,null,null,null,null,null,null,null,null,null,"Phenolic foam board",30,2.5000000000000001E-2]
[null,null,null,"Brick 102mm, mineral wool slab in cavity 50mm, high performance aerated block (k=0.11), 13mm Plaster",null,0.39,0.36,null,null,null,"shiplap boards, airspace, cavity, membrane, plywood 10mm, studding 100mm, with infill insulation 60mm, vapour membrane, plasterboard 12.5mm",0.44,null,null,null,null,null,null,null,null,null,null,"Polyurethane board",30,2.5000000000000001E-2]
[null,null,null,null,null,null,null,null,null,null,"shiplap boards, airspace, cavity, membrane, plywood 10mm, studding 100mm, with infill insulation 80mm, vapour membrane, plasterboard 12.5mm",0.36,null,null,null,null,null,null,null,null,null,null,"Urea formaldehyde foam",10,0.04]
[null,null,null,"Brick 102mm, mineral wool slab in cavity 50mm, high performance aerated block (k=0.11), 12.5mm plasterboard on dabs",null,0.38,0.35,null,null,null,"Shiplap boards, airspace, standard aerated block 100mm, cavity, 100mm high performance block (K=0.11), 13mm plaster",0.45]
[null,null,null,null,null,null,null,null,null,null,"Shiplap boards, airspace, standard aerated block 100mm, cavity, 125mm high performance block (K=0.11), 13mm plaster",0.41]
[null,null,null,null,null,null,null,null,null,null,"Shiplap boards, airspace, standard aerated block 100mm, cavity, standard aerated block 100mm, 13mm plaster",0.53]
["EXTERNAL WALL TYPE - RENDERED EXTERNALLY",null,null,"Description",null,"U-value W/m²K",null,null,null,null,"Shiplap boards, airspace, standard aerated block 100mm, cavity, standard aerated block 125mm, 13mm plaster",0.49]
[null,null,null,null,null,"Open Cavity","Mineral Wool 50mm",null,null,null,"Shiplap boards, airspace, standard aerated block 100mm, mineral wool slab in cavity 50mm, 125mm high performance block (K=0.11), 13mm plaster",0.28999999999999998]
["Cavity Wall (Open cavity or mineral Wool Slab), Lightweight Plaster",null,null,"Render 19mm, Brick 102mm, Brick 102mm, 13mm Plaster",null,1.25,0.54,null,null,null,"Shiplap boards, airspace, standard aerated block 100mm, mineral wool slab in cavity 50mm, standard aerated block 100mm, 13mm plaster",0.34]
[null,null,null,"Render 19mm, Brick 102mm, Brick 102mm, 12mm Plaster on dabs",null,1.1100000000000001,0.51,null,null,null,"Shiplap boards, airspace, standard aerated block 100mm, mineral wool slab in cavity 50mm, standard aerated block 125mm, 13mm plaster",0.32]
[null,null,null,null,null,null,null,null,null,null,"Shiplap boards, airspace, standard aerated block 125mm, mineral wool slab in cavity 50mm, 100mm high performance block (K=0.11), 13mm plaster",0.31]
[null,null,null,null,null,"Inner Leaf Thickness",null,null,null,null,"Stone 305mm (12in)",2.78]
[null,null,null,null,null,"100mm","125mm",null,null,null,"Stone 305mm, 100mm mineral wool, plasterboard on battens",0.33]
["Cavity Wall, aerated block inner leaf, lightweight plaster or plasterboard",null,null,"Render 19mm, brick 102mm, cavity, standard aerated block, 13mm plaster",null,0.82,0.73,null,null,null,"Stone 457mm (18in)",2.23]
[null,null,null,null,null,null,null,null,null,null,"Stone 457mm, 100mm mineral wool, plasterboard on battens",0.32]
[null,null,null,"Render 19mm, brick 102.5mm, mineral wool slab in cavity 50mm, standard aerated block, 13mm plaster",null,0.44,0.41,null,null,null,"Stone 610mm (24in)",1.86]
[null,null,null,null,null,null,null,null,null,null,"Stone 610mm, 100mm mineral wool, plasterboard on battens",0.32]
[null,null,null,"Render 19mm, standard aerated block 100mm, cavity, standard aerated block, 13mm plaster",null,0.61,0.56000000000000005,null,null,null,"Tiles, airspace, cavity, membrane, plywood 10mm, studding 100mm, with infill  insulation 80mm, vapour membrane, plasterboard 12.5mm",0.34]
[null,null,null,null,null,null,null,null,null,null,"Tiles, airspace, cavity, membrane, plywood 10mm, studding 100mm, with infill insulation 60mm, vapour membrane, plasterboard 12.5mm",0.47]
["Cavity blockwork wall, inner aerated block, lightweight plaster",null,null,"Render 19mm, standard aerated block 100mm mineral wool slab in cavity 50mm, standard aerated block, 13mm plaster",null,0.37,0.35,null,null,null,"Tiles, airspace, cavity, membrane, plywood 10mm, studding 100mm, with infill insulation 80mm, vapour membrane, plasterboard 12.5mm",0.38]
[null,null,null,null,null,null,null,null,null,null,"Tiles, airspace, high performance aerated block, 215mm, 13mm plaster",0.43]
["Cavity wall, rendered, aerated block inner, lightweight plaster",null,null,"Render 19mm, standard aerated block 100mm, cavity, high performance aerated block (k=0.11), 13mm plaster",null,0.51,0.45,null,null,null,"Tiles, airspace, standard aerated block 100mm, 13mm plaster",0.57999999999999996]
[null,null,null,null,null,null,null,null,null,null,"Tiles, airspace, standard aerated block 100mm, cavity, 100mm high performance aerated block (k=0.11), 13mm plaster",0.49]
[null,null,null,"Render 19mm, standard aerated block 100mm,mineral wool slab in cavity 50 mm, high performance aerated block (k=0.11), 13mm plaster",null,0.33,0.31,null,null,null,"Tiles, airspace, standard aerated block 100mm, cavity, 125mm high performance aerated block (k=0.11), 13mm plaster",0.44]
[null,null,null,null,null,null,null,null,null,null,"Tiles, airspace, standard aerated block 100mm, mineral wool slab in cavity 50mm, 100mm high performance aerated block (k=0.11), 13mm plaster",0.32]
[null,null,null,null,null,null,null,null,null,null,"Tiles, airspace, standard aerated block 100mm, mineral wool slab in cavity 50mm, 100mm standard aerated block, 13mm plaster",0.36]
["Solid Wall, rendered outside, plaster inside",null,null,"Render 19mm, high performance aerated block (k=0.11), 13mm plaster",null,0.44,null,null,null,null,"Tiles, airspace, standard aerated block 100mm, mineral wool slab in cavity 50mm, 120mm standard aerated block, 13mm plaster",0.34]
[null,null,null,null,null,null,null,null,null,null,"Tiles, airspace, standard aerated block 100mm, mineral wool slab in cavity 50mm, 125mm high performance aerated block (k=0.11), 13mm plaster",0.3]
[null,null,null,null,null,null,null,null,null,null,"Tiles, airspace, standard aerated block 125mm, 13mm plaster",0.53]
["EXTERNAL WALL TYPE - VARIATIONS",null,null,"Description",null,"U-value W/m²K",null,null,null,null,"Plaster 13mm, block 10mm, cavity, block 100mm, plaster 13mm",1.02]
[null,null,null,null,null,"Inner Leaf Thickness",null,null,null,null,"Plaster 13mm, brick 102.5mm, plaster 13mm",1.76]
[null,null,null,null,null,"100mm","125mm",null,null,null,"Plaster 13mm, brick 215mm, plaster 13mm",1.33]
["Cavity wall, tile clad, (open cavity or mineral wool slab), lightweight plaster",null,null,"Tiles, air space, standard aerated block, 13mm plaster",null,0.57999999999999996,0.53,null,null,null,"Plaster 13mm, standard aerated block 100mm, plaster 13mm",1.66]
[null,null,null,"Tiles, air space, standard aerated block 100mm, mineral wool slab in cavity 50mm, standard aerated block, 13mm plaster",null,0.36,0.34,null,null,null,"Plaster 13mm, standard aerated block 125mm, plaster 13mm",1.53]
[null,null,null,null,null,null,null,null,null,null,"Plaster, breeze block 100mm, plaster",1.58]
[null,null,null,"Tiles, air space, standard aerated block 100mm, cavity, high performance aerated block (k=0.11), 13mm plaster",null,0.49,0.44,null,null,null,"Plasterboard 12.5mm, studding 75mm, plasterboard 12.5mm",1.72]
[null,null,null,null,null,null,null,null,null,null,"Chippings, 3 layers of felt, boarding, air space, 100mm insulation, 9.5 mm plasterboard",0.32]
[null,null,null,"Tiles, air space, standard aerated block 100mm, mineral wool slab in cavity 50mm, high performance aerated block (k=0.11), 13mm plaster",null,0.32,0.3,null,null,null,"Chippings, 3 layers of felt, boarding, air space, 200mm insulation, 9.5 mm plasterboard",0.17]
[null,null,null,null,null,null,null,null,null,null,"Chippings, 3 layers of felt, boarding, air space, 300insulation, 9.5 mm plasterboard",0.12]
["Solid wall, tile clad externally",null,null,"Tiles, air space, high performance aerated block 215mm, 13mm plaster",null,0.43,null,null,null,null,"Chippings, 3 layers of felt, boarding, air space, 50mm insulation, 9.5 mm plasterboard",0.53]
["Cavity wall timber clad externally",null,null,"Shiplap boards, airspace, standard aerated block 100mm, cavity, standard aerated block, 13mm plaster",null,0.53,0.49,null,null,null,"Chippings, 3 layers of felt, boarding, air space, no insulation, 9.5 mm plasterboard",1.69]
[null,null,null,null,null,null,null,null,null,null,"Pitched roof - Slates or tiles, , ventilated air space, 100mm insulation between joists, 9.5 mm plasterboard",0.35]
[null,null,null,"Shiplap boards, airspace, standard aerated block 100mm, mineral wool slab in cavity 50mm, standard aerated block, 13mm plaster",null,0.34,0.32,null,null,null,"Pitched roof - Slates or tiles, , ventilated air space, 200mm insulation between joists, 9.5 mm plasterboard",0.18]
[null,null,null,null,null,null,null,null,null,null,"Pitched roof - Slates or tiles, , ventilated air space, 300mm insulation between joists, 9.5 mm plasterboard",0.12]
[null,null,null,"Shiplap boards airspace, standard aerated block 100mm, cavity, high performance aerated block, 13mm plaster",null,0.45,0.41,null,null,null,"Pitched roof - Slates or tiles, , ventilated air space, 50mm insulation between joists, 9.5 mm plasterboard",0.62]
[null,null,null,null,null,null,null,null,null,null,"Pitched roof - Slates or tiles, , ventilated air space, no insulation, 9.5 mm plasterboard",3.13]
[null,null,null,"Shiplap boards, airspace, standard aerated block 100mm, mineral wool slab in cavity 50mm, high performance aerated block, 13mm plaster",null,0.31,0.28999999999999998,null,null,null,"Pitched roof - Slates or tiles, sarking felt, ventilated air space, 100mm insulation between joists, 9.5 mm plasterboard",0.34]
[null,null,null,null,null,null,null,null,null,null,"Pitched roof - Slates or tiles, sarking felt, ventilated air space, 100mm insulation between rafters, 9.5 mm plasterboard",0.34]
[null,null,null,null,null,"Insulation Thickness",null,null,null,null,"Pitched roof - Slates or tiles, sarking felt, ventilated air space, 200mm insulation between joists, 9.5 mm plasterboard",0.18]
[null,null,null,null,null,"60 mm","80 mm","100 mm",null,null,"Pitched roof - Slates or tiles, sarking felt, ventilated air space, 200mm insulation between rafters, 9.5 mm plasterboard",0.18]
["Brick outer timber frame wall, dp membrane, plywood sheathing, studding, vapour membrane, plasterboard",null,null,"Brick 102.5mm, cavity, membrane, plywood 10mm, studding 100m, with infill insulation, vapour membrane, plasterboard 12.5mm",null,0.43,0.36,0.32,null,null,"Pitched roof - Slates or tiles, sarking felt, ventilated air space, 300mm insulation between joists, 9.5 mm plasterboard",0.12]
[null,null,null,null,null,null,null,null,null,null,"Pitched roof - Slates or tiles, sarking felt, ventilated air space, 300mm insulation between rafters, 9.5 mm plasterboard",0.12]
[null,null,null,"Tiles, airspace, membrane, plywood 10mm, studding 100mm, with infill insulation, vapour membrane, plasterboard 12.5mm",null,0.47,0.38,0.34,null,null,"Pitched roof - Slates or tiles, sarking felt, ventilated air space, 50mm insulation between joists, 9.5 mm plasterboard",0.6]
[null,null,null,null,null,null,null,null,null,null,"Pitched roof - Slates or tiles, sarking felt, ventilated air space, 50mm insulation between rafters, 9.5 mm plasterboard",0.6]
[null,null,null,"Shiplap boards, airspace, membrane, plywood 10mm, studding 100mm with infill insulation",null,0.44,0.36,0.32,null,null,"Pitched roof - Slates or tiles, sarking felt, ventilated air space, no insulation, 9.5 mm plasterboard",2.5099999999999998]
[null,null,null,null,null,null,null,null,null,null,"Pitched roof - Slates or tiles, sarking felt, ventilated air space, no insulation, 9.5 mm plasterboard",2.5099999999999998]
[null,null,null,null,null,null,null,null,null,null,"Boarding 19mm, airspace between joists, 100mm insulation, 6mm sheeting - heat flow downward exposed to outside air or unheated space",0.33]
[null,null,null,null,null,null,null,null,null,null,"Boarding 19mm, airspace between joists, 150mm insulation, 6mm sheeting - heat flow downward exposed to outside air or unheated space",0.23]
[null,null,null,null,null,null,null,null,null,null,"Boarding 19mm, airspace between joists, no insulation, 6mm sheeting - heat flow downward exposed to outside air or unheated space",1.75]
[null,null,null,null,null,null,null,null,null,null,"Intermediate floors, boarding 19mm, airspace 100mm insulation between joists, 9.5mm plasterboard heat flow downward",0.31]
[null,null,null,null,null,null,null,null,null,null,"Intermediate floors, boarding 19mm, airspace 100mm insulation between joists, 9.5mm plasterboard heat flow upward",0.32]
[null,null,null,null,null,null,null,null,null,null,"Intermediate floors, boarding 19mm, airspace between joists, 9.5mm plasterboard heat flow downward",1.41]
[null,null,null,null,null,null,null,null,null,null,"Intermediate floors, boarding 19mm, airspace between joists, 9.5mm plasterboard heat flow upward",1.73]
[null,null,null,null,null,null,null,null,null,null,"Screed 50mm, concrete slab 150mm, 100mm insulation between battens, 6mm sheeting, heat flow downward - exposed to outside air or unheated space",0.56999999999999995]
[null,null,null,null,null,null,null,null,null,null,"Screed 50mm, concrete slab 150mm, no insulation between battens, 6mm sheeting, heat flow downward - exposed to outside air or unheated space",1.82]

{"sheet":"Design Tables","index":5,"n_rows":33,"n_cols":14,"rows_kept":33,"cut":false,"hidden":false,"merged":[[29,4,29,5],[30,4,30,5],[26,6,26,8],[26,9,26,11],[27,6,27,8],[28,6,28,8],[29,6,29,8],[30,6,30,8],[27,9,27,11],[28,9,28,11],[29,9,29,11],[30,9,30,11],[20,5,21,13],[22,5,23,13],[26,4,26,5],[27,4,27,5],[28,4,28,5],[25,4,25,11],[0,0,0,2],[0,4,0,13],[14,5,15,13],[16,5,17,13],[18,5,19,13]]}
["Degree Day data from CIBSE Guide A (base temperature 15.5 °C) 1976-1995",null,null,null,"Design Room Operative Temperature and Natural Ventilation Rates"]
["& Mean Air Temp data (from MIS 3005 Appendix B)",null,null,null,"Room","Temp (°C)","Category A","Category B","Category C","Room","Temp (°C)","Category A","Category B","Category C"]
[null,"Degree","Mean Air ",null,"Lounge",21,"1.5**","1.0**","0.5","Games",21,"1.5","1.0","0.5"]
[null,"Day (K*day)","Temp (°C)",null,"Living",21,"1.5**","1.0**","0.5","Bedroom",18,"1.0","1.0","0.5"]
["Borders (Boulmer)",2483,9,null,"Breakfast",21,1.5,"1.0","0.5","Bedsitting",21,"1.5","1.0","0.5"]
["E Anglia (Honington)",2254,10.1,null,"Dining",21,1.5,"1.0","0.5","Bed & Ensuite",21,"2.0","1.5","1.0"]
["E Pennines (Finningley)",2307,10,null,"Kitchen",18,"2.0*","1.5*","1.5*","Internal",18,"0.0","0.0","0.0"]
["E Scotland (Leuchars)",2577,8.8000000000000007,null,"Family",21,"2.0*","1.5*","1.5*","Bed/Study",21,"1.5","1.5","0.5"]
["Midland (Elmdon)",2425,9.8000000000000007,null,"Hall",18,"2.0","1.0","0.5","Landing",18,"2.0","1.0","0.5"]
["N Ireland (Aldergrove)",2360,9.4,null,"Cloaks/WC",18,"2.0*","1.5*","1.5*","Bath",22,"3.0*","1.5*","1.5*"]
["NE Scotland (Dyce)",2668,8.5,null,"Toilet",18,"3.0*","1.5*","1.5*","Shower",22,"3.0*","1.5*","1.5*"]
["North-eastern (Lemming)",2370,9.4,null,"Utility",18,"3.0*","2.0*","0.5*","Dressing",18,"1.5","1.0","0.5"]
["North-western (Carlisle)",2388,9.4,null,"Study",21,1.5,1.5,"0.5","Store",16,"1.0","0.5","0.5"]
["NW Scotland (Stornoway)",2671,8.6]
["Severn Valley (Filton)",1835,10.6,null,"Category A:","Air change rates for older existing buildings (pre 2000). Those with several chimneys and/or subject to preservation orders may require greater infiltration allowance than shown above"]
["South-eastern (Gatwick)",2255,10.199999999999999]
["Southern (Hurn)",2224,10.4,null,"Category B:","Air change rates for modern buildings (2000 or later) with double glazing and regulatory minimum insulation"]
["South-western (Plymouth)",1858,11]
["Thames Valley (Heathrow) ",2033,11.3,null,"Category C:","New (or existing) buildings constructed after 2006 and complying with all current building regulations. "]
["W Pennines (Ringway)",2228,10]
["W Scotland (Abbotsinch)",2494,9.1,null,"*","Where mechanical extract ventilation is to be installed in a room and the extract volume exceeds the natural infiltration, then it is advisable to make due allowances for the air extracted from any connecting room or corridor."]
["Wales (Aberporth)",2161,9.9]
[null,null,null,null,"**","Where a room contains an open fire or chimney, due ventilation allowance must be made from table below (Rooms with Chimneys and Open Flues)."]
["Location","Alt (m)","External"]
[null,null,"Temp **",null,"Note:","All new (Post 2006), well insulated buildings use a design temp of 21°C throughout, except bathrooms (22°C) and Store (16°C)"]
["Belfast",68,-1.2,null,"Rooms with Chimneys and Open Flues"]
["Birmingham",96,-3.4,null,"Room Volume (m³)",null,"Throat restrictor fitted to flue",null,null,"Air changes per hour"]
["Cardiff",67,-1.6,null,"Up to 40",null,"No",null,null,5]
["Edinburgh",35,-3.4,null,"Up to 40",null,"Yes",null,null,3]
["Glasgow",5,-3.9,null,"Up to 70",null,"No",null,null,4]
["London",25,-1.8,null,"Up to 70",null,"Yes",null,null,2]
["Manchester",75,-2.2000000000000002]
["Plymouth",27,-1.2,null,"Table and information taken from The Domestic Heating Design Guide 2015 - please refer to the guide for further information"]

{"sheet":"1","index":6,"n_rows":60,"n_cols":24,"rows_kept":60,"cut":false,"hidden":false,"merged":[[57,11,57,13],[1,3,1,4],[2,3,2,4],[3,3,3,4],[4,3,4,4],[5,3,5,4],[18,11,18,13],[19,11,19,13],[53,11,53,13],[54,11,54,13],[30,11,30,13],[0,0,0,2],[0,3,0,5],[0,9,0,10],[55,11,55,13],[56,11,56,13],[2,1,2,2],[6,0,6,1],[5,0,5,1],[4,0,4,1],[3,0,3,1],[20,11,20,13],[21,11,21,13]]}
["Room Information",null,null,"Ventilation Heat Loss",null,null,"Fabric ","Heat Loss (W)"," Usage (kWh)","Additional heat loss",null,"Addition","Watts","kWh"]
["Room","Living",null,"Air Changes a hour",null,2,"Floor",{"$f":"SUM(J20:J22)","v":62.031199999999998},{"$f":"SUM(K20:K22)","v":301.53930239999994},"Thermal Bridging (New Build >2006)",null,0,{"$f":"SUM(H$2:H$6)*L2","v":0},{"$f":"SUM(I$2:I$6)*L2","v":0},null,"3 edges (long single)","Level",null,null,null,null,null,null,1]
["Level","Ground floor",null,"Air Change Factor (W/m³K)",null,0.33,"Ext Wall",{"$f":"J27","v":553.52707200000009},{"$f":"K27","v":1233.2583164160001},"Exposed location",null,0,{"$f":"SUM(H$2:H$6)*L3","v":0},{"$f":"SUM(I$2:I$6)*L3","v":0},null,"3 edges (short single)","Please Select Floor",{"$f":"IF($B$3=\"Ground floor\",\"Solid Floor (in contact with ground)\",IF($B$3=\"Single Storey\",\"Solid Floor (in contact with ground)\",\"n/a\"))","v":"Solid Floor (in contact with ground)"},{"$f":"'Design Details'!B21","v":10},"unheated",0,0,0,2]
["Design Room Temp (°C)",null,{"$f":"'Design Details'!D87","v":21},"Total Volume (m³)",null,{"$f":"SUM(H10:H12,H14:H18)","v":66.483200000000011},"Roof",{"$f":"SUM(J32,J35)","v":154.03919999999999},{"$f":"SUM(K32,K35)","v":0},"High ceiling",null,0,{"$f":"SUM(H$2:H$6)*L4","v":0},{"$f":"SUM(I$2:I$6)*L4","v":0},null,"One edge","Ground floor",{"$f":"IF($B$3=\"Ground floor\",\"Suspended Floor\",IF($B$3=\"Single Storey\",\"Suspended Floor\",\"n/a\"))","v":"Suspended Floor"},null,16,0.1,0.2,2.5000000000000001E-2,3]
["Outside Design Temp (°C)",null,{"$f":"'Design Details'!B19","v":-3},"Heat loss (W)",null,{"$f":"F4*F3*C6*F2","v":1053.0938880000001},"Glazing",{"$f":"SUM(J37:J43,J45:J48,J50:J53)","v":190.32383999999996},{"$f":"SUM(K37:K43,K45:K48,K50:K53)","v":424.04151552000002},"Intermittent heating",null,0,{"$f":"SUM(H$2:H$6)*L5","v":0},{"$f":"SUM(I$2:I$6)*L5","v":0},null,"Two adjacent","Mid-floor",null,null,18,null,null,0.05,4]
["Temp Difference (°C)",null,{"$f":"C4-C5","v":24},"Estimated Energy usage (kWh)",null,{"$f":"F4*F3*C7*24/1000","v":1173.1465912320004},"Int./Party Wall",{"$f":"SUM(J55:J58,J60)","v":42.806399999999996},{"$f":"SUM(K60)","v":0},null,null,null,"Total Room Heat Loss (W)",{"$f":"SUM(F5,H2:H6,M2:M5)","v":2055.8216000000002},null,"Two opposite","Single storey",null,null,21,null,null,7.4999999999999997E-2,5]
["Degree Days",null,{"$f":"'Design Details'!B20","v":2228},null,null,null,null,null,null,null,null,null,"Total Room Energy Usage (kWh)",{"$f":"SUM(F6,I2:I6,N2:N5)","v":3131.9857255680004},null,null,"Upper floor",null,null,22,null,null,0.1,6]
[null,null,null,null,null,null,null,null,null,null,null,null,null,null,null,null,{"$f":"IF($B$3=\"Ground floor\",'Design Details'!B$45,IF($B$3=\"Mid-floor\",'Design Details'!B$55,IF($B$3=\"Upper floor\",'Design Details'!B$65,IF($B$3=\"Single Storey\",'Design Details'!B$75,0))))","v":0},null,null,null,null,null,null,7]
["Room Dimensions",null,null,null,null,null,null,null,null,null,null,null,null,null,null,null,null,null,null,null,null,null,null,8]
["Length (m)",6.8,"Width (m)",2.2000000000000002,"Height (m)",2.2400000000000002,"Volume (m³)",{"$f":"B10*D10*F10","v":33.510400000000004},null,null,null,null,null,null,null,null,null,null,null,null,null,null,null,9]
["Length (m)",6.4,"Width (m)",2.2999999999999998,"Height (m)",2.2400000000000002,"Volume (m³)",{"$f":"B11*D11*F11","v":32.972799999999999},null,null,null,null,null,null,null,null,null,null,null,null,null,null,null,10]
["Length (m)",null,"Width (m)",null,"Height (m)",null,"Volume (m³)",{"$f":"B12*D12*F12","v":0}]
["Awkward Room Dimensions"]
["Length (m)",null,"Width (m)",null,"Height (m)",null,"Volume (m³)",{"$f":"((F14*D14)/2)*B14","v":0},"Pitched"]
["Length (m)",null,"Width (m)",null,"Height (m)",null,"Volume (m³)",{"$f":"B15*D15*F15/2","v":0},"Single Pitch"]
["Length (m)",null,"Height (m)",null,"Depth (m)",null,"Volume (m³)",{"$f":"D16*F16*B16/2","v":0},"Dormer 1"]
["Length (m)",null,"Height (m)",null,"Depth (m)",null,"Volume (m³)",{"$f":"D17*F17*B17/2","v":0},"Dormer 2"]
["Length (m)",null,"Height (m)",null,"Depth (m)",null,"Volume (m³)",{"$f":"D18*F18*B18/2","v":0},"Dormer 3"]
["Floor",null,null,null,null,null,null,null,"Temp Difference","Heat Loss (W)","Usage (kWh)","Type of Ground Floor"]
["Length (m)",{"$f":"B10","v":6.8},"Width (m)",{"$f":"D10","v":2.2000000000000002},"Area (m²)",{"$f":"B20*D20","v":14.96},"U Value (W/m²K)",0.19,{"$f":"IF(B$3=\"Ground Floor\",IF(L20=\"Solid Floor (in contact with ground)\",C$4-S$3,C$4-C$5),IF(B$3=\"Single Storey\",IF(L20=\"Solid Floor (in contact with ground)\",C$4-S$3,C$4-C$5),0))","v":11},{"$f":"F20*H20*I20","v":31.266400000000001},{"$f":"IF($B$3=$Q$5,0,IF($B$3=$Q$7,0,F20*H20*$C$7*24/1000))","v":151.98881279999998},"Solid Floor (in contact with ground)"]
["Length (m)",{"$f":"B11","v":6.4},"Width (m)",{"$f":"D11","v":2.2999999999999998},"Area (m²)",{"$f":"B21*D21","v":14.719999999999999},"U Value (W/m²K)",{"$f":"H20","v":0.19},{"$f":"IF(B$3=\"Ground Floor\",IF(L20=\"Solid Floor (in contact with ground)\",C$4-S$3,C$4-C$5),IF(B$3=\"Single Storey\",IF(L20=\"Solid Floor (in contact with ground)\",C$4-S$3,C$4-C$5),0))","v":11},{"$f":"F21*H21*I21","v":30.764799999999997},{"$f":"IF($B$3=$Q$5,0,IF($B$3=$Q$7,0,F21*H21*$C$7*24/1000))","v":149.55048959999996},"Exposed floor (external)"]
["Length (m)",0,"Width (m)",0,"Area (m²)",0,"U Value (W/m²K)",{"$f":"H20","v":0.19},{"$f":"IF(B$3=\"Ground Floor\",IF(L20=\"Solid Floor (in contact with ground)\",C$4-S$3,C$4-C$5),IF(B$3=\"Single Storey\",IF(L20=\"Solid Floor (in contact with ground)\",C$4-S$3,C$4-C$5),0))","v":11},{"$f":"F22*H22*I22","v":0},{"$f":"IF($B$3=$Q$5,0,IF($B$3=$Q$7,0,F22*H22*$C$7*24/1000))","v":0}]
["External Wall",null,null,null,null,null,null,null,null,null,null,{"$f":"IF(L22=\"Two opposite\",\"Between edges\",IF(L22=\"One edge\",\"Depth of room\",IF(L22=\"3 edges (short single)\",\"Short length\",IF(L22=\"3 edges (long single)\",\"Short length\",\"\"))))","v":""},null,{"$f":"IF(L22=\"3 edges (short single)\",\"Long length\",IF(L22=\"3 edges (long single)\",\"Long length\",\"\"))","v":""}]
["Length (m)",6.8,"Height (m)",2.2400000000000002,"Area (m²)",15.232000000000001]
["Length (m)",null,"Height (m)",null,"Area (m²)",0]
["Length (m)",null,"Height (m)",null,"Area (m²)",0]
[null,null,null,"Total","Area (m²)",{"$f":"SUM(F24:F26)-SUM(F37:F43,F50:F53)","v":12.399800000000001},"U Value (W/m²K)",1.86,{"$f":"$C$6","v":24},{"$f":"F27*H27*I27","v":553.52707200000009},{"$f":"F27*H27*$C$7*24/1000","v":1233.2583164160001}]
["Roof"]
["Length (m)",{"$f":"B10","v":6.8},"Width (m)",{"$f":"D10","v":2.2000000000000002},"Area (m²)",14.96]
["Length (m)",{"$f":"B11","v":6.4},"Width (m)",{"$f":"D11","v":2.2999999999999998},"Area (m²)",14.719999999999999]
["Length (m)",0,"Width (m)",0,"Area (m²)",0]
[null,null,null,null,"Area (m²)",{"$f":"SUM(F29:F31)-SUM(F45:F48)","v":29.68},"U Value (W/m²K)",{"$f":"IF($B$3=\"Ground floor\",'Design Details'!B$49,IF($B$3=\"Mid-floor\",'Design Details'!B$59,IF($B$3=\"Upper floor\",'Design Details'!B$69,IF($B$3=\"Single Storey\",'Design Details'!B$79,0))))","v":1.73},3,154.03919999999999,{"$f":"IF($B$3=$Q$4,0,IF($B$3=$Q$5,0,F32*H32*$C$7*24/1000))","v":0}]
["Length (m)",{"$f":"B14*2","v":0},"Pitch (m)",{"$f":"SQRT(POWER(D14,2)+POWER(F14,2))","v":0},"Area (m²)",0,"Pitched"]
["Length (m)",{"$f":"B15","v":0},"Pitch (m)",{"$f":"SQRT(POWER(D15,2)+POWER(F15,2))","v":0},"Area (m²)",0,"Single Pitch"]
[null,null,null,"Total","Area (m²)",{"$f":"SUM(F33:F34)-SUM(F45:F48)","v":0},"U Value (W/m²K)",{"$f":"IF($B$3=\"Ground floor\",'Design Details'!B$50,IF($B$3=\"Mid-floor\",'Design Details'!B$60,IF($B$3=\"Upper floor\",'Design Details'!B$70,IF($B$3=\"Single Storey\",'Design Details'!B$80,0))))","v":0},24,0,{"$f":"IF($B$3=$Q$4,0,IF($B$3=$Q$5,0,F35*H35*$C$7*24/1000))","v":0}]
["Windows"]
["Width (m)",1.19,"Height (m)",2.38,"Area (m²)",2.8321999999999998,"U Value (W/m²K)",{"$f":"IF($B$3=\"Ground floor\",'Design Details'!B$46,IF($B$3=\"Mid-floor\",'Design Details'!B$56,IF($B$3=\"Upper floor\",'Design Details'!B$66,IF($B$3=\"Single Storey\",'Design Details'!B$76,0))))","v":2.8},24,190.32383999999996,{"$f":"F37*H37*$C$7*24/1000","v":424.04151552000002}]
["Width (m)",null,"Height (m)",null,"Area (m²)",0,"U Value (W/m²K)",{"$f":"IF($B$3=\"Ground floor\",'Design Details'!B$46,IF($B$3=\"Mid-floor\",'Design Details'!B$56,IF($B$3=\"Upper floor\",'Design Details'!B$66,IF($B$3=\"Single Storey\",'Design Details'!B$76,0))))","v":2.8},24,0,0]
["Width (m)",null,"Height (m)",null,"Area (m²)",0,"U Value (W/m²K)",{"$f":"IF($B$3=\"Ground floor\",'Design Details'!B$46,IF($B$3=\"Mid-floor\",'Design Details'!B$56,IF($B$3=\"Upper floor\",'Design Details'!B$66,IF($B$3=\"Single Storey\",'Design Details'!B$76,0))))","v":2.8},24,0,0]
["Width (m)",null,"Height (m)",null,"Area (m²)",0,"U Value (W/m²K)",{"$f":"IF($B$3=\"Ground floor\",'Design Details'!B$46,IF($B$3=\"Mid-floor\",'Design Details'!B$56,IF($B$3=\"Upper floor\",'Design Details'!B$66,IF($B$3=\"Single Storey\",'Design Details'!B$76,0))))","v":2.8},24,0,0]
["Width (m)",null,"Height (m)",null,"Area (m²)",0,"U Value (W/m²K)",{"$f":"IF($B$3=\"Ground floor\",'Design Details'!B$46,IF($B$3=\"Mid-floor\",'Design Details'!B$56,IF($B$3=\"Upper floor\",'Design Details'!B$66,IF($B$3=\"Single Storey\",'Design Details'!B$76,0))))","v":2.8},24,0,0]
["Width (m)",null,"Height (m)",null,"Area (m²)",0,"U Value (W/m²K)",{"$f":"IF($B$3=\"Ground floor\",'Design Details'!B$46,IF($B$3=\"Mid-floor\",'Design Details'!B$56,IF($B$3=\"Upper floor\",'Design Details'!B$66,IF($B$3=\"Single Storey\",'Design Details'!B$76,0))))","v":2.8},24,0,0]
["Width (m)",null,"Height (m)",null,"Area (m²)",0,"U Value (W/m²K)",{"$f":"IF($B$3=\"Ground floor\",'Design Details'!B$46,IF($B$3=\"Mid-floor\",'Design Details'!B$56,IF($B$3=\"Upper floor\",'Design Details'!B$66,IF($B$3=\"Single Storey\",'Design Details'!B$76,0))))","v":2.8},24,0,0]
["Roof Glazing"]
["Width (m)",null,"Height (m)",null,"Area (m²)",0,"U Value (W/m²K)",{"$f":"IF($B$3=\"Ground floor\",'Design Details'!B$53,IF($B$3=\"Mid-floor\",'Design Details'!B$63,IF($B$3=\"Upper floor\",'Design Details'!B$73,IF($B$3=\"Single Storey\",'Design Details'!B$83,0))))","v":2.8},24,0,{"$f":"F45*H45*$C$7*24/1000","v":0}]
["Width (m)",null,"Height (m)",null,"Area (m²)",0,"U Value (W/m²K)",{"$f":"IF($B$3=\"Ground floor\",'Design Details'!B$53,IF($B$3=\"Mid-floor\",'Design Details'!B$63,IF($B$3=\"Upper floor\",'Design Details'!B$73,IF($B$3=\"Single Storey\",'Design Details'!B$83,0))))","v":2.8},24,0,{"$f":"F46*H46*$C$7*24/1000","v":0}]
["Width (m)",null,"Height (m)",null,"Area (m²)",0,"U Value (W/m²K)",{"$f":"IF($B$3=\"Ground floor\",'Design Details'!B$53,IF($B$3=\"Mid-floor\",'Design Details'!B$63,IF($B$3=\"Upper floor\",'Design Details'!B$73,IF($B$3=\"Single Storey\",'Design Details'!B$83,0))))","v":2.8},24,0,{"$f":"F47*H47*$C$7*24/1000","v":0}]
["Width (m)",null,"Height (m)",null,"Area (m²)",0,"U Value (W/m²K)",{"$f":"IF($B$3=\"Ground floor\",'Design Details'!B$53,IF($B$3=\"Mid-floor\",'Design Details'!B$63,IF($B$3=\"Upper floor\",'Design Details'!B$73,IF($B$3=\"Single Storey\",'Design Details'!B$83,0))))","v":2.8},24,0,{"$f":"F48*H48*$C$7*24/1000","v":0}]
["Doors"]
["Width (m)",null,"Height (m)",null,"Area (m²)",0,"U Value (W/m²K)",{"$f":"IF($B$3=\"Ground floor\",'Design Details'!B$47,IF($B$3=\"Mid-floor\",'Design Details'!B$57,IF($B$3=\"Upper floor\",'Design Details'!B$67,IF($B$3=\"Single Storey\",'Design Details'!B$77,0))))","v":2.8},24,0,{"$f":"F50*H50*$C$7*24/1000","v":0}]
["Width (m)",null,"Height (m)",null,"Area (m²)",0,"U Value (W/m²K)",{"$f":"IF($B$3=\"Ground floor\",'Design Details'!B$47,IF($B$3=\"Mid-floor\",'Design Details'!B$57,IF($B$3=\"Upper floor\",'Design Details'!B$67,IF($B$3=\"Single Storey\",'Design Details'!B$77,0))))","v":2.8},24,0,{"$f":"F51*H51*$C$7*24/1000","v":0}]
["Width (m)",null,"Height (m)",null,"Area (m²)",0,"U Value (W/m²K)",{"$f":"IF($B$3=\"Ground floor\",'Design Details'!B$47,IF($B$3=\"Mid-floor\",'Design Details'!B$57,IF($B$3=\"Upper floor\",'Design Details'!B$67,IF($B$3=\"Single Storey\",'Design Details'!B$77,0))))","v":2.8},24,0,{"$f":"F52*H52*$C$7*24/1000","v":0}]
["Width (m)",null,"Height (m)",null,"Area (m²)",0,"U Value (W/m²K)",{"$f":"IF($B$3=\"Ground floor\",'Design Details'!B$47,IF($B$3=\"Mid-floor\",'Design Details'!B$57,IF($B$3=\"Upper floor\",'Design Details'!B$67,IF($B$3=\"Single Storey\",'Design Details'!B$77,0))))","v":2.8},24,0,{"$f":"F53*H53*$C$7*24/1000","v":0}]
["Internal Walls",null,null,null,null,null,null,null,null,null,null,"Adjoining Room Temp (°C)"]
["Length (m)",4.55,"Height (m)",2.2400000000000002,"Area (m²)",10.192,"U Value (W/m²K)",{"$f":"IF($B$3=\"Ground floor\",'Design Details'!B$51,IF($B$3=\"Mid-floor\",'Design Details'!B$61,IF($B$3=\"Upper floor\",'Design Details'!B$71,IF($B$3=\"Single Storey\",'Design Details'!B$81,0))))","v":1.4},3,42.806399999999996]
["Length (m)",null,"Height (m)",null,"Area (m²)",0,"U Value (W/m²K)",{"$f":"IF($B$3=\"Ground floor\",'Design Details'!B$51,IF($B$3=\"Mid-floor\",'Design Details'!B$61,IF($B$3=\"Upper floor\",'Design Details'!B$71,IF($B$3=\"Single Storey\",'Design Details'!B$81,0))))","v":1.4},{"$f":"IF(L56=\"\",0,IF(L56=\"unheated\",C$4-10,C$4-L56))","v":0},0]
["Length (m)",null,"Height (m)",null,"Area (m²)",0,"U Value (W/m²K)",{"$f":"IF($B$3=\"Ground floor\",'Design Details'!B$51,IF($B$3=\"Mid-floor\",'Design Details'!B$61,IF($B$3=\"Upper floor\",'Design Details'!B$71,IF($B$3=\"Single Storey\",'Design Details'!B$81,0))))","v":1.4},{"$f":"IF(L57=\"\",0,IF(L57=\"unheated\",C$4-10,C$4-L57))","v":0},0]
["Length (m)",null,"Height (m)",null,"Area (m²)",0,"U Value (W/m²K)",{"$f":"IF($B$3=\"Ground floor\",'Design Details'!B$51,IF($B$3=\"Mid-floor\",'Design Details'!B$61,IF($B$3=\"Upper floor\",'Design Details'!B$71,IF($B$3=\"Single Storey\",'Design Details'!B$81,0))))","v":1.4},{"$f":"IF(L58=\"\",0,IF(L58=\"unheated\",C$4-10,C$4-L58))","v":0},0]
["Party Wall"]
["Length (m)",null,"Height (m)",null,"Area (m²)",0,"U Value (W/m²K)",{"$f":"IF($B$3=\"Ground floor\",'Design Details'!B$52,IF($B$3=\"Mid-floor\",'Design Details'!B$62,IF($B$3=\"Upper floor\",'Design Details'!B$72,IF($B$3=\"Single Storey\",'Design Details'!B$82,0))))","v":1},{"$f":"C4-10","v":11},0,{"$f":"F60*H60*$C$7*24/1000","v":0}]

{"sheet":"2","index":7,"n_rows":60,"n_cols":24,"rows_kept":60,"cut":false,"hidden":false,"merged":[[2,1,2,2],[2,3,2,4],[0,0,0,2],[0,3,0,5],[0,9,0,10],[1,3,1,4],[3,0,3,1],[3,3,3,4],[4,0,4,1],[4,3,4,4],[5,0,5,1],[5,3,5,4],[57,11,57,13],[6,0,6,1],[18,11,18,13],[19,11,19,13],[53,11,53,13],[54,11,54,13],[55,11,55,13],[56,11,56,13],[30,11,30,13],[10,10,10,13],[9,10,9,13],[20,11,20,13],[21,11,21,13]]}
["Room Information",null,null,"Ventilation Heat Loss",null,null,"Fabric ","Heat Loss (W)"," Usage (kWh)","Additional heat loss",null,"Addition","Watts","kWh"]
["Room","Studio",null,"Air Changes a hour",null,1.5,"Floor",{"$f":"SUM(J20:J22)","v":158.07999999999998},{"$f":"SUM(K20:K22)","v":1056.60672},"Thermal Bridging (New Build >2006)",null,0,{"$f":"SUM(H$2:H$6)*L2","v":0},{"$f":"SUM(I$2:I$6)*L2","v":0},null,"3 edges (long single)","Level",null,null,null,null,null,null,1]
["Level","Ground floor",null,"Air Change Factor (W/m³K)",null,0.33,"Ext Wall",{"$f":"J27","v":273.694008},{"$f":"K27","v":696.903142656},"Exposed location",null,0,{"$f":"SUM(H$2:H$6)*L3","v":0},{"$f":"SUM(I$2:I$6)*L3","v":0},null,"3 edges (short single)","Please Select Floor",{"$f":"IF($B$3=\"Ground floor\",\"Solid Floor (in contact with ground)\",IF($B$3=\"Single Storey\",\"Solid Floor (in contact with ground)\",\"n/a\"))","v":"Solid Floor (in contact with ground)"},{"$f":"'Design Details'!B21","v":10},"unheated",0,0,0,2]
["Design Room Temp (°C)",null,18,"Total Volume (m³)",null,{"$f":"SUM(H10:H12,H14:H18)","v":49.088000000000001},"Roof",{"$f":"SUM(J32,J35)","v":82.992000000000004},{"$f":"SUM(K32,K35)","v":0},"High ceiling",null,0,{"$f":"SUM(H$2:H$6)*L4","v":0},{"$f":"SUM(I$2:I$6)*L4","v":0},null,"One edge","Ground floor",{"$f":"IF($B$3=\"Ground floor\",\"Suspended Floor\",IF($B$3=\"Single Storey\",\"Suspended Floor\",\"n/a\"))","v":"Suspended Floor"},null,16,0.1,0.2,2.5000000000000001E-2,3]
["Outside Design Temp (°C)",null,{"$f":"'Design Details'!B19","v":-3},"Heat loss (W)",null,{"$f":"F4*F3*C6*F2","v":510.26976000000002},"Glazing",{"$f":"SUM(J37:J43,J45:J48,J50:J53)","v":368.21231999999998},{"$f":"SUM(K37:K43,K45:K48,K50:K53)","v":937.57377023999993},"Intermittent heating",null,0,{"$f":"SUM(H$2:H$6)*L5","v":0},{"$f":"SUM(I$2:I$6)*L5","v":0},null,"Two adjacent","Mid-floor",null,null,18,null,null,0.05,4]
["Temp Difference (°C)",null,{"$f":"C4-C5","v":21},"Estimated Energy usage (kWh)",null,{"$f":"F4*F3*C7*24/1000","v":866.19506688000001},"Int./Party Wall",{"$f":"SUM(J55:J58,J60)","v":0},{"$f":"SUM(K60)","v":0},null,null,null,"Total Room Heat Loss (W)",{"$f":"SUM(F5,H2:H6,M2:M5)","v":1393.2480879999998},null,"Two opposite","Single storey",null,null,21,null,null,7.4999999999999997E-2,5]
["Degree Days",null,{"$f":"'Design Details'!B20","v":2228},null,null,null,null,null,null,null,null,null,"Total Room Energy Usage (kWh)",{"$f":"SUM(F6,I2:I6,N2:N5)","v":3557.2786997760004},null,null,"Upper floor",null,null,22,null,null,0.1,6]
[null,null,null,null,null,null,null,null,null,null,null,null,null,null,null,null,{"$f":"IF($B$3=\"Ground floor\",'Design Details'!B$45,IF($B$3=\"Mid-floor\",'Design Details'!B$55,IF($B$3=\"Upper floor\",'Design Details'!B$65,IF($B$3=\"Single Storey\",'Design Details'!B$75,0))))","v":0},null,null,null,null,null,null,7]
["Room Dimensions",null,null,null,null,null,null,null,null,null,null,null,null,null,null,null,null,null,null,null,null,null,null,8]
["Length (m)",5.2,"Width (m)",4,"Height (m)",2.36,"Volume (m³)",{"$f":"B10*D10*F10","v":49.088000000000001},null,null,null,null,null,null,null,null,null,null,null,null,null,null,null,9]
["Length (m)",null,"Width (m)",null,"Height (m)",null,"Volume (m³)",{"$f":"B11*D11*F11","v":0},null,null,null,null,null,null,null,null,null,null,null,null,null,null,null,10]
["Length (m)",null,"Width (m)",null,"Height (m)",null,"Volume (m³)",{"$f":"B12*D12*F12","v":0}]
["Awkward Room Dimensions"]
["Length (m)",null,"Width (m)",null,"Height (m)",null,"Volume (m³)",{"$f":"((F14*D14)/2)*B14","v":0},"Pitched"]
["Length (m)",null,"Width (m)",null,"Height (m)",null,"Volume (m³)",{"$f":"B15*D15*F15/2","v":0},"Single Pitch"]
["Length (m)",null,"Height (m)",null,"Depth (m)",null,"Volume (m³)",{"$f":"D16*F16*B16/2","v":0},"Dormer 1"]
["Length (m)",null,"Height (m)",null,"Depth (m)",null,"Volume (m³)",{"$f":"D17*F17*B17/2","v":0},"Dormer 2"]
["Length (m)",null,"Height (m)",null,"Depth (m)",null,"Volume (m³)",{"$f":"D18*F18*B18/2","v":0},"Dormer 3"]
["Floor",null,null,null,null,null,null,null,"Temp Difference","Heat Loss (W)","Usage (kWh)","Type of Ground Floor"]
["Length (m)",{"$f":"B10","v":5.2},"Width (m)",{"$f":"D10","v":4},"Area (m²)",{"$f":"B20*D20","v":20.8},"U Value (W/m²K)",{"$f":"IF(L22=\"\",Q8,'floor u values'!K3)","v":0.95},{"$f":"IF(B$3=\"Ground Floor\",IF(L20=\"Solid Floor (in contact with ground)\",C$4-S$3,C$4-C$5),IF(B$3=\"Single Storey\",IF(L20=\"Solid Floor (in contact with ground)\",C$4-S$3,C$4-C$5),0))","v":8},{"$f":"F20*H20*I20","v":158.07999999999998},{"$f":"IF($B$3=$Q$5,0,IF($B$3=$Q$7,0,F20*H20*$C$7*24/1000))","v":1056.60672},"Solid Floor (in contact with ground)"]
["Length (m)",{"$f":"B11","v":0},"Width (m)",{"$f":"D11","v":0},"Area (m²)",{"$f":"B21*D21","v":0},"U Value (W/m²K)",{"$f":"H20","v":0.95},{"$f":"IF(B$3=\"Ground Floor\",IF(L20=\"Solid Floor (in contact with ground)\",C$4-S$3,C$4-C$5),IF(B$3=\"Single Storey\",IF(L20=\"Solid Floor (in contact with ground)\",C$4-S$3,C$4-C$5),0))","v":8},{"$f":"F21*H21*I21","v":0},{"$f":"IF($B$3=$Q$5,0,IF($B$3=$Q$7,0,F21*H21*$C$7*24/1000))","v":0},"Exposed floor (external)"]
["Length (m)",0,"Width (m)",0,"Area (m²)",0,"U Value (W/m²K)",{"$f":"H20","v":0.95},{"$f":"IF(B$3=\"Ground Floor\",IF(L20=\"Solid Floor (in contact with ground)\",C$4-S$3,C$4-C$5),IF(B$3=\"Single Storey\",IF(L20=\"Solid Floor (in contact with ground)\",C$4-S$3,C$4-C$5),0))","v":8},{"$f":"F22*H22*I22","v":0},{"$f":"IF($B$3=$Q$5,0,IF($B$3=$Q$7,0,F22*H22*$C$7*24/1000))","v":0},"3 edges (long single)"]
["External Wall",null,null,null,null,null,null,null,null,null,null,{"$f":"IF(L22=\"Two opposite\",\"Between edges\",IF(L22=\"One edge\",\"Depth of room\",IF(L22=\"3 edges (short single)\",\"Short length\",IF(L22=\"3 edges (long single)\",\"Short length\",\"\"))))","v":"Short length"},null,{"$f":"IF(L22=\"3 edges (short single)\",\"Long length\",IF(L22=\"3 edges (long single)\",\"Long length\",\"\"))","v":"Long length"}]
["Length (m)",13.2,"Height (m)",2.36,"Area (m²)",31.151999999999997,null,null,null,null,null,4,null,5.2]
["Length (m)",null,"Height (m)",null,"Area (m²)",0]
["Length (m)",null,"Height (m)",null,"Area (m²)",0]
[null,null,null,"Total","Area (m²)",{"$f":"SUM(F24:F26)-SUM(F37:F43,F50:F53)","v":23.273299999999999},"U Value (W/m²K)",0.56000000000000005,{"$f":"$C$6","v":21},{"$f":"F27*H27*I27","v":273.694008},{"$f":"F27*H27*$C$7*24/1000","v":696.903142656}]
["Roof"]
["Length (m)",{"$f":"B10","v":5.2},"Width (m)",{"$f":"D10","v":4},"Area (m²)",20.8]
["Length (m)",{"$f":"B11","v":0},"Width (m)",{"$f":"D11","v":0},"Area (m²)",0]
["Length (m)",0,"Width (m)",0,"Area (m²)",0]
[null,null,null,"Total","Area (m²)",{"$f":"SUM(F29:F31)-SUM(F45:F48)","v":20.8},"U Value (W/m²K)",0.19,{"$f":"$C$6","v":21},82.992000000000004,{"$f":"IF($B$3=$Q$4,0,IF($B$3=$Q$5,0,F32*H32*$C$7*24/1000))","v":0}]
["Length (m)",null,"Pitch (m)",null,"Area (m²)",0,"Pitched"]
["Length (m)",null,"Pitch (m)",null,"Area (m²)",0,"Single Pitch"]
[null,null,null,"Total","Area (m²)",{"$f":"SUM(F33:F34)-SUM(F45:F48)","v":0},"U Value (W/m²K)",{"$f":"IF($B$3=\"Ground floor\",'Design Details'!B$50,IF($B$3=\"Mid-floor\",'Design Details'!B$60,IF($B$3=\"Upper floor\",'Design Details'!B$70,IF($B$3=\"Single Storey\",'Design Details'!B$80,0))))","v":0},21,0,{"$f":"IF($B$3=$Q$4,0,IF($B$3=$Q$5,0,F35*H35*$C$7*24/1000))","v":0}]
["Windows"]
["Width (m)",1.1499999999999999,"Height (m)",1.75,"Area (m²)",2.0124999999999997,"U Value (W/m²K)",1.6,21,67.61999999999999,{"$f":"F37*H37*$C$7*24/1000","v":172.17983999999998}]
["Width (m)",1.1100000000000001,"Height (m)",1.28,"Area (m²)",1.4208000000000001,"U Value (W/m²K)",1.6,21,47.738880000000002,121.55682816000002]
["Width (m)",null,"Height (m)",null,"Area (m²)",0,"U Value (W/m²K)",{"$f":"IF($B$3=\"Ground floor\",'Design Details'!B$46,IF($B$3=\"Mid-floor\",'Design Details'!B$56,IF($B$3=\"Upper floor\",'Design Details'!B$66,IF($B$3=\"Single Storey\",'Design Details'!B$76,0))))","v":2.8},21,0,0]
["Width (m)",null,"Height (m)",null,"Area (m²)",0,"U Value (W/m²K)",{"$f":"IF($B$3=\"Ground floor\",'Design Details'!B$46,IF($B$3=\"Mid-floor\",'Design Details'!B$56,IF($B$3=\"Upper floor\",'Design Details'!B$66,IF($B$3=\"Single Storey\",'Design Details'!B$76,0))))","v":2.8},21,0,0]
["Width (m)",null,"Height (m)",null,"Area (m²)",0,"U Value (W/m²K)",{"$f":"IF($B$3=\"Ground floor\",'Design Details'!B$46,IF($B$3=\"Mid-floor\",'Design Details'!B$56,IF($B$3=\"Upper floor\",'Design Details'!B$66,IF($B$3=\"Single Storey\",'Design Details'!B$76,0))))","v":2.8},21,0,0]
["Width (m)",null,"Height (m)",null,"Area (m²)",0,"U Value (W/m²K)",{"$f":"IF($B$3=\"Ground floor\",'Design Details'!B$46,IF($B$3=\"Mid-floor\",'Design Details'!B$56,IF($B$3=\"Upper floor\",'Design Details'!B$66,IF($B$3=\"Single Storey\",'Design Details'!B$76,0))))","v":2.8},21,0,0]
["Width (m)",null,"Height (m)",null,"Area (m²)",0,"U Value (W/m²K)",{"$f":"IF($B$3=\"Ground floor\",'Design Details'!B$46,IF($B$3=\"Mid-floor\",'Design Details'!B$56,IF($B$3=\"Upper floor\",'Design Details'!B$66,IF($B$3=\"Single Storey\",'Design Details'!B$76,0))))","v":2.8},21,0,0]
["Roof Glazing"]
["Width (m)",null,"Height (m)",null,"Area (m²)",0,"U Value (W/m²K)",{"$f":"IF($B$3=\"Ground floor\",'Design Details'!B$53,IF($B$3=\"Mid-floor\",'Design Details'!B$63,IF($B$3=\"Upper floor\",'Design Details'!B$73,IF($B$3=\"Single Storey\",'Design Details'!B$83,0))))","v":2.8},21,0,{"$f":"F45*H45*$C$7*24/1000","v":0}]
["Width (m)",null,"Height (m)",null,"Area (m²)",0,"U Value (W/m²K)",{"$f":"IF($B$3=\"Ground floor\",'Design Details'!B$53,IF($B$3=\"Mid-floor\",'Design Details'!B$63,IF($B$3=\"Upper floor\",'Design Details'!B$73,IF($B$3=\"Single Storey\",'Design Details'!B$83,0))))","v":2.8},21,0,{"$f":"F46*H46*$C$7*24/1000","v":0}]
["Width (m)",null,"Height (m)",null,"Area (m²)",0,"U Value (W/m²K)",{"$f":"IF($B$3=\"Ground floor\",'Design Details'!B$53,IF($B$3=\"Mid-floor\",'Design Details'!B$63,IF($B$3=\"Upper floor\",'Design Details'!B$73,IF($B$3=\"Single Storey\",'Design Details'!B$83,0))))","v":2.8},21,0,{"$f":"F47*H47*$C$7*24/1000","v":0}]
["Width (m)",null,"Height (m)",null,"Area (m²)",0,"U Value (W/m²K)",{"$f":"IF($B$3=\"Ground floor\",'Design Details'!B$53,IF($B$3=\"Mid-floor\",'Design Details'!B$63,IF($B$3=\"Upper floor\",'Design Details'!B$73,IF($B$3=\"Single Storey\",'Design Details'!B$83,0))))","v":2.8},21,0,{"$f":"F48*H48*$C$7*24/1000","v":0}]
["Doors"]
["Width (m)",1.99,"Height (m)",1.46,"Area (m²)",2.9053999999999998,"U Value (W/m²K)",1.6,21,97.621439999999993,{"$f":"F50*H50*$C$7*24/1000","v":248.57207807999995}]
["Width (m)",2,"Height (m)",0.77,"Area (m²)",1.54,"U Value (W/m²K)",4.8,21,155.232,{"$f":"F51*H51*$C$7*24/1000","v":395.26502399999998}]
["Width (m)",null,"Height (m)",null,"Area (m²)",0,"U Value (W/m²K)",{"$f":"IF($B$3=\"Ground floor\",'Design Details'!B$47,IF($B$3=\"Mid-floor\",'Design Details'!B$57,IF($B$3=\"Upper floor\",'Design Details'!B$67,IF($B$3=\"Single Storey\",'Design Details'!B$77,0))))","v":2.8},21,0,{"$f":"F52*H52*$C$7*24/1000","v":0}]
["Width (m)",null,"Height (m)",null,"Area (m²)",0,"U Value (W/m²K)",{"$f":"IF($B$3=\"Ground floor\",'Design Details'!B$47,IF($B$3=\"Mid-floor\",'Design Details'!B$57,IF($B$3=\"Upper floor\",'Design Details'!B$67,IF($B$3=\"Single Storey\",'Design Details'!B$77,0))))","v":2.8},21,0,{"$f":"F53*H53*$C$7*24/1000","v":0}]
["Internal Walls",null,null,null,null,null,null,null,null,null,null,"Adjoining Room Temp (°C)"]
["Length (m)",null,"Height (m)",null,"Area (m²)",0,"U Value (W/m²K)",{"$f":"IF($B$3=\"Ground floor\",'Design Details'!B$51,IF($B$3=\"Mid-floor\",'Design Details'!B$61,IF($B$3=\"Upper floor\",'Design Details'!B$71,IF($B$3=\"Single Storey\",'Design Details'!B$81,0))))","v":1.4},{"$f":"IF(L55=\"\",0,IF(L55=\"unheated\",C$4-10,C$4-L55))","v":0},0]
["Length (m)",null,"Height (m)",null,"Area (m²)",0,"U Value (W/m²K)",{"$f":"IF($B$3=\"Ground floor\",'Design Details'!B$51,IF($B$3=\"Mid-floor\",'Design Details'!B$61,IF($B$3=\"Upper floor\",'Design Details'!B$71,IF($B$3=\"Single Storey\",'Design Details'!B$81,0))))","v":1.4},{"$f":"IF(L56=\"\",0,IF(L56=\"unheated\",C$4-10,C$4-L56))","v":0},0]
["Length (m)",null,"Height (m)",null,"Area (m²)",0,"U Value (W/m²K)",{"$f":"IF($B$3=\"Ground floor\",'Design Details'!B$51,IF($B$3=\"Mid-floor\",'Design Details'!B$61,IF($B$3=\"Upper floor\",'Design Details'!B$71,IF($B$3=\"Single Storey\",'Design Details'!B$81,0))))","v":1.4},{"$f":"IF(L57=\"\",0,IF(L57=\"unheated\",C$4-10,C$4-L57))","v":0},0]
["Length (m)",null,"Height (m)",null,"Area (m²)",0,"U Value (W/m²K)",{"$f":"IF($B$3=\"Ground floor\",'Design Details'!B$51,IF($B$3=\"Mid-floor\",'Design Details'!B$61,IF($B$3=\"Upper floor\",'Design Details'!B$71,IF($B$3=\"Single Storey\",'Design Details'!B$81,0))))","v":1.4},{"$f":"IF(L58=\"\",0,IF(L58=\"unheated\",C$4-10,C$4-L58))","v":0},0]
["Party Wall"]
["Length (m)",null,"Height (m)",null,"Area (m²)",0,"U Value (W/m²K)",{"$f":"IF($B$3=\"Ground floor\",'Design Details'!B$52,IF($B$3=\"Mid-floor\",'Design Details'!B$62,IF($B$3=\"Upper floor\",'Design Details'!B$72,IF($B$3=\"Single Storey\",'Design Details'!B$82,0))))","v":1},{"$f":"C4-10","v":8},0,{"$f":"F60*H60*$C$7*24/1000","v":0}]

{"sheet":"3","index":8,"n_rows":60,"n_cols":24,"rows_kept":60,"cut":false,"hidden":false,"merged":[[2,1,2,2],[2,3,2,4],[0,0,0,2],[0,3,0,5],[0,9,0,10],[1,3,1,4],[3,0,3,1],[3,3,3,4],[4,0,4,1],[4,3,4,4],[5,0,5,1],[5,3,5,4],[57,11,57,13],[6,0,6,1],[18,11,18,13],[19,11,19,13],[53,11,53,13],[54,11,54,13],[55,11,55,13],[56,11,56,13],[30,11,30,13],[10,10,10,13],[9,10,9,13],[20,11,20,13],[21,11,21,13]]}
["Room Information",null,null,"Ventilation Heat Loss",null,null,"Fabric ","Heat Loss (W)"," Usage (kWh)","Additional heat loss",null,"Addition","Watts","kWh"]
["Room","Sun room",null,"Air Changes a hour",null,{"$f":"'Design Details'!F89","v":1.5},"Floor",{"$f":"SUM(J20:J22)","v":25.236750000000001},{"$f":"SUM(K20:K22)","v":122.67813599999999},"Thermal Bridging (New Build >2006)",null,0,{"$f":"SUM(H$2:H$6)*L2","v":0},{"$f":"SUM(I$2:I$6)*L2","v":0},null,"3 edges (long single)","Level",null,null,null,null,null,null,1]
["Level","Ground floor",null,"Air Change Factor (W/m³K)",null,0.33,"Ext Wall",{"$f":"J27","v":106.78905599999999},{"$f":"K27","v":237.92601676799998},"Exposed location",null,0,{"$f":"SUM(H$2:H$6)*L3","v":0},{"$f":"SUM(I$2:I$6)*L3","v":0},null,"3 edges (short single)","Please Select Floor",{"$f":"IF($B$3=\"Ground floor\",\"Solid Floor (in contact with ground)\",IF($B$3=\"Single Storey\",\"Solid Floor (in contact with ground)\",\"n/a\"))","v":"Solid Floor (in contact with ground)"},{"$f":"'Design Details'!B21","v":10},"unheated",0,0,0,2]
["Design Room Temp (°C)",null,{"$f":"'Design Details'!D89","v":21},"Total Volume (m³)",null,{"$f":"SUM(H10:H12,H14:H18)","v":38.055},"Roof",51.7,{"$f":"SUM(K32,K35)","v":0},"High ceiling",null,0,{"$f":"SUM(H$2:H$6)*L4","v":0},{"$f":"SUM(I$2:I$6)*L4","v":0},null,"One edge","Ground floor",{"$f":"IF($B$3=\"Ground floor\",\"Suspended Floor\",IF($B$3=\"Single Storey\",\"Suspended Floor\",\"n/a\"))","v":"Suspended Floor"},null,16,0.1,0.2,2.5000000000000001E-2,3]
["Outside Design Temp (°C)",null,{"$f":"'Design Details'!B19","v":-3},"Heat loss (W)",null,{"$f":"F4*F3*C6*F2","v":452.09340000000009},"Glazing",{"$f":"SUM(J37:J43,J45:J48,J50:J53)","v":607.17887999999994},{"$f":"SUM(K37:K43,K45:K48,K50:K53)","v":1352.7945446399999},"Intermittent heating",null,0,{"$f":"SUM(H$2:H$6)*L5","v":0},{"$f":"SUM(I$2:I$6)*L5","v":0},null,"Two adjacent","Mid-floor",null,null,18,null,null,0.05,4]
["Temp Difference (°C)",null,{"$f":"C4-C5","v":24},"Estimated Energy usage (kWh)",null,{"$f":"F4*F3*C7*24/1000","v":671.5093968000001},"Int./Party Wall",{"$f":"SUM(J55:J58,J60)","v":0},{"$f":"SUM(K60)","v":0},null,null,null,"Total Room Heat Loss (W)",{"$f":"SUM(F5,H2:H6,M2:M5)","v":1242.9980860000001},null,"Two opposite","Single storey",null,null,21,null,null,7.4999999999999997E-2,5]
["Degree Days",null,{"$f":"'Design Details'!B20","v":2228},null,null,null,null,null,null,null,null,null,"Total Room Energy Usage (kWh)",{"$f":"SUM(F6,I2:I6,N2:N5)","v":2384.908094208},null,null,"Upper floor",null,null,22,null,null,0.1,6]
[null,null,null,null,null,null,null,null,null,null,null,null,null,null,null,null,{"$f":"IF($B$3=\"Ground floor\",'Design Details'!B$45,IF($B$3=\"Mid-floor\",'Design Details'!B$55,IF($B$3=\"Upper floor\",'Design Details'!B$65,IF($B$3=\"Single Storey\",'Design Details'!B$75,0))))","v":0},null,null,null,null,null,null,7]
["Room Dimensions",null,null,null,null,null,null,null,null,null,null,null,null,null,null,null,null,null,null,null,null,null,null,8]
["Length (m)",3.75,"Width (m)",1.6,"Height (m)",2.9,"Volume (m³)",{"$f":"B10*D10*F10","v":17.399999999999999},null,null,null,null,null,null,null,null,null,null,null,null,null,null,null,9]
["Length (m)",3.75,"Width (m)",1.62,"Height (m)",3.4,"Volume (m³)",{"$f":"B11*D11*F11","v":20.655000000000001},null,null,null,null,null,null,null,null,null,null,null,null,null,null,null,10]
["Length (m)",null,"Width (m)",null,"Height (m)",null,"Volume (m³)",{"$f":"B12*D12*F12","v":0}]
["Awkward Room Dimensions"]
["Length (m)",null,"Width (m)",null,"Height (m)",null,"Volume (m³)",{"$f":"((F14*D14)/2)*B14","v":0},"Pitched"]
["Length (m)",null,"Width (m)",null,"Height (m)",null,"Volume (m³)",{"$f":"B15*D15*F15/2","v":0},"Single Pitch"]
["Length (m)",null,"Height (m)",null,"Depth (m)",null,"Volume (m³)",{"$f":"D16*F16*B16/2","v":0},"Dormer 1"]
["Length (m)",null,"Height (m)",null,"Depth (m)",null,"Volume (m³)",{"$f":"D17*F17*B17/2","v":0},"Dormer 2"]
["Length (m)",null,"Height (m)",null,"Depth (m)",null,"Volume (m³)",{"$f":"D18*F18*B18/2","v":0},"Dormer 3"]
["Floor",null,null,null,null,null,null,null,"Temp Difference","Heat Loss (W)","Usage (kWh)","Type of Ground Floor"]
["Length (m)",{"$f":"B10","v":3.75},"Width (m)",{"$f":"D10","v":1.6},"Area (m²)",{"$f":"B20*D20","v":6},"U Value (W/m²K)",0.19,{"$f":"IF(B$3=\"Ground Floor\",IF(L20=\"Solid Floor (in contact with ground)\",C$4-S$3,C$4-C$5),IF(B$3=\"Single Storey\",IF(L20=\"Solid Floor (in contact with ground)\",C$4-S$3,C$4-C$5),0))","v":11},{"$f":"F20*H20*I20","v":12.540000000000001},{"$f":"IF($B$3=$Q$5,0,IF($B$3=$Q$7,0,F20*H20*$C$7*24/1000))","v":60.958080000000002},"Solid Floor (in contact with ground)"]
["Length (m)",{"$f":"B11","v":3.75},"Width (m)",{"$f":"D11","v":1.62},"Area (m²)",{"$f":"B21*D21","v":6.0750000000000002},"U Value (W/m²K)",{"$f":"H20","v":0.19},{"$f":"IF(B$3=\"Ground Floor\",IF(L20=\"Solid Floor (in contact with ground)\",C$4-S$3,C$4-C$5),IF(B$3=\"Single Storey\",IF(L20=\"Solid Floor (in contact with ground)\",C$4-S$3,C$4-C$5),0))","v":11},{"$f":"F21*H21*I21","v":12.69675},{"$f":"IF($B$3=$Q$5,0,IF($B$3=$Q$7,0,F21*H21*$C$7*24/1000))","v":61.720056},"Exposed floor (external)"]
["Length (m)",0,"Width (m)",0,"Area (m²)",0,"U Value (W/m²K)",{"$f":"H20","v":0.19},{"$f":"IF(B$3=\"Ground Floor\",IF(L20=\"Solid Floor (in contact with ground)\",C$4-S$3,C$4-C$5),IF(B$3=\"Single Storey\",IF(L20=\"Solid Floor (in contact with ground)\",C$4-S$3,C$4-C$5),0))","v":11},{"$f":"F22*H22*I22","v":0},{"$f":"IF($B$3=$Q$5,0,IF($B$3=$Q$7,0,F22*H22*$C$7*24/1000))","v":0}]
["External Wall",null,null,null,null,null,null,null,null,null,null,{"$f":"IF(L22=\"Two opposite\",\"Between edges\",IF(L22=\"One edge\",\"Depth of room\",IF(L22=\"3 edges (short single)\",\"Short length\",IF(L22=\"3 edges (long single)\",\"Short length\",\"\"))))","v":""},null,{"$f":"IF(L22=\"3 edges (short single)\",\"Long length\",IF(L22=\"3 edges (long single)\",\"Long length\",\"\"))","v":""}]
["Length (m)",3.75,"Height (m)",2.4,"Area (m²)",9]
["Length (m)",1.6,"Height (m)",2.9,"Area (m²)",4.6399999999999997]
["Length (m)",1.62,"Height (m)",3.4,"Area (m²)",5.508]
[null,null,null,"Total","Area (m²)",{"$f":"SUM(F24:F26)-SUM(F37:F43,F50:F53)","v":10.112599999999999},"U Value (W/m²K)",{"$f":"IF($B$3=\"Ground floor\",'Design Details'!B$48,IF($B$3=\"Mid-floor\",'Design Details'!B$58,IF($B$3=\"Upper floor\",'Design Details'!B$68,IF($B$3=\"Single Storey\",'Design Details'!B$78,0))))","v":0.44},{"$f":"$C$6","v":24},{"$f":"F27*H27*I27","v":106.78905599999999},{"$f":"F27*H27*$C$7*24/1000","v":237.92601676799998}]
["Roof"]
["Length (m)",{"$f":"B10","v":3.75},"Width (m)",2,"Area (m²)",null,7.5]
["Length (m)",{"$f":"B11","v":3.75},"Width (m)",{"$f":"D11","v":1.62},"Area (m²)",6.0750000000000002]
["Length (m)",0,"Width (m)",0,"Area (m²)",0,null,null,null,17.5]
[null,null,null,"Total","Area (m²)",7.5,"U Value (W/m²K)",0.19,{"$f":"$C$6","v":24},34.200000000000003,{"$f":"IF($B$3=$Q$4,0,IF($B$3=$Q$5,0,F32*H32*$C$7*24/1000))","v":0}]
["Length (m)",null,"Pitch (m)",null,"Area (m²)",0,"Pitched"]
["Length (m)",null,"Pitch (m)",null,"Area (m²)",0,"Single Pitch"]
[null,null,null,"Total","Area (m²)",{"$f":"SUM(F33:F34)-SUM(F45:F48)","v":0},"U Value (W/m²K)",{"$f":"IF($B$3=\"Ground floor\",'Design Details'!B$50,IF($B$3=\"Mid-floor\",'Design Details'!B$60,IF($B$3=\"Upper floor\",'Design Details'!B$70,IF($B$3=\"Single Storey\",'Design Details'!B$80,0))))","v":0},24,0,{"$f":"IF($B$3=$Q$4,0,IF($B$3=$Q$5,0,F35*H35*$C$7*24/1000))","v":0}]
["Windows"]
["Width (m)",1.39,"Height (m)",3.06,"Area (m²)",4.2534000000000001,"U Value (W/m²K)",{"$f":"IF($B$3=\"Ground floor\",'Design Details'!B$46,IF($B$3=\"Mid-floor\",'Design Details'!B$56,IF($B$3=\"Upper floor\",'Design Details'!B$66,IF($B$3=\"Single Storey\",'Design Details'!B$76,0))))","v":2.8},24,285.82847999999996,{"$f":"F37*H37*$C$7*24/1000","v":636.82585343999995}]
["Width (m)",1.4,"Height (m)",0.93,"Area (m²)",1.302,"U Value (W/m²K)",{"$f":"IF($B$3=\"Ground floor\",'Design Details'!B$46,IF($B$3=\"Mid-floor\",'Design Details'!B$56,IF($B$3=\"Upper floor\",'Design Details'!B$66,IF($B$3=\"Single Storey\",'Design Details'!B$76,0))))","v":2.8},24,87.494399999999999,194.93752319999999]
["Width (m)",null,"Height (m)",null,"Area (m²)",0,"U Value (W/m²K)",{"$f":"IF($B$3=\"Ground floor\",'Design Details'!B$46,IF($B$3=\"Mid-floor\",'Design Details'!B$56,IF($B$3=\"Upper floor\",'Design Details'!B$66,IF($B$3=\"Single Storey\",'Design Details'!B$76,0))))","v":2.8},24,0,0]
["Width (m)",null,"Height (m)",null,"Area (m²)",0,"U Value (W/m²K)",{"$f":"IF($B$3=\"Ground floor\",'Design Details'!B$46,IF($B$3=\"Mid-floor\",'Design Details'!B$56,IF($B$3=\"Upper floor\",'Design Details'!B$66,IF($B$3=\"Single Storey\",'Design Details'!B$76,0))))","v":2.8},24,0,0]
["Width (m)",null,"Height (m)",null,"Area (m²)",0,"U Value (W/m²K)",{"$f":"IF($B$3=\"Ground floor\",'Design Details'!B$46,IF($B$3=\"Mid-floor\",'Design Details'!B$56,IF($B$3=\"Upper floor\",'Design Details'!B$66,IF($B$3=\"Single Storey\",'Design Details'!B$76,0))))","v":2.8},24,0,0]
["Width (m)",null,"Height (m)",null,"Area (m²)",0,"U Value (W/m²K)",{"$f":"IF($B$3=\"Ground floor\",'Design Details'!B$46,IF($B$3=\"Mid-floor\",'Design Details'!B$56,IF($B$3=\"Upper floor\",'Design Details'!B$66,IF($B$3=\"Single Storey\",'Design Details'!B$76,0))))","v":2.8},24,0,0]
["Width (m)",null,"Height (m)",null,"Area (m²)",0,"U Value (W/m²K)",{"$f":"IF($B$3=\"Ground floor\",'Design Details'!B$46,IF($B$3=\"Mid-floor\",'Design Details'!B$56,IF($B$3=\"Upper floor\",'Design Details'!B$66,IF($B$3=\"Single Storey\",'Design Details'!B$76,0))))","v":2.8},24,0,0]
["Roof Glazing"]
["Width (m)",null,"Height (m)",null,"Area (m²)",0,"U Value (W/m²K)",{"$f":"IF($B$3=\"Ground floor\",'Design Details'!B$53,IF($B$3=\"Mid-floor\",'Design Details'!B$63,IF($B$3=\"Upper floor\",'Design Details'!B$73,IF($B$3=\"Single Storey\",'Design Details'!B$83,0))))","v":2.8},24,0,{"$f":"F45*H45*$C$7*24/1000","v":0}]
["Width (m)",null,"Height (m)",null,"Area (m²)",0,"U Value (W/m²K)",{"$f":"IF($B$3=\"Ground floor\",'Design Details'!B$53,IF($B$3=\"Mid-floor\",'Design Details'!B$63,IF($B$3=\"Upper floor\",'Design Details'!B$73,IF($B$3=\"Single Storey\",'Design Details'!B$83,0))))","v":2.8},24,0,{"$f":"F46*H46*$C$7*24/1000","v":0}]
["Width (m)",null,"Height (m)",null,"Area (m²)",0,"U Value (W/m²K)",{"$f":"IF($B$3=\"Ground floor\",'Design Details'!B$53,IF($B$3=\"Mid-floor\",'Design Details'!B$63,IF($B$3=\"Upper floor\",'Design Details'!B$73,IF($B$3=\"Single Storey\",'Design Details'!B$83,0))))","v":2.8},24,0,{"$f":"F47*H47*$C$7*24/1000","v":0}]
["Width (m)",null,"Height (m)",null,"Area (m²)",0,"U Value (W/m²K)",{"$f":"IF($B$3=\"Ground floor\",'Design Details'!B$53,IF($B$3=\"Mid-floor\",'Design Details'!B$63,IF($B$3=\"Upper floor\",'Design Details'!B$73,IF($B$3=\"Single Storey\",'Design Details'!B$83,0))))","v":2.8},24,0,{"$f":"F48*H48*$C$7*24/1000","v":0}]
["Doors"]
["Width (m)",2,"Height (m)",1.74,"Area (m²)",3.48,"U Value (W/m²K)",{"$f":"IF($B$3=\"Ground floor\",'Design Details'!B$47,IF($B$3=\"Mid-floor\",'Design Details'!B$57,IF($B$3=\"Upper floor\",'Design Details'!B$67,IF($B$3=\"Single Storey\",'Design Details'!B$77,0))))","v":2.8},24,233.85599999999999,{"$f":"F50*H50*$C$7*24/1000","v":521.03116799999998}]
["Width (m)",null,"Height (m)",null,"Area (m²)",0,"U Value (W/m²K)",{"$f":"IF($B$3=\"Ground floor\",'Design Details'!B$47,IF($B$3=\"Mid-floor\",'Design Details'!B$57,IF($B$3=\"Upper floor\",'Design Details'!B$67,IF($B$3=\"Single Storey\",'Design Details'!B$77,0))))","v":2.8},24,0,{"$f":"F51*H51*$C$7*24/1000","v":0}]
["Width (m)",null,"Height (m)",null,"Area (m²)",0,"U Value (W/m²K)",{"$f":"IF($B$3=\"Ground floor\",'Design Details'!B$47,IF($B$3=\"Mid-floor\",'Design Details'!B$57,IF($B$3=\"Upper floor\",'Design Details'!B$67,IF($B$3=\"Single Storey\",'Design Details'!B$77,0))))","v":2.8},24,0,{"$f":"F52*H52*$C$7*24/1000","v":0}]
["Width (m)",null,"Height (m)",null,"Area (m²)",0,"U Value (W/m²K)",{"$f":"IF($B$3=\"Ground floor\",'Design Details'!B$47,IF($B$3=\"Mid-floor\",'Design Details'!B$57,IF($B$3=\"Upper floor\",'Design Details'!B$67,IF($B$3=\"Single Storey\",'Design Details'!B$77,0))))","v":2.8},24,0,{"$f":"F53*H53*$C$7*24/1000","v":0}]
["Internal Walls",null,null,null,null,null,null,null,null,null,null,"Adjoining Room Temp (°C)"]
["Length (m)",null,"Height (m)",null,"Area (m²)",0,"U Value (W/m²K)",{"$f":"IF($B$3=\"Ground floor\",'Design Details'!B$51,IF($B$3=\"Mid-floor\",'Design Details'!B$61,IF($B$3=\"Upper floor\",'Design Details'!B$71,IF($B$3=\"Single Storey\",'Design Details'!B$81,0))))","v":1.4},{"$f":"IF(L55=\"\",0,IF(L55=\"unheated\",C$4-10,C$4-L55))","v":0},0]
["Length (m)",null,"Height (m)",null,"Area (m²)",0,"U Value (W/m²K)",{"$f":"IF($B$3=\"Ground floor\",'Design Details'!B$51,IF($B$3=\"Mid-floor\",'Design Details'!B$61,IF($B$3=\"Upper floor\",'Design Details'!B$71,IF($B$3=\"Single Storey\",'Design Details'!B$81,0))))","v":1.4},{"$f":"IF(L56=\"\",0,IF(L56=\"unheated\",C$4-10,C$4-L56))","v":0},0]
["Length (m)",null,"Height (m)",null,"Area (m²)",0,"U Value (W/m²K)",{"$f":"IF($B$3=\"Ground floor\",'Design Details'!B$51,IF($B$3=\"Mid-floor\",'Design Details'!B$61,IF($B$3=\"Upper floor\",'Design Details'!B$71,IF($B$3=\"Single Storey\",'Design Details'!B$81,0))))","v":1.4},{"$f":"IF(L57=\"\",0,IF(L57=\"unheated\",C$4-10,C$4-L57))","v":0},0]
["Length (m)",null,"Height (m)",null,"Area (m²)",0,"U Value (W/m²K)",{"$f":"IF($B$3=\"Ground floor\",'Design Details'!B$51,IF($B$3=\"Mid-floor\",'Design Details'!B$61,IF($B$3=\"Upper floor\",'Design Details'!B$71,IF($B$3=\"Single Storey\",'Design Details'!B$81,0))))","v":1.4},{"$f":"IF(L58=\"\",0,IF(L58=\"unheated\",C$4-10,C$4-L58))","v":0},0]
["Party Wall"]
["Length (m)",null,"Height (m)",null,"Area (m²)",0,"U Value (W/m²K)",{"$f":"IF($B$3=\"Ground floor\",'Design Details'!B$52,IF($B$3=\"Mid-floor\",'Design Details'!B$62,IF($B$3=\"Upper floor\",'Design Details'!B$72,IF($B$3=\"Single Storey\",'Design Details'!B$82,0))))","v":1},{"$f":"C4-10","v":11},0,{"$f":"F60*H60*$C$7*24/1000","v":0}]

{"sheet":"4","index":9,"n_rows":60,"n_cols":24,"rows_kept":60,"cut":false,"hidden":false,"merged":[[2,1,2,2],[2,3,2,4],[0,0,0,2],[0,3,0,5],[0,9,0,10],[1,3,1,4],[3,0,3,1],[3,3,3,4],[4,0,4,1],[4,3,4,4],[5,0,5,1],[5,3,5,4],[57,11,57,13],[6,0,6,1],[18,11,18,13],[19,11,19,13],[53,11,53,13],[54,11,54,13],[55,11,55,13],[56,11,56,13],[30,11,30,13],[10,10,10,13],[9,10,9,13],[20,11,20,13],[21,11,21,13]]}
["Room Information",null,null,"Ventilation Heat Loss",null,null,"Fabric ","Heat Loss (W)"," Usage (kWh)","Additional heat loss",null,"Addition","Watts","kWh"]
["Room","Music room",null,"Air Changes a hour",null,{"$f":"'Design Details'!F90","v":1.5},"Floor",{"$f":"SUM(J20:J22)","v":164.17169999999999},{"$f":"SUM(K20:K22)","v":798.05355839999993},"Thermal Bridging (New Build >2006)",null,0,{"$f":"SUM(H$2:H$6)*L2","v":0},{"$f":"SUM(I$2:I$6)*L2","v":0},null,"3 edges (long single)","Level",null,null,null,null,null,null,1]
["Level","Ground floor",null,"Air Change Factor (W/m³K)",null,0.33,"Ext Wall",{"$f":"J27","v":117.876},{"$f":"K27","v":262.62772799999999},"Exposed location",null,0,{"$f":"SUM(H$2:H$6)*L3","v":0},{"$f":"SUM(I$2:I$6)*L3","v":0},null,"3 edges (short single)","Please Select Floor",{"$f":"IF($B$3=\"Ground floor\",\"Solid Floor (in contact with ground)\",IF($B$3=\"Single Storey\",\"Solid Floor (in contact with ground)\",\"n/a\"))","v":"Solid Floor (in contact with ground)"},{"$f":"'Design Details'!B21","v":10},"unheated",0,0,0,2]
["Design Room Temp (°C)",null,{"$f":"'Design Details'!D90","v":21},"Total Volume (m³)",null,{"$f":"SUM(H10:H12,H14:H18)","v":31.697219999999998},"Roof",94.85,{"$f":"SUM(K32,K35)","v":0},"High ceiling",null,0,{"$f":"SUM(H$2:H$6)*L4","v":0},{"$f":"SUM(I$2:I$6)*L4","v":0},null,"One edge","Ground floor",{"$f":"IF($B$3=\"Ground floor\",\"Suspended Floor\",IF($B$3=\"Single Storey\",\"Suspended Floor\",\"n/a\"))","v":"Suspended Floor"},null,16,0.1,0.2,2.5000000000000001E-2,3]
["Outside Design Temp (°C)",null,{"$f":"'Design Details'!B19","v":-3},"Heat loss (W)",null,{"$f":"F4*F3*C6*F2","v":376.56297359999996},"Glazing",{"$f":"SUM(J37:J43,J45:J48,J50:J53)","v":93.569279999999992},{"$f":"SUM(K37:K43,K45:K48,K50:K53)","v":208.47235583999998},"Intermittent heating",null,0,{"$f":"SUM(H$2:H$6)*L5","v":0},{"$f":"SUM(I$2:I$6)*L5","v":0},null,"Two adjacent","Mid-floor",null,null,18,null,null,0.05,4]
["Temp Difference (°C)",null,{"$f":"C4-C5","v":24},"Estimated Energy usage (kWh)",null,{"$f":"F4*F3*C7*24/1000","v":559.32153678719999},"Int./Party Wall",{"$f":"SUM(J55:J58,J60)","v":31.188780000000001},{"$f":"SUM(K60)","v":0},null,null,null,"Total Room Heat Loss (W)",{"$f":"SUM(F5,H2:H6,M2:M5)","v":878.21873359999995},null,"Two opposite","Single storey",null,null,21,null,null,7.4999999999999997E-2,5]
["Degree Days",null,{"$f":"'Design Details'!B20","v":2228},null,null,null,null,null,null,null,null,null,"Total Room Energy Usage (kWh)",{"$f":"SUM(F6,I2:I6,N2:N5)","v":1828.4751790271998},null,null,"Upper floor",null,null,22,null,null,0.1,6]
[null,null,null,null,null,null,null,null,null,null,null,null,null,null,null,null,{"$f":"IF($B$3=\"Ground floor\",'Design Details'!B$45,IF($B$3=\"Mid-floor\",'Design Details'!B$55,IF($B$3=\"Upper floor\",'Design Details'!B$65,IF($B$3=\"Single Storey\",'Design Details'!B$75,0))))","v":0},null,null,null,null,null,null,7]
["Room Dimensions",null,null,null,null,null,null,null,null,null,null,null,null,null,null,null,null,null,null,null,null,null,null,8]
["Length (m)",3.09,"Width (m)",4.5999999999999996,"Height (m)",2.23,"Volume (m³)",{"$f":"B10*D10*F10","v":31.697219999999998},null,null,null,null,null,null,null,null,null,null,null,null,null,null,null,9]
["Length (m)",null,"Width (m)",null,"Height (m)",null,"Volume (m³)",{"$f":"B11*D11*F11","v":0},null,null,null,null,null,null,null,null,null,null,null,null,null,null,null,10]
["Length (m)",null,"Width (m)",null,"Height (m)",null,"Volume (m³)",{"$f":"B12*D12*F12","v":0}]
["Awkward Room Dimensions"]
["Length (m)",null,"Width (m)",null,"Height (m)",null,"Volume (m³)",{"$f":"((F14*D14)/2)*B14","v":0},"Pitched"]
["Length (m)",null,"Width (m)",null,"Height (m)",null,"Volume (m³)",{"$f":"B15*D15*F15/2","v":0},"Single Pitch"]
["Length (m)",null,"Height (m)",null,"Depth (m)",null,"Volume (m³)",{"$f":"D16*F16*B16/2","v":0},"Dormer 1"]
["Length (m)",null,"Height (m)",null,"Depth (m)",null,"Volume (m³)",{"$f":"D17*F17*B17/2","v":0},"Dormer 2"]
["Length (m)",null,"Height (m)",null,"Depth (m)",null,"Volume (m³)",{"$f":"D18*F18*B18/2","v":0},"Dormer 3"]
["Floor",null,null,null,null,null,null,null,"Temp Difference","Heat Loss (W)","Usage (kWh)","Type of Ground Floor"]
["Length (m)",{"$f":"B10","v":3.09},"Width (m)",{"$f":"D10","v":4.5999999999999996},"Area (m²)",{"$f":"B20*D20","v":14.213999999999999},"U Value (W/m²K)",{"$f":"IF(L22=\"\",Q8,'floor u values'!K5)","v":1.05},{"$f":"IF(B$3=\"Ground Floor\",IF(L20=\"Solid Floor (in contact with ground)\",C$4-S$3,C$4-C$5),IF(B$3=\"Single Storey\",IF(L20=\"Solid Floor (in contact with ground)\",C$4-S$3,C$4-C$5),0))","v":11},{"$f":"F20*H20*I20","v":164.17169999999999},{"$f":"IF($B$3=$Q$5,0,IF($B$3=$Q$7,0,F20*H20*$C$7*24/1000))","v":798.05355839999993},"Solid Floor (in contact with ground)"]
["Length (m)",{"$f":"B11","v":0},"Width (m)",{"$f":"D11","v":0},"Area (m²)",{"$f":"B21*D21","v":0},"U Value (W/m²K)",{"$f":"H20","v":1.05},{"$f":"IF(B$3=\"Ground Floor\",IF(L20=\"Solid Floor (in contact with ground)\",C$4-S$3,C$4-C$5),IF(B$3=\"Single Storey\",IF(L20=\"Solid Floor (in contact with ground)\",C$4-S$3,C$4-C$5),0))","v":11},{"$f":"F21*H21*I21","v":0},{"$f":"IF($B$3=$Q$5,0,IF($B$3=$Q$7,0,F21*H21*$C$7*24/1000))","v":0},"Exposed floor (external)"]
["Length (m)",0,"Width (m)",0,"Area (m²)",0,"U Value (W/m²K)",{"$f":"H20","v":1.05},{"$f":"IF(B$3=\"Ground Floor\",IF(L20=\"Solid Floor (in contact with ground)\",C$4-S$3,C$4-C$5),IF(B$3=\"Single Storey\",IF(L20=\"Solid Floor (in contact with ground)\",C$4-S$3,C$4-C$5),0))","v":11},{"$f":"F22*H22*I22","v":0},{"$f":"IF($B$3=$Q$5,0,IF($B$3=$Q$7,0,F22*H22*$C$7*24/1000))","v":0},"3 edges (long single)"]
["External Wall",null,null,null,null,null,null,null,null,null,null,{"$f":"IF(L22=\"Two opposite\",\"Between edges\",IF(L22=\"One edge\",\"Depth of room\",IF(L22=\"3 edges (short single)\",\"Short length\",IF(L22=\"3 edges (long single)\",\"Short length\",\"\"))))","v":"Short length"},null,{"$f":"IF(L22=\"3 edges (short single)\",\"Long length\",IF(L22=\"3 edges (long single)\",\"Long length\",\"\"))","v":"Long length"}]
["Length (m)",5.63,"Height (m)",2.23,"Area (m²)",12.5549,null,null,null,null,null,1.27,null,3.09]
["Length (m)",null,"Height (m)",null,"Area (m²)",0]
["Length (m)",null,"Height (m)",null,"Area (m²)",0]
[null,null,null,"Total","Area (m²)",{"$f":"SUM(F24:F26)-SUM(F37:F43,F50:F53)","v":11.1625},"U Value (W/m²K)",{"$f":"IF($B$3=\"Ground floor\",'Design Details'!B$48,IF($B$3=\"Mid-floor\",'Design Details'!B$58,IF($B$3=\"Upper floor\",'Design Details'!B$68,IF($B$3=\"Single Storey\",'Design Details'!B$78,0))))","v":0.44},{"$f":"$C$6","v":24},{"$f":"F27*H27*I27","v":117.876},{"$f":"F27*H27*$C$7*24/1000","v":262.62772799999999}]
["Roof"]
["Length (m)",{"$f":"B10","v":3.09},"Width (m)",{"$f":"D10","v":4.5999999999999996},"Area (m²)",12.68,1.53]
["Length (m)",{"$f":"B11","v":0},"Width (m)",{"$f":"D11","v":0},"Area (m²)",0]
["Length (m)",0,"Width (m)",0,"Area (m²)",0,null,null,null,29.04]
[null,null,null,"Total","Area (m²)",{"$f":"SUM(F29:F31)-SUM(F45:F48)","v":12.68},"U Value (W/m²K)",{"$f":"IF($B$3=\"Ground floor\",'Design Details'!B$49,IF($B$3=\"Mid-floor\",'Design Details'!B$59,IF($B$3=\"Upper floor\",'Design Details'!B$69,IF($B$3=\"Single Storey\",'Design Details'!B$79,0))))","v":1.73},3,65.809200000000004,{"$f":"IF($B$3=$Q$4,0,IF($B$3=$Q$5,0,F32*H32*$C$7*24/1000))","v":0}]
["Length (m)",null,"Pitch (m)",null,"Area (m²)",0,"Pitched"]
["Length (m)",null,"Pitch (m)",null,"Area (m²)",0,"Single Pitch"]
[null,null,null,"Total","Area (m²)",{"$f":"SUM(F33:F34)-SUM(F45:F48)","v":0},"U Value (W/m²K)",{"$f":"IF($B$3=\"Ground floor\",'Design Details'!B$50,IF($B$3=\"Mid-floor\",'Design Details'!B$60,IF($B$3=\"Upper floor\",'Design Details'!B$70,IF($B$3=\"Single Storey\",'Design Details'!B$80,0))))","v":0},24,0,{"$f":"IF($B$3=$Q$4,0,IF($B$3=$Q$5,0,F35*H35*$C$7*24/1000))","v":0}]
["Windows"]
["Width (m)",1.18,"Height (m)",1.18,"Area (m²)",1.3923999999999999,"U Value (W/m²K)",{"$f":"IF($B$3=\"Ground floor\",'Design Details'!B$46,IF($B$3=\"Mid-floor\",'Design Details'!B$56,IF($B$3=\"Upper floor\",'Design Details'!B$66,IF($B$3=\"Single Storey\",'Design Details'!B$76,0))))","v":2.8},24,93.569279999999992,{"$f":"F37*H37*$C$7*24/1000","v":208.47235583999998}]
["Width (m)",null,"Height (m)",null,"Area (m²)",0,"U Value (W/m²K)",{"$f":"IF($B$3=\"Ground floor\",'Design Details'!B$46,IF($B$3=\"Mid-floor\",'Design Details'!B$56,IF($B$3=\"Upper floor\",'Design Details'!B$66,IF($B$3=\"Single Storey\",'Design Details'!B$76,0))))","v":2.8},24,0,0]
["Width (m)",null,"Height (m)",null,"Area (m²)",0,"U Value (W/m²K)",{"$f":"IF($B$3=\"Ground floor\",'Design Details'!B$46,IF($B$3=\"Mid-floor\",'Design Details'!B$56,IF($B$3=\"Upper floor\",'Design Details'!B$66,IF($B$3=\"Single Storey\",'Design Details'!B$76,0))))","v":2.8},24,0,0]
["Width (m)",null,"Height (m)",null,"Area (m²)",0,"U Value (W/m²K)",{"$f":"IF($B$3=\"Ground floor\",'Design Details'!B$46,IF($B$3=\"Mid-floor\",'Design Details'!B$56,IF($B$3=\"Upper floor\",'Design Details'!B$66,IF($B$3=\"Single Storey\",'Design Details'!B$76,0))))","v":2.8},24,0,0]
["Width (m)",null,"Height (m)",null,"Area (m²)",0,"U Value (W/m²K)",{"$f":"IF($B$3=\"Ground floor\",'Design Details'!B$46,IF($B$3=\"Mid-floor\",'Design Details'!B$56,IF($B$3=\"Upper floor\",'Design Details'!B$66,IF($B$3=\"Single Storey\",'Design Details'!B$76,0))))","v":2.8},24,0,0]
["Width (m)",null,"Height (m)",null,"Area (m²)",0,"U Value (W/m²K)",{"$f":"IF($B$3=\"Ground floor\",'Design Details'!B$46,IF($B$3=\"Mid-floor\",'Design Details'!B$56,IF($B$3=\"Upper floor\",'Design Details'!B$66,IF($B$3=\"Single Storey\",'Design Details'!B$76,0))))","v":2.8},24,0,0]
["Width (m)",null,"Height (m)",null,"Area (m²)",0,"U Value (W/m²K)",{"$f":"IF($B$3=\"Ground floor\",'Design Details'!B$46,IF($B$3=\"Mid-floor\",'Design Details'!B$56,IF($B$3=\"Upper floor\",'Design Details'!B$66,IF($B$3=\"Single Storey\",'Design Details'!B$76,0))))","v":2.8},24,0,0]
["Roof Glazing"]
["Width (m)",null,"Height (m)",null,"Area (m²)",0,"U Value (W/m²K)",{"$f":"IF($B$3=\"Ground floor\",'Design Details'!B$53,IF($B$3=\"Mid-floor\",'Design Details'!B$63,IF($B$3=\"Upper floor\",'Design Details'!B$73,IF($B$3=\"Single Storey\",'Design Details'!B$83,0))))","v":2.8},24,0,{"$f":"F45*H45*$C$7*24/1000","v":0}]
["Width (m)",null,"Height (m)",null,"Area (m²)",0,"U Value (W/m²K)",{"$f":"IF($B$3=\"Ground floor\",'Design Details'!B$53,IF($B$3=\"Mid-floor\",'Design Details'!B$63,IF($B$3=\"Upper floor\",'Design Details'!B$73,IF($B$3=\"Single Storey\",'Design Details'!B$83,0))))","v":2.8},24,0,{"$f":"F46*H46*$C$7*24/1000","v":0}]
["Width (m)",null,"Height (m)",null,"Area (m²)",0,"U Value (W/m²K)",{"$f":"IF($B$3=\"Ground floor\",'Design Details'!B$53,IF($B$3=\"Mid-floor\",'Design Details'!B$63,IF($B$3=\"Upper floor\",'Design Details'!B$73,IF($B$3=\"Single Storey\",'Design Details'!B$83,0))))","v":2.8},24,0,{"$f":"F47*H47*$C$7*24/1000","v":0}]
["Width (m)",null,"Height (m)",null,"Area (m²)",0,"U Value (W/m²K)",{"$f":"IF($B$3=\"Ground floor\",'Design Details'!B$53,IF($B$3=\"Mid-floor\",'Design Details'!B$63,IF($B$3=\"Upper floor\",'Design Details'!B$73,IF($B$3=\"Single Storey\",'Design Details'!B$83,0))))","v":2.8},24,0,{"$f":"F48*H48*$C$7*24/1000","v":0}]
["Doors"]
["Width (m)",null,"Height (m)",null,"Area (m²)",0,"U Value (W/m²K)",{"$f":"IF($B$3=\"Ground floor\",'Design Details'!B$47,IF($B$3=\"Mid-floor\",'Design Details'!B$57,IF($B$3=\"Upper floor\",'Design Details'!B$67,IF($B$3=\"Single Storey\",'Design Details'!B$77,0))))","v":2.8},24,0,{"$f":"F50*H50*$C$7*24/1000","v":0}]
["Width (m)",null,"Height (m)",null,"Area (m²)",0,"U Value (W/m²K)",{"$f":"IF($B$3=\"Ground floor\",'Design Details'!B$47,IF($B$3=\"Mid-floor\",'Design Details'!B$57,IF($B$3=\"Upper floor\",'Design Details'!B$67,IF($B$3=\"Single Storey\",'Design Details'!B$77,0))))","v":2.8},24,0,{"$f":"F51*H51*$C$7*24/1000","v":0}]
["Width (m)",null,"Height (m)",null,"Area (m²)",0,"U Value (W/m²K)",{"$f":"IF($B$3=\"Ground floor\",'Design Details'!B$47,IF($B$3=\"Mid-floor\",'Design Details'!B$57,IF($B$3=\"Upper floor\",'Design Details'!B$67,IF($B$3=\"Single Storey\",'Design Details'!B$77,0))))","v":2.8},24,0,{"$f":"F52*H52*$C$7*24/1000","v":0}]
["Width (m)",null,"Height (m)",null,"Area (m²)",0,"U Value (W/m²K)",{"$f":"IF($B$3=\"Ground floor\",'Design Details'!B$47,IF($B$3=\"Mid-floor\",'Design Details'!B$57,IF($B$3=\"Upper floor\",'Design Details'!B$67,IF($B$3=\"Single Storey\",'Design Details'!B$77,0))))","v":2.8},24,0,{"$f":"F53*H53*$C$7*24/1000","v":0}]
["Internal Walls",null,null,null,null,null,null,null,null,null,null,"Adjoining Room Temp (°C)"]
["Length (m)",3.33,"Height (m)",2.23,"Area (m²)",7.4259000000000004,"U Value (W/m²K)",{"$f":"IF($B$3=\"Ground floor\",'Design Details'!B$51,IF($B$3=\"Mid-floor\",'Design Details'!B$61,IF($B$3=\"Upper floor\",'Design Details'!B$71,IF($B$3=\"Single Storey\",'Design Details'!B$81,0))))","v":1.4},3,31.188780000000001]
["Length (m)",null,"Height (m)",null,"Area (m²)",0,"U Value (W/m²K)",{"$f":"IF($B$3=\"Ground floor\",'Design Details'!B$51,IF($B$3=\"Mid-floor\",'Design Details'!B$61,IF($B$3=\"Upper floor\",'Design Details'!B$71,IF($B$3=\"Single Storey\",'Design Details'!B$81,0))))","v":1.4},{"$f":"IF(L56=\"\",0,IF(L56=\"unheated\",C$4-10,C$4-L56))","v":0},0]
["Length (m)",null,"Height (m)",null,"Area (m²)",0,"U Value (W/m²K)",{"$f":"IF($B$3=\"Ground floor\",'Design Details'!B$51,IF($B$3=\"Mid-floor\",'Design Details'!B$61,IF($B$3=\"Upper floor\",'Design Details'!B$71,IF($B$3=\"Single Storey\",'Design Details'!B$81,0))))","v":1.4},{"$f":"IF(L57=\"\",0,IF(L57=\"unheated\",C$4-10,C$4-L57))","v":0},0]
["Length (m)",null,"Height (m)",null,"Area (m²)",0,"U Value (W/m²K)",{"$f":"IF($B$3=\"Ground floor\",'Design Details'!B$51,IF($B$3=\"Mid-floor\",'Design Details'!B$61,IF($B$3=\"Upper floor\",'Design Details'!B$71,IF($B$3=\"Single Storey\",'Design Details'!B$81,0))))","v":1.4},{"$f":"IF(L58=\"\",0,IF(L58=\"unheated\",C$4-10,C$4-L58))","v":0},0]
["Party Wall"]
["Length (m)",null,"Height (m)",null,"Area (m²)",0,"U Value (W/m²K)",{"$f":"IF($B$3=\"Ground floor\",'Design Details'!B$52,IF($B$3=\"Mid-floor\",'Design Details'!B$62,IF($B$3=\"Upper floor\",'Design Details'!B$72,IF($B$3=\"Single Storey\",'Design Details'!B$82,0))))","v":1},{"$f":"C4-10","v":11},0,{"$f":"F60*H60*$C$7*24/1000","v":0}]

{"sheet":"5","index":10,"n_rows":60,"n_cols":24,"rows_kept":60,"cut":false,"hidden":false,"merged":[[2,1,2,2],[2,3,2,4],[0,0,0,2],[0,3,0,5],[0,9,0,10],[1,3,1,4],[3,0,3,1],[3,3,3,4],[4,0,4,1],[4,3,4,4],[5,0,5,1],[5,3,5,4],[57,11,57,13],[6,0,6,1],[18,11,18,13],[19,11,19,13],[53,11,53,13],[54,11,54,13],[55,11,55,13],[56,11,56,13],[30,11,30,13],[10,10,10,13],[9,10,9,13],[20,11,20,13],[21,11,21,13]]}
["Room Information",null,null,"Ventilation Heat Loss",null,null,"Fabric ","Heat Loss (W)"," Usage (kWh)","Additional heat loss",null,"Addition","Watts","kWh"]
["Room","Hall",null,"Air Changes a hour",null,{"$f":"'Design Details'!F91","v":"2.0"},"Floor",{"$f":"SUM(J20:J22)","v":4.4168159999999999},{"$f":"SUM(K20:K22)","v":29.521998143999998},"Thermal Bridging (New Build >2006)",null,0,{"$f":"SUM(H$2:H$6)*L2","v":0},{"$f":"SUM(I$2:I$6)*L2","v":0},null,"3 edges (long single)","Level",null,null,null,null,null,null,1]
["Level","Ground floor",null,"Air Change Factor (W/m³K)",null,0.33,"Ext Wall",{"$f":"J27","v":6.6398640000000029},{"$f":"K27","v":16.90699084800001},"Exposed location",null,0,{"$f":"SUM(H$2:H$6)*L3","v":0},{"$f":"SUM(I$2:I$6)*L3","v":0},null,"3 edges (short single)","Please Select Floor",{"$f":"IF($B$3=\"Ground floor\",\"Solid Floor (in contact with ground)\",IF($B$3=\"Single Storey\",\"Solid Floor (in contact with ground)\",\"n/a\"))","v":"Solid Floor (in contact with ground)"},{"$f":"'Design Details'!B21","v":10},"unheated",0,0,0,2]
["Design Room Temp (°C)",null,{"$f":"'Design Details'!D91","v":18},"Total Volume (m³)",null,{"$f":"SUM(H10:H12,H14:H18)","v":6.6489919999999998},"Roof",{"$f":"SUM(J32,J35)","v":5.9114159999999991},{"$f":"SUM(K32,K35)","v":0},"High ceiling",null,0,{"$f":"SUM(H$2:H$6)*L4","v":0},{"$f":"SUM(I$2:I$6)*L4","v":0},null,"One edge","Ground floor",{"$f":"IF($B$3=\"Ground floor\",\"Suspended Floor\",IF($B$3=\"Single Storey\",\"Suspended Floor\",\"n/a\"))","v":"Suspended Floor"},null,16,0.1,0.2,2.5000000000000001E-2,3]
["Outside Design Temp (°C)",null,{"$f":"'Design Details'!B19","v":-3},"Heat loss (W)",null,{"$f":"F4*F3*C6*F2","v":92.155029120000009},"Glazing",{"$f":"SUM(J37:J43,J45:J48,J50:J53)","v":134.47391999999999},{"$f":"SUM(K37:K43,K45:K48,K50:K53)","v":342.40902143999995},"Intermittent heating",null,0,{"$f":"SUM(H$2:H$6)*L5","v":0},{"$f":"SUM(I$2:I$6)*L5","v":0},null,"Two adjacent","Mid-floor",null,null,18,null,null,0.05,4]
["Temp Difference (°C)",null,{"$f":"C4-C5","v":21},"Estimated Energy usage (kWh)",null,{"$f":"F4*F3*C7*24/1000","v":117.32651707392},"Int./Party Wall",{"$f":"SUM(J55:J58,J60)","v":-16.36992},{"$f":"SUM(K60)","v":0},null,null,null,"Total Room Heat Loss (W)",{"$f":"SUM(F5,H2:H6,M2:M5)","v":227.22712512000001},null,"Two opposite","Single storey",null,null,21,null,null,7.4999999999999997E-2,5]
["Degree Days",null,{"$f":"'Design Details'!B20","v":2228},null,null,null,null,null,null,null,null,null,"Total Room Energy Usage (kWh)",{"$f":"SUM(F6,I2:I6,N2:N5)","v":506.16452750591998},null,null,"Upper floor",null,null,22,null,null,0.1,6]
[null,null,null,null,null,null,null,null,null,null,null,null,null,null,null,null,{"$f":"IF($B$3=\"Ground floor\",'Design Details'!B$45,IF($B$3=\"Mid-floor\",'Design Details'!B$55,IF($B$3=\"Upper floor\",'Design Details'!B$65,IF($B$3=\"Single Storey\",'Design Details'!B$75,0))))","v":0},null,null,null,null,null,null,7]
["Room Dimensions",null,null,null,null,null,null,null,null,null,null,null,null,null,null,null,null,null,null,null,null,null,null,8]
["Length (m)",1.74,"Width (m)",1.67,"Height (m)",2.2400000000000002,"Volume (m³)",{"$f":"B10*D10*F10","v":6.5089920000000001},null,null,null,null,null,null,null,null,null,null,null,null,null,null,null,9]
["Length (m)",0.7,"Width (m)",0.5,"Height (m)",0.4,"Volume (m³)",{"$f":"B11*D11*F11","v":0.13999999999999999},null,null,null,null,null,null,null,null,null,null,null,null,null,null,null,10]
["Length (m)",null,"Width (m)",null,"Height (m)",null,"Volume (m³)",{"$f":"B12*D12*F12","v":0}]
["Awkward Room Dimensions"]
["Length (m)",null,"Width (m)",null,"Height (m)",null,"Volume (m³)",{"$f":"((F14*D14)/2)*B14","v":0},"Pitched"]
["Length (m)",null,"Width (m)",null,"Height (m)",null,"Volume (m³)",{"$f":"B15*D15*F15/2","v":0},"Single Pitch"]
["Length (m)",null,"Height (m)",null,"Depth (m)",null,"Volume (m³)",{"$f":"D16*F16*B16/2","v":0},"Dormer 1"]
["Length (m)",null,"Height (m)",null,"Depth (m)",null,"Volume (m³)",{"$f":"D17*F17*B17/2","v":0},"Dormer 2"]
["Length (m)",null,"Height (m)",null,"Depth (m)",null,"Volume (m³)",{"$f":"D18*F18*B18/2","v":0},"Dormer 3"]
["Floor",null,null,null,null,null,null,null,"Temp Difference","Heat Loss (W)","Usage (kWh)","Type of Ground Floor"]
["Length (m)",{"$f":"B10","v":1.74},"Width (m)",{"$f":"D10","v":1.67},"Area (m²)",{"$f":"B20*D20","v":2.9057999999999997},"U Value (W/m²K)",0.19,{"$f":"IF(B$3=\"Ground Floor\",IF(L20=\"Solid Floor (in contact with ground)\",C$4-S$3,C$4-C$5),IF(B$3=\"Single Storey\",IF(L20=\"Solid Floor (in contact with ground)\",C$4-S$3,C$4-C$5),0))","v":8},{"$f":"F20*H20*I20","v":4.4168159999999999},{"$f":"IF($B$3=$Q$5,0,IF($B$3=$Q$7,0,F20*H20*$C$7*24/1000))","v":29.521998143999998},"Solid Floor (in contact with ground)"]
["Length (m)",{"$f":"B11","v":0.7},"Width (m)",{"$f":"D11","v":0.5},"Area (m²)",0,"U Value (W/m²K)",{"$f":"H20","v":0.19},{"$f":"IF(B$3=\"Ground Floor\",IF(L20=\"Solid Floor (in contact with ground)\",C$4-S$3,C$4-C$5),IF(B$3=\"Single Storey\",IF(L20=\"Solid Floor (in contact with ground)\",C$4-S$3,C$4-C$5),0))","v":8},{"$f":"F21*H21*I21","v":0},{"$f":"IF($B$3=$Q$5,0,IF($B$3=$Q$7,0,F21*H21*$C$7*24/1000))","v":0},"Exposed floor (external)"]
["Length (m)",0,"Width (m)",0,"Area (m²)",{"$f":"B22*D22","v":0},"U Value (W/m²K)",{"$f":"H20","v":0.19},{"$f":"IF(B$3=\"Ground Floor\",IF(L20=\"Solid Floor (in contact with ground)\",C$4-S$3,C$4-C$5),IF(B$3=\"Single Storey\",IF(L20=\"Solid Floor (in contact with ground)\",C$4-S$3,C$4-C$5),0))","v":8},{"$f":"F22*H22*I22","v":0},{"$f":"IF($B$3=$Q$5,0,IF($B$3=$Q$7,0,F22*H22*$C$7*24/1000))","v":0},"One edge"]
["External Wall",null,null,null,null,null,null,null,null,null,null,{"$f":"IF(L22=\"Two opposite\",\"Between edges\",IF(L22=\"One edge\",\"Depth of room\",IF(L22=\"3 edges (short single)\",\"Short length\",IF(L22=\"3 edges (long single)\",\"Short length\",\"\"))))","v":"Depth of room"},null,{"$f":"IF(L22=\"3 edges (short single)\",\"Long length\",IF(L22=\"3 edges (long single)\",\"Long length\",\"\"))","v":""}]
["Length (m)",1.67,"Height (m)",2.2400000000000002,"Area (m²)",3.7408000000000001,null,null,null,null,null,1.79]
["Length (m)",null,"Height (m)",null,"Area (m²)",0]
["Length (m)",null,"Height (m)",null,"Area (m²)",0]
[null,null,null,"Total","Area (m²)",{"$f":"SUM(F24:F26)-SUM(F37:F43,F50:F53)","v":0.71860000000000035},"U Value (W/m²K)",0.44,{"$f":"$C$6","v":21},{"$f":"F27*H27*I27","v":6.6398640000000029},{"$f":"F27*H27*$C$7*24/1000","v":16.90699084800001}]
["Roof"]
["Length (m)",{"$f":"B10","v":1.74},"Width (m)",{"$f":"D10","v":1.67},"Area (m²)",2.9057999999999997]
["Length (m)",{"$f":"B11","v":0.7},"Width (m)",{"$f":"D11","v":0.5},"Area (m²)",0]
["Length (m)",0,"Width (m)",0,"Area (m²)",0]
[null,null,null,"Total","Area (m²)",{"$f":"SUM(F29:F31)-SUM(F45:F48)","v":2.3457999999999997},"U Value (W/m²K)",0.12,{"$f":"$C$6","v":21},5.9114159999999991,{"$f":"IF($B$3=$Q$4,0,IF($B$3=$Q$5,0,F32*H32*$C$7*24/1000))","v":0}]
["Length (m)",null,"Pitch (m)",null,"Area (m²)",0,"Pitched"]
["Length (m)",null,"Pitch (m)",null,"Area (m²)",0,"Single Pitch"]
[null,null,null,"Total","Area (m²)",{"$f":"SUM(F33:F34)-SUM(F45:F48)","v":-0.55999999999999994},"U Value (W/m²K)",{"$f":"IF($B$3=\"Ground floor\",'Design Details'!B$50,IF($B$3=\"Mid-floor\",'Design Details'!B$60,IF($B$3=\"Upper floor\",'Design Details'!B$70,IF($B$3=\"Single Storey\",'Design Details'!B$80,0))))","v":0},21,0,{"$f":"IF($B$3=$Q$4,0,IF($B$3=$Q$5,0,F35*H35*$C$7*24/1000))","v":0}]
["Windows"]
["Width (m)",null,"Height (m)",null,"Area (m²)",0,"U Value (W/m²K)",{"$f":"IF($B$3=\"Ground floor\",'Design Details'!B$46,IF($B$3=\"Mid-floor\",'Design Details'!B$56,IF($B$3=\"Upper floor\",'Design Details'!B$66,IF($B$3=\"Single Storey\",'Design Details'!B$76,0))))","v":2.8},21,0,{"$f":"F37*H37*$C$7*24/1000","v":0}]
["Width (m)",null,"Height (m)",null,"Area (m²)",0,"U Value (W/m²K)",{"$f":"IF($B$3=\"Ground floor\",'Design Details'!B$46,IF($B$3=\"Mid-floor\",'Design Details'!B$56,IF($B$3=\"Upper floor\",'Design Details'!B$66,IF($B$3=\"Single Storey\",'Design Details'!B$76,0))))","v":2.8},21,0,0]
["Width (m)",null,"Height (m)",null,"Area (m²)",0,"U Value (W/m²K)",{"$f":"IF($B$3=\"Ground floor\",'Design Details'!B$46,IF($B$3=\"Mid-floor\",'Design Details'!B$56,IF($B$3=\"Upper floor\",'Design Details'!B$66,IF($B$3=\"Single Storey\",'Design Details'!B$76,0))))","v":2.8},21,0,0]
["Width (m)",null,"Height (m)",null,"Area (m²)",0,"U Value (W/m²K)",{"$f":"IF($B$3=\"Ground floor\",'Design Details'!B$46,IF($B$3=\"Mid-floor\",'Design Details'!B$56,IF($B$3=\"Upper floor\",'Design Details'!B$66,IF($B$3=\"Single Storey\",'Design Details'!B$76,0))))","v":2.8},21,0,0]
["Width (m)",null,"Height (m)",null,"Area (m²)",0,"U Value (W/m²K)",{"$f":"IF($B$3=\"Ground floor\",'Design Details'!B$46,IF($B$3=\"Mid-floor\",'Design Details'!B$56,IF($B$3=\"Upper floor\",'Design Details'!B$66,IF($B$3=\"Single Storey\",'Design Details'!B$76,0))))","v":2.8},21,0,0]
["Width (m)",null,"Height (m)",null,"Area (m²)",0,"U Value (W/m²K)",{"$f":"IF($B$3=\"Ground floor\",'Design Details'!B$46,IF($B$3=\"Mid-floor\",'Design Details'!B$56,IF($B$3=\"Upper floor\",'Design Details'!B$66,IF($B$3=\"Single Storey\",'Design Details'!B$76,0))))","v":2.8},21,0,0]
["Width (m)",null,"Height (m)",null,"Area (m²)",0,"U Value (W/m²K)",{"$f":"IF($B$3=\"Ground floor\",'Design Details'!B$46,IF($B$3=\"Mid-floor\",'Design Details'!B$56,IF($B$3=\"Upper floor\",'Design Details'!B$66,IF($B$3=\"Single Storey\",'Design Details'!B$76,0))))","v":2.8},21,0,0]
["Roof Glazing"]
["Width (m)",0.7,"Height (m)",0.8,"Area (m²)",0.55999999999999994,"U Value (W/m²K)",{"$f":"IF($B$3=\"Ground floor\",'Design Details'!B$53,IF($B$3=\"Mid-floor\",'Design Details'!B$63,IF($B$3=\"Upper floor\",'Design Details'!B$73,IF($B$3=\"Single Storey\",'Design Details'!B$83,0))))","v":2.8},21,32.927999999999997,{"$f":"F45*H45*$C$7*24/1000","v":83.844095999999993}]
["Width (m)",null,"Height (m)",null,"Area (m²)",0,"U Value (W/m²K)",{"$f":"IF($B$3=\"Ground floor\",'Design Details'!B$53,IF($B$3=\"Mid-floor\",'Design Details'!B$63,IF($B$3=\"Upper floor\",'Design Details'!B$73,IF($B$3=\"Single Storey\",'Design Details'!B$83,0))))","v":2.8},21,0,{"$f":"F46*H46*$C$7*24/1000","v":0}]
["Width (m)",null,"Height (m)",null,"Area (m²)",0,"U Value (W/m²K)",{"$f":"IF($B$3=\"Ground floor\",'Design Details'!B$53,IF($B$3=\"Mid-floor\",'Design Details'!B$63,IF($B$3=\"Upper floor\",'Design Details'!B$73,IF($B$3=\"Single Storey\",'Design Details'!B$83,0))))","v":2.8},21,0,{"$f":"F47*H47*$C$7*24/1000","v":0}]
["Width (m)",null,"Height (m)",null,"Area (m²)",0,"U Value (W/m²K)",{"$f":"IF($B$3=\"Ground floor\",'Design Details'!B$53,IF($B$3=\"Mid-floor\",'Design Details'!B$63,IF($B$3=\"Upper floor\",'Design Details'!B$73,IF($B$3=\"Single Storey\",'Design Details'!B$83,0))))","v":2.8},21,0,{"$f":"F48*H48*$C$7*24/1000","v":0}]
["Doors"]
["Width (m)",2.0699999999999998,"Height (m)",1.46,"Area (m²)",3.0221999999999998,"U Value (W/m²K)",1.6,21,101.54592,{"$f":"F50*H50*$C$7*24/1000","v":258.56492543999997}]
["Width (m)",null,"Height (m)",null,"Area (m²)",0,"U Value (W/m²K)",{"$f":"IF($B$3=\"Ground floor\",'Design Details'!B$47,IF($B$3=\"Mid-floor\",'Design Details'!B$57,IF($B$3=\"Upper floor\",'Design Details'!B$67,IF($B$3=\"Single Storey\",'Design Details'!B$77,0))))","v":2.8},21,0,{"$f":"F51*H51*$C$7*24/1000","v":0}]
["Width (m)",null,"Height (m)",null,"Area (m²)",0,"U Value (W/m²K)",{"$f":"IF($B$3=\"Ground floor\",'Design Details'!B$47,IF($B$3=\"Mid-floor\",'Design Details'!B$57,IF($B$3=\"Upper floor\",'Design Details'!B$67,IF($B$3=\"Single Storey\",'Design Details'!B$77,0))))","v":2.8},21,0,{"$f":"F52*H52*$C$7*24/1000","v":0}]
["Width (m)",null,"Height (m)",null,"Area (m²)",0,"U Value (W/m²K)",{"$f":"IF($B$3=\"Ground floor\",'Design Details'!B$47,IF($B$3=\"Mid-floor\",'Design Details'!B$57,IF($B$3=\"Upper floor\",'Design Details'!B$67,IF($B$3=\"Single Storey\",'Design Details'!B$77,0))))","v":2.8},21,0,{"$f":"F53*H53*$C$7*24/1000","v":0}]
["Internal Walls",null,null,null,null,null,null,null,null,null,null,"Adjoining Room Temp (°C)"]
["Length (m)",1.74,"Height (m)",2.2400000000000002,"Area (m²)",3.8976000000000002,"U Value (W/m²K)",{"$f":"IF($B$3=\"Ground floor\",'Design Details'!B$51,IF($B$3=\"Mid-floor\",'Design Details'!B$61,IF($B$3=\"Upper floor\",'Design Details'!B$71,IF($B$3=\"Single Storey\",'Design Details'!B$81,0))))","v":1.4},-3,-16.36992]
["Length (m)",null,"Height (m)",null,"Area (m²)",0,"U Value (W/m²K)",{"$f":"IF($B$3=\"Ground floor\",'Design Details'!B$51,IF($B$3=\"Mid-floor\",'Design Details'!B$61,IF($B$3=\"Upper floor\",'Design Details'!B$71,IF($B$3=\"Single Storey\",'Design Details'!B$81,0))))","v":1.4},{"$f":"IF(L56=\"\",0,IF(L56=\"unheated\",C$4-10,C$4-L56))","v":0},0]
["Length (m)",null,"Height (m)",null,"Area (m²)",0,"U Value (W/m²K)",{"$f":"IF($B$3=\"Ground floor\",'Design Details'!B$51,IF($B$3=\"Mid-floor\",'Design Details'!B$61,IF($B$3=\"Upper floor\",'Design Details'!B$71,IF($B$3=\"Single Storey\",'Design Details'!B$81,0))))","v":1.4},{"$f":"IF(L57=\"\",0,IF(L57=\"unheated\",C$4-10,C$4-L57))","v":0},0]
["Length (m)",null,"Height (m)",null,"Area (m²)",0,"U Value (W/m²K)",{"$f":"IF($B$3=\"Ground floor\",'Design Details'!B$51,IF($B$3=\"Mid-floor\",'Design Details'!B$61,IF($B$3=\"Upper floor\",'Design Details'!B$71,IF($B$3=\"Single Storey\",'Design Details'!B$81,0))))","v":1.4},{"$f":"IF(L58=\"\",0,IF(L58=\"unheated\",C$4-10,C$4-L58))","v":0},0]
["Party Wall"]
["Length (m)",null,"Height (m)",null,"Area (m²)",0,"U Value (W/m²K)",{"$f":"IF($B$3=\"Ground floor\",'Design Details'!B$52,IF($B$3=\"Mid-floor\",'Design Details'!B$62,IF($B$3=\"Upper floor\",'Design Details'!B$72,IF($B$3=\"Single Storey\",'Design Details'!B$82,0))))","v":1},{"$f":"C4-10","v":8},0,{"$f":"F60*H60*$C$7*24/1000","v":0}]

{"sheet":"6","index":11,"n_rows":60,"n_cols":24,"rows_kept":60,"cut":false,"hidden":false,"merged":[[2,1,2,2],[2,3,2,4],[0,0,0,2],[0,3,0,5],[0,9,0,10],[1,3,1,4],[3,0,3,1],[3,3,3,4],[4,0,4,1],[4,3,4,4],[5,0,5,1],[5,3,5,4],[57,11,57,13],[6,0,6,1],[18,11,18,13],[19,11,19,13],[53,11,53,13],[54,11,54,13],[55,11,55,13],[56,11,56,13],[30,11,30,13],[10,10,10,13],[9,10,9,13],[20,11,20,13],[21,11,21,13]]}
["Room Information",null,null,"Ventilation Heat Loss",null,null,"Fabric ","Heat Loss (W)"," Usage (kWh)","Additional heat loss",null,"Addition","Watts","kWh"]
["Room","Utility",null,"Air Changes a hour",null,{"$f":"'Design Details'!F92","v":3},"Floor",{"$f":"SUM(J20:J22)","v":8.2718399999999992},{"$f":"SUM(K20:K22)","v":55.288978559999997},"Thermal Bridging (New Build >2006)",null,0,{"$f":"SUM(H$2:H$6)*L2","v":0},{"$f":"SUM(I$2:I$6)*L2","v":0},null,"3 edges (long single)","Level",null,null,null,null,null,null,1]
["Level","Ground floor",null,"Air Change Factor (W/m³K)",null,0.33,"Ext Wall",{"$f":"J27","v":91.168307999999996},{"$f":"K27","v":232.14056025599996},"Exposed location",null,0,{"$f":"SUM(H$2:H$6)*L3","v":0},{"$f":"SUM(I$2:I$6)*L3","v":0},null,"3 edges (short single)","Please Select Floor",{"$f":"IF($B$3=\"Ground floor\",\"Solid Floor (in contact with ground)\",IF($B$3=\"Single Storey\",\"Solid Floor (in contact with ground)\",\"n/a\"))","v":"Solid Floor (in contact with ground)"},{"$f":"'Design Details'!B21","v":10},"unheated",0,0,0,2]
["Design Room Temp (°C)",null,{"$f":"'Design Details'!D92","v":18},"Total Volume (m³)",null,{"$f":"SUM(H10:H12,H14:H18)","v":12.2445},"Roof",{"$f":"SUM(J32,J35)","v":13.713839999999999},{"$f":"SUM(K32,K35)","v":0},"High ceiling",null,0,{"$f":"SUM(H$2:H$6)*L4","v":0},{"$f":"SUM(I$2:I$6)*L4","v":0},null,"One edge","Ground floor",{"$f":"IF($B$3=\"Ground floor\",\"Suspended Floor\",IF($B$3=\"Single Storey\",\"Suspended Floor\",\"n/a\"))","v":"Suspended Floor"},null,16,0.1,0.2,2.5000000000000001E-2,3]
["Outside Design Temp (°C)",null,{"$f":"'Design Details'!B19","v":-3},"Heat loss (W)",null,{"$f":"F4*F3*C6*F2","v":254.56315500000005},"Glazing",{"$f":"SUM(J37:J43,J45:J48,J50:J53)","v":68.108039999999988},{"$f":"SUM(K37:K43,K45:K48,K50:K53)","v":173.42252927999999},"Intermittent heating",null,0,{"$f":"SUM(H$2:H$6)*L5","v":0},{"$f":"SUM(I$2:I$6)*L5","v":0},null,"Two adjacent","Mid-floor",null,null,18,null,null,0.05,4]
["Temp Difference (°C)",null,{"$f":"C4-C5","v":21},"Estimated Energy usage (kWh)",null,{"$f":"F4*F3*C7*24/1000","v":216.06350832000001},"Int./Party Wall",{"$f":"SUM(J55:J58,J60)","v":0},{"$f":"SUM(K60)","v":0},null,null,null,"Total Room Heat Loss (W)",{"$f":"SUM(F5,H2:H6,M2:M5)","v":435.82518300000004},null,"Two opposite","Single storey",null,null,21,null,null,7.4999999999999997E-2,5]
["Degree Days",null,{"$f":"'Design Details'!B20","v":2228},null,null,null,null,null,null,null,null,null,"Total Room Energy Usage (kWh)",{"$f":"SUM(F6,I2:I6,N2:N5)","v":676.91557641600002},null,null,"Upper floor",null,null,22,null,null,0.1,6]
[null,null,null,null,null,null,null,null,null,null,null,null,null,null,null,null,{"$f":"IF($B$3=\"Ground floor\",'Design Details'!B$45,IF($B$3=\"Mid-floor\",'Design Details'!B$55,IF($B$3=\"Upper floor\",'Design Details'!B$65,IF($B$3=\"Single Storey\",'Design Details'!B$75,0))))","v":0},null,null,null,null,null,null,7]
["Room Dimensions",null,null,null,null,null,null,null,null,null,null,null,null,null,null,null,null,null,null,null,null,null,null,8]
["Length (m)",2.76,"Width (m)",1.45,"Height (m)",2.25,"Volume (m³)",{"$f":"B10*D10*F10","v":9.0045000000000002},null,null,null,null,null,null,null,null,null,null,null,null,null,null,null,9]
["Length (m)",0.9,"Width (m)",1.6,"Height (m)",2.25,"Volume (m³)",{"$f":"B11*D11*F11","v":3.24},null,null,null,null,null,null,null,null,null,null,null,null,null,null,null,10]
["Length (m)",null,"Width (m)",null,"Height (m)",null,"Volume (m³)",{"$f":"B12*D12*F12","v":0}]
["Awkward Room Dimensions"]
["Length (m)",null,"Width (m)",null,"Height (m)",null,"Volume (m³)",{"$f":"((F14*D14)/2)*B14","v":0},"Pitched"]
["Length (m)",null,"Width (m)",null,"Height (m)",null,"Volume (m³)",{"$f":"B15*D15*F15/2","v":0},"Single Pitch"]
["Length (m)",null,"Height (m)",null,"Depth (m)",null,"Volume (m³)",{"$f":"D16*F16*B16/2","v":0},"Dormer 1"]
["Length (m)",null,"Height (m)",null,"Depth (m)",null,"Volume (m³)",{"$f":"D17*F17*B17/2","v":0},"Dormer 2"]
["Length (m)",null,"Height (m)",null,"Depth (m)",null,"Volume (m³)",{"$f":"D18*F18*B18/2","v":0},"Dormer 3"]
["Floor",null,null,null,null,null,null,null,"Temp Difference","Heat Loss (W)","Usage (kWh)","Type of Ground Floor"]
["Length (m)",{"$f":"B10","v":2.76},"Width (m)",{"$f":"D10","v":1.45},"Area (m²)",{"$f":"B20*D20","v":4.0019999999999998},"U Value (W/m²K)",0.19,{"$f":"IF(B$3=\"Ground Floor\",IF(L20=\"Solid Floor (in contact with ground)\",C$4-S$3,C$4-C$5),IF(B$3=\"Single Storey\",IF(L20=\"Solid Floor (in contact with ground)\",C$4-S$3,C$4-C$5),0))","v":8},{"$f":"F20*H20*I20","v":6.0830399999999996},{"$f":"IF($B$3=$Q$5,0,IF($B$3=$Q$7,0,F20*H20*$C$7*24/1000))","v":40.659039359999994},"Solid Floor (in contact with ground)"]
["Length (m)",{"$f":"B11","v":0.9},"Width (m)",{"$f":"D11","v":1.6},"Area (m²)",{"$f":"B21*D21","v":1.4400000000000002},"U Value (W/m²K)",{"$f":"H20","v":0.19},{"$f":"IF(B$3=\"Ground Floor\",IF(L20=\"Solid Floor (in contact with ground)\",C$4-S$3,C$4-C$5),IF(B$3=\"Single Storey\",IF(L20=\"Solid Floor (in contact with ground)\",C$4-S$3,C$4-C$5),0))","v":8},{"$f":"F21*H21*I21","v":2.1888000000000001},{"$f":"IF($B$3=$Q$5,0,IF($B$3=$Q$7,0,F21*H21*$C$7*24/1000))","v":14.629939200000001},"Exposed floor (external)"]
["Length (m)",0,"Width (m)",0,"Area (m²)",0,"U Value (W/m²K)",{"$f":"H20","v":0.19},{"$f":"IF(B$3=\"Ground Floor\",IF(L20=\"Solid Floor (in contact with ground)\",C$4-S$3,C$4-C$5),IF(B$3=\"Single Storey\",IF(L20=\"Solid Floor (in contact with ground)\",C$4-S$3,C$4-C$5),0))","v":8},{"$f":"F22*H22*I22","v":0},{"$f":"IF($B$3=$Q$5,0,IF($B$3=$Q$7,0,F22*H22*$C$7*24/1000))","v":0},"3 edges (long single)"]
["External Wall",null,null,null,null,null,null,null,null,null,null,{"$f":"IF(L22=\"Two opposite\",\"Between edges\",IF(L22=\"One edge\",\"Depth of room\",IF(L22=\"3 edges (short single)\",\"Short length\",IF(L22=\"3 edges (long single)\",\"Short length\",\"\"))))","v":"Short length"},null,{"$f":"IF(L22=\"3 edges (short single)\",\"Long length\",IF(L22=\"3 edges (long single)\",\"Long length\",\"\"))","v":"Long length"}]
["Length (m)",4.9000000000000004,"Height (m)",2.25,"Area (m²)",11.025,null,null,null,null,null,1.2749999999999999,null,2.35]
["Length (m)",null,"Height (m)",null,"Area (m²)",0]
["Length (m)",null,"Height (m)",null,"Area (m²)",0]
[null,null,null,"Total","Area (m²)",{"$f":"SUM(F24:F26)-SUM(F37:F43,F50:F53)","v":9.8666999999999998},"U Value (W/m²K)",{"$f":"IF($B$3=\"Ground floor\",'Design Details'!B$48,IF($B$3=\"Mid-floor\",'Design Details'!B$58,IF($B$3=\"Upper floor\",'Design Details'!B$68,IF($B$3=\"Single Storey\",'Design Details'!B$78,0))))","v":0.44},{"$f":"$C$6","v":21},{"$f":"F27*H27*I27","v":91.168307999999996},{"$f":"F27*H27*$C$7*24/1000","v":232.14056025599996}]
["Roof"]
["Length (m)",2.35,"Width (m)",1.6,"Area (m²)",3.7600000000000002]
["Length (m)",1.45,"Width (m)",1.1599999999999999,"Area (m²)",1.6819999999999999]
["Length (m)",{"$f":"B12","v":0},"Width (m)",{"$f":"D12","v":0},"Area (m²)",0]
[null,null,null,"Total","Area (m²)",{"$f":"SUM(F29:F31)-SUM(F45:F48)","v":5.4420000000000002},"U Value (W/m²K)",0.12,{"$f":"$C$6","v":21},13.713839999999999,{"$f":"IF($B$3=$Q$4,0,IF($B$3=$Q$5,0,F32*H32*$C$7*24/1000))","v":0}]
["Length (m)",null,"Pitch (m)",null,"Area (m²)",0,"Pitched"]
["Length (m)",null,"Pitch (m)",null,"Area (m²)",0,"Single Pitch"]
[null,null,null,"Total","Area (m²)",{"$f":"SUM(F33:F34)-SUM(F45:F48)","v":0},"U Value (W/m²K)",{"$f":"IF($B$3=\"Ground floor\",'Design Details'!B$50,IF($B$3=\"Mid-floor\",'Design Details'!B$60,IF($B$3=\"Upper floor\",'Design Details'!B$70,IF($B$3=\"Single Storey\",'Design Details'!B$80,0))))","v":0},21,0,{"$f":"IF($B$3=$Q$4,0,IF($B$3=$Q$5,0,F35*H35*$C$7*24/1000))","v":0}]
["Windows"]
["Width (m)",0.99,"Height (m)",1.17,"Area (m²)",1.1582999999999999,"U Value (W/m²K)",{"$f":"IF($B$3=\"Ground floor\",'Design Details'!B$46,IF($B$3=\"Mid-floor\",'Design Details'!B$56,IF($B$3=\"Upper floor\",'Design Details'!B$66,IF($B$3=\"Single Storey\",'Design Details'!B$76,0))))","v":2.8},21,68.108039999999988,{"$f":"F37*H37*$C$7*24/1000","v":173.42252927999999}]
["Width (m)",null,"Height (m)",null,"Area (m²)",0,"U Value (W/m²K)",{"$f":"IF($B$3=\"Ground floor\",'Design Details'!B$46,IF($B$3=\"Mid-floor\",'Design Details'!B$56,IF($B$3=\"Upper floor\",'Design Details'!B$66,IF($B$3=\"Single Storey\",'Design Details'!B$76,0))))","v":2.8},21,0,0]
["Width (m)",null,"Height (m)",null,"Area (m²)",0,"U Value (W/m²K)",{"$f":"IF($B$3=\"Ground floor\",'Design Details'!B$46,IF($B$3=\"Mid-floor\",'Design Details'!B$56,IF($B$3=\"Upper floor\",'Design Details'!B$66,IF($B$3=\"Single Storey\",'Design Details'!B$76,0))))","v":2.8},21,0,0]
["Width (m)",null,"Height (m)",null,"Area (m²)",0,"U Value (W/m²K)",{"$f":"IF($B$3=\"Ground floor\",'Design Details'!B$46,IF($B$3=\"Mid-floor\",'Design Details'!B$56,IF($B$3=\"Upper floor\",'Design Details'!B$66,IF($B$3=\"Single Storey\",'Design Details'!B$76,0))))","v":2.8},21,0,0]
["Width (m)",null,"Height (m)",null,"Area (m²)",0,"U Value (W/m²K)",{"$f":"IF($B$3=\"Ground floor\",'Design Details'!B$46,IF($B$3=\"Mid-floor\",'Design Details'!B$56,IF($B$3=\"Upper floor\",'Design Details'!B$66,IF($B$3=\"Single Storey\",'Design Details'!B$76,0))))","v":2.8},21,0,0]
["Width (m)",null,"Height (m)",null,"Area (m²)",0,"U Value (W/m²K)",{"$f":"IF($B$3=\"Ground floor\",'Design Details'!B$46,IF($B$3=\"Mid-floor\",'Design Details'!B$56,IF($B$3=\"Upper floor\",'Design Details'!B$66,IF($B$3=\"Single Storey\",'Design Details'!B$76,0))))","v":2.8},21,0,0]
["Width (m)",null,"Height (m)",null,"Area (m²)",0,"U Value (W/m²K)",{"$f":"IF($B$3=\"Ground floor\",'Design Details'!B$46,IF($B$3=\"Mid-floor\",'Design Details'!B$56,IF($B$3=\"Upper floor\",'Design Details'!B$66,IF($B$3=\"Single Storey\",'Design Details'!B$76,0))))","v":2.8},21,0,0]
["Roof Glazing"]
["Width (m)",null,"Height (m)",null,"Area (m²)",0,"U Value (W/m²K)",{"$f":"IF($B$3=\"Ground floor\",'Design Details'!B$53,IF($B$3=\"Mid-floor\",'Design Details'!B$63,IF($B$3=\"Upper floor\",'Design Details'!B$73,IF($B$3=\"Single Storey\",'Design Details'!B$83,0))))","v":2.8},21,0,{"$f":"F45*H45*$C$7*24/1000","v":0}]
["Width (m)",null,"Height (m)",null,"Area (m²)",0,"U Value (W/m²K)",{"$f":"IF($B$3=\"Ground floor\",'Design Details'!B$53,IF($B$3=\"Mid-floor\",'Design Details'!B$63,IF($B$3=\"Upper floor\",'Design Details'!B$73,IF($B$3=\"Single Storey\",'Design Details'!B$83,0))))","v":2.8},21,0,{"$f":"F46*H46*$C$7*24/1000","v":0}]
["Width (m)",null,"Height (m)",null,"Area (m²)",0,"U Value (W/m²K)",{"$f":"IF($B$3=\"Ground floor\",'Design Details'!B$53,IF($B$3=\"Mid-floor\",'Design Details'!B$63,IF($B$3=\"Upper floor\",'Design Details'!B$73,IF($B$3=\"Single Storey\",'Design Details'!B$83,0))))","v":2.8},21,0,{"$f":"F47*H47*$C$7*24/1000","v":0}]
["Width (m)",null,"Height (m)",null,"Area (m²)",0,"U Value (W/m²K)",{"$f":"IF($B$3=\"Ground floor\",'Design Details'!B$53,IF($B$3=\"Mid-floor\",'Design Details'!B$63,IF($B$3=\"Upper floor\",'Design Details'!B$73,IF($B$3=\"Single Storey\",'Design Details'!B$83,0))))","v":2.8},21,0,{"$f":"F48*H48*$C$7*24/1000","v":0}]
["Doors"]
["Width (m)",null,"Height (m)",null,"Area (m²)",0,"U Value (W/m²K)",{"$f":"IF($B$3=\"Ground floor\",'Design Details'!B$47,IF($B$3=\"Mid-floor\",'Design Details'!B$57,IF($B$3=\"Upper floor\",'Design Details'!B$67,IF($B$3=\"Single Storey\",'Design Details'!B$77,0))))","v":2.8},21,0,{"$f":"F50*H50*$C$7*24/1000","v":0}]
["Width (m)",null,"Height (m)",null,"Area (m²)",0,"U Value (W/m²K)",{"$f":"IF($B$3=\"Ground floor\",'Design Details'!B$47,IF($B$3=\"Mid-floor\",'Design Details'!B$57,IF($B$3=\"Upper floor\",'Design Details'!B$67,IF($B$3=\"Single Storey\",'Design Details'!B$77,0))))","v":2.8},21,0,{"$f":"F51*H51*$C$7*24/1000","v":0}]
["Width (m)",null,"Height (m)",null,"Area (m²)",0,"U Value (W/m²K)",{"$f":"IF($B$3=\"Ground floor\",'Design Details'!B$47,IF($B$3=\"Mid-floor\",'Design Details'!B$57,IF($B$3=\"Upper floor\",'Design Details'!B$67,IF($B$3=\"Single Storey\",'Design Details'!B$77,0))))","v":2.8},21,0,{"$f":"F52*H52*$C$7*24/1000","v":0}]
["Width (m)",null,"Height (m)",null,"Area (m²)",0,"U Value (W/m²K)",{"$f":"IF($B$3=\"Ground floor\",'Design Details'!B$47,IF($B$3=\"Mid-floor\",'Design Details'!B$57,IF($B$3=\"Upper floor\",'Design Details'!B$67,IF($B$3=\"Single Storey\",'Design Details'!B$77,0))))","v":2.8},21,0,{"$f":"F53*H53*$C$7*24/1000","v":0}]
["Internal Walls",null,null,null,null,null,null,null,null,null,null,"Adjoining Room Temp (°C)"]
["Length (m)",null,"Height (m)",null,"Area (m²)",0,"U Value (W/m²K)",{"$f":"IF($B$3=\"Ground floor\",'Design Details'!B$51,IF($B$3=\"Mid-floor\",'Design Details'!B$61,IF($B$3=\"Upper floor\",'Design Details'!B$71,IF($B$3=\"Single Storey\",'Design Details'!B$81,0))))","v":1.4},{"$f":"IF(L55=\"\",0,IF(L55=\"unheated\",C$4-10,C$4-L55))","v":0},0]
["Length (m)",null,"Height (m)",null,"Area (m²)",0,"U Value (W/m²K)",{"$f":"IF($B$3=\"Ground floor\",'Design Details'!B$51,IF($B$3=\"Mid-floor\",'Design Details'!B$61,IF($B$3=\"Upper floor\",'Design Details'!B$71,IF($B$3=\"Single Storey\",'Design Details'!B$81,0))))","v":1.4},{"$f":"IF(L56=\"\",0,IF(L56=\"unheated\",C$4-10,C$4-L56))","v":0},0]
["Length (m)",null,"Height (m)",null,"Area (m²)",0,"U Value (W/m²K)",{"$f":"IF($B$3=\"Ground floor\",'Design Details'!B$51,IF($B$3=\"Mid-floor\",'Design Details'!B$61,IF($B$3=\"Upper floor\",'Design Details'!B$71,IF($B$3=\"Single Storey\",'Design Details'!B$81,0))))","v":1.4},{"$f":"IF(L57=\"\",0,IF(L57=\"unheated\",C$4-10,C$4-L57))","v":0},0]
["Length (m)",null,"Height (m)",null,"Area (m²)",0,"U Value (W/m²K)",{"$f":"IF($B$3=\"Ground floor\",'Design Details'!B$51,IF($B$3=\"Mid-floor\",'Design Details'!B$61,IF($B$3=\"Upper floor\",'Design Details'!B$71,IF($B$3=\"Single Storey\",'Design Details'!B$81,0))))","v":1.4},{"$f":"IF(L58=\"\",0,IF(L58=\"unheated\",C$4-10,C$4-L58))","v":0},0]
["Party Wall"]
["Length (m)",null,"Height (m)",null,"Area (m²)",0,"U Value (W/m²K)",{"$f":"IF($B$3=\"Ground floor\",'Design Details'!B$52,IF($B$3=\"Mid-floor\",'Design Details'!B$62,IF($B$3=\"Upper floor\",'Design Details'!B$72,IF($B$3=\"Single Storey\",'Design Details'!B$82,0))))","v":1},{"$f":"C4-10","v":8},0,{"$f":"F60*H60*$C$7*24/1000","v":0}]

{"sheet":"7","index":12,"n_rows":60,"n_cols":24,"rows_kept":60,"cut":false,"hidden":false,"merged":[[2,1,2,2],[2,3,2,4],[0,0,0,2],[0,3,0,5],[0,9,0,10],[1,3,1,4],[3,0,3,1],[3,3,3,4],[4,0,4,1],[4,3,4,4],[5,0,5,1],[5,3,5,4],[57,11,57,13],[6,0,6,1],[18,11,18,13],[19,11,19,13],[53,11,53,13],[54,11,54,13],[55,11,55,13],[56,11,56,13],[30,11,30,13],[10,10,10,13],[9,10,9,13],[20,11,20,13],[21,11,21,13]]}
["Room Information",null,null,"Ventilation Heat Loss",null,null,"Fabric ","Heat Loss (W)"," Usage (kWh)","Additional heat loss",null,"Addition","Watts","kWh"]
["Room","WC",null,"Air Changes a hour",null,{"$f":"'Design Details'!F93","v":3},"Floor",{"$f":"SUM(J20:J22)","v":1.2889600000000001},{"$f":"SUM(K20:K22)","v":8.6154086400000018},"Thermal Bridging (New Build >2006)",null,0,{"$f":"SUM(H$2:H$6)*L2","v":0},{"$f":"SUM(I$2:I$6)*L2","v":0},null,"3 edges (long single)","Level",null,null,null,null,null,null,1]
["Level","Ground floor",null,"Air Change Factor (W/m³K)",null,0.33,"Ext Wall",{"$f":"J27","v":18.064200000000003},{"$f":"K27","v":45.996614400000006},"Exposed location",null,0,{"$f":"SUM(H$2:H$6)*L3","v":0},{"$f":"SUM(I$2:I$6)*L3","v":0},null,"3 edges (short single)","Please Select Floor",{"$f":"IF($B$3=\"Ground floor\",\"Solid Floor (in contact with ground)\",IF($B$3=\"Single Storey\",\"Solid Floor (in contact with ground)\",\"n/a\"))","v":"Solid Floor (in contact with ground)"},{"$f":"'Design Details'!B21","v":10},"unheated",0,0,0,2]
["Design Room Temp (°C)",null,{"$f":"'Design Details'!D93","v":18},"Total Volume (m³)",null,{"$f":"SUM(H10:H12,H14:H18)","v":1.9080000000000001},"Roof",{"$f":"SUM(J32,J35)","v":2.1369600000000002},{"$f":"SUM(K32,K35)","v":0},"High ceiling",null,0,{"$f":"SUM(H$2:H$6)*L4","v":0},{"$f":"SUM(I$2:I$6)*L4","v":0},null,"One edge","Ground floor",{"$f":"IF($B$3=\"Ground floor\",\"Suspended Floor\",IF($B$3=\"Single Storey\",\"Suspended Floor\",\"n/a\"))","v":"Suspended Floor"},null,16,0.1,0.2,2.5000000000000001E-2,3]
["Outside Design Temp (°C)",null,{"$f":"'Design Details'!B19","v":-3},"Heat loss (W)",null,{"$f":"F4*F3*C6*F2","v":39.667320000000004},"Glazing",{"$f":"SUM(J37:J43,J45:J48,J50:J53)","v":25.283999999999999},{"$f":"SUM(K37:K43,K45:K48,K50:K53)","v":64.380287999999993},"Intermittent heating",null,0,{"$f":"SUM(H$2:H$6)*L5","v":0},{"$f":"SUM(I$2:I$6)*L5","v":0},null,"Two adjacent","Mid-floor",null,null,18,null,null,0.05,4]
["Temp Difference (°C)",null,{"$f":"C4-C5","v":21},"Estimated Energy usage (kWh)",null,{"$f":"F4*F3*C7*24/1000","v":33.668110080000005},"Int./Party Wall",{"$f":"SUM(J55:J58,J60)","v":0},{"$f":"SUM(K60)","v":0},null,null,null,"Total Room Heat Loss (W)",{"$f":"SUM(F5,H2:H6,M2:M5)","v":86.44144},null,"Two opposite","Single storey",null,null,21,null,null,7.4999999999999997E-2,5]
["Degree Days",null,{"$f":"'Design Details'!B20","v":2228},null,null,null,null,null,null,null,null,null,"Total Room Energy Usage (kWh)",{"$f":"SUM(F6,I2:I6,N2:N5)","v":152.66042112000002},null,null,"Upper floor",null,null,22,null,null,0.1,6]
[null,null,null,null,null,null,null,null,null,null,null,null,null,null,null,null,{"$f":"IF($B$3=\"Ground floor\",'Design Details'!B$45,IF($B$3=\"Mid-floor\",'Design Details'!B$55,IF($B$3=\"Upper floor\",'Design Details'!B$65,IF($B$3=\"Single Storey\",'Design Details'!B$75,0))))","v":0},null,null,null,null,null,null,7]
["Room Dimensions",null,null,null,null,null,null,null,null,null,null,null,null,null,null,null,null,null,null,null,null,null,null,8]
["Length (m)",1.06,"Width (m)",0.8,"Height (m)",2.25,"Volume (m³)",{"$f":"B10*D10*F10","v":1.9080000000000001},null,null,null,null,null,null,null,null,null,null,null,null,null,null,null,9]
["Length (m)",null,"Width (m)",null,"Height (m)",null,"Volume (m³)",{"$f":"B11*D11*F11","v":0},null,null,null,null,null,null,null,null,null,null,null,null,null,null,null,10]
["Length (m)",null,"Width (m)",null,"Height (m)",null,"Volume (m³)",{"$f":"B12*D12*F12","v":0}]
["Awkward Room Dimensions"]
["Length (m)",null,"Width (m)",null,"Height (m)",null,"Volume (m³)",{"$f":"((F14*D14)/2)*B14","v":0},"Pitched"]
["Length (m)",null,"Width (m)",null,"Height (m)",null,"Volume (m³)",{"$f":"B15*D15*F15/2","v":0},"Single Pitch"]
["Length (m)",null,"Height (m)",null,"Depth (m)",null,"Volume (m³)",{"$f":"D16*F16*B16/2","v":0},"Dormer 1"]
["Length (m)",null,"Height (m)",null,"Depth (m)",null,"Volume (m³)",{"$f":"D17*F17*B17/2","v":0},"Dormer 2"]
["Length (m)",null,"Height (m)",null,"Depth (m)",null,"Volume (m³)",{"$f":"D18*F18*B18/2","v":0},"Dormer 3"]
["Floor",null,null,null,null,null,null,null,"Temp Difference","Heat Loss (W)","Usage (kWh)","Type of Ground Floor"]
["Length (m)",{"$f":"B10","v":1.06},"Width (m)",{"$f":"D10","v":0.8},"Area (m²)",{"$f":"B20*D20","v":0.84800000000000009},"U Value (W/m²K)",0.19,{"$f":"IF(B$3=\"Ground Floor\",IF(L20=\"Solid Floor (in contact with ground)\",C$4-S$3,C$4-C$5),IF(B$3=\"Single Storey\",IF(L20=\"Solid Floor (in contact with ground)\",C$4-S$3,C$4-C$5),0))","v":8},{"$f":"F20*H20*I20","v":1.2889600000000001},{"$f":"IF($B$3=$Q$5,0,IF($B$3=$Q$7,0,F20*H20*$C$7*24/1000))","v":8.6154086400000018},"Solid Floor (in contact with ground)"]
["Length (m)",{"$f":"B11","v":0},"Width (m)",{"$f":"D11","v":0},"Area (m²)",{"$f":"B21*D21","v":0},"U Value (W/m²K)",{"$f":"H20","v":0.19},{"$f":"IF(B$3=\"Ground Floor\",IF(L20=\"Solid Floor (in contact with ground)\",C$4-S$3,C$4-C$5),IF(B$3=\"Single Storey\",IF(L20=\"Solid Floor (in contact with ground)\",C$4-S$3,C$4-C$5),0))","v":8},{"$f":"F21*H21*I21","v":0},{"$f":"IF($B$3=$Q$5,0,IF($B$3=$Q$7,0,F21*H21*$C$7*24/1000))","v":0},"Exposed floor (external)"]
["Length (m)",0,"Width (m)",0,"Area (m²)",0,"U Value (W/m²K)",{"$f":"H20","v":0.19},{"$f":"IF(B$3=\"Ground Floor\",IF(L20=\"Solid Floor (in contact with ground)\",C$4-S$3,C$4-C$5),IF(B$3=\"Single Storey\",IF(L20=\"Solid Floor (in contact with ground)\",C$4-S$3,C$4-C$5),0))","v":8},{"$f":"F22*H22*I22","v":0},{"$f":"IF($B$3=$Q$5,0,IF($B$3=$Q$7,0,F22*H22*$C$7*24/1000))","v":0}]
["External Wall",null,null,null,null,null,null,null,null,null,null,{"$f":"IF(L22=\"Two opposite\",\"Between edges\",IF(L22=\"One edge\",\"Depth of room\",IF(L22=\"3 edges (short single)\",\"Short length\",IF(L22=\"3 edges (long single)\",\"Short length\",\"\"))))","v":""},null,{"$f":"IF(L22=\"3 edges (short single)\",\"Long length\",IF(L22=\"3 edges (long single)\",\"Long length\",\"\"))","v":""}]
["Length (m)",1.06,"Height (m)",2.25,"Area (m²)",2.3850000000000002]
["Length (m)",null,"Height (m)",null,"Area (m²)",0]
["Length (m)",null,"Height (m)",null,"Area (m²)",0]
[null,null,null,"Total","Area (m²)",{"$f":"SUM(F24:F26)-SUM(F37:F43,F50:F53)","v":1.9550000000000003},"U Value (W/m²K)",{"$f":"IF($B$3=\"Ground floor\",'Design Details'!B$48,IF($B$3=\"Mid-floor\",'Design Details'!B$58,IF($B$3=\"Upper floor\",'Design Details'!B$68,IF($B$3=\"Single Storey\",'Design Details'!B$78,0))))","v":0.44},{"$f":"$C$6","v":21},{"$f":"F27*H27*I27","v":18.064200000000003},{"$f":"F27*H27*$C$7*24/1000","v":45.996614400000006}]
["Roof"]
["Length (m)",{"$f":"B10","v":1.06},"Width (m)",{"$f":"D10","v":0.8},"Area (m²)",0.84800000000000009]
["Length (m)",{"$f":"B11","v":0},"Width (m)",{"$f":"D11","v":0},"Area (m²)",0]
["Length (m)",0,"Width (m)",0,"Area (m²)",0]
[null,null,null,"Total","Area (m²)",{"$f":"SUM(F29:F31)-SUM(F45:F48)","v":0.84800000000000009},"U Value (W/m²K)",0.12,{"$f":"$C$6","v":21},2.1369600000000002,{"$f":"IF($B$3=$Q$4,0,IF($B$3=$Q$5,0,F32*H32*$C$7*24/1000))","v":0}]
["Length (m)",null,"Pitch (m)",null,"Area (m²)",0,"Pitched"]
["Length (m)",null,"Pitch (m)",null,"Area (m²)",0,"Single Pitch"]
[null,null,null,"Total","Area (m²)",{"$f":"SUM(F33:F34)-SUM(F45:F48)","v":0},"U Value (W/m²K)",{"$f":"IF($B$3=\"Ground floor\",'Design Details'!B$50,IF($B$3=\"Mid-floor\",'Design Details'!B$60,IF($B$3=\"Upper floor\",'Design Details'!B$70,IF($B$3=\"Single Storey\",'Design Details'!B$80,0))))","v":0},21,0,{"$f":"IF($B$3=$Q$4,0,IF($B$3=$Q$5,0,F35*H35*$C$7*24/1000))","v":0}]
["Windows"]
["Width (m)",1,"Height (m)",0.43,"Area (m²)",0.43,"U Value (W/m²K)",{"$f":"IF($B$3=\"Ground floor\",'Design Details'!B$46,IF($B$3=\"Mid-floor\",'Design Details'!B$56,IF($B$3=\"Upper floor\",'Design Details'!B$66,IF($B$3=\"Single Storey\",'Design Details'!B$76,0))))","v":2.8},21,25.283999999999999,{"$f":"F37*H37*$C$7*24/1000","v":64.380287999999993}]
["Width (m)",null,"Height (m)",null,"Area (m²)",0,"U Value (W/m²K)",{"$f":"IF($B$3=\"Ground floor\",'Design Details'!B$46,IF($B$3=\"Mid-floor\",'Design Details'!B$56,IF($B$3=\"Upper floor\",'Design Details'!B$66,IF($B$3=\"Single Storey\",'Design Details'!B$76,0))))","v":2.8},21,0,0]
["Width (m)",null,"Height (m)",null,"Area (m²)",0,"U Value (W/m²K)",{"$f":"IF($B$3=\"Ground floor\",'Design Details'!B$46,IF($B$3=\"Mid-floor\",'Design Details'!B$56,IF($B$3=\"Upper floor\",'Design Details'!B$66,IF($B$3=\"Single Storey\",'Design Details'!B$76,0))))","v":2.8},21,0,0]
["Width (m)",null,"Height (m)",null,"Area (m²)",0,"U Value (W/m²K)",{"$f":"IF($B$3=\"Ground floor\",'Design Details'!B$46,IF($B$3=\"Mid-floor\",'Design Details'!B$56,IF($B$3=\"Upper floor\",'Design Details'!B$66,IF($B$3=\"Single Storey\",'Design Details'!B$76,0))))","v":2.8},21,0,0]
["Width (m)",null,"Height (m)",null,"Area (m²)",0,"U Value (W/m²K)",{"$f":"IF($B$3=\"Ground floor\",'Design Details'!B$46,IF($B$3=\"Mid-floor\",'Design Details'!B$56,IF($B$3=\"Upper floor\",'Design Details'!B$66,IF($B$3=\"Single Storey\",'Design Details'!B$76,0))))","v":2.8},21,0,0]
["Width (m)",null,"Height (m)",null,"Area (m²)",0,"U Value (W/m²K)",{"$f":"IF($B$3=\"Ground floor\",'Design Details'!B$46,IF($B$3=\"Mid-floor\",'Design Details'!B$56,IF($B$3=\"Upper floor\",'Design Details'!B$66,IF($B$3=\"Single Storey\",'Design Details'!B$76,0))))","v":2.8},21,0,0]
["Width (m)",null,"Height (m)",null,"Area (m²)",0,"U Value (W/m²K)",{"$f":"IF($B$3=\"Ground floor\",'Design Details'!B$46,IF($B$3=\"Mid-floor\",'Design Details'!B$56,IF($B$3=\"Upper floor\",'Design Details'!B$66,IF($B$3=\"Single Storey\",'Design Details'!B$76,0))))","v":2.8},21,0,0]
["Roof Glazing"]
["Width (m)",null,"Height (m)",null,"Area (m²)",0,"U Value (W/m²K)",{"$f":"IF($B$3=\"Ground floor\",'Design Details'!B$53,IF($B$3=\"Mid-floor\",'Design Details'!B$63,IF($B$3=\"Upper floor\",'Design Details'!B$73,IF($B$3=\"Single Storey\",'Design Details'!B$83,0))))","v":2.8},21,0,{"$f":"F45*H45*$C$7*24/1000","v":0}]
["Width (m)",null,"Height (m)",null,"Area (m²)",0,"U Value (W/m²K)",{"$f":"IF($B$3=\"Ground floor\",'Design Details'!B$53,IF($B$3=\"Mid-floor\",'Design Details'!B$63,IF($B$3=\"Upper floor\",'Design Details'!B$73,IF($B$3=\"Single Storey\",'Design Details'!B$83,0))))","v":2.8},21,0,{"$f":"F46*H46*$C$7*24/1000","v":0}]
["Width (m)",null,"Height (m)",null,"Area (m²)",0,"U Value (W/m²K)",{"$f":"IF($B$3=\"Ground floor\",'Design Details'!B$53,IF($B$3=\"Mid-floor\",'Design Details'!B$63,IF($B$3=\"Upper floor\",'Design Details'!B$73,IF($B$3=\"Single Storey\",'Design Details'!B$83,0))))","v":2.8},21,0,{"$f":"F47*H47*$C$7*24/1000","v":0}]
["Width (m)",null,"Height (m)",null,"Area (m²)",0,"U Value (W/m²K)",{"$f":"IF($B$3=\"Ground floor\",'Design Details'!B$53,IF($B$3=\"Mid-floor\",'Design Details'!B$63,IF($B$3=\"Upper floor\",'Design Details'!B$73,IF($B$3=\"Single Storey\",'Design Details'!B$83,0))))","v":2.8},21,0,{"$f":"F48*H48*$C$7*24/1000","v":0}]
["Doors"]
["Width (m)",null,"Height (m)",null,"Area (m²)",0,"U Value (W/m²K)",{"$f":"IF($B$3=\"Ground floor\",'Design Details'!B$47,IF($B$3=\"Mid-floor\",'Design Details'!B$57,IF($B$3=\"Upper floor\",'Design Details'!B$67,IF($B$3=\"Single Storey\",'Design Details'!B$77,0))))","v":2.8},21,0,{"$f":"F50*H50*$C$7*24/1000","v":0}]
["Width (m)",null,"Height (m)",null,"Area (m²)",0,"U Value (W/m²K)",{"$f":"IF($B$3=\"Ground floor\",'Design Details'!B$47,IF($B$3=\"Mid-floor\",'Design Details'!B$57,IF($B$3=\"Upper floor\",'Design Details'!B$67,IF($B$3=\"Single Storey\",'Design Details'!B$77,0))))","v":2.8},21,0,{"$f":"F51*H51*$C$7*24/1000","v":0}]
["Width (m)",null,"Height (m)",null,"Area (m²)",0,"U Value (W/m²K)",{"$f":"IF($B$3=\"Ground floor\",'Design Details'!B$47,IF($B$3=\"Mid-floor\",'Design Details'!B$57,IF($B$3=\"Upper floor\",'Design Details'!B$67,IF($B$3=\"Single Storey\",'Design Details'!B$77,0))))","v":2.8},21,0,{"$f":"F52*H52*$C$7*24/1000","v":0}]
["Width (m)",null,"Height (m)",null,"Area (m²)",0,"U Value (W/m²K)",{"$f":"IF($B$3=\"Ground floor\",'Design Details'!B$47,IF($B$3=\"Mid-floor\",'Design Details'!B$57,IF($B$3=\"Upper floor\",'Design Details'!B$67,IF($B$3=\"Single Storey\",'Design Details'!B$77,0))))","v":2.8},21,0,{"$f":"F53*H53*$C$7*24/1000","v":0}]
["Internal Walls",null,null,null,null,null,null,null,null,null,null,"Adjoining Room Temp (°C)"]
["Length (m)",null,"Height (m)",null,"Area (m²)",0,"U Value (W/m²K)",{"$f":"IF($B$3=\"Ground floor\",'Design Details'!B$51,IF($B$3=\"Mid-floor\",'Design Details'!B$61,IF($B$3=\"Upper floor\",'Design Details'!B$71,IF($B$3=\"Single Storey\",'Design Details'!B$81,0))))","v":1.4},{"$f":"IF(L55=\"\",0,IF(L55=\"unheated\",C$4-10,C$4-L55))","v":0},0]
["Length (m)",null,"Height (m)",null,"Area (m²)",0,"U Value (W/m²K)",{"$f":"IF($B$3=\"Ground floor\",'Design Details'!B$51,IF($B$3=\"Mid-floor\",'Design Details'!B$61,IF($B$3=\"Upper floor\",'Design Details'!B$71,IF($B$3=\"Single Storey\",'Design Details'!B$81,0))))","v":1.4},{"$f":"IF(L56=\"\",0,IF(L56=\"unheated\",C$4-10,C$4-L56))","v":0},0]
["Length (m)",null,"Height (m)",null,"Area (m²)",0,"U Value (W/m²K)",{"$f":"IF($B$3=\"Ground floor\",'Design Details'!B$51,IF($B$3=\"Mid-floor\",'Design Details'!B$61,IF($B$3=\"Upper floor\",'Design Details'!B$71,IF($B$3=\"Single Storey\",'Design Details'!B$81,0))))","v":1.4},{"$f":"IF(L57=\"\",0,IF(L57=\"unheated\",C$4-10,C$4-L57))","v":0},0]
["Length (m)",null,"Height (m)",null,"Area (m²)",0,"U Value (W/m²K)",{"$f":"IF($B$3=\"Ground floor\",'Design Details'!B$51,IF($B$3=\"Mid-floor\",'Design Details'!B$61,IF($B$3=\"Upper floor\",'Design Details'!B$71,IF($B$3=\"Single Storey\",'Design Details'!B$81,0))))","v":1.4},{"$f":"IF(L58=\"\",0,IF(L58=\"unheated\",C$4-10,C$4-L58))","v":0},0]
["Party Wall"]
["Length (m)",null,"Height (m)",null,"Area (m²)",0,"U Value (W/m²K)",{"$f":"IF($B$3=\"Ground floor\",'Design Details'!B$52,IF($B$3=\"Mid-floor\",'Design Details'!B$62,IF($B$3=\"Upper floor\",'Design Details'!B$72,IF($B$3=\"Single Storey\",'Design Details'!B$82,0))))","v":1},{"$f":"C4-10","v":8},0,{"$f":"F60*H60*$C$7*24/1000","v":0}]

{"sheet":"8","index":13,"n_rows":60,"n_cols":24,"rows_kept":60,"cut":false,"hidden":false,"merged":[[2,1,2,2],[2,3,2,4],[0,0,0,2],[0,3,0,5],[0,9,0,10],[1,3,1,4],[3,0,3,1],[3,3,3,4],[4,0,4,1],[4,3,4,4],[5,0,5,1],[5,3,5,4],[57,11,57,13],[6,0,6,1],[18,11,18,13],[19,11,19,13],[53,11,53,13],[54,11,54,13],[55,11,55,13],[56,11,56,13],[30,11,30,13],[10,10,10,13],[9,10,9,13],[20,11,20,13],[21,11,21,13]]}
["Room Information",null,null,"Ventilation Heat Loss",null,null,"Fabric ","Heat Loss (W)"," Usage (kWh)","Additional heat loss",null,"Addition","Watts","kWh"]
["Room","Kitchen",null,"Air Changes a hour",null,{"$f":"'Design Details'!F94","v":2},"Floor",{"$f":"SUM(J20:J22)","v":140.608},{"$f":"SUM(K20:K22)","v":939.82387199999994},"Thermal Bridging (New Build >2006)",null,0,{"$f":"SUM(H$2:H$6)*L2","v":0},{"$f":"SUM(I$2:I$6)*L2","v":0},null,"3 edges (long single)","Level",null,null,null,null,null,null,1]
["Level","Ground floor",null,"Air Change Factor (W/m³K)",null,0.33,"Ext Wall",{"$f":"J27","v":167.15714399999999},{"$f":"K27","v":425.62984780799991},"Exposed location",null,0,{"$f":"SUM(H$2:H$6)*L3","v":0},{"$f":"SUM(I$2:I$6)*L3","v":0},null,"3 edges (short single)","Please Select Floor",{"$f":"IF($B$3=\"Ground floor\",\"Solid Floor (in contact with ground)\",IF($B$3=\"Single Storey\",\"Solid Floor (in contact with ground)\",\"n/a\"))","v":"Solid Floor (in contact with ground)"},{"$f":"'Design Details'!B21","v":10},"unheated",0,0,0,2]
["Design Room Temp (°C)",null,{"$f":"'Design Details'!D94","v":18},"Total Volume (m³)",null,{"$f":"SUM(H10:H12,H14:H18)","v":59.217599999999997},"Roof",{"$f":"SUM(J32,J35)","v":12.381264},{"$f":"SUM(K32,K35)","v":0},"High ceiling",null,0,{"$f":"SUM(H$2:H$6)*L4","v":0},{"$f":"SUM(I$2:I$6)*L4","v":0},null,"One edge","Ground floor",{"$f":"IF($B$3=\"Ground floor\",\"Suspended Floor\",IF($B$3=\"Single Storey\",\"Suspended Floor\",\"n/a\"))","v":"Suspended Floor"},null,16,0.1,0.2,2.5000000000000001E-2,3]
["Outside Design Temp (°C)",null,{"$f":"'Design Details'!B19","v":-3},"Heat loss (W)",null,{"$f":"F4*F3*C6*F2","v":820.75593600000002},"Glazing",{"$f":"SUM(J37:J43,J45:J48,J50:J53)","v":258.00767999999999},{"$f":"SUM(K37:K43,K45:K48,K50:K53)","v":656.96126975999994},"Intermittent heating",null,0,{"$f":"SUM(H$2:H$6)*L5","v":0},{"$f":"SUM(I$2:I$6)*L5","v":0},null,"Two adjacent","Mid-floor",null,null,18,null,null,0.05,4]
["Temp Difference (°C)",null,{"$f":"C4-C5","v":21},"Estimated Energy usage (kWh)",null,{"$f":"F4*F3*C7*24/1000","v":1044.9395573759998},"Int./Party Wall",{"$f":"SUM(J55:J58,J60)","v":-62.178479999999993},{"$f":"SUM(K60)","v":0},null,null,null,"Total Room Heat Loss (W)",{"$f":"SUM(F5,H2:H6,M2:M5)","v":1336.731544},null,"Two opposite","Single storey",null,null,21,null,null,7.4999999999999997E-2,5]
["Degree Days",null,{"$f":"'Design Details'!B20","v":2228},null,null,null,null,null,null,null,null,null,"Total Room Energy Usage (kWh)",{"$f":"SUM(F6,I2:I6,N2:N5)","v":3067.3545469439996},null,null,"Upper floor",null,null,22,null,null,0.1,6]
[null,null,null,null,null,null,null,null,null,null,null,null,null,null,null,null,{"$f":"IF($B$3=\"Ground floor\",'Design Details'!B$45,IF($B$3=\"Mid-floor\",'Design Details'!B$55,IF($B$3=\"Upper floor\",'Design Details'!B$65,IF($B$3=\"Single Storey\",'Design Details'!B$75,0))))","v":0},null,null,null,null,null,null,7]
["Room Dimensions",null,null,null,null,null,null,null,null,null,null,null,null,null,null,null,null,null,null,null,null,null,null,8]
["Length (m)",6.76,"Width (m)",4,"Height (m)",2.19,"Volume (m³)",{"$f":"B10*D10*F10","v":59.217599999999997},null,null,null,null,null,null,null,null,null,null,null,null,null,null,null,9]
["Length (m)",null,"Width (m)",null,"Height (m)",null,"Volume (m³)",{"$f":"B11*D11*F11","v":0},null,null,null,null,null,null,null,null,null,null,null,null,null,null,null,10]
["Length (m)",null,"Width (m)",null,"Height (m)",null,"Volume (m³)",{"$f":"B12*D12*F12","v":0}]
["Awkward Room Dimensions"]
["Length (m)",null,"Width (m)",null,"Height (m)",null,"Volume (m³)",{"$f":"((F14*D14)/2)*B14","v":0},"Pitched"]
["Length (m)",null,"Width (m)",null,"Height (m)",null,"Volume (m³)",{"$f":"B15*D15*F15/2","v":0},"Single Pitch"]
["Length (m)",null,"Height (m)",null,"Depth (m)",null,"Volume (m³)",{"$f":"D16*F16*B16/2","v":0},"Dormer 1"]
["Length (m)",null,"Height (m)",null,"Depth (m)",null,"Volume (m³)",{"$f":"D17*F17*B17/2","v":0},"Dormer 2"]
["Length (m)",null,"Height (m)",null,"Depth (m)",null,"Volume (m³)",{"$f":"D18*F18*B18/2","v":0},"Dormer 3"]
["Floor",null,null,null,null,null,null,null,"Temp Difference","Heat Loss (W)","Usage (kWh)","Type of Ground Floor"]
["Length (m)",{"$f":"B10","v":6.76},"Width (m)",{"$f":"D10","v":4},"Area (m²)",{"$f":"B20*D20","v":27.04},"U Value (W/m²K)",{"$f":"IF(L22=\"\",Q8,'floor u values'!K9)","v":0.65},{"$f":"IF(B$3=\"Ground Floor\",IF(L20=\"Solid Floor (in contact with ground)\",C$4-S$3,C$4-C$5),IF(B$3=\"Single Storey\",IF(L20=\"Solid Floor (in contact with ground)\",C$4-S$3,C$4-C$5),0))","v":8},{"$f":"F20*H20*I20","v":140.608},{"$f":"IF($B$3=$Q$5,0,IF($B$3=$Q$7,0,F20*H20*$C$7*24/1000))","v":939.82387199999994},"Solid Floor (in contact with ground)"]
["Length (m)",{"$f":"B11","v":0},"Width (m)",{"$f":"D11","v":0},"Area (m²)",{"$f":"B21*D21","v":0},"U Value (W/m²K)",{"$f":"H20","v":0.65},{"$f":"IF(B$3=\"Ground Floor\",IF(L20=\"Solid Floor (in contact with ground)\",C$4-S$3,C$4-C$5),IF(B$3=\"Single Storey\",IF(L20=\"Solid Floor (in contact with ground)\",C$4-S$3,C$4-C$5),0))","v":8},{"$f":"F21*H21*I21","v":0},{"$f":"IF($B$3=$Q$5,0,IF($B$3=$Q$7,0,F21*H21*$C$7*24/1000))","v":0},"Exposed floor (external)"]
["Length (m)",0,"Width (m)",0,"Area (m²)",0,"U Value (W/m²K)",{"$f":"H20","v":0.65},{"$f":"IF(B$3=\"Ground Floor\",IF(L20=\"Solid Floor (in contact with ground)\",C$4-S$3,C$4-C$5),IF(B$3=\"Single Storey\",IF(L20=\"Solid Floor (in contact with ground)\",C$4-S$3,C$4-C$5),0))","v":8},{"$f":"F22*H22*I22","v":0},{"$f":"IF($B$3=$Q$5,0,IF($B$3=$Q$7,0,F22*H22*$C$7*24/1000))","v":0},"Two adjacent"]
["External Wall",null,null,null,null,null,null,null,null,null,null,{"$f":"IF(L22=\"Two opposite\",\"Between edges\",IF(L22=\"One edge\",\"Depth of room\",IF(L22=\"3 edges (short single)\",\"Short length\",IF(L22=\"3 edges (long single)\",\"Short length\",\"\"))))","v":""},null,{"$f":"IF(L22=\"3 edges (short single)\",\"Long length\",IF(L22=\"3 edges (long single)\",\"Long length\",\"\"))","v":""}]
["Length (m)",10.76,"Height (m)",2.19,"Area (m²)",23.564399999999999]
["Length (m)",null,"Height (m)",null,"Area (m²)",0]
["Length (m)",null,"Height (m)",null,"Area (m²)",0]
[null,null,null,"Total","Area (m²)",{"$f":"SUM(F24:F26)-SUM(F37:F43,F50:F53)","v":18.090599999999998},"U Value (W/m²K)",{"$f":"IF($B$3=\"Ground floor\",'Design Details'!B$48,IF($B$3=\"Mid-floor\",'Design Details'!B$58,IF($B$3=\"Upper floor\",'Design Details'!B$68,IF($B$3=\"Single Storey\",'Design Details'!B$78,0))))","v":0.44},{"$f":"$C$6","v":21},{"$f":"F27*H27*I27","v":167.15714399999999},{"$f":"F27*H27*$C$7*24/1000","v":425.62984780799991}]
["Roof"]
["Length (m)",1.42,"Width (m)",0.63,"Area (m²)",0.89459999999999995]
["Length (m)",null,"Width (m)",null,"Area (m²)",0]
["Length (m)",null,"Width (m)",null,"Area (m²)",0]
[null,null,null,"Total","Area (m²)",{"$f":"SUM(F29:F31)-SUM(F45:F48)","v":0.89459999999999995},"U Value (W/m²K)",{"$f":"IF($B$3=\"Ground floor\",'Design Details'!B$49,IF($B$3=\"Mid-floor\",'Design Details'!B$59,IF($B$3=\"Upper floor\",'Design Details'!B$69,IF($B$3=\"Single Storey\",'Design Details'!B$79,0))))","v":1.73},8,12.381264,{"$f":"IF($B$3=$Q$4,0,IF($B$3=$Q$5,0,F32*H32*$C$7*24/1000))","v":0}]
["Length (m)",null,"Pitch (m)",null,"Area (m²)",0,"Pitched"]
["Length (m)",null,"Pitch (m)",null,"Area (m²)",0,"Single Pitch"]
[null,null,null,"Total","Area (m²)",{"$f":"SUM(F33:F34)-SUM(F45:F48)","v":0},"U Value (W/m²K)",{"$f":"IF($B$3=\"Ground floor\",'Design Details'!B$50,IF($B$3=\"Mid-floor\",'Design Details'!B$60,IF($B$3=\"Upper floor\",'Design Details'!B$70,IF($B$3=\"Single Storey\",'Design Details'!B$80,0))))","v":0},21,0,{"$f":"IF($B$3=$Q$4,0,IF($B$3=$Q$5,0,F35*H35*$C$7*24/1000))","v":0}]
["Windows"]
["Width (m)",1,"Height (m)",2.94,"Area (m²)",2.94,"U Value (W/m²K)",{"$f":"IF($B$3=\"Ground floor\",'Design Details'!B$46,IF($B$3=\"Mid-floor\",'Design Details'!B$56,IF($B$3=\"Upper floor\",'Design Details'!B$66,IF($B$3=\"Single Storey\",'Design Details'!B$76,0))))","v":2.8},21,172.87199999999999,{"$f":"F37*H37*$C$7*24/1000","v":440.18150399999996}]
["Width (m)",null,"Height (m)",null,"Area (m²)",0,"U Value (W/m²K)",{"$f":"IF($B$3=\"Ground floor\",'Design Details'!B$46,IF($B$3=\"Mid-floor\",'Design Details'!B$56,IF($B$3=\"Upper floor\",'Design Details'!B$66,IF($B$3=\"Single Storey\",'Design Details'!B$76,0))))","v":2.8},21,0,0]
["Width (m)",null,"Height (m)",null,"Area (m²)",0,"U Value (W/m²K)",{"$f":"IF($B$3=\"Ground floor\",'Design Details'!B$46,IF($B$3=\"Mid-floor\",'Design Details'!B$56,IF($B$3=\"Upper floor\",'Design Details'!B$66,IF($B$3=\"Single Storey\",'Design Details'!B$76,0))))","v":2.8},21,0,0]
["Width (m)",null,"Height (m)",null,"Area (m²)",0,"U Value (W/m²K)",{"$f":"IF($B$3=\"Ground floor\",'Design Details'!B$46,IF($B$3=\"Mid-floor\",'Design Details'!B$56,IF($B$3=\"Upper floor\",'Design Details'!B$66,IF($B$3=\"Single Storey\",'Design Details'!B$76,0))))","v":2.8},21,0,0]
["Width (m)",null,"Height (m)",null,"Area (m²)",0,"U Value (W/m²K)",{"$f":"IF($B$3=\"Ground floor\",'Design Details'!B$46,IF($B$3=\"Mid-floor\",'Design Details'!B$56,IF($B$3=\"Upper floor\",'Design Details'!B$66,IF($B$3=\"Single Storey\",'Design Details'!B$76,0))))","v":2.8},21,0,0]
["Width (m)",null,"Height (m)",null,"Area (m²)",0,"U Value (W/m²K)",{"$f":"IF($B$3=\"Ground floor\",'Design Details'!B$46,IF($B$3=\"Mid-floor\",'Design Details'!B$56,IF($B$3=\"Upper floor\",'Design Details'!B$66,IF($B$3=\"Single Storey\",'Design Details'!B$76,0))))","v":2.8},21,0,0]
["Width (m)",null,"Height (m)",null,"Area (m²)",0,"U Value (W/m²K)",{"$f":"IF($B$3=\"Ground floor\",'Design Details'!B$46,IF($B$3=\"Mid-floor\",'Design Details'!B$56,IF($B$3=\"Upper floor\",'Design Details'!B$66,IF($B$3=\"Single Storey\",'Design Details'!B$76,0))))","v":2.8},21,0,0]
["Roof Glazing"]
["Width (m)",null,"Height (m)",null,"Area (m²)",0,"U Value (W/m²K)",{"$f":"IF($B$3=\"Ground floor\",'Design Details'!B$53,IF($B$3=\"Mid-floor\",'Design Details'!B$63,IF($B$3=\"Upper floor\",'Design Details'!B$73,IF($B$3=\"Single Storey\",'Design Details'!B$83,0))))","v":2.8},21,0,{"$f":"F45*H45*$C$7*24/1000","v":0}]
["Width (m)",null,"Height (m)",null,"Area (m²)",0,"U Value (W/m²K)",{"$f":"IF($B$3=\"Ground floor\",'Design Details'!B$53,IF($B$3=\"Mid-floor\",'Design Details'!B$63,IF($B$3=\"Upper floor\",'Design Details'!B$73,IF($B$3=\"Single Storey\",'Design Details'!B$83,0))))","v":2.8},21,0,{"$f":"F46*H46*$C$7*24/1000","v":0}]
["Width (m)",null,"Height (m)",null,"Area (m²)",0,"U Value (W/m²K)",{"$f":"IF($B$3=\"Ground floor\",'Design Details'!B$53,IF($B$3=\"Mid-floor\",'Design Details'!B$63,IF($B$3=\"Upper floor\",'Design Details'!B$73,IF($B$3=\"Single Storey\",'Design Details'!B$83,0))))","v":2.8},21,0,{"$f":"F47*H47*$C$7*24/1000","v":0}]
["Width (m)",null,"Height (m)",null,"Area (m²)",0,"U Value (W/m²K)",{"$f":"IF($B$3=\"Ground floor\",'Design Details'!B$53,IF($B$3=\"Mid-floor\",'Design Details'!B$63,IF($B$3=\"Upper floor\",'Design Details'!B$73,IF($B$3=\"Single Storey\",'Design Details'!B$83,0))))","v":2.8},21,0,{"$f":"F48*H48*$C$7*24/1000","v":0}]
["Doors"]
["Width (m)",2.06,"Height (m)",1.23,"Area (m²)",2.5337999999999998,"U Value (W/m²K)",1.6,21,85.135679999999994,{"$f":"F50*H50*$C$7*24/1000","v":216.77976575999998}]
["Width (m)",null,"Height (m)",null,"Area (m²)",0,"U Value (W/m²K)",{"$f":"IF($B$3=\"Ground floor\",'Design Details'!B$47,IF($B$3=\"Mid-floor\",'Design Details'!B$57,IF($B$3=\"Upper floor\",'Design Details'!B$67,IF($B$3=\"Single Storey\",'Design Details'!B$77,0))))","v":2.8},21,0,{"$f":"F51*H51*$C$7*24/1000","v":0}]
["Width (m)",null,"Height (m)",null,"Area (m²)",0,"U Value (W/m²K)",{"$f":"IF($B$3=\"Ground floor\",'Design Details'!B$47,IF($B$3=\"Mid-floor\",'Design Details'!B$57,IF($B$3=\"Upper floor\",'Design Details'!B$67,IF($B$3=\"Single Storey\",'Design Details'!B$77,0))))","v":2.8},21,0,{"$f":"F52*H52*$C$7*24/1000","v":0}]
["Width (m)",null,"Height (m)",null,"Area (m²)",0,"U Value (W/m²K)",{"$f":"IF($B$3=\"Ground floor\",'Design Details'!B$47,IF($B$3=\"Mid-floor\",'Design Details'!B$57,IF($B$3=\"Upper floor\",'Design Details'!B$67,IF($B$3=\"Single Storey\",'Design Details'!B$77,0))))","v":2.8},21,0,{"$f":"F53*H53*$C$7*24/1000","v":0}]
["Internal Walls",null,null,null,null,null,null,null,null,null,null,"Adjoining Room Temp (°C)"]
["Length (m)",6.76,"Height (m)",2.19,"Area (m²)",14.804399999999999,"U Value (W/m²K)",{"$f":"IF($B$3=\"Ground floor\",'Design Details'!B$51,IF($B$3=\"Mid-floor\",'Design Details'!B$61,IF($B$3=\"Upper floor\",'Design Details'!B$71,IF($B$3=\"Single Storey\",'Design Details'!B$81,0))))","v":1.4},-3,-62.178479999999993]
["Length (m)",null,"Height (m)",null,"Area (m²)",0,"U Value (W/m²K)",{"$f":"IF($B$3=\"Ground floor\",'Design Details'!B$51,IF($B$3=\"Mid-floor\",'Design Details'!B$61,IF($B$3=\"Upper floor\",'Design Details'!B$71,IF($B$3=\"Single Storey\",'Design Details'!B$81,0))))","v":1.4},{"$f":"IF(L56=\"\",0,IF(L56=\"unheated\",C$4-10,C$4-L56))","v":0},0]
["Length (m)",null,"Height (m)",null,"Area (m²)",0,"U Value (W/m²K)",{"$f":"IF($B$3=\"Ground floor\",'Design Details'!B$51,IF($B$3=\"Mid-floor\",'Design Details'!B$61,IF($B$3=\"Upper floor\",'Design Details'!B$71,IF($B$3=\"Single Storey\",'Design Details'!B$81,0))))","v":1.4},{"$f":"IF(L57=\"\",0,IF(L57=\"unheated\",C$4-10,C$4-L57))","v":0},0]
["Length (m)",null,"Height (m)",null,"Area (m²)",0,"U Value (W/m²K)",{"$f":"IF($B$3=\"Ground floor\",'Design Details'!B$51,IF($B$3=\"Mid-floor\",'Design Details'!B$61,IF($B$3=\"Upper floor\",'Design Details'!B$71,IF($B$3=\"Single Storey\",'Design Details'!B$81,0))))","v":1.4},{"$f":"IF(L58=\"\",0,IF(L58=\"unheated\",C$4-10,C$4-L58))","v":0},0]
["Party Wall"]
["Length (m)",null,"Height (m)",null,"Area (m²)",0,"U Value (W/m²K)",{"$f":"IF($B$3=\"Ground floor\",'Design Details'!B$52,IF($B$3=\"Mid-floor\",'Design Details'!B$62,IF($B$3=\"Upper floor\",'Design Details'!B$72,IF($B$3=\"Single Storey\",'Design Details'!B$82,0))))","v":1},{"$f":"C4-10","v":8},0,{"$f":"F60*H60*$C$7*24/1000","v":0}]

{"sheet":"9","index":14,"n_rows":60,"n_cols":24,"rows_kept":60,"cut":false,"hidden":false,"merged":[[2,1,2,2],[2,3,2,4],[0,0,0,2],[0,3,0,5],[0,9,0,10],[1,3,1,4],[3,0,3,1],[3,3,3,4],[4,0,4,1],[4,3,4,4],[5,0,5,1],[5,3,5,4],[57,11,57,13],[6,0,6,1],[18,11,18,13],[19,11,19,13],[53,11,53,13],[54,11,54,13],[55,11,55,13],[56,11,56,13],[30,11,30,13],[10,10,10,13],[9,10,9,13],[20,11,20,13],[21,11,21,13]]}
["Room Information",null,null,"Ventilation Heat Loss",null,null,"Fabric ","Heat Loss (W)"," Usage (kWh)","Additional heat loss",null,"Addition","Watts","kWh"]
["Room","Bedroom",1,"Air Changes a hour",null,{"$f":"'Design Details'!F95","v":"1.0"},"Floor",{"$f":"SUM(J20:J22)","v":0},{"$f":"SUM(K20:K22)","v":0},"Thermal Bridging (New Build >2006)",null,0,{"$f":"SUM(H$2:H$6)*L2","v":0},{"$f":"SUM(I$2:I$6)*L2","v":0},null,"3 edges (long single)","Level",null,null,null,null,null,null,1]
["Level","Upper floor",null,"Air Change Factor (W/m³K)",null,0.33,"Ext Wall",{"$f":"J27","v":131.94720000000001},{"$f":"K27","v":335.97527040000006},"Exposed location",null,0,{"$f":"SUM(H$2:H$6)*L3","v":0},{"$f":"SUM(I$2:I$6)*L3","v":0},null,"3 edges (short single)","Please Select Floor",{"$f":"IF($B$3=\"Ground floor\",\"Solid Floor (in contact with ground)\",IF($B$3=\"Single Storey\",\"Solid Floor (in contact with ground)\",\"n/a\"))","v":"n/a"},{"$f":"'Design Details'!B21","v":10},"unheated",0,0,0,2]
["Design Room Temp (°C)",null,{"$f":"'Design Details'!D95","v":18},"Total Volume (m³)",null,{"$f":"SUM(H10:H12,H14:H18)","v":28.32},"Roof",{"$f":"SUM(J32,J35)","v":29.735999999999997},{"$f":"SUM(K32,K35)","v":75.716352000000001},"High ceiling",null,0,{"$f":"SUM(H$2:H$6)*L4","v":0},{"$f":"SUM(I$2:I$6)*L4","v":0},null,"One edge","Ground floor",{"$f":"IF($B$3=\"Ground floor\",\"Suspended Floor\",IF($B$3=\"Single Storey\",\"Suspended Floor\",\"n/a\"))","v":"n/a"},null,16,0.1,0.2,2.5000000000000001E-2,3]
["Outside Design Temp (°C)",null,{"$f":"'Design Details'!B19","v":-3},"Heat loss (W)",null,{"$f":"F4*F3*C6*F2","v":196.25760000000002},"Glazing",{"$f":"SUM(J37:J43,J45:J48,J50:J53)","v":141.12},{"$f":"SUM(K37:K43,K45:K48,K50:K53)","v":359.33183999999994},"Intermittent heating",null,0,{"$f":"SUM(H$2:H$6)*L5","v":0},{"$f":"SUM(I$2:I$6)*L5","v":0},null,"Two adjacent","Mid-floor",null,null,18,null,null,0.05,4]
["Temp Difference (°C)",null,{"$f":"C4-C5","v":21},"Estimated Energy usage (kWh)",null,{"$f":"F4*F3*C7*24/1000","v":499.72792320000002},"Int./Party Wall",{"$f":"SUM(J55:J58,J60)","v":46.894079999999995},{"$f":"SUM(K60)","v":0},null,null,null,"Total Room Heat Loss (W)",{"$f":"SUM(F5,H2:H6,M2:M5)","v":545.95488},null,"Two opposite","Single storey",null,null,21,null,null,7.4999999999999997E-2,5]
["Degree Days",null,{"$f":"'Design Details'!B20","v":2228},null,null,null,null,null,null,null,null,null,"Total Room Energy Usage (kWh)",{"$f":"SUM(F6,I2:I6,N2:N5)","v":1270.7513856},null,null,"Upper floor",null,null,22,null,null,0.1,6]
[null,null,null,null,null,null,null,null,null,null,null,null,null,null,null,null,{"$f":"IF($B$3=\"Ground floor\",'Design Details'!B$45,IF($B$3=\"Mid-floor\",'Design Details'!B$55,IF($B$3=\"Upper floor\",'Design Details'!B$65,IF($B$3=\"Single Storey\",'Design Details'!B$75,0))))","v":0},null,null,null,null,null,null,7]
["Room Dimensions",null,null,null,null,null,null,null,null,null,null,null,null,null,null,null,null,null,null,null,null,null,null,8]
["Length (m)",2.95,"Width (m)",4,"Height (m)",2.4,"Volume (m³)",{"$f":"B10*D10*F10","v":28.32},null,null,null,null,null,null,null,null,null,null,null,null,null,null,null,9]
["Length (m)",null,"Width (m)",null,"Height (m)",null,"Volume (m³)",{"$f":"B11*D11*F11","v":0},null,null,null,null,null,null,null,null,null,null,null,null,null,null,null,10]
["Length (m)",null,"Width (m)",null,"Height (m)",null,"Volume (m³)",{"$f":"B12*D12*F12","v":0}]
["Awkward Room Dimensions"]
["Length (m)",null,"Width (m)",null,"Height (m)",null,"Volume (m³)",{"$f":"((F14*D14)/2)*B14","v":0},"Pitched"]
["Length (m)",null,"Width (m)",null,"Height (m)",null,"Volume (m³)",{"$f":"B15*D15*F15/2","v":0},"Single Pitch"]
["Length (m)",null,"Height (m)",null,"Depth (m)",null,"Volume (m³)",{"$f":"D16*F16*B16/2","v":0},"Dormer 1"]
["Length (m)",null,"Height (m)",null,"Depth (m)",null,"Volume (m³)",{"$f":"D17*F17*B17/2","v":0},"Dormer 2"]
["Length (m)",null,"Height (m)",null,"Depth (m)",null,"Volume (m³)",{"$f":"D18*F18*B18/2","v":0},"Dormer 3"]
["Floor",null,null,null,null,null,null,null,"Temp Difference","Heat Loss (W)","Usage (kWh)","Type of Ground Floor"]
["Length (m)",{"$f":"B10","v":2.95},"Width (m)",{"$f":"D10","v":4},"Area (m²)",{"$f":"B20*D20","v":11.8},"U Value (W/m²K)",{"$f":"IF(L22=\"\",Q8,'floor u values'!K10)","v":0},{"$f":"IF(B$3=\"Ground Floor\",IF(L20=\"Solid Floor (in contact with ground)\",C$4-S$3,C$4-C$5),IF(B$3=\"Single Storey\",IF(L20=\"Solid Floor (in contact with ground)\",C$4-S$3,C$4-C$5),0))","v":0},{"$f":"F20*H20*I20","v":0},{"$f":"IF($B$3=$Q$5,0,IF($B$3=$Q$7,0,F20*H20*$C$7*24/1000))","v":0}]
["Length (m)",{"$f":"B11","v":0},"Width (m)",{"$f":"D11","v":0},"Area (m²)",{"$f":"B21*D21","v":0},"U Value (W/m²K)",{"$f":"H20","v":0},{"$f":"IF(B$3=\"Ground Floor\",IF(L20=\"Solid Floor (in contact with ground)\",C$4-S$3,C$4-C$5),IF(B$3=\"Single Storey\",IF(L20=\"Solid Floor (in contact with ground)\",C$4-S$3,C$4-C$5),0))","v":0},{"$f":"F21*H21*I21","v":0},{"$f":"IF($B$3=$Q$5,0,IF($B$3=$Q$7,0,F21*H21*$C$7*24/1000))","v":0},"Exposed floor (external)"]
["Length (m)",0,"Width (m)",0,"Area (m²)",0,"U Value (W/m²K)",{"$f":"H20","v":0},{"$f":"IF(B$3=\"Ground Floor\",IF(L20=\"Solid Floor (in contact with ground)\",C$4-S$3,C$4-C$5),IF(B$3=\"Single Storey\",IF(L20=\"Solid Floor (in contact with ground)\",C$4-S$3,C$4-C$5),0))","v":0},{"$f":"F22*H22*I22","v":0},{"$f":"IF($B$3=$Q$5,0,IF($B$3=$Q$7,0,F22*H22*$C$7*24/1000))","v":0}]
["External Wall",null,null,null,null,null,null,null,null,null,null,{"$f":"IF(L22=\"Two opposite\",\"Between edges\",IF(L22=\"One edge\",\"Depth of room\",IF(L22=\"3 edges (short single)\",\"Short length\",IF(L22=\"3 edges (long single)\",\"Short length\",\"\"))))","v":""},null,{"$f":"IF(L22=\"3 edges (short single)\",\"Long length\",IF(L22=\"3 edges (long single)\",\"Long length\",\"\"))","v":""}]
["Length (m)",6.95,"Height (m)",2.4,"Area (m²)",16.68]
["Length (m)",null,"Height (m)",null,"Area (m²)",0]
["Length (m)",null,"Height (m)",null,"Area (m²)",0]
[null,null,null,"Total","Area (m²)",{"$f":"SUM(F24:F26)-SUM(F37:F43,F50:F53)","v":14.28},"U Value (W/m²K)",{"$f":"IF($B$3=\"Ground floor\",'Design Details'!B$48,IF($B$3=\"Mid-floor\",'Design Details'!B$58,IF($B$3=\"Upper floor\",'Design Details'!B$68,IF($B$3=\"Single Storey\",'Design Details'!B$78,0))))","v":0.44},{"$f":"$C$6","v":21},{"$f":"F27*H27*I27","v":131.94720000000001},{"$f":"F27*H27*$C$7*24/1000","v":335.97527040000006}]
["Roof"]
["Length (m)",{"$f":"B10","v":2.95},"Width (m)",{"$f":"D10","v":4},"Area (m²)",11.8]
["Length (m)",{"$f":"B11","v":0},"Width (m)",{"$f":"D11","v":0},"Area (m²)",0]
["Length (m)",0,"Width (m)",0,"Area (m²)",0]
[null,null,null,"Total","Area (m²)",{"$f":"SUM(F29:F31)-SUM(F45:F48)","v":11.8},"U Value (W/m²K)",{"$f":"IF($B$3=\"Ground floor\",'Design Details'!B$49,IF($B$3=\"Mid-floor\",'Design Details'!B$59,IF($B$3=\"Upper floor\",'Design Details'!B$69,IF($B$3=\"Single Storey\",'Design Details'!B$79,0))))","v":0.12},{"$f":"$C$6","v":21},29.735999999999997,{"$f":"IF($B$3=$Q$4,0,IF($B$3=$Q$5,0,F32*H32*$C$7*24/1000))","v":75.716352000000001}]
["Length (m)",null,"Pitch (m)",null,"Area (m²)",0,"Pitched"]
["Length (m)",null,"Pitch (m)",null,"Area (m²)",0,"Single Pitch"]
[null,null,null,"Total","Area (m²)",{"$f":"SUM(F33:F34)-SUM(F45:F48)","v":0},"U Value (W/m²K)",{"$f":"IF($B$3=\"Ground floor\",'Design Details'!B$50,IF($B$3=\"Mid-floor\",'Design Details'!B$60,IF($B$3=\"Upper floor\",'Design Details'!B$70,IF($B$3=\"Single Storey\",'Design Details'!B$80,0))))","v":0.12},21,0,{"$f":"IF($B$3=$Q$4,0,IF($B$3=$Q$5,0,F35*H35*$C$7*24/1000))","v":0}]
["Windows"]
["Width (m)",2,"Height (m)",1.2,"Area (m²)",2.4,"U Value (W/m²K)",{"$f":"IF($B$3=\"Ground floor\",'Design Details'!B$46,IF($B$3=\"Mid-floor\",'Design Details'!B$56,IF($B$3=\"Upper floor\",'Design Details'!B$66,IF($B$3=\"Single Storey\",'Design Details'!B$76,0))))","v":2.8},21,141.12,{"$f":"F37*H37*$C$7*24/1000","v":359.33183999999994}]
["Width (m)",null,"Height (m)",null,"Area (m²)",0,"U Value (W/m²K)",{"$f":"IF($B$3=\"Ground floor\",'Design Details'!B$46,IF($B$3=\"Mid-floor\",'Design Details'!B$56,IF($B$3=\"Upper floor\",'Design Details'!B$66,IF($B$3=\"Single Storey\",'Design Details'!B$76,0))))","v":2.8},21,0,0]
["Width (m)",null,"Height (m)",null,"Area (m²)",0,"U Value (W/m²K)",{"$f":"IF($B$3=\"Ground floor\",'Design Details'!B$46,IF($B$3=\"Mid-floor\",'Design Details'!B$56,IF($B$3=\"Upper floor\",'Design Details'!B$66,IF($B$3=\"Single Storey\",'Design Details'!B$76,0))))","v":2.8},21,0,0]
["Width (m)",null,"Height (m)",null,"Area (m²)",0,"U Value (W/m²K)",{"$f":"IF($B$3=\"Ground floor\",'Design Details'!B$46,IF($B$3=\"Mid-floor\",'Design Details'!B$56,IF($B$3=\"Upper floor\",'Design Details'!B$66,IF($B$3=\"Single Storey\",'Design Details'!B$76,0))))","v":2.8},21,0,0]
["Width (m)",null,"Height (m)",null,"Area (m²)",0,"U Value (W/m²K)",{"$f":"IF($B$3=\"Ground floor\",'Design Details'!B$46,IF($B$3=\"Mid-floor\",'Design Details'!B$56,IF($B$3=\"Upper floor\",'Design Details'!B$66,IF($B$3=\"Single Storey\",'Design Details'!B$76,0))))","v":2.8},21,0,0]
["Width (m)",null,"Height (m)",null,"Area (m²)",0,"U Value (W/m²K)",{"$f":"IF($B$3=\"Ground floor\",'Design Details'!B$46,IF($B$3=\"Mid-floor\",'Design Details'!B$56,IF($B$3=\"Upper floor\",'Design Details'!B$66,IF($B$3=\"Single Storey\",'Design Details'!B$76,0))))","v":2.8},21,0,0]
["Width (m)",null,"Height (m)",null,"Area (m²)",0,"U Value (W/m²K)",{"$f":"IF($B$3=\"Ground floor\",'Design Details'!B$46,IF($B$3=\"Mid-floor\",'Design Details'!B$56,IF($B$3=\"Upper floor\",'Design Details'!B$66,IF($B$3=\"Single Storey\",'Design Details'!B$76,0))))","v":2.8},21,0,0]
["Roof Glazing"]
["Width (m)",null,"Height (m)",null,"Area (m²)",0,"U Value (W/m²K)",{"$f":"IF($B$3=\"Ground floor\",'Design Details'!B$53,IF($B$3=\"Mid-floor\",'Design Details'!B$63,IF($B$3=\"Upper floor\",'Design Details'!B$73,IF($B$3=\"Single Storey\",'Design Details'!B$83,0))))","v":2.8},21,0,{"$f":"F45*H45*$C$7*24/1000","v":0}]
["Width (m)",null,"Height (m)",null,"Area (m²)",0,"U Value (W/m²K)",{"$f":"IF($B$3=\"Ground floor\",'Design Details'!B$53,IF($B$3=\"Mid-floor\",'Design Details'!B$63,IF($B$3=\"Upper floor\",'Design Details'!B$73,IF($B$3=\"Single Storey\",'Design Details'!B$83,0))))","v":2.8},21,0,{"$f":"F46*H46*$C$7*24/1000","v":0}]
["Width (m)",null,"Height (m)",null,"Area (m²)",0,"U Value (W/m²K)",{"$f":"IF($B$3=\"Ground floor\",'Design Details'!B$53,IF($B$3=\"Mid-floor\",'Design Details'!B$63,IF($B$3=\"Upper floor\",'Design Details'!B$73,IF($B$3=\"Single Storey\",'Design Details'!B$83,0))))","v":2.8},21,0,{"$f":"F47*H47*$C$7*24/1000","v":0}]
["Width (m)",null,"Height (m)",null,"Area (m²)",0,"U Value (W/m²K)",{"$f":"IF($B$3=\"Ground floor\",'Design Details'!B$53,IF($B$3=\"Mid-floor\",'Design Details'!B$63,IF($B$3=\"Upper floor\",'Design Details'!B$73,IF($B$3=\"Single Storey\",'Design Details'!B$83,0))))","v":2.8},21,0,{"$f":"F48*H48*$C$7*24/1000","v":0}]
["Doors"]
["Width (m)",null,"Height (m)",null,"Area (m²)",0,"U Value (W/m²K)",{"$f":"IF($B$3=\"Ground floor\",'Design Details'!B$47,IF($B$3=\"Mid-floor\",'Design Details'!B$57,IF($B$3=\"Upper floor\",'Design Details'!B$67,IF($B$3=\"Single Storey\",'Design Details'!B$77,0))))","v":2.8},21,0,{"$f":"F50*H50*$C$7*24/1000","v":0}]
["Width (m)",null,"Height (m)",null,"Area (m²)",0,"U Value (W/m²K)",{"$f":"IF($B$3=\"Ground floor\",'Design Details'!B$47,IF($B$3=\"Mid-floor\",'Design Details'!B$57,IF($B$3=\"Upper floor\",'Design Details'!B$67,IF($B$3=\"Single Storey\",'Design Details'!B$77,0))))","v":2.8},21,0,{"$f":"F51*H51*$C$7*24/1000","v":0}]
["Width (m)",null,"Height (m)",null,"Area (m²)",0,"U Value (W/m²K)",{"$f":"IF($B$3=\"Ground floor\",'Design Details'!B$47,IF($B$3=\"Mid-floor\",'Design Details'!B$57,IF($B$3=\"Upper floor\",'Design Details'!B$67,IF($B$3=\"Single Storey\",'Design Details'!B$77,0))))","v":2.8},21,0,{"$f":"F52*H52*$C$7*24/1000","v":0}]
["Width (m)",null,"Height (m)",null,"Area (m²)",0,"U Value (W/m²K)",{"$f":"IF($B$3=\"Ground floor\",'Design Details'!B$47,IF($B$3=\"Mid-floor\",'Design Details'!B$57,IF($B$3=\"Upper floor\",'Design Details'!B$67,IF($B$3=\"Single Storey\",'Design Details'!B$77,0))))","v":2.8},21,0,{"$f":"F53*H53*$C$7*24/1000","v":0}]
["Internal Walls",null,null,null,null,null,null,null,null,null,null,"Adjoining Room Temp (°C)"]
["Length (m)",1.42,"Height (m)",2.4,"Area (m²)",3.4079999999999999,"U Value (W/m²K)",{"$f":"IF($B$3=\"Ground floor\",'Design Details'!B$51,IF($B$3=\"Mid-floor\",'Design Details'!B$61,IF($B$3=\"Upper floor\",'Design Details'!B$71,IF($B$3=\"Single Storey\",'Design Details'!B$81,0))))","v":1.72},8,46.894079999999995]
["Length (m)",null,"Height (m)",null,"Area (m²)",0,"U Value (W/m²K)",{"$f":"IF($B$3=\"Ground floor\",'Design Details'!B$51,IF($B$3=\"Mid-floor\",'Design Details'!B$61,IF($B$3=\"Upper floor\",'Design Details'!B$71,IF($B$3=\"Single Storey\",'Design Details'!B$81,0))))","v":1.72},{"$f":"IF(L56=\"\",0,IF(L56=\"unheated\",C$4-10,C$4-L56))","v":0},0]
["Length (m)",null,"Height (m)",null,"Area (m²)",0,"U Value (W/m²K)",{"$f":"IF($B$3=\"Ground floor\",'Design Details'!B$51,IF($B$3=\"Mid-floor\",'Design Details'!B$61,IF($B$3=\"Upper floor\",'Design Details'!B$71,IF($B$3=\"Single Storey\",'Design Details'!B$81,0))))","v":1.72},{"$f":"IF(L57=\"\",0,IF(L57=\"unheated\",C$4-10,C$4-L57))","v":0},0]
["Length (m)",null,"Height (m)",null,"Area (m²)",0,"U Value (W/m²K)",{"$f":"IF($B$3=\"Ground floor\",'Design Details'!B$51,IF($B$3=\"Mid-floor\",'Design Details'!B$61,IF($B$3=\"Upper floor\",'Design Details'!B$71,IF($B$3=\"Single Storey\",'Design Details'!B$81,0))))","v":1.72},{"$f":"IF(L58=\"\",0,IF(L58=\"unheated\",C$4-10,C$4-L58))","v":0},0]
["Party Wall"]
["Length (m)",null,"Height (m)",null,"Area (m²)",0,"U Value (W/m²K)",{"$f":"IF($B$3=\"Ground floor\",'Design Details'!B$52,IF($B$3=\"Mid-floor\",'Design Details'!B$62,IF($B$3=\"Upper floor\",'Design Details'!B$72,IF($B$3=\"Single Storey\",'Design Details'!B$82,0))))","v":1},{"$f":"C4-10","v":8},0,{"$f":"F60*H60*$C$7*24/1000","v":0}]

{"sheet":"10","index":15,"n_rows":60,"n_cols":24,"rows_kept":60,"cut":false,"hidden":false,"merged":[[2,1,2,2],[2,3,2,4],[0,0,0,2],[0,3,0,5],[0,9,0,10],[1,3,1,4],[3,0,3,1],[3,3,3,4],[4,0,4,1],[4,3,4,4],[5,0,5,1],[5,3,5,4],[57,11,57,13],[6,0,6,1],[18,11,18,13],[19,11,19,13],[53,11,53,13],[54,11,54,13],[55,11,55,13],[56,11,56,13],[30,11,30,13],[10,10,10,13],[9,10,9,13],[20,11,20,13],[21,11,21,13]]}
["Room Information",null,null,"Ventilation Heat Loss",null,null,"Fabric ","Heat Loss (W)"," Usage (kWh)","Additional heat loss",null,"Addition","Watts","kWh"]
["Room","Bedroom",2,"Air Changes a hour",null,{"$f":"'Design Details'!F96","v":"1.0"},"Floor",{"$f":"SUM(J20:J22)","v":0},{"$f":"SUM(K20:K22)","v":0},"Thermal Bridging (New Build >2006)",null,0,{"$f":"SUM(H$2:H$6)*L2","v":0},{"$f":"SUM(I$2:I$6)*L2","v":0},null,"3 edges (long single)","Level",null,null,null,null,null,null,1]
["Level","Upper floor",null,"Air Change Factor (W/m³K)",null,0.33,"Ext Wall",{"$f":"J27","v":239.96901599999998},{"$f":"K27","v":611.02967731199999},"Exposed location",null,0,{"$f":"SUM(H$2:H$6)*L3","v":0},{"$f":"SUM(I$2:I$6)*L3","v":0},null,"3 edges (short single)","Please Select Floor",{"$f":"IF($B$3=\"Ground floor\",\"Solid Floor (in contact with ground)\",IF($B$3=\"Single Storey\",\"Solid Floor (in contact with ground)\",\"n/a\"))","v":"n/a"},{"$f":"'Design Details'!B21","v":10},"unheated",0,0,0,2]
["Design Room Temp (°C)",null,{"$f":"'Design Details'!D96","v":18},"Total Volume (m³)",null,{"$f":"SUM(H10:H12,H14:H18)","v":20.497920000000001},"Roof",{"$f":"SUM(J32,J35)","v":21.522815999999999},{"$f":"SUM(K32,K35)","v":54.803238911999998},"High ceiling",null,0,{"$f":"SUM(H$2:H$6)*L4","v":0},{"$f":"SUM(I$2:I$6)*L4","v":0},null,"One edge","Ground floor",{"$f":"IF($B$3=\"Ground floor\",\"Suspended Floor\",IF($B$3=\"Single Storey\",\"Suspended Floor\",\"n/a\"))","v":"n/a"},null,16,0.1,0.2,2.5000000000000001E-2,3]
["Outside Design Temp (°C)",null,{"$f":"'Design Details'!B19","v":-3},"Heat loss (W)",null,{"$f":"F4*F3*C6*F2","v":142.05058560000001},"Glazing",{"$f":"SUM(J37:J43,J45:J48,J50:J53)","v":81.873119999999986},{"$f":"SUM(K37:K43,K45:K48,K50:K53)","v":208.47235583999998},"Intermittent heating",null,0,{"$f":"SUM(H$2:H$6)*L5","v":0},{"$f":"SUM(I$2:I$6)*L5","v":0},null,"Two adjacent","Mid-floor",null,null,18,null,null,0.05,4]
["Temp Difference (°C)",null,{"$f":"C4-C5","v":21},"Estimated Energy usage (kWh)",null,{"$f":"F4*F3*C7*24/1000","v":361.70137681919999},"Int./Party Wall",{"$f":"SUM(J55:J58,J60)","v":0},{"$f":"SUM(K60)","v":0},null,null,null,"Total Room Heat Loss (W)",{"$f":"SUM(F5,H2:H6,M2:M5)","v":485.41553759999994},null,"Two opposite","Single storey",null,null,21,null,null,7.4999999999999997E-2,5]
["Degree Days",null,{"$f":"'Design Details'!B20","v":2228},null,null,null,null,null,null,null,null,null,"Total Room Energy Usage (kWh)",{"$f":"SUM(F6,I2:I6,N2:N5)","v":1236.0066488831999},null,null,"Upper floor",null,null,22,null,null,0.1,6]
[null,null,null,null,null,null,null,null,null,null,null,null,null,null,null,null,{"$f":"IF($B$3=\"Ground floor\",'Design Details'!B$45,IF($B$3=\"Mid-floor\",'Design Details'!B$55,IF($B$3=\"Upper floor\",'Design Details'!B$65,IF($B$3=\"Single Storey\",'Design Details'!B$75,0))))","v":0},null,null,null,null,null,null,7]
["Room Dimensions",null,null,null,null,null,null,null,null,null,null,null,null,null,null,null,null,null,null,null,null,null,null,8]
["Length (m)",2.72,"Width (m)",3.14,"Height (m)",2.4,"Volume (m³)",{"$f":"B10*D10*F10","v":20.497920000000001},null,null,null,null,null,null,null,null,null,null,null,null,null,null,null,9]
["Length (m)",null,"Width (m)",null,"Height (m)",null,"Volume (m³)",{"$f":"B11*D11*F11","v":0},null,null,null,null,null,null,null,null,null,null,null,null,null,null,null,10]
["Length (m)",null,"Width (m)",null,"Height (m)",null,"Volume (m³)",{"$f":"B12*D12*F12","v":0}]
["Awkward Room Dimensions"]
["Length (m)",null,"Width (m)",null,"Height (m)",null,"Volume (m³)",{"$f":"((F14*D14)/2)*B14","v":0},"Pitched"]
["Length (m)",null,"Width (m)",null,"Height (m)",null,"Volume (m³)",{"$f":"B15*D15*F15/2","v":0},"Single Pitch"]
["Length (m)",null,"Height (m)",null,"Depth (m)",null,"Volume (m³)",{"$f":"D16*F16*B16/2","v":0},"Dormer 1"]
["Length (m)",null,"Height (m)",null,"Depth (m)",null,"Volume (m³)",{"$f":"D17*F17*B17/2","v":0},"Dormer 2"]
["Length (m)",null,"Height (m)",null,"Depth (m)",null,"Volume (m³)",{"$f":"D18*F18*B18/2","v":0},"Dormer 3"]
["Floor",null,null,null,null,null,null,null,"Temp Difference","Heat Loss (W)","Usage (kWh)","Type of Ground Floor"]
["Length (m)",{"$f":"B10","v":2.72},"Width (m)",{"$f":"D10","v":3.14},"Area (m²)",{"$f":"B20*D20","v":8.5408000000000008},"U Value (W/m²K)",{"$f":"IF(L22=\"\",Q8,'floor u values'!K11)","v":0},{"$f":"IF(B$3=\"Ground Floor\",IF(L20=\"Solid Floor (in contact with ground)\",C$4-S$3,C$4-C$5),IF(B$3=\"Single Storey\",IF(L20=\"Solid Floor (in contact with ground)\",C$4-S$3,C$4-C$5),0))","v":0},{"$f":"F20*H20*I20","v":0},{"$f":"IF($B$3=$Q$5,0,IF($B$3=$Q$7,0,F20*H20*$C$7*24/1000))","v":0}]
["Length (m)",{"$f":"B11","v":0},"Width (m)",{"$f":"D11","v":0},"Area (m²)",{"$f":"B21*D21","v":0},"U Value (W/m²K)",{"$f":"H20","v":0},{"$f":"IF(B$3=\"Ground Floor\",IF(L20=\"Solid Floor (in contact with ground)\",C$4-S$3,C$4-C$5),IF(B$3=\"Single Storey\",IF(L20=\"Solid Floor (in contact with ground)\",C$4-S$3,C$4-C$5),0))","v":0},{"$f":"F21*H21*I21","v":0},{"$f":"IF($B$3=$Q$5,0,IF($B$3=$Q$7,0,F21*H21*$C$7*24/1000))","v":0},"Exposed floor (external)"]
["Length (m)",0,"Width (m)",0,"Area (m²)",0,"U Value (W/m²K)",{"$f":"H20","v":0},{"$f":"IF(B$3=\"Ground Floor\",IF(L20=\"Solid Floor (in contact with ground)\",C$4-S$3,C$4-C$5),IF(B$3=\"Single Storey\",IF(L20=\"Solid Floor (in contact with ground)\",C$4-S$3,C$4-C$5),0))","v":0},{"$f":"F22*H22*I22","v":0},{"$f":"IF($B$3=$Q$5,0,IF($B$3=$Q$7,0,F22*H22*$C$7*24/1000))","v":0}]
["External Wall",null,null,null,null,null,null,null,null,null,null,{"$f":"IF(L22=\"Two opposite\",\"Between edges\",IF(L22=\"One edge\",\"Depth of room\",IF(L22=\"3 edges (short single)\",\"Short length\",IF(L22=\"3 edges (long single)\",\"Short length\",\"\"))))","v":""},null,{"$f":"IF(L22=\"3 edges (short single)\",\"Long length\",IF(L22=\"3 edges (long single)\",\"Long length\",\"\"))","v":""}]
["Length (m)",3.14,"Height (m)",2.4,"Area (m²)",7.5359999999999996]
["Length (m)",null,"Height (m)",null,"Area (m²)",0]
["Length (m)",null,"Height (m)",null,"Area (m²)",0]
[null,null,null,"Total","Area (m²)",{"$f":"SUM(F24:F26)-SUM(F37:F43,F50:F53)","v":6.1435999999999993},"U Value (W/m²K)",1.86,{"$f":"$C$6","v":21},{"$f":"F27*H27*I27","v":239.96901599999998},{"$f":"F27*H27*$C$7*24/1000","v":611.02967731199999}]
["Roof"]
["Length (m)",{"$f":"B10","v":2.72},"Width (m)",{"$f":"D10","v":3.14},"Area (m²)",8.5408000000000008]
["Length (m)",{"$f":"B11","v":0},"Width (m)",{"$f":"D11","v":0},"Area (m²)",0]
["Length (m)",0,"Width (m)",0,"Area (m²)",0]
[null,null,null,"Total","Area (m²)",{"$f":"SUM(F29:F31)-SUM(F45:F48)","v":8.5408000000000008},"U Value (W/m²K)",{"$f":"IF($B$3=\"Ground floor\",'Design Details'!B$49,IF($B$3=\"Mid-floor\",'Design Details'!B$59,IF($B$3=\"Upper floor\",'Design Details'!B$69,IF($B$3=\"Single Storey\",'Design Details'!B$79,0))))","v":0.12},{"$f":"$C$6","v":21},21.522815999999999,{"$f":"IF($B$3=$Q$4,0,IF($B$3=$Q$5,0,F32*H32*$C$7*24/1000))","v":54.803238911999998}]
["Length (m)",null,"Pitch (m)",null,"Area (m²)",0,"Pitched"]
["Length (m)",null,"Pitch (m)",null,"Area (m²)",0,"Single Pitch"]
[null,null,null,"Total","Area (m²)",{"$f":"SUM(F33:F34)-SUM(F45:F48)","v":0},"U Value (W/m²K)",{"$f":"IF($B$3=\"Ground floor\",'Design Details'!B$50,IF($B$3=\"Mid-floor\",'Design Details'!B$60,IF($B$3=\"Upper floor\",'Design Details'!B$70,IF($B$3=\"Single Storey\",'Design Details'!B$80,0))))","v":0.12},21,0,{"$f":"IF($B$3=$Q$4,0,IF($B$3=$Q$5,0,F35*H35*$C$7*24/1000))","v":0}]
["Windows"]
["Width (m)",1.18,"Height (m)",1.18,"Area (m²)",1.3923999999999999,"U Value (W/m²K)",{"$f":"IF($B$3=\"Ground floor\",'Design Details'!B$46,IF($B$3=\"Mid-floor\",'Design Details'!B$56,IF($B$3=\"Upper floor\",'Design Details'!B$66,IF($B$3=\"Single Storey\",'Design Details'!B$76,0))))","v":2.8},21,81.873119999999986,{"$f":"F37*H37*$C$7*24/1000","v":208.47235583999998}]
["Width (m)",null,"Height (m)",null,"Area (m²)",0,"U Value (W/m²K)",{"$f":"IF($B$3=\"Ground floor\",'Design Details'!B$46,IF($B$3=\"Mid-floor\",'Design Details'!B$56,IF($B$3=\"Upper floor\",'Design Details'!B$66,IF($B$3=\"Single Storey\",'Design Details'!B$76,0))))","v":2.8},21,0,0]
["Width (m)",null,"Height (m)",null,"Area (m²)",0,"U Value (W/m²K)",{"$f":"IF($B$3=\"Ground floor\",'Design Details'!B$46,IF($B$3=\"Mid-floor\",'Design Details'!B$56,IF($B$3=\"Upper floor\",'Design Details'!B$66,IF($B$3=\"Single Storey\",'Design Details'!B$76,0))))","v":2.8},21,0,0]
["Width (m)",null,"Height (m)",null,"Area (m²)",0,"U Value (W/m²K)",{"$f":"IF($B$3=\"Ground floor\",'Design Details'!B$46,IF($B$3=\"Mid-floor\",'Design Details'!B$56,IF($B$3=\"Upper floor\",'Design Details'!B$66,IF($B$3=\"Single Storey\",'Design Details'!B$76,0))))","v":2.8},21,0,0]
["Width (m)",null,"Height (m)",null,"Area (m²)",0,"U Value (W/m²K)",{"$f":"IF($B$3=\"Ground floor\",'Design Details'!B$46,IF($B$3=\"Mid-floor\",'Design Details'!B$56,IF($B$3=\"Upper floor\",'Design Details'!B$66,IF($B$3=\"Single Storey\",'Design Details'!B$76,0))))","v":2.8},21,0,0]
["Width (m)",null,"Height (m)",null,"Area (m²)",0,"U Value (W/m²K)",{"$f":"IF($B$3=\"Ground floor\",'Design Details'!B$46,IF($B$3=\"Mid-floor\",'Design Details'!B$56,IF($B$3=\"Upper floor\",'Design Details'!B$66,IF($B$3=\"Single Storey\",'Design Details'!B$76,0))))","v":2.8},21,0,0]
["Width (m)",null,"Height (m)",null,"Area (m²)",0,"U Value (W/m²K)",{"$f":"IF($B$3=\"Ground floor\",'Design Details'!B$46,IF($B$3=\"Mid-floor\",'Design Details'!B$56,IF($B$3=\"Upper floor\",'Design Details'!B$66,IF($B$3=\"Single Storey\",'Design Details'!B$76,0))))","v":2.8},21,0,0]
["Roof Glazing"]
["Width (m)",null,"Height (m)",null,"Area (m²)",0,"U Value (W/m²K)",{"$f":"IF($B$3=\"Ground floor\",'Design Details'!B$53,IF($B$3=\"Mid-floor\",'Design Details'!B$63,IF($B$3=\"Upper floor\",'Design Details'!B$73,IF($B$3=\"Single Storey\",'Design Details'!B$83,0))))","v":2.8},21,0,{"$f":"F45*H45*$C$7*24/1000","v":0}]
["Width (m)",null,"Height (m)",null,"Area (m²)",0,"U Value (W/m²K)",{"$f":"IF($B$3=\"Ground floor\",'Design Details'!B$53,IF($B$3=\"Mid-floor\",'Design Details'!B$63,IF($B$3=\"Upper floor\",'Design Details'!B$73,IF($B$3=\"Single Storey\",'Design Details'!B$83,0))))","v":2.8},21,0,{"$f":"F46*H46*$C$7*24/1000","v":0}]
["Width (m)",null,"Height (m)",null,"Area (m²)",0,"U Value (W/m²K)",{"$f":"IF($B$3=\"Ground floor\",'Design Details'!B$53,IF($B$3=\"Mid-floor\",'Design Details'!B$63,IF($B$3=\"Upper floor\",'Design Details'!B$73,IF($B$3=\"Single Storey\",'Design Details'!B$83,0))))","v":2.8},21,0,{"$f":"F47*H47*$C$7*24/1000","v":0}]
["Width (m)",null,"Height (m)",null,"Area (m²)",0,"U Value (W/m²K)",{"$f":"IF($B$3=\"Ground floor\",'Design Details'!B$53,IF($B$3=\"Mid-floor\",'Design Details'!B$63,IF($B$3=\"Upper floor\",'Design Details'!B$73,IF($B$3=\"Single Storey\",'Design Details'!B$83,0))))","v":2.8},21,0,{"$f":"F48*H48*$C$7*24/1000","v":0}]
["Doors"]
["Width (m)",null,"Height (m)",null,"Area (m²)",0,"U Value (W/m²K)",{"$f":"IF($B$3=\"Ground floor\",'Design Details'!B$47,IF($B$3=\"Mid-floor\",'Design Details'!B$57,IF($B$3=\"Upper floor\",'Design Details'!B$67,IF($B$3=\"Single Storey\",'Design Details'!B$77,0))))","v":2.8},21,0,{"$f":"F50*H50*$C$7*24/1000","v":0}]
["Width (m)",null,"Height (m)",null,"Area (m²)",0,"U Value (W/m²K)",{"$f":"IF($B$3=\"Ground floor\",'Design Details'!B$47,IF($B$3=\"Mid-floor\",'Design Details'!B$57,IF($B$3=\"Upper floor\",'Design Details'!B$67,IF($B$3=\"Single Storey\",'Design Details'!B$77,0))))","v":2.8},21,0,{"$f":"F51*H51*$C$7*24/1000","v":0}]
["Width (m)",null,"Height (m)",null,"Area (m²)",0,"U Value (W/m²K)",{"$f":"IF($B$3=\"Ground floor\",'Design Details'!B$47,IF($B$3=\"Mid-floor\",'Design Details'!B$57,IF($B$3=\"Upper floor\",'Design Details'!B$67,IF($B$3=\"Single Storey\",'Design Details'!B$77,0))))","v":2.8},21,0,{"$f":"F52*H52*$C$7*24/1000","v":0}]
["Width (m)",null,"Height (m)",null,"Area (m²)",0,"U Value (W/m²K)",{"$f":"IF($B$3=\"Ground floor\",'Design Details'!B$47,IF($B$3=\"Mid-floor\",'Design Details'!B$57,IF($B$3=\"Upper floor\",'Design Details'!B$67,IF($B$3=\"Single Storey\",'Design Details'!B$77,0))))","v":2.8},21,0,{"$f":"F53*H53*$C$7*24/1000","v":0}]
["Internal Walls",null,null,null,null,null,null,null,null,null,null,"Adjoining Room Temp (°C)"]
["Length (m)",null,"Height (m)",null,"Area (m²)",0,"U Value (W/m²K)",{"$f":"IF($B$3=\"Ground floor\",'Design Details'!B$51,IF($B$3=\"Mid-floor\",'Design Details'!B$61,IF($B$3=\"Upper floor\",'Design Details'!B$71,IF($B$3=\"Single Storey\",'Design Details'!B$81,0))))","v":1.72},{"$f":"IF(L55=\"\",0,IF(L55=\"unheated\",C$4-10,C$4-L55))","v":0},0]
["Length (m)",null,"Height (m)",null,"Area (m²)",0,"U Value (W/m²K)",{"$f":"IF($B$3=\"Ground floor\",'Design Details'!B$51,IF($B$3=\"Mid-floor\",'Design Details'!B$61,IF($B$3=\"Upper floor\",'Design Details'!B$71,IF($B$3=\"Single Storey\",'Design Details'!B$81,0))))","v":1.72},{"$f":"IF(L56=\"\",0,IF(L56=\"unheated\",C$4-10,C$4-L56))","v":0},0]
["Length (m)",null,"Height (m)",null,"Area (m²)",0,"U Value (W/m²K)",{"$f":"IF($B$3=\"Ground floor\",'Design Details'!B$51,IF($B$3=\"Mid-floor\",'Design Details'!B$61,IF($B$3=\"Upper floor\",'Design Details'!B$71,IF($B$3=\"Single Storey\",'Design Details'!B$81,0))))","v":1.72},{"$f":"IF(L57=\"\",0,IF(L57=\"unheated\",C$4-10,C$4-L57))","v":0},0]
["Length (m)",null,"Height (m)",null,"Area (m²)",0,"U Value (W/m²K)",{"$f":"IF($B$3=\"Ground floor\",'Design Details'!B$51,IF($B$3=\"Mid-floor\",'Design Details'!B$61,IF($B$3=\"Upper floor\",'Design Details'!B$71,IF($B$3=\"Single Storey\",'Design Details'!B$81,0))))","v":1.72},{"$f":"IF(L58=\"\",0,IF(L58=\"unheated\",C$4-10,C$4-L58))","v":0},0]
["Party Wall"]
["Length (m)",null,"Height (m)",null,"Area (m²)",0,"U Value (W/m²K)",{"$f":"IF($B$3=\"Ground floor\",'Design Details'!B$52,IF($B$3=\"Mid-floor\",'Design Details'!B$62,IF($B$3=\"Upper floor\",'Design Details'!B$72,IF($B$3=\"Single Storey\",'Design Details'!B$82,0))))","v":1},{"$f":"C4-10","v":8},0,{"$f":"F60*H60*$C$7*24/1000","v":0}]

{"sheet":"11","index":16,"n_rows":60,"n_cols":24,"rows_kept":60,"cut":false,"hidden":false,"merged":[[2,1,2,2],[2,3,2,4],[0,0,0,2],[0,3,0,5],[0,9,0,10],[1,3,1,4],[3,0,3,1],[3,3,3,4],[4,0,4,1],[4,3,4,4],[5,0,5,1],[5,3,5,4],[57,11,57,13],[6,0,6,1],[18,11,18,13],[19,11,19,13],[53,11,53,13],[54,11,54,13],[55,11,55,13],[56,11,56,13],[30,11,30,13],[10,10,10,13],[9,10,9,13],[20,11,20,13],[21,11,21,13]]}
["Room Information",null,null,"Ventilation Heat Loss",null,null,"Fabric ","Heat Loss (W)"," Usage (kWh)","Additional heat loss",null,"Addition","Watts","kWh"]
["Room","Bedroom",3,"Air Changes a hour",null,{"$f":"'Design Details'!F97","v":"1.0"},"Floor",{"$f":"SUM(J20:J22)","v":0},{"$f":"SUM(K20:K22)","v":0},"Thermal Bridging (New Build >2006)",null,0,{"$f":"SUM(H$2:H$6)*L2","v":0},{"$f":"SUM(I$2:I$6)*L2","v":0},null,"3 edges (long single)","Level",null,null,null,null,null,null,1]
["Level","Upper floor",null,"Air Change Factor (W/m³K)",null,0.33,"Ext Wall",381.84,{"$f":"K27","v":692.42603903999998},"Exposed location",null,0,{"$f":"SUM(H$2:H$6)*L3","v":0},{"$f":"SUM(I$2:I$6)*L3","v":0},null,"3 edges (short single)","Please Select Floor",{"$f":"IF($B$3=\"Ground floor\",\"Solid Floor (in contact with ground)\",IF($B$3=\"Single Storey\",\"Solid Floor (in contact with ground)\",\"n/a\"))","v":"n/a"},{"$f":"'Design Details'!B21","v":10},"unheated",0,0,0,2]
["Design Room Temp (°C)",null,{"$f":"'Design Details'!D97","v":18},"Total Volume (m³)",null,{"$f":"SUM(H10:H12,H14:H18)","v":32.463923999999999},"Roof",{"$f":"SUM(J32,J35)","v":34.664867999999998},{"$f":"SUM(K32,K35)","v":88.266658175999979},"High ceiling",null,0,{"$f":"SUM(H$2:H$6)*L4","v":0},{"$f":"SUM(I$2:I$6)*L4","v":0},null,"One edge","Ground floor",{"$f":"IF($B$3=\"Ground floor\",\"Suspended Floor\",IF($B$3=\"Single Storey\",\"Suspended Floor\",\"n/a\"))","v":"n/a"},null,16,0.1,0.2,2.5000000000000001E-2,3]
["Outside Design Temp (°C)",null,{"$f":"'Design Details'!B19","v":-3},"Heat loss (W)",null,{"$f":"F4*F3*C6*F2","v":224.97499331999998},"Glazing",{"$f":"SUM(J37:J43,J45:J48,J50:J53)","v":81.873119999999986},{"$f":"SUM(K37:K43,K45:K48,K50:K53)","v":208.47235583999998},"Intermittent heating",null,0,{"$f":"SUM(H$2:H$6)*L5","v":0},{"$f":"SUM(I$2:I$6)*L5","v":0},null,"Two adjacent","Mid-floor",null,null,18,null,null,0.05,4]
["Temp Difference (°C)",null,{"$f":"C4-C5","v":21},"Estimated Energy usage (kWh)",null,{"$f":"F4*F3*C7*24/1000","v":572.85061156223992},"Int./Party Wall",{"$f":"SUM(J55:J58,J60)","v":126.322304},{"$f":"SUM(K60)","v":0},null,null,null,"Total Room Heat Loss (W)",{"$f":"SUM(F5,H2:H6,M2:M5)","v":849.67528531999994},null,"Two opposite","Single storey",null,null,21,null,null,7.4999999999999997E-2,5]
["Degree Days",null,{"$f":"'Design Details'!B20","v":2228},null,null,null,null,null,null,null,null,null,"Total Room Energy Usage (kWh)",{"$f":"SUM(F6,I2:I6,N2:N5)","v":1562.01566461824},null,null,"Upper floor",null,null,22,null,null,0.1,6]
[null,null,null,null,null,null,null,null,null,null,null,null,null,null,null,null,{"$f":"IF($B$3=\"Ground floor\",'Design Details'!B$45,IF($B$3=\"Mid-floor\",'Design Details'!B$55,IF($B$3=\"Upper floor\",'Design Details'!B$65,IF($B$3=\"Single Storey\",'Design Details'!B$75,0))))","v":0},null,null,null,null,null,null,7]
["Room Dimensions",null,null,null,null,null,null,null,null,null,null,null,null,null,null,null,null,null,null,null,null,null,null,8]
["Length (m)",2.79,"Width (m)",0.35,"Height (m)",2.36,"Volume (m³)",{"$f":"B10*D10*F10","v":2.3045399999999998},null,null,null,null,null,null,null,null,null,null,null,null,null,null,null,9]
["Length (m)",3.54,"Width (m)",3.61,"Height (m)",2.36,"Volume (m³)",{"$f":"B11*D11*F11","v":30.159383999999996},null,null,null,null,null,null,null,null,null,null,null,null,null,null,null,10]
["Length (m)",null,"Width (m)",null,"Height (m)",null,"Volume (m³)",{"$f":"B12*D12*F12","v":0}]
["Awkward Room Dimensions"]
["Length (m)",null,"Width (m)",null,"Height (m)",null,"Volume (m³)",{"$f":"((F14*D14)/2)*B14","v":0},"Pitched"]
["Length (m)",null,"Width (m)",null,"Height (m)",null,"Volume (m³)",{"$f":"B15*D15*F15/2","v":0},"Single Pitch"]
["Length (m)",null,"Height (m)",null,"Depth (m)",null,"Volume (m³)",{"$f":"D16*F16*B16/2","v":0},"Dormer 1"]
["Length (m)",null,"Height (m)",null,"Depth (m)",null,"Volume (m³)",{"$f":"D17*F17*B17/2","v":0},"Dormer 2"]
["Length (m)",null,"Height (m)",null,"Depth (m)",null,"Volume (m³)",{"$f":"D18*F18*B18/2","v":0},"Dormer 3"]
["Floor",null,null,null,null,null,null,null,"Temp Difference","Heat Loss (W)","Usage (kWh)","Type of Ground Floor"]
["Length (m)",{"$f":"B10","v":2.79},"Width (m)",{"$f":"D10","v":0.35},"Area (m²)",{"$f":"B20*D20","v":0.97649999999999992},"U Value (W/m²K)",{"$f":"IF(L22=\"\",Q8,'floor u values'!K12)","v":0},{"$f":"IF(B$3=\"Ground Floor\",IF(L20=\"Solid Floor (in contact with ground)\",C$4-S$3,C$4-C$5),IF(B$3=\"Single Storey\",IF(L20=\"Solid Floor (in contact with ground)\",C$4-S$3,C$4-C$5),0))","v":0},{"$f":"F20*H20*I20","v":0},{"$f":"IF($B$3=$Q$5,0,IF($B$3=$Q$7,0,F20*H20*$C$7*24/1000))","v":0}]
["Length (m)",{"$f":"B11","v":3.54},"Width (m)",{"$f":"D11","v":3.61},"Area (m²)",{"$f":"B21*D21","v":12.779399999999999},"U Value (W/m²K)",{"$f":"H20","v":0},{"$f":"IF(B$3=\"Ground Floor\",IF(L20=\"Solid Floor (in contact with ground)\",C$4-S$3,C$4-C$5),IF(B$3=\"Single Storey\",IF(L20=\"Solid Floor (in contact with ground)\",C$4-S$3,C$4-C$5),0))","v":0},{"$f":"F21*H21*I21","v":0},{"$f":"IF($B$3=$Q$5,0,IF($B$3=$Q$7,0,F21*H21*$C$7*24/1000))","v":0},"Exposed floor (external)"]
["Length (m)",0,"Width (m)",0,"Area (m²)",0,"U Value (W/m²K)",{"$f":"H20","v":0},{"$f":"IF(B$3=\"Ground Floor\",IF(L20=\"Solid Floor (in contact with ground)\",C$4-S$3,C$4-C$5),IF(B$3=\"Single Storey\",IF(L20=\"Solid Floor (in contact with ground)\",C$4-S$3,C$4-C$5),0))","v":0},{"$f":"F22*H22*I22","v":0},{"$f":"IF($B$3=$Q$5,0,IF($B$3=$Q$7,0,F22*H22*$C$7*24/1000))","v":0}]
["External Wall",null,null,null,null,null,null,null,null,null,null,{"$f":"IF(L22=\"Two opposite\",\"Between edges\",IF(L22=\"One edge\",\"Depth of room\",IF(L22=\"3 edges (short single)\",\"Short length\",IF(L22=\"3 edges (long single)\",\"Short length\",\"\"))))","v":""},null,{"$f":"IF(L22=\"3 edges (short single)\",\"Long length\",IF(L22=\"3 edges (long single)\",\"Long length\",\"\"))","v":""}]
["Length (m)",3.54,"Height (m)",2.36,"Area (m²)",8.3544]
["Length (m)",null,"Height (m)",null,"Area (m²)",0]
["Length (m)",null,"Height (m)",null,"Area (m²)",0]
[null,null,null,"Total","Area (m²)",{"$f":"SUM(F24:F26)-SUM(F37:F43,F50:F53)","v":6.9619999999999997},"U Value (W/m²K)",1.86,{"$f":"$C$6","v":21},{"$f":"F27*H27*I27","v":271.93572},{"$f":"F27*H27*$C$7*24/1000","v":692.42603903999998}]
["Roof",null,null,null,null,null,null,null,null,109.9]
["Length (m)",{"$f":"B10","v":2.79},"Width (m)",{"$f":"D10","v":0.35},"Area (m²)",0.97649999999999992]
["Length (m)",{"$f":"B11","v":3.54},"Width (m)",{"$f":"D11","v":3.61},"Area (m²)",12.779399999999999]
["Length (m)",0,"Width (m)",0,"Area (m²)",0]
[null,null,null,"Total","Area (m²)",{"$f":"SUM(F29:F31)-SUM(F45:F48)","v":13.755899999999999},"U Value (W/m²K)",{"$f":"IF($B$3=\"Ground floor\",'Design Details'!B$49,IF($B$3=\"Mid-floor\",'Design Details'!B$59,IF($B$3=\"Upper floor\",'Design Details'!B$69,IF($B$3=\"Single Storey\",'Design Details'!B$79,0))))","v":0.12},{"$f":"$C$6","v":21},34.664867999999998,{"$f":"IF($B$3=$Q$4,0,IF($B$3=$Q$5,0,F32*H32*$C$7*24/1000))","v":88.266658175999979}]
["Length (m)",null,"Pitch (m)",null,"Area (m²)",0,"Pitched"]
["Length (m)",null,"Pitch (m)",null,"Area (m²)",0,"Single Pitch"]
[null,null,null,"Total","Area (m²)",{"$f":"SUM(F33:F34)-SUM(F45:F48)","v":0},"U Value (W/m²K)",{"$f":"IF($B$3=\"Ground floor\",'Design Details'!B$50,IF($B$3=\"Mid-floor\",'Design Details'!B$60,IF($B$3=\"Upper floor\",'Design Details'!B$70,IF($B$3=\"Single Storey\",'Design Details'!B$80,0))))","v":0.12},21,0,{"$f":"IF($B$3=$Q$4,0,IF($B$3=$Q$5,0,F35*H35*$C$7*24/1000))","v":0}]
["Windows"]
["Width (m)",1.18,"Height (m)",1.18,"Area (m²)",1.3923999999999999,"U Value (W/m²K)",{"$f":"IF($B$3=\"Ground floor\",'Design Details'!B$46,IF($B$3=\"Mid-floor\",'Design Details'!B$56,IF($B$3=\"Upper floor\",'Design Details'!B$66,IF($B$3=\"Single Storey\",'Design Details'!B$76,0))))","v":2.8},21,81.873119999999986,{"$f":"F37*H37*$C$7*24/1000","v":208.47235583999998}]
["Width (m)",null,"Height (m)",null,"Area (m²)",0,"U Value (W/m²K)",{"$f":"IF($B$3=\"Ground floor\",'Design Details'!B$46,IF($B$3=\"Mid-floor\",'Design Details'!B$56,IF($B$3=\"Upper floor\",'Design Details'!B$66,IF($B$3=\"Single Storey\",'Design Details'!B$76,0))))","v":2.8},21,0,0]
["Width (m)",null,"Height (m)",null,"Area (m²)",0,"U Value (W/m²K)",{"$f":"IF($B$3=\"Ground floor\",'Design Details'!B$46,IF($B$3=\"Mid-floor\",'Design Details'!B$56,IF($B$3=\"Upper floor\",'Design Details'!B$66,IF($B$3=\"Single Storey\",'Design Details'!B$76,0))))","v":2.8},21,0,0]
["Width (m)",null,"Height (m)",null,"Area (m²)",0,"U Value (W/m²K)",{"$f":"IF($B$3=\"Ground floor\",'Design Details'!B$46,IF($B$3=\"Mid-floor\",'Design Details'!B$56,IF($B$3=\"Upper floor\",'Design Details'!B$66,IF($B$3=\"Single Storey\",'Design Details'!B$76,0))))","v":2.8},21,0,0]
["Width (m)",null,"Height (m)",null,"Area (m²)",0,"U Value (W/m²K)",{"$f":"IF($B$3=\"Ground floor\",'Design Details'!B$46,IF($B$3=\"Mid-floor\",'Design Details'!B$56,IF($B$3=\"Upper floor\",'Design Details'!B$66,IF($B$3=\"Single Storey\",'Design Details'!B$76,0))))","v":2.8},21,0,0]
["Width (m)",null,"Height (m)",null,"Area (m²)",0,"U Value (W/m²K)",{"$f":"IF($B$3=\"Ground floor\",'Design Details'!B$46,IF($B$3=\"Mid-floor\",'Design Details'!B$56,IF($B$3=\"Upper floor\",'Design Details'!B$66,IF($B$3=\"Single Storey\",'Design Details'!B$76,0))))","v":2.8},21,0,0]
["Width (m)",null,"Height (m)",null,"Area (m²)",0,"U Value (W/m²K)",{"$f":"IF($B$3=\"Ground floor\",'Design Details'!B$46,IF($B$3=\"Mid-floor\",'Design Details'!B$56,IF($B$3=\"Upper floor\",'Design Details'!B$66,IF($B$3=\"Single Storey\",'Design Details'!B$76,0))))","v":2.8},21,0,0]
["Roof Glazing"]
["Width (m)",null,"Height (m)",null,"Area (m²)",0,"U Value (W/m²K)",{"$f":"IF($B$3=\"Ground floor\",'Design Details'!B$53,IF($B$3=\"Mid-floor\",'Design Details'!B$63,IF($B$3=\"Upper floor\",'Design Details'!B$73,IF($B$3=\"Single Storey\",'Design Details'!B$83,0))))","v":2.8},21,0,{"$f":"F45*H45*$C$7*24/1000","v":0}]
["Width (m)",null,"Height (m)",null,"Area (m²)",0,"U Value (W/m²K)",{"$f":"IF($B$3=\"Ground floor\",'Design Details'!B$53,IF($B$3=\"Mid-floor\",'Design Details'!B$63,IF($B$3=\"Upper floor\",'Design Details'!B$73,IF($B$3=\"Single Storey\",'Design Details'!B$83,0))))","v":2.8},21,0,{"$f":"F46*H46*$C$7*24/1000","v":0}]
["Width (m)",null,"Height (m)",null,"Area (m²)",0,"U Value (W/m²K)",{"$f":"IF($B$3=\"Ground floor\",'Design Details'!B$53,IF($B$3=\"Mid-floor\",'Design Details'!B$63,IF($B$3=\"Upper floor\",'Design Details'!B$73,IF($B$3=\"Single Storey\",'Design Details'!B$83,0))))","v":2.8},21,0,{"$f":"F47*H47*$C$7*24/1000","v":0}]
["Width (m)",null,"Height (m)",null,"Area (m²)",0,"U Value (W/m²K)",{"$f":"IF($B$3=\"Ground floor\",'Design Details'!B$53,IF($B$3=\"Mid-floor\",'Design Details'!B$63,IF($B$3=\"Upper floor\",'Design Details'!B$73,IF($B$3=\"Single Storey\",'Design Details'!B$83,0))))","v":2.8},21,0,{"$f":"F48*H48*$C$7*24/1000","v":0}]
["Doors"]
["Width (m)",null,"Height (m)",null,"Area (m²)",0,"U Value (W/m²K)",{"$f":"IF($B$3=\"Ground floor\",'Design Details'!B$47,IF($B$3=\"Mid-floor\",'Design Details'!B$57,IF($B$3=\"Upper floor\",'Design Details'!B$67,IF($B$3=\"Single Storey\",'Design Details'!B$77,0))))","v":2.8},21,0,{"$f":"F50*H50*$C$7*24/1000","v":0}]
["Width (m)",null,"Height (m)",null,"Area (m²)",0,"U Value (W/m²K)",{"$f":"IF($B$3=\"Ground floor\",'Design Details'!B$47,IF($B$3=\"Mid-floor\",'Design Details'!B$57,IF($B$3=\"Upper floor\",'Design Details'!B$67,IF($B$3=\"Single Storey\",'Design Details'!B$77,0))))","v":2.8},21,0,{"$f":"F51*H51*$C$7*24/1000","v":0}]
["Width (m)",null,"Height (m)",null,"Area (m²)",0,"U Value (W/m²K)",{"$f":"IF($B$3=\"Ground floor\",'Design Details'!B$47,IF($B$3=\"Mid-floor\",'Design Details'!B$57,IF($B$3=\"Upper floor\",'Design Details'!B$67,IF($B$3=\"Single Storey\",'Design Details'!B$77,0))))","v":2.8},21,0,{"$f":"F52*H52*$C$7*24/1000","v":0}]
["Width (m)",null,"Height (m)",null,"Area (m²)",0,"U Value (W/m²K)",{"$f":"IF($B$3=\"Ground floor\",'Design Details'!B$47,IF($B$3=\"Mid-floor\",'Design Details'!B$57,IF($B$3=\"Upper floor\",'Design Details'!B$67,IF($B$3=\"Single Storey\",'Design Details'!B$77,0))))","v":2.8},21,0,{"$f":"F53*H53*$C$7*24/1000","v":0}]
["Internal Walls",null,null,null,null,null,null,null,null,null,null,"Adjoining Room Temp (°C)"]
["Length (m)",3.89,"Height (m)",2.36,"Area (m²)",9.1804000000000006,"U Value (W/m²K)",{"$f":"IF($B$3=\"Ground floor\",'Design Details'!B$51,IF($B$3=\"Mid-floor\",'Design Details'!B$61,IF($B$3=\"Upper floor\",'Design Details'!B$71,IF($B$3=\"Single Storey\",'Design Details'!B$81,0))))","v":1.72},8,126.322304]
["Length (m)",null,"Height (m)",null,"Area (m²)",0,"U Value (W/m²K)",{"$f":"IF($B$3=\"Ground floor\",'Design Details'!B$51,IF($B$3=\"Mid-floor\",'Design Details'!B$61,IF($B$3=\"Upper floor\",'Design Details'!B$71,IF($B$3=\"Single Storey\",'Design Details'!B$81,0))))","v":1.72},{"$f":"IF(L56=\"\",0,IF(L56=\"unheated\",C$4-10,C$4-L56))","v":0},0]
["Length (m)",null,"Height (m)",null,"Area (m²)",0,"U Value (W/m²K)",{"$f":"IF($B$3=\"Ground floor\",'Design Details'!B$51,IF($B$3=\"Mid-floor\",'Design Details'!B$61,IF($B$3=\"Upper floor\",'Design Details'!B$71,IF($B$3=\"Single Storey\",'Design Details'!B$81,0))))","v":1.72},{"$f":"IF(L57=\"\",0,IF(L57=\"unheated\",C$4-10,C$4-L57))","v":0},0]
["Length (m)",null,"Height (m)",null,"Area (m²)",0,"U Value (W/m²K)",{"$f":"IF($B$3=\"Ground floor\",'Design Details'!B$51,IF($B$3=\"Mid-floor\",'Design Details'!B$61,IF($B$3=\"Upper floor\",'Design Details'!B$71,IF($B$3=\"Single Storey\",'Design Details'!B$81,0))))","v":1.72},{"$f":"IF(L58=\"\",0,IF(L58=\"unheated\",C$4-10,C$4-L58))","v":0},0]
["Party Wall"]
["Length (m)",null,"Height (m)",null,"Area (m²)",0,"U Value (W/m²K)",{"$f":"IF($B$3=\"Ground floor\",'Design Details'!B$52,IF($B$3=\"Mid-floor\",'Design Details'!B$62,IF($B$3=\"Upper floor\",'Design Details'!B$72,IF($B$3=\"Single Storey\",'Design Details'!B$82,0))))","v":1},{"$f":"C4-10","v":8},0,{"$f":"F60*H60*$C$7*24/1000","v":0}]

{"sheet":"12","index":17,"n_rows":60,"n_cols":24,"rows_kept":60,"cut":false,"hidden":false,"merged":[[2,1,2,2],[2,3,2,4],[0,0,0,2],[0,3,0,5],[0,9,0,10],[1,3,1,4],[3,0,3,1],[3,3,3,4],[4,0,4,1],[4,3,4,4],[5,0,5,1],[5,3,5,4],[57,11,57,13],[6,0,6,1],[18,11,18,13],[19,11,19,13],[53,11,53,13],[54,11,54,13],[55,11,55,13],[56,11,56,13],[30,11,30,13],[10,10,10,13],[9,10,9,13],[20,11,20,13],[21,11,21,13]]}
["Room Information",null,null,"Ventilation Heat Loss",null,null,"Fabric ","Heat Loss (W)"," Usage (kWh)","Additional heat loss",null,"Addition","Watts","kWh"]
["Room","Bedroom",4,"Air Changes a hour",null,{"$f":"'Design Details'!F98","v":"1.0"},"Floor",{"$f":"SUM(J20:J22)","v":0},{"$f":"SUM(K20:K22)","v":0},"Thermal Bridging (New Build >2006)",null,0,{"$f":"SUM(H$2:H$6)*L2","v":0},{"$f":"SUM(I$2:I$6)*L2","v":0},null,"3 edges (long single)","Level",null,null,null,null,null,null,1]
["Level","Upper floor",null,"Air Change Factor (W/m³K)",null,0.33,"Ext Wall",{"$f":"J27","v":115.5462},{"$f":"K27","v":294.21363840000004},"Exposed location",null,0,{"$f":"SUM(H$2:H$6)*L3","v":0},{"$f":"SUM(I$2:I$6)*L3","v":0},null,"3 edges (short single)","Please Select Floor",{"$f":"IF($B$3=\"Ground floor\",\"Solid Floor (in contact with ground)\",IF($B$3=\"Single Storey\",\"Solid Floor (in contact with ground)\",\"n/a\"))","v":"n/a"},{"$f":"'Design Details'!B21","v":10},"unheated",0,0,0,2]
["Design Room Temp (°C)",null,{"$f":"'Design Details'!D98","v":18},"Total Volume (m³)",null,{"$f":"SUM(H10:H12,H14:H18)","v":27.479959999999998},"Roof",{"$f":"SUM(J32,J35)","v":29.467871999999996},{"$f":"SUM(K32,K35)","v":75.033621503999996},"High ceiling",null,0,{"$f":"SUM(H$2:H$6)*L4","v":0},{"$f":"SUM(I$2:I$6)*L4","v":0},null,"One edge","Ground floor",{"$f":"IF($B$3=\"Ground floor\",\"Suspended Floor\",IF($B$3=\"Single Storey\",\"Suspended Floor\",\"n/a\"))","v":"n/a"},null,16,0.1,0.2,2.5000000000000001E-2,3]
["Outside Design Temp (°C)",null,{"$f":"'Design Details'!B19","v":-3},"Heat loss (W)",null,{"$f":"F4*F3*C6*F2","v":190.43612280000002},"Glazing",{"$f":"SUM(J37:J43,J45:J48,J50:J53)","v":155.03459999999998},{"$f":"SUM(K37:K43,K45:K48,K50:K53)","v":394.76238720000003},"Intermittent heating",null,0,{"$f":"SUM(H$2:H$6)*L5","v":0},{"$f":"SUM(I$2:I$6)*L5","v":0},null,"Two adjacent","Mid-floor",null,null,18,null,null,0.05,4]
["Temp Difference (°C)",null,{"$f":"C4-C5","v":21},"Estimated Energy usage (kWh)",null,{"$f":"F4*F3*C7*24/1000","v":484.9047789696001},"Int./Party Wall",{"$f":"SUM(J55:J58,J60)","v":56.613568000000001},{"$f":"SUM(K60)","v":0},null,null,null,"Total Room Heat Loss (W)",{"$f":"SUM(F5,H2:H6,M2:M5)","v":547.09836280000002},null,"Two opposite","Single storey",null,null,21,null,null,7.4999999999999997E-2,5]
["Degree Days",null,{"$f":"'Design Details'!B20","v":2228},null,null,null,null,null,null,null,null,null,"Total Room Energy Usage (kWh)",{"$f":"SUM(F6,I2:I6,N2:N5)","v":1248.9144260736002},null,null,"Upper floor",null,null,22,null,null,0.1,6]
[null,null,null,null,null,null,null,null,null,null,null,null,null,null,null,null,{"$f":"IF($B$3=\"Ground floor\",'Design Details'!B$45,IF($B$3=\"Mid-floor\",'Design Details'!B$55,IF($B$3=\"Upper floor\",'Design Details'!B$65,IF($B$3=\"Single Storey\",'Design Details'!B$75,0))))","v":0},null,null,null,null,null,null,7]
["Room Dimensions",null,null,null,null,null,null,null,null,null,null,null,null,null,null,null,null,null,null,null,null,null,null,8]
["Length (m)",3.11,"Width (m)",3.76,"Height (m)",2.35,"Volume (m³)",{"$f":"B10*D10*F10","v":27.479959999999998},null,null,null,null,null,null,null,null,null,null,null,null,null,null,null,9]
["Length (m)",null,"Width (m)",null,"Height (m)",null,"Volume (m³)",{"$f":"B11*D11*F11","v":0},null,null,null,null,null,null,null,null,null,null,null,null,null,null,null,10]
["Length (m)",null,"Width (m)",null,"Height (m)",null,"Volume (m³)",{"$f":"B12*D12*F12","v":0}]
["Awkward Room Dimensions"]
["Length (m)",null,"Width (m)",null,"Height (m)",null,"Volume (m³)",{"$f":"((F14*D14)/2)*B14","v":0},"Pitched"]
["Length (m)",null,"Width (m)",null,"Height (m)",null,"Volume (m³)",{"$f":"B15*D15*F15/2","v":0},"Single Pitch"]
["Length (m)",null,"Height (m)",null,"Depth (m)",null,"Volume (m³)",{"$f":"D16*F16*B16/2","v":0},"Dormer 1"]
["Length (m)",null,"Height (m)",null,"Depth (m)",null,"Volume (m³)",{"$f":"D17*F17*B17/2","v":0},"Dormer 2"]
["Length (m)",null,"Height (m)",null,"Depth (m)",null,"Volume (m³)",{"$f":"D18*F18*B18/2","v":0},"Dormer 3"]
["Floor",null,null,null,null,null,null,null,"Temp Difference","Heat Loss (W)","Usage (kWh)","Type of Ground Floor"]
["Length (m)",{"$f":"B10","v":3.11},"Width (m)",{"$f":"D10","v":3.76},"Area (m²)",{"$f":"B20*D20","v":11.693599999999998},"U Value (W/m²K)",{"$f":"IF(L22=\"\",Q8,'floor u values'!K13)","v":0},{"$f":"IF(B$3=\"Ground Floor\",IF(L20=\"Solid Floor (in contact with ground)\",C$4-S$3,C$4-C$5),IF(B$3=\"Single Storey\",IF(L20=\"Solid Floor (in contact with ground)\",C$4-S$3,C$4-C$5),0))","v":0},{"$f":"F20*H20*I20","v":0},{"$f":"IF($B$3=$Q$5,0,IF($B$3=$Q$7,0,F20*H20*$C$7*24/1000))","v":0}]
["Length (m)",{"$f":"B11","v":0},"Width (m)",{"$f":"D11","v":0},"Area (m²)",{"$f":"B21*D21","v":0},"U Value (W/m²K)",{"$f":"H20","v":0},{"$f":"IF(B$3=\"Ground Floor\",IF(L20=\"Solid Floor (in contact with ground)\",C$4-S$3,C$4-C$5),IF(B$3=\"Single Storey\",IF(L20=\"Solid Floor (in contact with ground)\",C$4-S$3,C$4-C$5),0))","v":0},{"$f":"F21*H21*I21","v":0},{"$f":"IF($B$3=$Q$5,0,IF($B$3=$Q$7,0,F21*H21*$C$7*24/1000))","v":0},"Exposed floor (external)"]
["Length (m)",0,"Width (m)",0,"Area (m²)",0,"U Value (W/m²K)",{"$f":"H20","v":0},{"$f":"IF(B$3=\"Ground Floor\",IF(L20=\"Solid Floor (in contact with ground)\",C$4-S$3,C$4-C$5),IF(B$3=\"Single Storey\",IF(L20=\"Solid Floor (in contact with ground)\",C$4-S$3,C$4-C$5),0))","v":0},{"$f":"F22*H22*I22","v":0},{"$f":"IF($B$3=$Q$5,0,IF($B$3=$Q$7,0,F22*H22*$C$7*24/1000))","v":0}]
["External Wall",null,null,null,null,null,null,null,null,null,null,{"$f":"IF(L22=\"Two opposite\",\"Between edges\",IF(L22=\"One edge\",\"Depth of room\",IF(L22=\"3 edges (short single)\",\"Short length\",IF(L22=\"3 edges (long single)\",\"Short length\",\"\"))))","v":""},null,{"$f":"IF(L22=\"3 edges (short single)\",\"Long length\",IF(L22=\"3 edges (long single)\",\"Long length\",\"\"))","v":""}]
["Length (m)",6.87,"Height (m)",2.35,"Area (m²)",16.144500000000001]
["Length (m)",null,"Height (m)",null,"Area (m²)",0]
["Length (m)",null,"Height (m)",null,"Area (m²)",0]
[null,null,null,"Total","Area (m²)",{"$f":"SUM(F24:F26)-SUM(F37:F43,F50:F53)","v":12.505000000000001},"U Value (W/m²K)",{"$f":"IF($B$3=\"Ground floor\",'Design Details'!B$48,IF($B$3=\"Mid-floor\",'Design Details'!B$58,IF($B$3=\"Upper floor\",'Design Details'!B$68,IF($B$3=\"Single Storey\",'Design Details'!B$78,0))))","v":0.44},{"$f":"$C$6","v":21},{"$f":"F27*H27*I27","v":115.5462},{"$f":"F27*H27*$C$7*24/1000","v":294.21363840000004}]
["Roof"]
["Length (m)",{"$f":"B10","v":3.11},"Width (m)",{"$f":"D10","v":3.76},"Area (m²)",11.693599999999998]
["Length (m)",{"$f":"B11","v":0},"Width (m)",{"$f":"D11","v":0},"Area (m²)",0]
["Length (m)",0,"Width (m)",0,"Area (m²)",0]
[null,null,null,"Total","Area (m²)",{"$f":"SUM(F29:F31)-SUM(F45:F48)","v":11.693599999999998},"U Value (W/m²K)",{"$f":"IF($B$3=\"Ground floor\",'Design Details'!B$49,IF($B$3=\"Mid-floor\",'Design Details'!B$59,IF($B$3=\"Upper floor\",'Design Details'!B$69,IF($B$3=\"Single Storey\",'Design Details'!B$79,0))))","v":0.12},{"$f":"$C$6","v":21},29.467871999999996,{"$f":"IF($B$3=$Q$4,0,IF($B$3=$Q$5,0,F32*H32*$C$7*24/1000))","v":75.033621503999996}]
["Length (m)",null,"Pitch (m)",null,"Area (m²)",0,"Pitched"]
["Length (m)",null,"Pitch (m)",null,"Area (m²)",0,"Single Pitch"]
[null,null,null,"Total","Area (m²)",{"$f":"SUM(F33:F34)-SUM(F45:F48)","v":0},"U Value (W/m²K)",{"$f":"IF($B$3=\"Ground floor\",'Design Details'!B$50,IF($B$3=\"Mid-floor\",'Design Details'!B$60,IF($B$3=\"Upper floor\",'Design Details'!B$70,IF($B$3=\"Single Storey\",'Design Details'!B$80,0))))","v":0.12},21,0,{"$f":"IF($B$3=$Q$4,0,IF($B$3=$Q$5,0,F35*H35*$C$7*24/1000))","v":0}]
["Windows"]
["Width (m)",1.1299999999999999,"Height (m)",1.1499999999999999,"Area (m²)",1.2994999999999999,"U Value (W/m²K)",{"$f":"IF($B$3=\"Ground floor\",'Design Details'!B$46,IF($B$3=\"Mid-floor\",'Design Details'!B$56,IF($B$3=\"Upper floor\",'Design Details'!B$66,IF($B$3=\"Single Storey\",'Design Details'!B$76,0))))","v":2.8},21,76.410599999999988,{"$f":"F37*H37*$C$7*24/1000","v":194.56321919999999}]
["Width (m)",null,"Height (m)",null,"Area (m²)",0,"U Value (W/m²K)",{"$f":"IF($B$3=\"Ground floor\",'Design Details'!B$46,IF($B$3=\"Mid-floor\",'Design Details'!B$56,IF($B$3=\"Upper floor\",'Design Details'!B$66,IF($B$3=\"Single Storey\",'Design Details'!B$76,0))))","v":2.8},21,0,0]
["Width (m)",null,"Height (m)",null,"Area (m²)",0,"U Value (W/m²K)",{"$f":"IF($B$3=\"Ground floor\",'Design Details'!B$46,IF($B$3=\"Mid-floor\",'Design Details'!B$56,IF($B$3=\"Upper floor\",'Design Details'!B$66,IF($B$3=\"Single Storey\",'Design Details'!B$76,0))))","v":2.8},21,0,0]
["Width (m)",null,"Height (m)",null,"Area (m²)",0,"U Value (W/m²K)",{"$f":"IF($B$3=\"Ground floor\",'Design Details'!B$46,IF($B$3=\"Mid-floor\",'Design Details'!B$56,IF($B$3=\"Upper floor\",'Design Details'!B$66,IF($B$3=\"Single Storey\",'Design Details'!B$76,0))))","v":2.8},21,0,0]
["Width (m)",null,"Height (m)",null,"Area (m²)",0,"U Value (W/m²K)",{"$f":"IF($B$3=\"Ground floor\",'Design Details'!B$46,IF($B$3=\"Mid-floor\",'Design Details'!B$56,IF($B$3=\"Upper floor\",'Design Details'!B$66,IF($B$3=\"Single Storey\",'Design Details'!B$76,0))))","v":2.8},21,0,0]
["Width (m)",null,"Height (m)",null,"Area (m²)",0,"U Value (W/m²K)",{"$f":"IF($B$3=\"Ground floor\",'Design Details'!B$46,IF($B$3=\"Mid-floor\",'Design Details'!B$56,IF($B$3=\"Upper floor\",'Design Details'!B$66,IF($B$3=\"Single Storey\",'Design Details'!B$76,0))))","v":2.8},21,0,0]
["Width (m)",null,"Height (m)",null,"Area (m²)",0,"U Value (W/m²K)",{"$f":"IF($B$3=\"Ground floor\",'Design Details'!B$46,IF($B$3=\"Mid-floor\",'Design Details'!B$56,IF($B$3=\"Upper floor\",'Design Details'!B$66,IF($B$3=\"Single Storey\",'Design Details'!B$76,0))))","v":2.8},21,0,0]
["Roof Glazing"]
["Width (m)",null,"Height (m)",null,"Area (m²)",0,"U Value (W/m²K)",{"$f":"IF($B$3=\"Ground floor\",'Design Details'!B$53,IF($B$3=\"Mid-floor\",'Design Details'!B$63,IF($B$3=\"Upper floor\",'Design Details'!B$73,IF($B$3=\"Single Storey\",'Design Details'!B$83,0))))","v":2.8},21,0,{"$f":"F45*H45*$C$7*24/1000","v":0}]
["Width (m)",null,"Height (m)",null,"Area (m²)",0,"U Value (W/m²K)",{"$f":"IF($B$3=\"Ground floor\",'Design Details'!B$53,IF($B$3=\"Mid-floor\",'Design Details'!B$63,IF($B$3=\"Upper floor\",'Design Details'!B$73,IF($B$3=\"Single Storey\",'Design Details'!B$83,0))))","v":2.8},21,0,{"$f":"F46*H46*$C$7*24/1000","v":0}]
["Width (m)",null,"Height (m)",null,"Area (m²)",0,"U Value (W/m²K)",{"$f":"IF($B$3=\"Ground floor\",'Design Details'!B$53,IF($B$3=\"Mid-floor\",'Design Details'!B$63,IF($B$3=\"Upper floor\",'Design Details'!B$73,IF($B$3=\"Single Storey\",'Design Details'!B$83,0))))","v":2.8},21,0,{"$f":"F47*H47*$C$7*24/1000","v":0}]
["Width (m)",null,"Height (m)",null,"Area (m²)",0,"U Value (W/m²K)",{"$f":"IF($B$3=\"Ground floor\",'Design Details'!B$53,IF($B$3=\"Mid-floor\",'Design Details'!B$63,IF($B$3=\"Upper floor\",'Design Details'!B$73,IF($B$3=\"Single Storey\",'Design Details'!B$83,0))))","v":2.8},21,0,{"$f":"F48*H48*$C$7*24/1000","v":0}]
["Doors"]
["Width (m)",2,"Height (m)",1.17,"Area (m²)",2.34,"U Value (W/m²K)",1.6,21,78.623999999999995,{"$f":"F50*H50*$C$7*24/1000","v":200.19916800000001}]
["Width (m)",null,"Height (m)",null,"Area (m²)",0,"U Value (W/m²K)",{"$f":"IF($B$3=\"Ground floor\",'Design Details'!B$47,IF($B$3=\"Mid-floor\",'Design Details'!B$57,IF($B$3=\"Upper floor\",'Design Details'!B$67,IF($B$3=\"Single Storey\",'Design Details'!B$77,0))))","v":2.8},21,0,{"$f":"F51*H51*$C$7*24/1000","v":0}]
["Width (m)",null,"Height (m)",null,"Area (m²)",0,"U Value (W/m²K)",{"$f":"IF($B$3=\"Ground floor\",'Design Details'!B$47,IF($B$3=\"Mid-floor\",'Design Details'!B$57,IF($B$3=\"Upper floor\",'Design Details'!B$67,IF($B$3=\"Single Storey\",'Design Details'!B$77,0))))","v":2.8},21,0,{"$f":"F52*H52*$C$7*24/1000","v":0}]
["Width (m)",null,"Height (m)",null,"Area (m²)",0,"U Value (W/m²K)",{"$f":"IF($B$3=\"Ground floor\",'Design Details'!B$47,IF($B$3=\"Mid-floor\",'Design Details'!B$57,IF($B$3=\"Upper floor\",'Design Details'!B$67,IF($B$3=\"Single Storey\",'Design Details'!B$77,0))))","v":2.8},21,0,{"$f":"F53*H53*$C$7*24/1000","v":0}]
["Internal Walls",null,null,null,null,null,null,null,null,null,null,"Adjoining Room Temp (°C)"]
["Length (m)",3.76,"Height (m)",1.18,"Area (m²)",4.4367999999999999,"U Value (W/m²K)",0.44,21,40.996032]
["Length (m)",3.76,"Height (m)",1.18,"Area (m²)",4.4367999999999999,"U Value (W/m²K)",0.44,8,15.617535999999999]
["Length (m)",null,"Height (m)",null,"Area (m²)",0,"U Value (W/m²K)",{"$f":"IF($B$3=\"Ground floor\",'Design Details'!B$51,IF($B$3=\"Mid-floor\",'Design Details'!B$61,IF($B$3=\"Upper floor\",'Design Details'!B$71,IF($B$3=\"Single Storey\",'Design Details'!B$81,0))))","v":1.72},{"$f":"IF(L57=\"\",0,IF(L57=\"unheated\",C$4-10,C$4-L57))","v":0},0]
["Length (m)",null,"Height (m)",null,"Area (m²)",0,"U Value (W/m²K)",{"$f":"IF($B$3=\"Ground floor\",'Design Details'!B$51,IF($B$3=\"Mid-floor\",'Design Details'!B$61,IF($B$3=\"Upper floor\",'Design Details'!B$71,IF($B$3=\"Single Storey\",'Design Details'!B$81,0))))","v":1.72},{"$f":"IF(L58=\"\",0,IF(L58=\"unheated\",C$4-10,C$4-L58))","v":0},0]
["Party Wall"]
["Length (m)",null,"Height (m)",null,"Area (m²)",0,"U Value (W/m²K)",{"$f":"IF($B$3=\"Ground floor\",'Design Details'!B$52,IF($B$3=\"Mid-floor\",'Design Details'!B$62,IF($B$3=\"Upper floor\",'Design Details'!B$72,IF($B$3=\"Single Storey\",'Design Details'!B$82,0))))","v":1},{"$f":"C4-10","v":8},0,{"$f":"F60*H60*$C$7*24/1000","v":0}]

{"sheet":"13","index":18,"n_rows":60,"n_cols":24,"rows_kept":60,"cut":false,"hidden":false,"merged":[[2,1,2,2],[2,3,2,4],[0,0,0,2],[0,3,0,5],[0,9,0,10],[1,3,1,4],[3,0,3,1],[3,3,3,4],[4,0,4,1],[4,3,4,4],[5,0,5,1],[5,3,5,4],[57,11,57,13],[6,0,6,1],[18,11,18,13],[19,11,19,13],[53,11,53,13],[54,11,54,13],[55,11,55,13],[56,11,56,13],[30,11,30,13],[10,10,10,13],[9,10,9,13],[20,11,20,13],[21,11,21,13]]}
["Room Information",null,null,"Ventilation Heat Loss",null,null,"Fabric ","Heat Loss (W)"," Usage (kWh)","Additional heat loss",null,"Addition","Watts","kWh"]
["Room","En-suite",null,"Air Changes a hour",null,3,"Floor",{"$f":"SUM(J20:J22)","v":0},{"$f":"SUM(K20:K22)","v":0},"Thermal Bridging (New Build >2006)",null,0,{"$f":"SUM(H$2:H$6)*L2","v":0},{"$f":"SUM(I$2:I$6)*L2","v":0},null,"3 edges (long single)","Level",null,null,null,null,null,null,1]
["Level","Upper floor",null,"Air Change Factor (W/m³K)",null,0.33,"Ext Wall",{"$f":"J27","v":0},{"$f":"K27","v":0},"Exposed location",null,0,{"$f":"SUM(H$2:H$6)*L3","v":0},{"$f":"SUM(I$2:I$6)*L3","v":0},null,"3 edges (short single)","Please Select Floor",{"$f":"IF($B$3=\"Ground floor\",\"Solid Floor (in contact with ground)\",IF($B$3=\"Single Storey\",\"Solid Floor (in contact with ground)\",\"n/a\"))","v":"n/a"},{"$f":"'Design Details'!B21","v":10},"unheated",0,0,0,2]
["Design Room Temp (°C)",null,{"$f":"'Design Details'!D99","v":18},"Total Volume (m³)",null,{"$f":"SUM(H10:H12,H14:H18)","v":3.5861000000000001},"Roof",{"$f":"SUM(J32,J35)","v":3.84552},{"$f":"SUM(K32,K35)","v":9.7917926399999988},"High ceiling",null,0,{"$f":"SUM(H$2:H$6)*L4","v":0},{"$f":"SUM(I$2:I$6)*L4","v":0},null,"One edge","Ground floor",{"$f":"IF($B$3=\"Ground floor\",\"Suspended Floor\",IF($B$3=\"Single Storey\",\"Suspended Floor\",\"n/a\"))","v":"n/a"},null,16,0.1,0.2,2.5000000000000001E-2,3]
["Outside Design Temp (°C)",null,{"$f":"'Design Details'!B19","v":-3},"Heat loss (W)",null,{"$f":"F4*F3*C6*F2","v":74.555019000000001},"Glazing",{"$f":"SUM(J37:J43,J45:J48,J50:J53)","v":0},{"$f":"SUM(K37:K43,K45:K48,K50:K53)","v":0},"Intermittent heating",null,0,{"$f":"SUM(H$2:H$6)*L5","v":0},{"$f":"SUM(I$2:I$6)*L5","v":0},null,"Two adjacent","Mid-floor",null,null,18,null,null,0.05,4]
["Temp Difference (°C)",null,{"$f":"C4-C5","v":21},"Estimated Energy usage (kWh)",null,{"$f":"F4*F3*C7*24/1000","v":63.279459936000009},"Int./Party Wall",{"$f":"SUM(J55:J58,J60)","v":5.7904},{"$f":"SUM(K60)","v":0},null,null,null,"Total Room Heat Loss (W)",{"$f":"SUM(F5,H2:H6,M2:M5)","v":84.190939},null,"Two opposite","Single storey",null,null,21,null,null,7.4999999999999997E-2,5]
["Degree Days",null,{"$f":"'Design Details'!B20","v":2228},null,null,null,null,null,null,null,null,null,"Total Room Energy Usage (kWh)",{"$f":"SUM(F6,I2:I6,N2:N5)","v":73.071252576000006},null,null,"Upper floor",null,null,22,null,null,0.1,6]
[null,null,null,null,null,null,null,null,null,null,null,null,null,null,null,null,{"$f":"IF($B$3=\"Ground floor\",'Design Details'!B$45,IF($B$3=\"Mid-floor\",'Design Details'!B$55,IF($B$3=\"Upper floor\",'Design Details'!B$65,IF($B$3=\"Single Storey\",'Design Details'!B$75,0))))","v":0},null,null,null,null,null,null,7]
["Room Dimensions",null,null,null,null,null,null,null,null,null,null,null,null,null,null,null,null,null,null,null,null,null,null,8]
["Length (m)",0.7,"Width (m)",2.1800000000000002,"Height (m)",2.35,"Volume (m³)",{"$f":"B10*D10*F10","v":3.5861000000000001},null,null,null,null,null,null,null,null,null,null,null,null,null,null,null,9]
["Length (m)",null,"Width (m)",null,"Height (m)",null,"Volume (m³)",{"$f":"B11*D11*F11","v":0},null,null,null,null,null,null,null,null,null,null,null,null,null,null,null,10]
["Length (m)",null,"Width (m)",null,"Height (m)",null,"Volume (m³)",{"$f":"B12*D12*F12","v":0}]
["Awkward Room Dimensions"]
["Length (m)",null,"Width (m)",null,"Height (m)",null,"Volume (m³)",{"$f":"((F14*D14)/2)*B14","v":0},"Pitched"]
["Length (m)",null,"Width (m)",null,"Height (m)",null,"Volume (m³)",{"$f":"B15*D15*F15/2","v":0},"Single Pitch"]
["Length (m)",null,"Height (m)",null,"Depth (m)",null,"Volume (m³)",{"$f":"D16*F16*B16/2","v":0},"Dormer 1"]
["Length (m)",null,"Height (m)",null,"Depth (m)",null,"Volume (m³)",{"$f":"D17*F17*B17/2","v":0},"Dormer 2"]
["Length (m)",null,"Height (m)",null,"Depth (m)",null,"Volume (m³)",{"$f":"D18*F18*B18/2","v":0},"Dormer 3"]
["Floor",null,null,null,null,null,null,null,"Temp Difference","Heat Loss (W)","Usage (kWh)","Type of Ground Floor"]
["Length (m)",{"$f":"B10","v":0.7},"Width (m)",{"$f":"D10","v":2.1800000000000002},"Area (m²)",{"$f":"B20*D20","v":1.526},"U Value (W/m²K)",{"$f":"IF(L22=\"\",Q8,'floor u values'!K14)","v":0},{"$f":"IF(B$3=\"Ground Floor\",IF(L20=\"Solid Floor (in contact with ground)\",C$4-S$3,C$4-C$5),IF(B$3=\"Single Storey\",IF(L20=\"Solid Floor (in contact with ground)\",C$4-S$3,C$4-C$5),0))","v":0},{"$f":"F20*H20*I20","v":0},{"$f":"IF($B$3=$Q$5,0,IF($B$3=$Q$7,0,F20*H20*$C$7*24/1000))","v":0}]
["Length (m)",{"$f":"B11","v":0},"Width (m)",{"$f":"D11","v":0},"Area (m²)",{"$f":"B21*D21","v":0},"U Value (W/m²K)",{"$f":"H20","v":0},{"$f":"IF(B$3=\"Ground Floor\",IF(L20=\"Solid Floor (in contact with ground)\",C$4-S$3,C$4-C$5),IF(B$3=\"Single Storey\",IF(L20=\"Solid Floor (in contact with ground)\",C$4-S$3,C$4-C$5),0))","v":0},{"$f":"F21*H21*I21","v":0},{"$f":"IF($B$3=$Q$5,0,IF($B$3=$Q$7,0,F21*H21*$C$7*24/1000))","v":0},"Exposed floor (external)"]
["Length (m)",0,"Width (m)",0,"Area (m²)",0,"U Value (W/m²K)",{"$f":"H20","v":0},{"$f":"IF(B$3=\"Ground Floor\",IF(L20=\"Solid Floor (in contact with ground)\",C$4-S$3,C$4-C$5),IF(B$3=\"Single Storey\",IF(L20=\"Solid Floor (in contact with ground)\",C$4-S$3,C$4-C$5),0))","v":0},{"$f":"F22*H22*I22","v":0},{"$f":"IF($B$3=$Q$5,0,IF($B$3=$Q$7,0,F22*H22*$C$7*24/1000))","v":0}]
["External Wall",null,null,null,null,null,null,null,null,null,null,{"$f":"IF(L22=\"Two opposite\",\"Between edges\",IF(L22=\"One edge\",\"Depth of room\",IF(L22=\"3 edges (short single)\",\"Short length\",IF(L22=\"3 edges (long single)\",\"Short length\",\"\"))))","v":""},null,{"$f":"IF(L22=\"3 edges (short single)\",\"Long length\",IF(L22=\"3 edges (long single)\",\"Long length\",\"\"))","v":""}]
["Length (m)",null,"Height (m)",null,"Area (m²)",0]
["Length (m)",null,"Height (m)",null,"Area (m²)",0]
["Length (m)",null,"Height (m)",null,"Area (m²)",0]
[null,null,null,"Total","Area (m²)",{"$f":"SUM(F24:F26)-SUM(F37:F43,F50:F53)","v":0},"U Value (W/m²K)",{"$f":"IF($B$3=\"Ground floor\",'Design Details'!B$48,IF($B$3=\"Mid-floor\",'Design Details'!B$58,IF($B$3=\"Upper floor\",'Design Details'!B$68,IF($B$3=\"Single Storey\",'Design Details'!B$78,0))))","v":0.44},{"$f":"$C$6","v":21},{"$f":"F27*H27*I27","v":0},{"$f":"F27*H27*$C$7*24/1000","v":0}]
["Roof"]
["Length (m)",{"$f":"B10","v":0.7},"Width (m)",{"$f":"D10","v":2.1800000000000002},"Area (m²)",1.526]
["Length (m)",{"$f":"B11","v":0},"Width (m)",{"$f":"D11","v":0},"Area (m²)",0]
["Length (m)",0,"Width (m)",0,"Area (m²)",0]
[null,null,null,"Total","Area (m²)",{"$f":"SUM(F29:F31)-SUM(F45:F48)","v":1.526},"U Value (W/m²K)",{"$f":"IF($B$3=\"Ground floor\",'Design Details'!B$49,IF($B$3=\"Mid-floor\",'Design Details'!B$59,IF($B$3=\"Upper floor\",'Design Details'!B$69,IF($B$3=\"Single Storey\",'Design Details'!B$79,0))))","v":0.12},{"$f":"$C$6","v":21},3.84552,{"$f":"IF($B$3=$Q$4,0,IF($B$3=$Q$5,0,F32*H32*$C$7*24/1000))","v":9.7917926399999988}]
["Length (m)",null,"Pitch (m)",null,"Area (m²)",0,"Pitched"]
["Length (m)",null,"Pitch (m)",null,"Area (m²)",0,"Single Pitch"]
[null,null,null,"Total","Area (m²)",{"$f":"SUM(F33:F34)-SUM(F45:F48)","v":0},"U Value (W/m²K)",{"$f":"IF($B$3=\"Ground floor\",'Design Details'!B$50,IF($B$3=\"Mid-floor\",'Design Details'!B$60,IF($B$3=\"Upper floor\",'Design Details'!B$70,IF($B$3=\"Single Storey\",'Design Details'!B$80,0))))","v":0.12},21,0,{"$f":"IF($B$3=$Q$4,0,IF($B$3=$Q$5,0,F35*H35*$C$7*24/1000))","v":0}]
["Windows"]
["Width (m)",null,"Height (m)",null,"Area (m²)",0,"U Value (W/m²K)",{"$f":"IF($B$3=\"Ground floor\",'Design Details'!B$46,IF($B$3=\"Mid-floor\",'Design Details'!B$56,IF($B$3=\"Upper floor\",'Design Details'!B$66,IF($B$3=\"Single Storey\",'Design Details'!B$76,0))))","v":2.8},21,0,{"$f":"F37*H37*$C$7*24/1000","v":0}]
["Width (m)",null,"Height (m)",null,"Area (m²)",0,"U Value (W/m²K)",{"$f":"IF($B$3=\"Ground floor\",'Design Details'!B$46,IF($B$3=\"Mid-floor\",'Design Details'!B$56,IF($B$3=\"Upper floor\",'Design Details'!B$66,IF($B$3=\"Single Storey\",'Design Details'!B$76,0))))","v":2.8},21,0,0]
["Width (m)",null,"Height (m)",null,"Area (m²)",0,"U Value (W/m²K)",{"$f":"IF($B$3=\"Ground floor\",'Design Details'!B$46,IF($B$3=\"Mid-floor\",'Design Details'!B$56,IF($B$3=\"Upper floor\",'Design Details'!B$66,IF($B$3=\"Single Storey\",'Design Details'!B$76,0))))","v":2.8},21,0,0]
["Width (m)",null,"Height (m)",null,"Area (m²)",0,"U Value (W/m²K)",{"$f":"IF($B$3=\"Ground floor\",'Design Details'!B$46,IF($B$3=\"Mid-floor\",'Design Details'!B$56,IF($B$3=\"Upper floor\",'Design Details'!B$66,IF($B$3=\"Single Storey\",'Design Details'!B$76,0))))","v":2.8},21,0,0]
["Width (m)",null,"Height (m)",null,"Area (m²)",0,"U Value (W/m²K)",{"$f":"IF($B$3=\"Ground floor\",'Design Details'!B$46,IF($B$3=\"Mid-floor\",'Design Details'!B$56,IF($B$3=\"Upper floor\",'Design Details'!B$66,IF($B$3=\"Single Storey\",'Design Details'!B$76,0))))","v":2.8},21,0,0]
["Width (m)",null,"Height (m)",null,"Area (m²)",0,"U Value (W/m²K)",{"$f":"IF($B$3=\"Ground floor\",'Design Details'!B$46,IF($B$3=\"Mid-floor\",'Design Details'!B$56,IF($B$3=\"Upper floor\",'Design Details'!B$66,IF($B$3=\"Single Storey\",'Design Details'!B$76,0))))","v":2.8},21,0,0]
["Width (m)",null,"Height (m)",null,"Area (m²)",0,"U Value (W/m²K)",{"$f":"IF($B$3=\"Ground floor\",'Design Details'!B$46,IF($B$3=\"Mid-floor\",'Design Details'!B$56,IF($B$3=\"Upper floor\",'Design Details'!B$66,IF($B$3=\"Single Storey\",'Design Details'!B$76,0))))","v":2.8},21,0,0]
["Roof Glazing"]
["Width (m)",null,"Height (m)",null,"Area (m²)",0,"U Value (W/m²K)",{"$f":"IF($B$3=\"Ground floor\",'Design Details'!B$53,IF($B$3=\"Mid-floor\",'Design Details'!B$63,IF($B$3=\"Upper floor\",'Design Details'!B$73,IF($B$3=\"Single Storey\",'Design Details'!B$83,0))))","v":2.8},21,0,{"$f":"F45*H45*$C$7*24/1000","v":0}]
["Width (m)",null,"Height (m)",null,"Area (m²)",0,"U Value (W/m²K)",{"$f":"IF($B$3=\"Ground floor\",'Design Details'!B$53,IF($B$3=\"Mid-floor\",'Design Details'!B$63,IF($B$3=\"Upper floor\",'Design Details'!B$73,IF($B$3=\"Single Storey\",'Design Details'!B$83,0))))","v":2.8},21,0,{"$f":"F46*H46*$C$7*24/1000","v":0}]
["Width (m)",null,"Height (m)",null,"Area (m²)",0,"U Value (W/m²K)",{"$f":"IF($B$3=\"Ground floor\",'Design Details'!B$53,IF($B$3=\"Mid-floor\",'Design Details'!B$63,IF($B$3=\"Upper floor\",'Design Details'!B$73,IF($B$3=\"Single Storey\",'Design Details'!B$83,0))))","v":2.8},21,0,{"$f":"F47*H47*$C$7*24/1000","v":0}]
["Width (m)",null,"Height (m)",null,"Area (m²)",0,"U Value (W/m²K)",{"$f":"IF($B$3=\"Ground floor\",'Design Details'!B$53,IF($B$3=\"Mid-floor\",'Design Details'!B$63,IF($B$3=\"Upper floor\",'Design Details'!B$73,IF($B$3=\"Single Storey\",'Design Details'!B$83,0))))","v":2.8},21,0,{"$f":"F48*H48*$C$7*24/1000","v":0}]
["Doors"]
["Width (m)",null,"Height (m)",null,"Area (m²)",0,"U Value (W/m²K)",{"$f":"IF($B$3=\"Ground floor\",'Design Details'!B$47,IF($B$3=\"Mid-floor\",'Design Details'!B$57,IF($B$3=\"Upper floor\",'Design Details'!B$67,IF($B$3=\"Single Storey\",'Design Details'!B$77,0))))","v":2.8},21,0,{"$f":"F50*H50*$C$7*24/1000","v":0}]
["Width (m)",null,"Height (m)",null,"Area (m²)",0,"U Value (W/m²K)",{"$f":"IF($B$3=\"Ground floor\",'Design Details'!B$47,IF($B$3=\"Mid-floor\",'Design Details'!B$57,IF($B$3=\"Upper floor\",'Design Details'!B$67,IF($B$3=\"Single Storey\",'Design Details'!B$77,0))))","v":2.8},21,0,{"$f":"F51*H51*$C$7*24/1000","v":0}]
["Width (m)",null,"Height (m)",null,"Area (m²)",0,"U Value (W/m²K)",{"$f":"IF($B$3=\"Ground floor\",'Design Details'!B$47,IF($B$3=\"Mid-floor\",'Design Details'!B$57,IF($B$3=\"Upper floor\",'Design Details'!B$67,IF($B$3=\"Single Storey\",'Design Details'!B$77,0))))","v":2.8},21,0,{"$f":"F52*H52*$C$7*24/1000","v":0}]
["Width (m)",null,"Height (m)",null,"Area (m²)",0,"U Value (W/m²K)",{"$f":"IF($B$3=\"Ground floor\",'Design Details'!B$47,IF($B$3=\"Mid-floor\",'Design Details'!B$57,IF($B$3=\"Upper floor\",'Design Details'!B$67,IF($B$3=\"Single Storey\",'Design Details'!B$77,0))))","v":2.8},21,0,{"$f":"F53*H53*$C$7*24/1000","v":0}]
["Internal Walls",null,null,null,null,null,null,null,null,null,null,"Adjoining Room Temp (°C)"]
["Length (m)",0.7,"Height (m)",2.35,"Area (m²)",1.645,"U Value (W/m²K)",0.44,8,5.7904]
["Length (m)",null,"Height (m)",null,"Area (m²)",0,"U Value (W/m²K)",{"$f":"IF($B$3=\"Ground floor\",'Design Details'!B$51,IF($B$3=\"Mid-floor\",'Design Details'!B$61,IF($B$3=\"Upper floor\",'Design Details'!B$71,IF($B$3=\"Single Storey\",'Design Details'!B$81,0))))","v":1.72},{"$f":"IF(L56=\"\",0,IF(L56=\"unheated\",C$4-10,C$4-L56))","v":0},0]
["Length (m)",null,"Height (m)",null,"Area (m²)",0,"U Value (W/m²K)",{"$f":"IF($B$3=\"Ground floor\",'Design Details'!B$51,IF($B$3=\"Mid-floor\",'Design Details'!B$61,IF($B$3=\"Upper floor\",'Design Details'!B$71,IF($B$3=\"Single Storey\",'Design Details'!B$81,0))))","v":1.72},{"$f":"IF(L57=\"\",0,IF(L57=\"unheated\",C$4-10,C$4-L57))","v":0},0]
["Length (m)",null,"Height (m)",null,"Area (m²)",0,"U Value (W/m²K)",{"$f":"IF($B$3=\"Ground floor\",'Design Details'!B$51,IF($B$3=\"Mid-floor\",'Design Details'!B$61,IF($B$3=\"Upper floor\",'Design Details'!B$71,IF($B$3=\"Single Storey\",'Design Details'!B$81,0))))","v":1.72},{"$f":"IF(L58=\"\",0,IF(L58=\"unheated\",C$4-10,C$4-L58))","v":0},0]
["Party Wall"]
["Length (m)",null,"Height (m)",null,"Area (m²)",0,"U Value (W/m²K)",{"$f":"IF($B$3=\"Ground floor\",'Design Details'!B$52,IF($B$3=\"Mid-floor\",'Design Details'!B$62,IF($B$3=\"Upper floor\",'Design Details'!B$72,IF($B$3=\"Single Storey\",'Design Details'!B$82,0))))","v":1},{"$f":"C4-10","v":8},0,{"$f":"F60*H60*$C$7*24/1000","v":0}]

{"sheet":"14","index":19,"n_rows":60,"n_cols":24,"rows_kept":60,"cut":false,"hidden":false,"merged":[[2,1,2,2],[2,3,2,4],[0,0,0,2],[0,3,0,5],[0,9,0,10],[1,3,1,4],[3,0,3,1],[3,3,3,4],[4,0,4,1],[4,3,4,4],[5,0,5,1],[5,3,5,4],[57,11,57,13],[6,0,6,1],[18,11,18,13],[19,11,19,13],[53,11,53,13],[54,11,54,13],[55,11,55,13],[56,11,56,13],[30,11,30,13],[10,10,10,13],[9,10,9,13],[20,11,20,13],[21,11,21,13]]}
["Room Information",null,null,"Ventilation Heat Loss",null,null,"Fabric ","Heat Loss (W)"," Usage (kWh)","Additional heat loss",null,"Addition","Watts","kWh"]
["Room","Bath",null,"Air Changes a hour",null,{"$f":"'Design Details'!F100","v":3},"Floor",{"$f":"SUM(J20:J22)","v":0},{"$f":"SUM(K20:K22)","v":0},"Thermal Bridging (New Build >2006)",null,0,{"$f":"SUM(H$2:H$6)*L2","v":0},{"$f":"SUM(I$2:I$6)*L2","v":0},null,"3 edges (long single)","Level",null,null,null,null,null,null,1]
["Level","Upper floor",null,"Air Change Factor (W/m³K)",null,0.33,"Ext Wall",{"$f":"J27","v":54.306252000000022},{"$f":"K27","v":138.27923366400006},"Exposed location",null,0,{"$f":"SUM(H$2:H$6)*L3","v":0},{"$f":"SUM(I$2:I$6)*L3","v":0},null,"3 edges (short single)","Please Select Floor",{"$f":"IF($B$3=\"Ground floor\",\"Solid Floor (in contact with ground)\",IF($B$3=\"Single Storey\",\"Solid Floor (in contact with ground)\",\"n/a\"))","v":"n/a"},{"$f":"'Design Details'!B21","v":10},"unheated",0,0,0,2]
["Design Room Temp (°C)",null,18,"Total Volume (m³)",null,{"$f":"SUM(H10:H12,H14:H18)","v":32.300920000000005},"Roof",49.79,{"$f":"SUM(K32,K35)","v":76.281016319999992},"High ceiling",null,0,{"$f":"SUM(H$2:H$6)*L4","v":0},{"$f":"SUM(I$2:I$6)*L4","v":0},null,"One edge","Ground floor",{"$f":"IF($B$3=\"Ground floor\",\"Suspended Floor\",IF($B$3=\"Single Storey\",\"Suspended Floor\",\"n/a\"))","v":"n/a"},null,16,0.1,0.2,2.5000000000000001E-2,3]
["Outside Design Temp (°C)",null,{"$f":"'Design Details'!B19","v":-3},"Heat loss (W)",null,{"$f":"F4*F3*C6*F2","v":671.53612680000015},"Glazing",{"$f":"SUM(J37:J43,J45:J48,J50:J53)","v":145.18896000000001},{"$f":"SUM(K37:K43,K45:K48,K50:K53)","v":369.69257472000004},"Intermittent heating",null,0,{"$f":"SUM(H$2:H$6)*L5","v":0},{"$f":"SUM(I$2:I$6)*L5","v":0},null,"Two adjacent","Mid-floor",null,null,18,null,null,0.05,4]
["Temp Difference (°C)",null,{"$f":"C4-C5","v":21},"Estimated Energy usage (kWh)",null,{"$f":"F4*F3*C7*24/1000","v":569.9742820992002},"Int./Party Wall",{"$f":"SUM(J55:J58,J60)","v":143.61786999999998},{"$f":"SUM(K60)","v":0},null,null,null,"Total Room Heat Loss (W)",{"$f":"SUM(F5,H2:H6,M2:M5)","v":1064.4392088000002},null,"Two opposite","Single storey",null,null,21,null,null,7.4999999999999997E-2,5]
["Degree Days",null,{"$f":"'Design Details'!B20","v":2228},null,null,null,null,null,null,null,null,null,"Total Room Energy Usage (kWh)",{"$f":"SUM(F6,I2:I6,N2:N5)","v":1154.2271068032003},null,null,"Upper floor",null,null,22,null,null,0.1,6]
[null,null,null,null,null,null,null,null,null,null,null,null,null,null,null,null,{"$f":"IF($B$3=\"Ground floor\",'Design Details'!B$45,IF($B$3=\"Mid-floor\",'Design Details'!B$55,IF($B$3=\"Upper floor\",'Design Details'!B$65,IF($B$3=\"Single Storey\",'Design Details'!B$75,0))))","v":0},null,null,null,null,null,null,7]
["Room Dimensions",null,null,null,null,null,null,null,null,null,null,null,null,null,null,null,null,null,null,null,null,null,null,8]
["Length (m)",2.64,"Width (m)",3.2,"Height (m)",2.39,"Volume (m³)",{"$f":"B10*D10*F10","v":20.190720000000002},null,null,null,null,null,null,null,null,null,null,null,null,null,null,null,9]
["Length (m)",0.76,"Width (m)",3.2,"Height (m)",1.6,"Volume (m³)",{"$f":"B11*D11*F11","v":3.8912000000000009},null,null,null,null,null,null,null,null,null,null,null,null,null,null,null,10]
["Length (m)",null,"Width (m)",null,"Height (m)",null,"Volume (m³)",8.2189999999999994]
["Awkward Room Dimensions"]
["Length (m)",null,"Width (m)",null,"Height (m)",null,"Volume (m³)",{"$f":"((F14*D14)/2)*B14","v":0},"Pitched"]
["Length (m)",null,"Width (m)",null,"Height (m)",null,"Volume (m³)",{"$f":"B15*D15*F15/2","v":0},"Single Pitch"]
["Length (m)",null,"Height (m)",null,"Depth (m)",null,"Volume (m³)",{"$f":"D16*F16*B16/2","v":0},"Dormer 1"]
["Length (m)",null,"Height (m)",null,"Depth (m)",null,"Volume (m³)",{"$f":"D17*F17*B17/2","v":0},"Dormer 2"]
["Length (m)",null,"Height (m)",null,"Depth (m)",null,"Volume (m³)",{"$f":"D18*F18*B18/2","v":0},"Dormer 3"]
["Floor",null,null,null,null,null,null,null,"Temp Difference","Heat Loss (W)","Usage (kWh)","Type of Ground Floor"]
["Length (m)",{"$f":"B10","v":2.64},"Width (m)",{"$f":"D10","v":3.2},"Area (m²)",{"$f":"B20*D20","v":8.4480000000000004},"U Value (W/m²K)",{"$f":"IF(L22=\"\",Q8,'floor u values'!K15)","v":0},{"$f":"IF(B$3=\"Ground Floor\",IF(L20=\"Solid Floor (in contact with ground)\",C$4-S$3,C$4-C$5),IF(B$3=\"Single Storey\",IF(L20=\"Solid Floor (in contact with ground)\",C$4-S$3,C$4-C$5),0))","v":0},{"$f":"F20*H20*I20","v":0},{"$f":"IF($B$3=$Q$5,0,IF($B$3=$Q$7,0,F20*H20*$C$7*24/1000))","v":0}]
["Length (m)",{"$f":"B11","v":0.76},"Width (m)",{"$f":"D11","v":3.2},"Area (m²)",{"$f":"B21*D21","v":2.4320000000000004},"U Value (W/m²K)",{"$f":"H20","v":0},{"$f":"IF(B$3=\"Ground Floor\",IF(L20=\"Solid Floor (in contact with ground)\",C$4-S$3,C$4-C$5),IF(B$3=\"Single Storey\",IF(L20=\"Solid Floor (in contact with ground)\",C$4-S$3,C$4-C$5),0))","v":0},{"$f":"F21*H21*I21","v":0},{"$f":"IF($B$3=$Q$5,0,IF($B$3=$Q$7,0,F21*H21*$C$7*24/1000))","v":0},"Exposed floor (external)"]
["Length (m)",0,"Width (m)",0,"Area (m²)",3.44,"U Value (W/m²K)",{"$f":"H20","v":0},{"$f":"IF(B$3=\"Ground Floor\",IF(L20=\"Solid Floor (in contact with ground)\",C$4-S$3,C$4-C$5),IF(B$3=\"Single Storey\",IF(L20=\"Solid Floor (in contact with ground)\",C$4-S$3,C$4-C$5),0))","v":0},{"$f":"F22*H22*I22","v":0},{"$f":"IF($B$3=$Q$5,0,IF($B$3=$Q$7,0,F22*H22*$C$7*24/1000))","v":0}]
["External Wall",null,null,null,null,null,null,null,null,null,null,{"$f":"IF(L22=\"Two opposite\",\"Between edges\",IF(L22=\"One edge\",\"Depth of room\",IF(L22=\"3 edges (short single)\",\"Short length\",IF(L22=\"3 edges (long single)\",\"Short length\",\"\"))))","v":""},null,{"$f":"IF(L22=\"3 edges (short single)\",\"Long length\",IF(L22=\"3 edges (long single)\",\"Long length\",\"\"))","v":""}]
["Length (m)",3.2,"Height (m)",1.6,"Area (m²)",5.120000000000001]
["Length (m)",1.35,"Height (m)",2.39,"Area (m²)",3.2265000000000006]
["Length (m)",null,"Height (m)",null,"Area (m²)",0]
[null,null,null,"Total","Area (m²)",{"$f":"SUM(F24:F26)-SUM(F37:F43,F50:F53)","v":5.8773000000000026},"U Value (W/m²K)",0.44,{"$f":"$C$6","v":21},{"$f":"F27*H27*I27","v":54.306252000000022},{"$f":"F27*H27*$C$7*24/1000","v":138.27923366400006}]
["Roof",null,null,null,null,null,null,null,null,11.56]
["Length (m)",{"$f":"B10","v":2.64},"Width (m)",{"$f":"D10","v":3.2},"Area (m²)",10.99]
["Length (m)",{"$f":"B11","v":0.76},"Width (m)",{"$f":"D11","v":3.2},"Area (m²)",2.4320000000000004]
["Length (m)",0,"Width (m)",0,"Area (m²)",0,null,null,null,19.829999999999998]
[null,null,null,"Total","Area (m²)",11.888,"U Value (W/m²K)",0.12,{"$f":"$C$6","v":21},29.957759999999997,{"$f":"IF($B$3=$Q$4,0,IF($B$3=$Q$5,0,F32*H32*$C$7*24/1000))","v":76.281016319999992}]
["Length (m)",null,"Pitch (m)",null,"Area (m²)",0,"Pitched"]
["Length (m)",null,"Pitch (m)",null,"Area (m²)",0,"Single Pitch"]
[null,null,null,"Total","Area (m²)",{"$f":"SUM(F33:F34)-SUM(F45:F48)","v":0},"U Value (W/m²K)",{"$f":"IF($B$3=\"Ground floor\",'Design Details'!B$50,IF($B$3=\"Mid-floor\",'Design Details'!B$60,IF($B$3=\"Upper floor\",'Design Details'!B$70,IF($B$3=\"Single Storey\",'Design Details'!B$80,0))))","v":0.12},21,0,{"$f":"IF($B$3=$Q$4,0,IF($B$3=$Q$5,0,F35*H35*$C$7*24/1000))","v":0}]
["Windows"]
["Width (m)",1.1200000000000001,"Height (m)",1.1599999999999999,"Area (m²)",1.2992000000000001,"U Value (W/m²K)",{"$f":"IF($B$3=\"Ground floor\",'Design Details'!B$46,IF($B$3=\"Mid-floor\",'Design Details'!B$56,IF($B$3=\"Upper floor\",'Design Details'!B$66,IF($B$3=\"Single Storey\",'Design Details'!B$76,0))))","v":2.8},21,76.392960000000002,{"$f":"F37*H37*$C$7*24/1000","v":194.51830272000001}]
["Width (m)",1,"Height (m)",1.17,"Area (m²)",1.17,"U Value (W/m²K)",{"$f":"IF($B$3=\"Ground floor\",'Design Details'!B$46,IF($B$3=\"Mid-floor\",'Design Details'!B$56,IF($B$3=\"Upper floor\",'Design Details'!B$66,IF($B$3=\"Single Storey\",'Design Details'!B$76,0))))","v":2.8},21,68.795999999999992,175.174272]
["Width (m)",null,"Height (m)",null,"Area (m²)",0,"U Value (W/m²K)",{"$f":"IF($B$3=\"Ground floor\",'Design Details'!B$46,IF($B$3=\"Mid-floor\",'Design Details'!B$56,IF($B$3=\"Upper floor\",'Design Details'!B$66,IF($B$3=\"Single Storey\",'Design Details'!B$76,0))))","v":2.8},21,0,0]
["Width (m)",null,"Height (m)",null,"Area (m²)",0,"U Value (W/m²K)",{"$f":"IF($B$3=\"Ground floor\",'Design Details'!B$46,IF($B$3=\"Mid-floor\",'Design Details'!B$56,IF($B$3=\"Upper floor\",'Design Details'!B$66,IF($B$3=\"Single Storey\",'Design Details'!B$76,0))))","v":2.8},21,0,0]
["Width (m)",null,"Height (m)",null,"Area (m²)",0,"U Value (W/m²K)",{"$f":"IF($B$3=\"Ground floor\",'Design Details'!B$46,IF($B$3=\"Mid-floor\",'Design Details'!B$56,IF($B$3=\"Upper floor\",'Design Details'!B$66,IF($B$3=\"Single Storey\",'Design Details'!B$76,0))))","v":2.8},21,0,0]
["Width (m)",null,"Height (m)",null,"Area (m²)",0,"U Value (W/m²K)",{"$f":"IF($B$3=\"Ground floor\",'Design Details'!B$46,IF($B$3=\"Mid-floor\",'Design Details'!B$56,IF($B$3=\"Upper floor\",'Design Details'!B$66,IF($B$3=\"Single Storey\",'Design Details'!B$76,0))))","v":2.8},21,0,0]
["Width (m)",null,"Height (m)",null,"Area (m²)",0,"U Value (W/m²K)",{"$f":"IF($B$3=\"Ground floor\",'Design Details'!B$46,IF($B$3=\"Mid-floor\",'Design Details'!B$56,IF($B$3=\"Upper floor\",'Design Details'!B$66,IF($B$3=\"Single Storey\",'Design Details'!B$76,0))))","v":2.8},21,0,0]
["Roof Glazing"]
["Width (m)",null,"Height (m)",null,"Area (m²)",0,"U Value (W/m²K)",{"$f":"IF($B$3=\"Ground floor\",'Design Details'!B$53,IF($B$3=\"Mid-floor\",'Design Details'!B$63,IF($B$3=\"Upper floor\",'Design Details'!B$73,IF($B$3=\"Single Storey\",'Design Details'!B$83,0))))","v":2.8},21,0,{"$f":"F45*H45*$C$7*24/1000","v":0}]
["Width (m)",null,"Height (m)",null,"Area (m²)",0,"U Value (W/m²K)",{"$f":"IF($B$3=\"Ground floor\",'Design Details'!B$53,IF($B$3=\"Mid-floor\",'Design Details'!B$63,IF($B$3=\"Upper floor\",'Design Details'!B$73,IF($B$3=\"Single Storey\",'Design Details'!B$83,0))))","v":2.8},21,0,{"$f":"F46*H46*$C$7*24/1000","v":0}]
["Width (m)",null,"Height (m)",null,"Area (m²)",0,"U Value (W/m²K)",{"$f":"IF($B$3=\"Ground floor\",'Design Details'!B$53,IF($B$3=\"Mid-floor\",'Design Details'!B$63,IF($B$3=\"Upper floor\",'Design Details'!B$73,IF($B$3=\"Single Storey\",'Design Details'!B$83,0))))","v":2.8},21,0,{"$f":"F47*H47*$C$7*24/1000","v":0}]
["Width (m)",null,"Height (m)",null,"Area (m²)",0,"U Value (W/m²K)",{"$f":"IF($B$3=\"Ground floor\",'Design Details'!B$53,IF($B$3=\"Mid-floor\",'Design Details'!B$63,IF($B$3=\"Upper floor\",'Design Details'!B$73,IF($B$3=\"Single Storey\",'Design Details'!B$83,0))))","v":2.8},21,0,{"$f":"F48*H48*$C$7*24/1000","v":0}]
["Doors"]
["Width (m)",null,"Height (m)",null,"Area (m²)",0,"U Value (W/m²K)",{"$f":"IF($B$3=\"Ground floor\",'Design Details'!B$47,IF($B$3=\"Mid-floor\",'Design Details'!B$57,IF($B$3=\"Upper floor\",'Design Details'!B$67,IF($B$3=\"Single Storey\",'Design Details'!B$77,0))))","v":2.8},21,0,{"$f":"F50*H50*$C$7*24/1000","v":0}]
["Width (m)",null,"Height (m)",null,"Area (m²)",0,"U Value (W/m²K)",{"$f":"IF($B$3=\"Ground floor\",'Design Details'!B$47,IF($B$3=\"Mid-floor\",'Design Details'!B$57,IF($B$3=\"Upper floor\",'Design Details'!B$67,IF($B$3=\"Single Storey\",'Design Details'!B$77,0))))","v":2.8},21,0,{"$f":"F51*H51*$C$7*24/1000","v":0}]
["Width (m)",null,"Height (m)",null,"Area (m²)",0,"U Value (W/m²K)",{"$f":"IF($B$3=\"Ground floor\",'Design Details'!B$47,IF($B$3=\"Mid-floor\",'Design Details'!B$57,IF($B$3=\"Upper floor\",'Design Details'!B$67,IF($B$3=\"Single Storey\",'Design Details'!B$77,0))))","v":2.8},21,0,{"$f":"F52*H52*$C$7*24/1000","v":0}]
["Width (m)",null,"Height (m)",null,"Area (m²)",0,"U Value (W/m²K)",{"$f":"IF($B$3=\"Ground floor\",'Design Details'!B$47,IF($B$3=\"Mid-floor\",'Design Details'!B$57,IF($B$3=\"Upper floor\",'Design Details'!B$67,IF($B$3=\"Single Storey\",'Design Details'!B$77,0))))","v":2.8},21,0,{"$f":"F53*H53*$C$7*24/1000","v":0}]
["Internal Walls",null,null,null,null,null,null,null,null,null,null,"Adjoining Room Temp (°C)"]
["Length (m)",2.7,"Height (m)",1.59,"Area (m²)",4.2930000000000001,"U Value (W/m²K)",0.19,21,17.129069999999999]
["Length (m)",2.7,"Height (m)",1.59,"Area (m²)",4.2930000000000001,"U Value (W/m²K)",{"$f":"IF($B$3=\"Ground floor\",'Design Details'!B$51,IF($B$3=\"Mid-floor\",'Design Details'!B$61,IF($B$3=\"Upper floor\",'Design Details'!B$71,IF($B$3=\"Single Storey\",'Design Details'!B$81,0))))","v":1.72},8,59.071680000000001]
["Length (m)",null,"Height (m)",null,"Area (m²)",0,"U Value (W/m²K)",{"$f":"IF($B$3=\"Ground floor\",'Design Details'!B$51,IF($B$3=\"Mid-floor\",'Design Details'!B$61,IF($B$3=\"Upper floor\",'Design Details'!B$71,IF($B$3=\"Single Storey\",'Design Details'!B$81,0))))","v":1.72},{"$f":"IF(L57=\"\",0,IF(L57=\"unheated\",C$4-10,C$4-L57))","v":0},0]
["Length (m)",2.0499999999999998,"Height (m)",2.39,"Area (m²)",4.8994999999999997,"U Value (W/m²K)",{"$f":"IF($B$3=\"Ground floor\",'Design Details'!B$51,IF($B$3=\"Mid-floor\",'Design Details'!B$61,IF($B$3=\"Upper floor\",'Design Details'!B$71,IF($B$3=\"Single Storey\",'Design Details'!B$81,0))))","v":1.72},8,67.417119999999997]
["Party Wall"]
["Length (m)",null,"Height (m)",null,"Area (m²)",0,"U Value (W/m²K)",{"$f":"IF($B$3=\"Ground floor\",'Design Details'!B$52,IF($B$3=\"Mid-floor\",'Design Details'!B$62,IF($B$3=\"Upper floor\",'Design Details'!B$72,IF($B$3=\"Single Storey\",'Design Details'!B$82,0))))","v":1},{"$f":"C4-10","v":8},0,{"$f":"F60*H60*$C$7*24/1000","v":0}]

{"sheet":"15","index":20,"n_rows":60,"n_cols":24,"rows_kept":60,"cut":false,"hidden":false,"merged":[[2,1,2,2],[2,3,2,4],[0,0,0,2],[0,3,0,5],[0,9,0,10],[1,3,1,4],[3,0,3,1],[3,3,3,4],[4,0,4,1],[4,3,4,4],[5,0,5,1],[5,3,5,4],[57,11,57,13],[6,0,6,1],[18,11,18,13],[19,11,19,13],[53,11,53,13],[54,11,54,13],[55,11,55,13],[56,11,56,13],[30,11,30,13],[10,10,10,13],[9,10,9,13],[20,11,20,13],[21,11,21,13]]}
["Room Information",null,null,"Ventilation Heat Loss",null,null,"Fabric ","Heat Loss (W)"," Usage (kWh)","Additional heat loss",null,"Addition","Watts","kWh"]
["Room","Landing",null,"Air Changes a hour",null,{"$f":"'Design Details'!F101","v":"2.0"},"Floor",{"$f":"SUM(J20:J22)","v":0},{"$f":"SUM(K20:K22)","v":0},"Thermal Bridging (New Build >2006)",null,0,{"$f":"SUM(H$2:H$6)*L2","v":0},{"$f":"SUM(I$2:I$6)*L2","v":0},null,"3 edges (long single)","Level",null,null,null,null,null,null,1]
["Level","Upper floor",null,"Air Change Factor (W/m³K)",null,0.33,"Ext Wall",{"$f":"J27","v":28.267008000000004},{"$f":"K27","v":71.97587865600002},"Exposed location",null,0,{"$f":"SUM(H$2:H$6)*L3","v":0},{"$f":"SUM(I$2:I$6)*L3","v":0},null,"3 edges (short single)","Please Select Floor",{"$f":"IF($B$3=\"Ground floor\",\"Solid Floor (in contact with ground)\",IF($B$3=\"Single Storey\",\"Solid Floor (in contact with ground)\",\"n/a\"))","v":"n/a"},{"$f":"'Design Details'!B21","v":10},"unheated",0,0,0,2]
["Design Room Temp (°C)",null,{"$f":"'Design Details'!D101","v":18},"Total Volume (m³)",null,{"$f":"SUM(H10:H12,H14:H18)","v":22.345066000000003},"Roof",{"$f":"SUM(J32,J35)","v":23.560487999999996},{"$f":"SUM(K32,K35)","v":59.991734015999988},"High ceiling",null,0,{"$f":"SUM(H$2:H$6)*L4","v":0},{"$f":"SUM(I$2:I$6)*L4","v":0},null,"One edge","Ground floor",{"$f":"IF($B$3=\"Ground floor\",\"Suspended Floor\",IF($B$3=\"Single Storey\",\"Suspended Floor\",\"n/a\"))","v":"n/a"},null,16,0.1,0.2,2.5000000000000001E-2,3]
["Outside Design Temp (°C)",null,{"$f":"'Design Details'!B19","v":-3},"Heat loss (W)",null,{"$f":"F4*F3*C6*F2","v":309.70261476000002},"Glazing",{"$f":"SUM(J37:J43,J45:J48,J50:J53)","v":0},{"$f":"SUM(K37:K43,K45:K48,K50:K53)","v":0},"Intermittent heating",null,0,{"$f":"SUM(H$2:H$6)*L5","v":0},{"$f":"SUM(I$2:I$6)*L5","v":0},null,"Two adjacent","Mid-floor",null,null,18,null,null,0.05,4]
["Temp Difference (°C)",null,{"$f":"C4-C5","v":21},"Estimated Energy usage (kWh)",null,{"$f":"F4*F3*C7*24/1000","v":394.29567182016012},"Int./Party Wall",{"$f":"SUM(J55:J58,J60)","v":0},{"$f":"SUM(K60)","v":0},null,null,null,"Total Room Heat Loss (W)",{"$f":"SUM(F5,H2:H6,M2:M5)","v":361.53011076000001},null,"Two opposite","Single storey",null,null,21,null,null,7.4999999999999997E-2,5]
["Degree Days",null,{"$f":"'Design Details'!B20","v":2228},null,null,null,null,null,null,null,null,null,"Total Room Energy Usage (kWh)",{"$f":"SUM(F6,I2:I6,N2:N5)","v":526.2632844921601},null,null,"Upper floor",null,null,22,null,null,0.1,6]
[null,null,null,null,null,null,null,null,null,null,null,null,null,null,null,null,{"$f":"IF($B$3=\"Ground floor\",'Design Details'!B$45,IF($B$3=\"Mid-floor\",'Design Details'!B$55,IF($B$3=\"Upper floor\",'Design Details'!B$65,IF($B$3=\"Single Storey\",'Design Details'!B$75,0))))","v":0},null,null,null,null,null,null,7]
["Room Dimensions",null,null,null,null,null,null,null,null,null,null,null,null,null,null,null,null,null,null,null,null,null,null,8]
["Length (m)",3.06,"Width (m)",0.81,"Height (m)",2.39,"Volume (m³)",{"$f":"B10*D10*F10","v":5.9238540000000004},null,null,null,null,null,null,null,null,null,null,null,null,null,null,null,9]
["Length (m)",1.78,"Width (m)",3.86,"Height (m)",2.39,"Volume (m³)",{"$f":"B11*D11*F11","v":16.421212000000001},null,null,null,null,null,null,null,null,null,null,null,null,null,null,null,10]
["Length (m)",null,"Width (m)",null,"Height (m)",null,"Volume (m³)",{"$f":"B12*D12*F12","v":0}]
["Awkward Room Dimensions"]
["Length (m)",null,"Width (m)",null,"Height (m)",null,"Volume (m³)",{"$f":"((F14*D14)/2)*B14","v":0},"Pitched"]
["Length (m)",null,"Width (m)",null,"Height (m)",null,"Volume (m³)",{"$f":"B15*D15*F15/2","v":0},"Single Pitch"]
["Length (m)",null,"Height (m)",null,"Depth (m)",null,"Volume (m³)",{"$f":"D16*F16*B16/2","v":0},"Dormer 1"]
["Length (m)",null,"Height (m)",null,"Depth (m)",null,"Volume (m³)",{"$f":"D17*F17*B17/2","v":0},"Dormer 2"]
["Length (m)",null,"Height (m)",null,"Depth (m)",null,"Volume (m³)",{"$f":"D18*F18*B18/2","v":0},"Dormer 3"]
["Floor",null,null,null,null,null,null,null,"Temp Difference","Heat Loss (W)","Usage (kWh)","Type of Ground Floor"]
["Length (m)",{"$f":"B10","v":3.06},"Width (m)",{"$f":"D10","v":0.81},"Area (m²)",{"$f":"B20*D20","v":2.4786000000000001},"U Value (W/m²K)",{"$f":"IF(L22=\"\",Q8,'floor u values'!K16)","v":0},{"$f":"IF(B$3=\"Ground Floor\",IF(L20=\"Solid Floor (in contact with ground)\",C$4-S$3,C$4-C$5),IF(B$3=\"Single Storey\",IF(L20=\"Solid Floor (in contact with ground)\",C$4-S$3,C$4-C$5),0))","v":0},{"$f":"F20*H20*I20","v":0},{"$f":"IF($B$3=$Q$5,0,IF($B$3=$Q$7,0,F20*H20*$C$7*24/1000))","v":0}]
["Length (m)",{"$f":"B11","v":1.78},"Width (m)",{"$f":"D11","v":3.86},"Area (m²)",{"$f":"B21*D21","v":6.8708},"U Value (W/m²K)",{"$f":"H20","v":0},{"$f":"IF(B$3=\"Ground Floor\",IF(L20=\"Solid Floor (in contact with ground)\",C$4-S$3,C$4-C$5),IF(B$3=\"Single Storey\",IF(L20=\"Solid Floor (in contact with ground)\",C$4-S$3,C$4-C$5),0))","v":0},{"$f":"F21*H21*I21","v":0},{"$f":"IF($B$3=$Q$5,0,IF($B$3=$Q$7,0,F21*H21*$C$7*24/1000))","v":0},"Exposed floor (external)"]
["Length (m)",0,"Width (m)",0,"Area (m²)",0,"U Value (W/m²K)",{"$f":"H20","v":0},{"$f":"IF(B$3=\"Ground Floor\",IF(L20=\"Solid Floor (in contact with ground)\",C$4-S$3,C$4-C$5),IF(B$3=\"Single Storey\",IF(L20=\"Solid Floor (in contact with ground)\",C$4-S$3,C$4-C$5),0))","v":0},{"$f":"F22*H22*I22","v":0},{"$f":"IF($B$3=$Q$5,0,IF($B$3=$Q$7,0,F22*H22*$C$7*24/1000))","v":0}]
["External Wall",null,null,null,null,null,null,null,null,null,null,{"$f":"IF(L22=\"Two opposite\",\"Between edges\",IF(L22=\"One edge\",\"Depth of room\",IF(L22=\"3 edges (short single)\",\"Short length\",IF(L22=\"3 edges (long single)\",\"Short length\",\"\"))))","v":""},null,{"$f":"IF(L22=\"3 edges (short single)\",\"Long length\",IF(L22=\"3 edges (long single)\",\"Long length\",\"\"))","v":""}]
["Length (m)",1.28,"Height (m)",2.39,"Area (m²)",3.0592000000000001]
["Length (m)",null,"Height (m)",null,"Area (m²)",0]
["Length (m)",null,"Height (m)",null,"Area (m²)",0]
[null,null,null,"Total","Area (m²)",{"$f":"SUM(F24:F26)-SUM(F37:F43,F50:F53)","v":3.0592000000000001},"U Value (W/m²K)",{"$f":"IF($B$3=\"Ground floor\",'Design Details'!B$48,IF($B$3=\"Mid-floor\",'Design Details'!B$58,IF($B$3=\"Upper floor\",'Design Details'!B$68,IF($B$3=\"Single Storey\",'Design Details'!B$78,0))))","v":0.44},{"$f":"$C$6","v":21},{"$f":"F27*H27*I27","v":28.267008000000004},{"$f":"F27*H27*$C$7*24/1000","v":71.97587865600002}]
["Roof"]
["Length (m)",{"$f":"B10","v":3.06},"Width (m)",{"$f":"D10","v":0.81},"Area (m²)",2.4786000000000001]
["Length (m)",{"$f":"B11","v":1.78},"Width (m)",{"$f":"D11","v":3.86},"Area (m²)",6.8708]
["Length (m)",0,"Width (m)",0,"Area (m²)",0]
[null,null,null,"Total","Area (m²)",{"$f":"SUM(F29:F31)-SUM(F45:F48)","v":9.3493999999999993},"U Value (W/m²K)",{"$f":"IF($B$3=\"Ground floor\",'Design Details'!B$49,IF($B$3=\"Mid-floor\",'Design Details'!B$59,IF($B$3=\"Upper floor\",'Design Details'!B$69,IF($B$3=\"Single Storey\",'Design Details'!B$79,0))))","v":0.12},{"$f":"$C$6","v":21},23.560487999999996,{"$f":"IF($B$3=$Q$4,0,IF($B$3=$Q$5,0,F32*H32*$C$7*24/1000))","v":59.991734015999988}]
["Length (m)",null,"Pitch (m)",null,"Area (m²)",0,"Pitched"]
["Length (m)",null,"Pitch (m)",null,"Area (m²)",0,"Single Pitch"]
[null,null,null,"Total","Area (m²)",{"$f":"SUM(F33:F34)-SUM(F45:F48)","v":0},"U Value (W/m²K)",{"$f":"IF($B$3=\"Ground floor\",'Design Details'!B$50,IF($B$3=\"Mid-floor\",'Design Details'!B$60,IF($B$3=\"Upper floor\",'Design Details'!B$70,IF($B$3=\"Single Storey\",'Design Details'!B$80,0))))","v":0.12},21,0,{"$f":"IF($B$3=$Q$4,0,IF($B$3=$Q$5,0,F35*H35*$C$7*24/1000))","v":0}]
["Windows"]
["Width (m)",null,"Height (m)",null,"Area (m²)",0,"U Value (W/m²K)",{"$f":"IF($B$3=\"Ground floor\",'Design Details'!B$46,IF($B$3=\"Mid-floor\",'Design Details'!B$56,IF($B$3=\"Upper floor\",'Design Details'!B$66,IF($B$3=\"Single Storey\",'Design Details'!B$76,0))))","v":2.8},21,0,{"$f":"F37*H37*$C$7*24/1000","v":0}]
["Width (m)",null,"Height (m)",null,"Area (m²)",0,"U Value (W/m²K)",{"$f":"IF($B$3=\"Ground floor\",'Design Details'!B$46,IF($B$3=\"Mid-floor\",'Design Details'!B$56,IF($B$3=\"Upper floor\",'Design Details'!B$66,IF($B$3=\"Single Storey\",'Design Details'!B$76,0))))","v":2.8},21,0,0]
["Width (m)",null,"Height (m)",null,"Area (m²)",0,"U Value (W/m²K)",{"$f":"IF($B$3=\"Ground floor\",'Design Details'!B$46,IF($B$3=\"Mid-floor\",'Design Details'!B$56,IF($B$3=\"Upper floor\",'Design Details'!B$66,IF($B$3=\"Single Storey\",'Design Details'!B$76,0))))","v":2.8},21,0,0]
["Width (m)",null,"Height (m)",null,"Area (m²)",0,"U Value (W/m²K)",{"$f":"IF($B$3=\"Ground floor\",'Design Details'!B$46,IF($B$3=\"Mid-floor\",'Design Details'!B$56,IF($B$3=\"Upper floor\",'Design Details'!B$66,IF($B$3=\"Single Storey\",'Design Details'!B$76,0))))","v":2.8},21,0,0]
["Width (m)",null,"Height (m)",null,"Area (m²)",0,"U Value (W/m²K)",{"$f":"IF($B$3=\"Ground floor\",'Design Details'!B$46,IF($B$3=\"Mid-floor\",'Design Details'!B$56,IF($B$3=\"Upper floor\",'Design Details'!B$66,IF($B$3=\"Single Storey\",'Design Details'!B$76,0))))","v":2.8},21,0,0]
["Width (m)",null,"Height (m)",null,"Area (m²)",0,"U Value (W/m²K)",{"$f":"IF($B$3=\"Ground floor\",'Design Details'!B$46,IF($B$3=\"Mid-floor\",'Design Details'!B$56,IF($B$3=\"Upper floor\",'Design Details'!B$66,IF($B$3=\"Single Storey\",'Design Details'!B$76,0))))","v":2.8},21,0,0]
["Width (m)",null,"Height (m)",null,"Area (m²)",0,"U Value (W/m²K)",{"$f":"IF($B$3=\"Ground floor\",'Design Details'!B$46,IF($B$3=\"Mid-floor\",'Design Details'!B$56,IF($B$3=\"Upper floor\",'Design Details'!B$66,IF($B$3=\"Single Storey\",'Design Details'!B$76,0))))","v":2.8},21,0,0]
["Roof Glazing"]
["Width (m)",null,"Height (m)",null,"Area (m²)",0,"U Value (W/m²K)",{"$f":"IF($B$3=\"Ground floor\",'Design Details'!B$53,IF($B$3=\"Mid-floor\",'Design Details'!B$63,IF($B$3=\"Upper floor\",'Design Details'!B$73,IF($B$3=\"Single Storey\",'Design Details'!B$83,0))))","v":2.8},21,0,{"$f":"F45*H45*$C$7*24/1000","v":0}]
["Width (m)",null,"Height (m)",null,"Area (m²)",0,"U Value (W/m²K)",{"$f":"IF($B$3=\"Ground floor\",'Design Details'!B$53,IF($B$3=\"Mid-floor\",'Design Details'!B$63,IF($B$3=\"Upper floor\",'Design Details'!B$73,IF($B$3=\"Single Storey\",'Design Details'!B$83,0))))","v":2.8},21,0,{"$f":"F46*H46*$C$7*24/1000","v":0}]
["Width (m)",null,"Height (m)",null,"Area (m²)",0,"U Value (W/m²K)",{"$f":"IF($B$3=\"Ground floor\",'Design Details'!B$53,IF($B$3=\"Mid-floor\",'Design Details'!B$63,IF($B$3=\"Upper floor\",'Design Details'!B$73,IF($B$3=\"Single Storey\",'Design Details'!B$83,0))))","v":2.8},21,0,{"$f":"F47*H47*$C$7*24/1000","v":0}]
["Width (m)",null,"Height (m)",null,"Area (m²)",0,"U Value (W/m²K)",{"$f":"IF($B$3=\"Ground floor\",'Design Details'!B$53,IF($B$3=\"Mid-floor\",'Design Details'!B$63,IF($B$3=\"Upper floor\",'Design Details'!B$73,IF($B$3=\"Single Storey\",'Design Details'!B$83,0))))","v":2.8},21,0,{"$f":"F48*H48*$C$7*24/1000","v":0}]
["Doors"]
["Width (m)",null,"Height (m)",null,"Area (m²)",0,"U Value (W/m²K)",{"$f":"IF($B$3=\"Ground floor\",'Design Details'!B$47,IF($B$3=\"Mid-floor\",'Design Details'!B$57,IF($B$3=\"Upper floor\",'Design Details'!B$67,IF($B$3=\"Single Storey\",'Design Details'!B$77,0))))","v":2.8},21,0,{"$f":"F50*H50*$C$7*24/1000","v":0}]
["Width (m)",null,"Height (m)",null,"Area (m²)",0,"U Value (W/m²K)",{"$f":"IF($B$3=\"Ground floor\",'Design Details'!B$47,IF($B$3=\"Mid-floor\",'Design Details'!B$57,IF($B$3=\"Upper floor\",'Design Details'!B$67,IF($B$3=\"Single Storey\",'Design Details'!B$77,0))))","v":2.8},21,0,{"$f":"F51*H51*$C$7*24/1000","v":0}]
["Width (m)",null,"Height (m)",null,"Area (m²)",0,"U Value (W/m²K)",{"$f":"IF($B$3=\"Ground floor\",'Design Details'!B$47,IF($B$3=\"Mid-floor\",'Design Details'!B$57,IF($B$3=\"Upper floor\",'Design Details'!B$67,IF($B$3=\"Single Storey\",'Design Details'!B$77,0))))","v":2.8},21,0,{"$f":"F52*H52*$C$7*24/1000","v":0}]
["Width (m)",null,"Height (m)",null,"Area (m²)",0,"U Value (W/m²K)",{"$f":"IF($B$3=\"Ground floor\",'Design Details'!B$47,IF($B$3=\"Mid-floor\",'Design Details'!B$57,IF($B$3=\"Upper floor\",'Design Details'!B$67,IF($B$3=\"Single Storey\",'Design Details'!B$77,0))))","v":2.8},21,0,{"$f":"F53*H53*$C$7*24/1000","v":0}]
["Internal Walls",null,null,null,null,null,null,null,null,null,null,"Adjoining Room Temp (°C)"]
["Length (m)",null,"Height (m)",null,"Area (m²)",0,"U Value (W/m²K)",{"$f":"IF($B$3=\"Ground floor\",'Design Details'!B$51,IF($B$3=\"Mid-floor\",'Design Details'!B$61,IF($B$3=\"Upper floor\",'Design Details'!B$71,IF($B$3=\"Single Storey\",'Design Details'!B$81,0))))","v":1.72},{"$f":"IF(L55=\"\",0,IF(L55=\"unheated\",C$4-10,C$4-L55))","v":0},0]
["Length (m)",null,"Height (m)",null,"Area (m²)",0,"U Value (W/m²K)",{"$f":"IF($B$3=\"Ground floor\",'Design Details'!B$51,IF($B$3=\"Mid-floor\",'Design Details'!B$61,IF($B$3=\"Upper floor\",'Design Details'!B$71,IF($B$3=\"Single Storey\",'Design Details'!B$81,0))))","v":1.72},{"$f":"IF(L56=\"\",0,IF(L56=\"unheated\",C$4-10,C$4-L56))","v":0},0]
["Length (m)",null,"Height (m)",null,"Area (m²)",0,"U Value (W/m²K)",{"$f":"IF($B$3=\"Ground floor\",'Design Details'!B$51,IF($B$3=\"Mid-floor\",'Design Details'!B$61,IF($B$3=\"Upper floor\",'Design Details'!B$71,IF($B$3=\"Single Storey\",'Design Details'!B$81,0))))","v":1.72},{"$f":"IF(L57=\"\",0,IF(L57=\"unheated\",C$4-10,C$4-L57))","v":0},0]
["Length (m)",null,"Height (m)",null,"Area (m²)",0,"U Value (W/m²K)",{"$f":"IF($B$3=\"Ground floor\",'Design Details'!B$51,IF($B$3=\"Mid-floor\",'Design Details'!B$61,IF($B$3=\"Upper floor\",'Design Details'!B$71,IF($B$3=\"Single Storey\",'Design Details'!B$81,0))))","v":1.72},{"$f":"IF(L58=\"\",0,IF(L58=\"unheated\",C$4-10,C$4-L58))","v":0},0]
["Party Wall"]
["Length (m)",null,"Height (m)",null,"Area (m²)",0,"U Value (W/m²K)",{"$f":"IF($B$3=\"Ground floor\",'Design Details'!B$52,IF($B$3=\"Mid-floor\",'Design Details'!B$62,IF($B$3=\"Upper floor\",'Design Details'!B$72,IF($B$3=\"Single Storey\",'Design Details'!B$82,0))))","v":1},{"$f":"C4-10","v":8},0,{"$f":"F60*H60*$C$7*24/1000","v":0}]

{"sheet":"MCS020","index":21,"n_rows":61,"n_cols":25,"rows_kept":61,"cut":false,"hidden":false,"merged":[[0,0,0,6],[18,10,18,24],[28,10,29,12],[28,13,29,15],[19,0,20,5],[19,6,20,6],[7,0,8,5],[7,6,8,6],[9,0,10,5],[9,6,10,6],[17,0,18,5],[17,6,18,6],[11,0,12,5],[11,6,12,6],[13,0,14,5],[13,6,14,6],[15,0,16,5],[15,6,16,6],[1,0,2,5],[1,6,2,6],[3,0,4,5],[3,6,4,6],[5,0,6,5],[5,6,6,6]]}
["ASHP - Sound Power Level"]
["1. Sound power level (dB)"]
[]
["2. Sound pressure level (dB)"]
[]
["3.Distance from heat pump to assessment position (meters)"]
[]
["4. dB Distance Reduction",null,null,null,null,null,{"$f":"IF(G4=K14,LOOKUP(G6,L20:Y23,L21:Y21),IF(G4=K15,LOOKUP(G6,L20:Y23,L22:Y22),IF(G4=K16,LOOKUP(G6,L20:Y23,L23:Y23))))","v":false}]
[]
["5. Barriers Between heat pump and assessment position"]
[]
["6.Sound pressure level @ assessment position",null,null,null,null,null,{"$f":"G2+G8+LOOKUP(G10,K25:M27,M25:M27)","v":{"$error":"#N/A"}}]
[null,null,null,null,null,null,null,null,null,null,"Sound Pressure Level"]
["7. Background noise level (dB)",null,null,null,null,null,40,null,null,null,"Q2 - \"One Reflective Surface\""]
[null,null,null,null,null,null,null,null,null,null,"Q4 - \"Two Reflective Surfaces\""]
["8. Differential between 6. & 7.",null,null,null,null,null,{"$f":"G14-G12","v":{"$error":"#N/A"}},null,null,null,"Q8 - \"Three Reflective Surfaces\""]
[]
["9. Decibel Correction (dB)",null,null,null,null,null,{"$f":"IF(G12>G14,G12,G14)+LOOKUP(G16,M31:N61,N31:N61)","v":{"$error":"#N/A"}},null,null,null,"dB distance reduction"]
[null,null,null,null,null,null,null,null,null,null,"Distance from Heat Pump (meters)"]
["10. Final Result (dB)",null,null,null,null,null,{"$f":"ROUNDUP(G18,0)","v":{"$error":"#N/A"}},null,null,null,null,1,1.5,2,3,4,5,6,8,10,12,15,20,25,30]
[null,null,null,null,null,null,null,null,null,null,"Q2",-8,-11,-14,-17,-20,-21,-23,-26,-28,-29,-31,34,-36,-37]
[null,null,null,null,null,null,{"$f":"IF(G20>42,\"Fail\",\"Pass\")","v":{"$error":"#N/A"}},null,null,null,"Q4",-5,-8,-11,-14,-17,-19,-20,-23,-25,-26,-28,-31,-33,-34]
[null,null,null,null,null,null,null,null,null,null,"Q8",-2,-5,-8,-11,-14,-16,-17,-20,-22,-23,-25,-28,-30,-31]
[]
[null,null,null,null,null,null,null,null,null,null,"Barrier (no view)",null,-10]
[null,null,null,null,null,null,null,null,null,null,"Barrier (partial view)",null,-5]
[null,null,null,null,null,null,null,null,null,null,"Visible",null,0]
[]
[null,null,null,null,null,null,null,null,null,null,"Difference between the two noise levels",null,null,"Add this correction to the higher noise level"]
[]
[null,null,null,null,null,null,null,null,null,null,null,null,-15,0.1]
[null,null,null,null,null,null,null,null,null,null,null,null,-14,0.2]
[null,null,null,null,null,null,null,null,null,null,null,null,-13,0.2]
[null,null,null,null,null,null,null,null,null,null,null,null,-12,0.3]
[null,null,null,null,null,null,null,null,null,null,null,null,-11,0.3]
[null,null,null,null,null,null,null,null,null,null,null,null,-10,0.4]
[null,null,null,null,null,null,null,null,null,null,null,null,-9,0.5]
[null,null,null,null,null,null,null,null,null,null,null,null,-8,0.6]
[null,null,null,null,null,null,null,null,null,null,null,null,-7,0.8]
[null,null,null,null,null,null,null,null,null,null,null,null,-6,1]
[null,null,null,null,null,null,null,null,null,null,null,null,-5,1.2]
[null,null,null,null,null,null,null,null,null,null,null,null,-4,1.5]
[null,null,null,null,null,null,null,null,null,null,null,null,-3,1.8]
[null,null,null,null,null,null,null,null,null,null,null,null,-2,2.1]
[null,null,null,null,null,null,null,null,null,null,null,null,-1,2.5]
[null,null,null,null,null,null,null,null,null,null,null,null,0,3]
[null,null,null,null,null,null,null,null,null,null,null,null,1,2.5]
[null,null,null,null,null,null,null,null,null,null,null,null,2,2.1]
[null,null,null,null,null,null,null,null,null,null,null,null,3,1.8]
[null,null,null,null,null,null,null,null,null,null,null,null,4,1.5]
[null,null,null,null,null,null,null,null,null,null,null,null,5,1.2]
[null,null,null,null,null,null,null,null,null,null,null,null,6,1]
[null,null,null,null,null,null,null,null,null,null,null,null,7,0.8]
[null,null,null,null,null,null,null,null,null,null,null,null,8,0.6]
[null,null,null,null,null,null,null,null,null,null,null,null,9,0.5]
[null,null,null,null,null,null,null,null,null,null,null,null,10,0.4]
[null,null,null,null,null,null,null,null,null,null,null,null,11,0.3]
[null,null,null,null,null,null,null,null,null,null,null,null,12,0.3]
[null,null,null,null,null,null,null,null,null,null,null,null,13,0.2]
[null,null,null,null,null,null,null,null,null,null,null,null,14,0.2]
[null,null,null,null,null,null,null,null,null,null,null,null,15,0.1]

{"sheet":"GL Sizing","index":22,"n_rows":47,"n_cols":24,"rows_kept":47,"cut":false,"hidden":false,"merged":[[9,1,9,4],[38,1,38,4],[32,1,32,4],[33,1,33,4],[26,1,26,4],[27,1,27,4],[29,1,29,4],[30,1,30,4],[31,1,31,4],[28,1,28,4],[45,1,45,4],[46,1,46,4],[10,9,11,9],[43,1,43,4],[44,1,44,4],[25,1,25,4],[39,1,39,4],[40,0,41,5],[42,1,42,4],[34,1,34,4],[35,1,35,4],[36,1,36,4],[9,0,10,0],[10,1,10,4],[9,5,10,5],[37,1,37,4],[0,0,1,5],[2,1,2,4],[3,0,4,0],[3,1,4,4],[5,0,6,0],[5,1,6,4],[7,1,7,4],[8,1,8,4],[3,5,4,5],[5,5,6,5],[23,0,24,5],[21,1,21,4],[17,1,17,4],[18,1,18,4],[19,1,19,4],[15,1,15,4],[12,1,12,4],[20,1,20,4],[13,1,13,4],[14,1,14,4],[16,1,16,4],[11,1,11,4]]}
["Ground Loop Sizing",null,null,null,null,null,null,null,null,null,null,null,null,null,"Type of rock","Recommended thermal conductivity (/W/mK)"]
[null,null,null,null,null,null,null,null,null,null,"internal diameter",{"$f":"LOOKUP(F27,R9:X15,W9:W15)","v":3.2600000000000004E-2},"m/s",null,"Magmatites, Plutonite, acid to intermediate, Granite",3.4]
[1,"Type of collector",null,null,null,null,null,null,null,null,"velocity",{"$f":"F34/((LOOKUP($F27,$R9:X15,$X9:X15))*1000*3600*F18)","v":{"$error":"#VALUE!"}},"v^²",null,"Magmatites, Plutonite, acid to intermediate, Syenite",2.6]
[2,"Estimate of total heating energy consumption over a year for space heating and domestic hot water",null,null,null,{"$f":"'Design Details'!F26","v":26197.630039611522},null,null,null,null,null,{"$f":"POWER(L3,2)","v":{"$error":"#VALUE!"}},"m",null,"Magmatites, Plutonite, alkaline to ultra-alkaline, Diorite",2.6]
[null,null,null,null,null,null,"kWh",null,null,null,"Relative Roughness",{"$f":"L6/(L2*1000)","v":2.1472392638036808E-4},"mm",null,"Magmatites, Plutonite, alkaline to ultra-alkaline, Gabbro",1.9,null,"Borehole",{"$f":"F15*2","v":0},10]
[3,"HP heating capacity at 0⁰C ground return temperature and design emitter temperature",null,null,null,{"$f":"'Design Details'!B31","v":12.61},null,null,null,null,"Absolute Roughness",{"$f":"LOOKUP(F33,R17:S18,S17:S18)","v":7.0000000000000001E-3},null,null,"Magmatites, Tuff",1.1000000000000001,null,"Ground Loop",{"$f":"F15*1","v":0},2]
[null,null,null,null,null,null,"kW",null,null,null,"Friction Factor",{"$f":"POWER((1/((-1.8*LOG((6.9/F39)+(POWER(L5/3.7,1.1)))))),2)","v":{"$error":"#DIV/0!"}},"mbar",null,"Magmatites, Vulcanite, acid to intermediate, Latite, Dacite",2.6]
[4,"FLEQ run hours ",null,null,null,{"$f":"IFERROR(F4/F6,0)","v":2077.5281554013895},"hrs",null,null,null,null,null,null,null,"Magmatites, Vulcanite, acid to intermediate, Rhyolite, Trachyte",3.3,null,"O/D","Wall thickness","Volume/m","I/D",null,"diameter","area"]
[5,"Estimated average ground temperature",null,null,null,{"$f":"'Design Details'!B21","v":10},"⁰C",null,null,null,null,null,null,null,"Magmatites, Vulcanite, alkaline to ultra-alkaline, ",1.7,null,25,2.2999999999999998,{"$f":"(PI()*U9*U9/4)/1000","v":0.32685129967948201},{"$f":"R9-(2*S9)","v":20.399999999999999},100,{"$f":"U9/1000","v":2.0399999999999998E-2},{"$f":"PI()*POWER(W9,2)/4","v":3.2685129967948199E-4}]
[6,"Estimated ground thermal conductivity - Please select below",null,null,null,{"$f":"IFERROR(LOOKUP(B11,O2:P36,P2:P36),\"Input Required\")","v":2.2000000000000002},null,null,null,null,"internal diameter",{"$f":"LOOKUP(F43,R9:X15,W9:W15)","v":4.0799999999999996E-2},"m/s",null,"Metamorphic rock, Moderately to highly metamorphic, Gneiss",2.2000000000000002,null,32,2.9,0.53912871528254436,26.2,100,2.6199999999999998E-2,5.3912871528254429E-4]
[null,"Unconsolidated rock, Claystone, siltstone",null,null,null,null,"W/mK",null,null,null,"velocity",{"$f":"F34/((LOOKUP($F43,$R9:X15,$X9:X15))*1000*3600)","v":{"$error":"#VALUE!"}},"v^²",null,"Metamorphic rock, Moderately to highly metamorphic, Marble",2.5,null,40,3.7,0.83468975213227226,32.6,200,3.2600000000000004E-2,8.3468975213227237E-4]
[7,"Maximum power to be extracted per meter",null,null,null,{"$f":"IF(F3=\"Borehole\",'MCS022 data'!D5,IF(F3=\"Ground Loop\",'MCS022 data'!D6,\"Input Required\"))","v":"Input Required"},"W/m",null,null,null,null,{"$f":"POWER(L11,2)","v":{"$error":"#VALUE!"}},"m/s",null,"Metamorphic rock, Slightly metamorphic, Chert",4.5,null,50,4.5999999999999996,1.307405198717928,40.799999999999997,200,4.0799999999999996E-2,1.3074051987179279E-3]
[8,"SCOP",null,null,null,{"$f":"'Design Details'!B33","v":3.83},null,null,null,null,"Gravity",9.81,"m",null,"Metamorphic rock, Slightly metamorphic, Clay shale",2.1,null,63,5.8,2.0749905317695223,51.4,200,5.1400000000000001E-2,2.0749905317695226E-3]
[9,"Maximum power extracted from the ground",null,null,null,{"$f":"IFERROR(F6*1000*(1-(1/F13)),0)","v":9317.5718015665807},"W",null,null,null,"Relative Roughness",{"$f":"L15/(L10*1000)","v":1.715686274509804E-4},"mm",null,"Metamorphic rock, Slightly metamorphic, Mica schist",2.2000000000000002,null,75,6.9,2.9416616971153391,61.2,200,6.1200000000000004E-2,2.9416616971153389E-3]
[10,"Length of ground heat exchanger calculated using the look-up tables",null,null,null,{"$f":"IFERROR(F14/F12,0)","v":0},"m",null,null,null,"Absolute Roughness",{"$f":"LOOKUP(F33,R17:S18,S17:S18)","v":7.0000000000000001E-3},null,null,"Metamorphic rock, Vulcanite, acid to intermediate, Amphibolite",2.9,null,90,8.3000000000000007,4.2313797291935566,73.400000000000006,200,7.3400000000000007E-2,4.2313797291935575E-3]
[11,{"$f":"IF(F3=\"Ground Loop\",\"Minimum spacing between ground loops\",\"Minimum spacing between boreholes\")","v":"Minimum spacing between boreholes"},null,null,null,{"$f":"IF(F3=\"Ground Loop\",1,7)","v":7},"m",null,null,null,"Friction Factor",{"$f":"POWER((1/((-1.8*LOG((6.9/F47)+(POWER(L14/3.7,1.1)))))),2)","v":{"$error":"#DIV/0!"}},"mbar",null,"Metamorphic rock, Vulcanite, acid to intermediate, Quartzite",5.5]
[12,"Total length of ground heat exchanger active elements",null,null,null,{"$f":"IF(F3=\"Borehole\",S5,S6)","v":0},"m",null,null,null,null,null,null,null,"Metamorphic rock, Vulcanite, acid to intermediate, Rhyolite, Trachyte",2.9,null,"PE-100-RC",0.04]
[13,"Amount of loops",null,null,null,"Input Required",null,null,null,null,null,null,null,null,"Solid sediments, Anhydrite",4.0999999999999996,null,"PE-Xa",7.0000000000000001E-3]
[14,"Min length of loop",null,null,null,{"$f":"IFERROR(F17/F18,0)","v":0},"m",null,null,null,null,null,null,null,"Solid sediments, Conglomerates",2.2999999999999998]
[15,"Length of loop",null,null,null,"Input Required","m",null,null,null,null,null,null,null,"Solid sediments, Dolomite",3.2,null,0.1]
[16,{"$f":"IF(F3=\"Ground Loop\",\"Length of trench for ground loop @ 1m spacing and depth\",\"Depth of borehole/s\")","v":"Depth of borehole/s"},null,null,null,{"$f":"IFERROR(F20/2,0)","v":0},"m",null,null,null,null,null,null,null,"Solid sediments, Gypsum",1.6,null,0.2]
[17,"Length of header",null,null,null,"Input Required","m",null,null,null,null,null,null,null,"Solid sediments, Hard coal",0.4,null,0.3]
[null,null,null,null,null,null,null,null,null,null,null,null,null,null,"Solid sediments, Limestone",2.8,null,0.4]
["Pipe Sizing (Loops)",null,null,null,null,null,null,null,null,null,null,null,null,null,"Solid sediments, Marl",2.1,null,0.5]
[null,null,null,null,null,null,null,null,null,null,null,null,null,null,"Solid sediments, Salt",5.4]
[18,"Power Ground HX pump",null,null,null,"Input Required","W",null,null,null,null,null,null,null,"Solid sediments, Sandstone",2.2999999999999998]
[19,"Pipe Diameter",null,null,null,40,"mm",null,null,null,null,null,null,null,"Unconsolidated rock, Clay/silt, dry",0.5]
[20,"Antifreeze Manufacturer",null,null,null,"Input Required",null,null,null,null,null,null,null,null,"Unconsolidated rock, Clay/silt, water saturated",1.7]
[21,"Antifreeze type i.e. propylene, ethylene",null,null,null,"Input Required"]
[22,"Antifreeze %",null,null,null,"Input Required",null,null,null,null,null,null,null,null,"Unconsolidated rock, Claystone, siltstone",2.2000000000000002]
[23,"Protected to",null,null,null,"Input Required","⁰C",null,null,null,null,null,null,null,"Unconsolidated rock, Gravel, dry",0.4]
[24,"Viscosity @ 0 °C",null,null,null,"Input Required","mm2/s",null,null,null,null,null,null,null,"Unconsolidated rock, Gravel, water saturated",1.8]
[25,"Pipe Type",null,null,null,"PE-Xa",null,null,null,null,null,null,null,null,"Unconsolidated rock, Peat, soft lignite",0.4]
[26,"Brine Pump flow rate",null,null,null,"Input Required","l/hr",null,null,null,null,null,null,null,"Unconsolidated rock, Sand, dry",0.4]
[27,"Pressure Drop",null,null,null,{"$f":"L7*F20*L4*10/(2*L2)","v":{"$error":"#DIV/0!"}},"mbar",null,null,null,null,null,null,null,"Unconsolidated rock, Sand, water saturated",2.4]
[28,"Pressure Drop due to bends",null,null,null,0.2,null,null,null,null,null,null,null,null,"Other","Input Required"]
[29,"Pressure Drop due to bends",null,null,null,{"$f":"F35*F36","v":{"$error":"#DIV/0!"}},"mbar"]
[30,"Heat Pump head",null,null,null,"Input Required","mbar"]
[31,"Reynolds number",null,null,null,{"$f":"IFERROR(L3*L2*1000000/F32,0)","v":0},{"$f":"IFERROR(IF(F39>=2500,\"Flow is turbulent\",\"Flow is laminar\"),\"n/a\")","v":"Flow is laminar"}]
[32,"Total Pressure Drop (mbar)",null,null,null,{"$f":"IFERROR(ROUNDUP((F35+F37+F44+F46),0),0)","v":0},{"$f":"IFERROR(IF(F38>=F40,\"pressure drop ok\",\"pressure drop is too high\"),\"n/a\")","v":"pressure drop ok"}]
["Pipe Sizing (Header)"]
[]
[33,"Pipe Diameter",null,null,null,50,"mm"]
[34,"Pressure Drop",null,null,null,{"$f":"IFERROR(L16*(F22*2)*L12*10/(2*L10),0)","v":0}]
[35,"Pressure Drop due to bends",null,null,null,0.2]
[36,"Pressure Drop due to bends",null,null,null,{"$f":"F44*F45","v":0},"mbar"]
[37,"Reynolds number",null,null,null,{"$f":"IFERROR(L11*L10*1000000/F32,0)","v":0},{"$f":"IFERROR(IF(F47>=2500,\"Flow is turbulent\",\"Flow is laminar\"),\"n/a\")","v":"Flow is laminar"}]

{"sheet":"MCS022 data","index":23,"n_rows":207,"n_cols":33,"rows_kept":207,"cut":false,"hidden":true,"merged":[[0,3,0,4],[48,6,48,7],[48,8,48,9],[49,2,49,11],[5,1,5,2],[0,1,0,2],[1,1,1,2],[2,1,2,2],[3,1,3,2],[4,1,4,2],[11,0,46,0],[9,2,9,11],[8,1,8,2],[8,3,8,5],[8,6,8,7],[8,8,8,9],[10,13,35,13],[171,0,206,0],[168,1,168,2],[168,3,168,5],[168,6,168,7],[168,8,168,9],[169,2,169,11],[131,0,166,0],[128,1,128,2],[128,3,128,5],[88,6,88,7],[88,8,88,9],[89,2,89,11],[51,0,86,0],[48,1,48,2],[48,3,48,5],[128,6,128,7],[128,8,128,9],[129,2,129,11],[91,0,126,0],[88,1,88,2],[88,3,88,5],[68,13,93,13],[37,14,37,15],[37,16,37,18],[37,19,37,20],[37,21,37,22],[39,13,64,13],[66,14,66,15],[66,16,66,18],[66,19,66,20],[66,21,66,22],[67,15,67,23],[38,15,38,23],[126,13,151,13],[95,14,95,15],[95,16,95,18],[95,19,95,20],[95,21,95,22],[96,15,96,23],[97,13,122,13],[124,14,124,15],[124,16,124,18],[125,15,125,23],[124,19,124,20],[124,21,124,22],[10,24,35,24],[37,25,37,26],[37,27,37,29],[37,30,37,31],[37,32,37,33],[8,25,8,26],[8,27,8,29],[8,30,8,31],[8,32,8,33],[9,26,9,35],[8,14,8,15],[8,16,8,18],[8,19,8,20],[8,21,8,22],[9,15,9,23],[126,24,151,24],[95,25,95,26],[95,27,95,29],[95,30,95,31],[125,26,125,35],[124,25,124,26],[124,27,124,29],[124,30,124,31],[124,32,124,33],[97,24,122,24],[68,24,93,24],[38,26,38,35],[39,24,64,24],[95,32,95,33],[96,26,96,35],[66,25,66,26],[66,27,66,29],[66,30,66,31],[67,26,67,35],[66,32,66,33]]}
[null,"Type of ground loop",null,{"$f":"'GL Sizing'!F3","v":0},null,null,"1200B","1800B","2400B","3000B","3600B","1200H","1800H","2400H","3000H","3600H"]
[null,"FLEQ run hours",null,{"$f":"'GL Sizing'!F8","v":2077.5281554013895},null,null,{"$f":"VLOOKUP($D$4,B12:L47,$E$3,FALSE)","v":45.9},{"$f":"VLOOKUP($D$4,B52:L87,$E$3,FALSE)","v":40.9},{"$f":"VLOOKUP($D$4,B92:L127,$E$3,FALSE)","v":37.200000000000003},{"$f":"VLOOKUP($D$4,B132:L167,$E$3,FALSE)","v":34.200000000000003},{"$f":"VLOOKUP($D$4,B172:L207,$E$3,FALSE)","v":34.200000000000003},{"$f":"VLOOKUP($D$4,O12:V36,$E$3,FALSE)","v":27},{"$f":"VLOOKUP($D$4,O41:V65,$E$3,FALSE)","v":20},{"$f":"VLOOKUP($D$4,O70:V94,$E$3,FALSE)","v":15},{"$f":"VLOOKUP($D$4,O99:V123,$E$3,FALSE)","v":13},{"$f":"VLOOKUP($D$4,O128:V152,$E$3,FALSE)","v":10.45}]
[null,"Ground Temp",null,{"$f":"'GL Sizing'!F9","v":10},{"$f":"IF(D3<6.5,2,IF(AND(D3>=6.5,D3<7.5),3,IF(AND(D3>=7.5,D3<8.5),4,IF(AND(D3>=8.5,D3<9.5),5,IF(AND(D3>=9.5,D3<10.5),6,IF(AND(D3>=10.5,D3<11.5),7,IF(AND(D3>=11.5,D3<12.5),8,IF(AND(D3>=12.5,D3<13.5),9,IF(AND(D3>=13.5,D3<14.5),10,IF(D3>=14.5,11,0))))))))))","v":6}]
[null,"Thermal Conductivity",null,{"$f":"'GL Sizing'!F10","v":2.2000000000000002}]
[null,"Power extracted",null,{"$f":"IF(AND(D2<1500),G2,IF(AND(D2>=1500,D2<2100),H2,IF(AND(D2>=2100,D2<2700),I2,IF(AND(D2>=2700,D2<3300),J2,IF(AND(D2>=3300),K2,0)))))","v":40.9},"borehole"]
[null,"Power extracted",null,{"$f":"IF(AND(D2<1500),L2,IF(AND(D2>=1500,D2<2100),M2,IF(AND(D2>=2100,D2<2700),N2,IF(AND(D2>=2700,D2<3300),O2,IF(AND(D2>=3300),P2,0)))))","v":20},"Horizontal"]
[]
[]
[null,"Type of heat exchange:",null,"Borehole",null,null,"FLEQ run hours:",null,1200,null,null,null,null,null,"Type of heat exchange:",null," horizontal ground ",null,null,"FLEQ run hours:",null,1200,null,null,null,"Type of heat exchange:",null," slinky ground ",null,null,"FLEQ run hours:",null,1200]
[null,null,"Mean Ground Temp",null,null,null,null,null,null,null,null,null,null,null,null,"Mean Ground Temp",null,null,null,null,null,null,null,null,null,null,"Mean Ground Temp"]
[null,null,6,7,8,9,10,11,12,13,14,15,null,"Ground Thermal Conductivity",null,6,7,8,9,10,11,12,null,null,"Ground Thermal Conductivity",null,6,7,8,9,10,11,12]
["Average Thermal Conductivity",4.5,37,41,47,52,57,62,67,72,77,83,null,null,2.4,12,17,20,24,28,31,34,null,null,null,2.4,49,62,74,86,97,107,118]
[null,4.4000000000000004,36.6,40.6,46.6,51.6,56.6,61.6,66.599999999999994,71.599999999999994,76.599999999999994,82.6,null,null,2.2999999999999998,12,16.5,19.5,23.5,27.5,30.5,33.5,null,null,null,2.2999999999999998]
[null,4.3,36.200000000000003,40.200000000000003,46.2,51.2,56.2,61.2,66.2,71.2,76.2,82.2,null,null,2.2000000000000002,12,16,19,23,27,30,33,null,null,null,2.2000000000000002]
[null,4.2,35.799999999999997,39.799999999999997,45.8,50.8,55.8,60.8,65.8,70.8,75.8,81.8,null,null,2.1,12,15.5,18.5,22.5,26.5,29.5,32.5,null,null,null,2.1]
[null,4.0999999999999996,35.4,39.4,45.4,50.4,55.4,60.4,65.400000000000006,70.400000000000006,75.400000000000006,81.400000000000006,null,null,2,12,15,18,22,26,29,32,null,null,null,2,45,57,67,78,87,96,106]
[null,4,35,39,45,50,55,60,65,70,75,81,null,null,1.9,11.75,14.75,17.75,21.5,24.25,28,31,null,null,null,1.9]
[null,3.9,34.6,38.6,44.6,49.6,54.6,59.6,64.599999999999994,69.599999999999994,74.599999999999994,80.599999999999994,null,null,1.8,11.5,14.5,17.5,21,23.5,27,30,null,null,null,1.8]
[null,3.8,34.200000000000003,38.200000000000003,44.2,49.2,54.2,59.2,64.2,69.2,74.2,80.2,null,null,1.7,11.25,14.25,17.25,20.5,22.75,26,29,null,null,null,1.7]
[null,3.7,33.799999999999997,37.799999999999997,43.8,48.8,53.8,58.8,63.8,68.8,73.8,79.8,null,null,1.6,11,14,17,20,22,25,28,null,null,null,1.6,40,50,59,68,77,85,93]
[null,3.6,33.4,37.4,43.4,48.4,53.4,58.4,63.4,68.400000000000006,73.400000000000006,79.400000000000006,null,null,1.5,10.425000000000001,13.25,16.25,19,21.25,24.5,26.75,null,null,null,1.5]
[null,3.5,33,37,43,48,53,58,63,68,73,79,null,null,1.4,9.85,12.5,15.5,18,20.5,24,25.5,null,null,null,1.4]
[null,3.4,32.5,36.5,42.5,47.5,52.5,57.5,62.5,67.5,72.5,78.5,null,null,1.3,9.2750000000000004,11.75,14.75,17,19.75,23.5,24.25,null,null,null,1.3]
[null,3.3,32,36,42,47,52,57,62,67,72,78,null,null,1.2,8.6999999999999993,11,14,16,19,21,23,null,null,null,1.2,32,40,48,55,63,70,77]
[null,3.2,31.5,35.5,41.5,46.5,51.5,56.5,61.5,66.5,71.5,77.5,null,null,1.1000000000000001,8.1499999999999986,10.25,13,15,17.75,19.75,21.5,null,null,null,1.1000000000000001]
[null,3.1,31,35,41,46,51,56,61,66,71,77,null,null,1,7.6,9.5,12,14,16.5,18.5,20,null,null,null,1]
[null,3,30.5,34.5,40.5,45.5,50.5,55.5,60.5,65.5,70.5,76.5,null,null,0.9,7.0499999999999989,8.75,11,13,15.25,17.25,18.5,null,null,null,0.9]
[null,2.9,30,34,40,45,50,55,60,65,70,76,null,null,0.8,6.4999999999999991,8,10,12,14,16,17,null,null,null,0.8,24,29,35,40,46,52,56]
[null,2.8,29.5,33.5,39.5,44.5,49.5,54.5,59.5,64.5,69.5,75.5,null,null,0.7,5.9499999999999993,7.3250000000000002,9.125,10.875,12.725,14.425000000000001,15.25,null,null,null,0.7]
[null,2.7,29,33,39,44,49,54,59,64,69,75,null,null,0.6,5.3999999999999986,6.65,8.25,9.75,11.45,12.85,13.5,null,null,null,0.6]
[null,2.6,28.5,32.5,38.5,43.5,48.5,53.5,58.5,63.5,68.5,74.5,null,null,0.5,4.8499999999999988,5.9749999999999996,7.375,8.625,10.175000000000001,11.275,11.75,null,null,null,0.5]
[null,2.5,28,32,38,43,48,53,58,63,68,74,null,null,0.4,4.2999999999999989,5.3,6.5,7.5,8.9,9.6999999999999993,10,null,null,null,0.4,15,18,22,25,28,32,34]
[null,2.4,27.3,31.3,37.299999999999997,42.3,47.3,52.3,57.3,62.3,67.3,73.3,null,null,0.3,null,null,null,null,null,null,null,null,null,null,0.3]
[null,2.2999999999999998,26.6,30.6,36.6,41.6,46.6,51.6,56.6,61.6,66.599999999999994,72.599999999999994,null,null,0.2,null,null,null,null,null,null,null,null,null,null,0.2]
[null,2.2000000000000002,25.9,29.9,35.9,40.9,45.9,50.9,55.9,60.9,65.900000000000006,71.900000000000006,null,null,0.1,null,null,null,null,null,null,null,null,null,null,0.1]
[null,2.1,25.2,29.2,35.200000000000003,40.200000000000003,45.2,50.2,55.2,60.2,65.2,71.2,null,null,0,null,null,null,null,null,null,null,null,null,null,0]
[null,2,24.5,28.5,34.5,39.5,44.5,49.5,54.5,59.5,64.5,70.5]
[null,1.9,23.8,27.8,33.799999999999997,38.799999999999997,43.8,48.8,53.8,58.8,63.8,69.8,null,null,"Type of heat exchange:",null," horizontal ground ",null,null,"FLEQ run hours:",null,1800,null,null,null,"Type of heat exchange:",null," slinky ground ",null,null,"FLEQ run hours:",null,1800]
[null,1.8,23.1,27.1,33.1,38.1,43.1,48.1,53.1,58.1,63.1,69.099999999999994,null,null,null,"Mean Ground Temp",null,null,null,null,null,null,null,null,null,null,"Mean Ground Temp"]
[null,1.7,22.4,26.4,32.4,37.4,42.4,47.4,52.4,57.4,62.4,68.400000000000006,null,"Ground Thermal Conductivity",null,6,7,8,9,10,11,12,null,null,"Ground Thermal Conductivity",null,6,7,8,9,10,11,12]
[null,1.6,21.7,25.7,31.7,36.700000000000003,41.7,46.7,51.7,56.7,61.7,67.7,null,null,2.4,9.5,13,15,18,21,23,26,null,null,null,2.4,35,45,53,61,76,84,118]
[null,1.5,21,25,31,36,41,46,51,56,61,67,null,null,2.2999999999999998,9.3000000000000007,12.5,14.75,17.5,20.5,22.25,25.25,null,null,null,2.2999999999999998]
[null,1.4,null,null,null,null,null,null,null,null,null,null,null,null,2.2000000000000002,9.1,12,14.5,17,20,21.5,24.5,null,null,null,2.2000000000000002]
[null,1.3,null,null,null,null,null,null,null,null,null,null,null,null,2.1,8.9,11.5,14.25,16.5,19.5,20.75,23.75,null,null,null,2.1]
[null,1.2,null,null,null,null,null,null,null,null,null,null,null,null,2,8.6999999999999993,11,14,16,19,20,23,null,null,null,2,32,40,47,54,61,67,73]
[null,1.1000000000000001,null,null,null,null,null,null,null,null,null,null,null,null,1.9,8.4499999999999993,10.75,13.5,15.5,18.25,19.5,22.25,null,null,null,1.9]
[null,1,null,null,null,null,null,null,null,null,null,null,null,null,1.8,8.1999999999999993,10.5,13,15,17.5,19,21.5,null,null,null,1.8]
[null,null,null,null,null,null,null,null,null,null,null,null,null,null,1.7,7.9499999999999993,10.25,12.5,14.5,16.75,18.5,20.75,null,null,null,1.7]
[null,"Type of heat exchange:",null,"Borehole",null,null,"FLEQ run hours:",null,1800,null,null,null,null,null,1.6,7.6999999999999993,10,12,14,16,18,20,null,null,null,1.6,28,34,41,47,52,58,63]
[null,null,"Mean Ground Temp",null,null,null,null,null,null,null,null,null,null,null,1.5,7.3249999999999993,9.4749999999999996,11.425000000000001,13.25,15.25,17.25,19,null,null,null,1.5]
[null,null,6,7,8,9,10,11,12,13,14,15,null,null,1.4,6.9499999999999993,8.9499999999999993,10.85,12.5,14.5,16.5,18,null,null,null,1.4]
["Average Thermal Conductivity",4.5,34,38,43,48,52,57,62,67,72,77,null,null,1.3,6.5749999999999993,8.4250000000000007,10.275,11.75,13.75,15.75,17,null,null,null,1.3]
[null,4.4000000000000004,33.6,37.6,42.6,47.6,51.6,56.6,61.6,66.599999999999994,71.599999999999994,76.599999999999994,null,null,1.2,6.1999999999999993,7.9,9.6999999999999993,11,13,15,16,null,null,null,1.2,22,27,32,37,42,47,51]
[null,4.3,33.200000000000003,37.200000000000003,42.2,47.2,51.2,56.2,61.2,66.2,71.2,76.2,null,null,1.1000000000000001,5.7749999999999995,7.3000000000000007,9,10.275,12.1,14,15,null,null,null,1.1000000000000001]
[null,4.2,32.799999999999997,36.799999999999997,41.8,46.8,50.8,55.8,60.8,65.8,70.8,75.8,null,null,1,5.35,6.7,8.2999999999999989,9.5500000000000007,11.2,13,14,null,null,null,1]
[null,4.0999999999999996,32.4,36.4,41.4,46.4,50.4,55.4,60.4,65.400000000000006,70.400000000000006,75.400000000000006,null,null,0.9,4.9249999999999989,6.1000000000000005,7.6,8.8249999999999993,10.3,12,13,null,null,null,0.9]
[null,4,32,36,41,46,50,55,60,65,70,75,null,null,0.8,4.4999999999999991,5.5,6.8999999999999995,8.1,9.4,11,12,null,null,null,0.8,16,19,23,26,30,34,36]
[null,3.9,31.6,35.6,40.6,45.6,49.6,54.6,59.6,64.599999999999994,69.599999999999994,74.599999999999994,null,null,0.7,4.0749999999999993,4.9749999999999996,6.2249999999999996,7.3,8.4500000000000011,9.8249999999999993,10.7,null,null,null,0.7]
[null,3.8,31.2,35.200000000000003,40.200000000000003,45.2,49.2,54.2,59.2,64.2,69.2,74.2,null,null,0.6,3.649999999999999,4.45,5.5499999999999989,6.5,7.5,8.65,9.4,null,null,null,0.6]
[null,3.7,30.8,34.799999999999997,39.799999999999997,44.8,48.8,53.8,58.8,63.8,68.8,73.8,null,null,0.5,3.2249999999999992,3.9249999999999998,4.8749999999999991,5.6999999999999993,6.5500000000000007,7.4749999999999996,8.1,null,null,null,0.5]
[null,3.6,30.4,34.4,39.4,44.4,48.4,53.4,58.4,63.4,68.400000000000006,73.400000000000006,null,null,0.4,2.7999999999999989,3.4,4.1999999999999993,4.8999999999999995,5.6000000000000005,6.3,6.8,null,null,null,0.4,9.8000000000000007,11,14,16,18,20,21]
[null,3.5,30,34,39,44,48,53,58,63,68,73,null,null,0.3,null,null,null,null,null,null,null,null,null,null,0.3]
[null,3.4,29.5,33.5,38.5,43.5,47.5,52.5,57.5,62.5,67.5,72.5,null,null,0.2,null,null,null,null,null,null,null,null,null,null,0.2]
[null,3.3,29,33,38,43,47,52,57,62,67,72,null,null,0.1,null,null,null,null,null,null,null,null,null,null,0.1]
[null,3.2,28.5,32.5,37.5,42.5,46.5,51.5,56.5,61.5,66.5,71.5,null,null,0,null,null,null,null,null,null,null,null,null,null,0]
[null,3.1,28,32,37,42,46,51,56,61,66,71]
[null,3,27.5,31.5,36.5,41.5,45.5,50.5,55.5,60.5,65.5,70.5,null,null,"Type of heat exchange:",null," horizontal ground ",null,null,"FLEQ run hours:",null,2400,null,null,null,"Type of heat exchange:",null," slinky ground ",null,null,"FLEQ run hours:",null,2400]
[null,2.9,27,31,36,41,45,50,55,60,65,70,null,null,null,"Mean Ground Temp",null,null,null,null,null,null,null,null,null,null,"Mean Ground Temp"]
[null,2.8,26.5,30.5,35.5,40.5,44.5,49.5,54.5,59.5,64.5,69.5,null,"Ground Thermal Conductivity",null,6,7,8,9,10,11,12,null,null,"Ground Thermal Conductivity",null,6,7,8,9,10,11,12]
[null,2.7,26,30,35,40,44,49,54,59,64,69,null,null,2.4,7.6,10,12,14,16,18,20,null,null,null,2.4,27,34,40,47,52,57,63]
[null,2.6,25.5,29.5,34.5,39.5,43.5,48.5,53.5,58.5,63.5,68.5,null,null,2.2999999999999998,7.4249999999999998,9.75,11.75,13.75,15.5,17.5,19.5,null,null,null,2.2999999999999998]
[null,2.5,25,29,34,39,43,48,53,58,63,68,null,null,2.2000000000000002,7.25,9.5,11.5,13.5,15,17,19,null,null,null,2.2000000000000002]
[null,2.4,24.3,28.3,33.299999999999997,38.299999999999997,42.3,47.3,52.3,57.3,62.3,67.3,null,null,2.1,7.0749999999999993,9.25,11.25,13.25,14.5,16.5,18.5,null,null,null,2.1]
[null,2.2999999999999998,23.6,27.6,32.6,37.6,41.6,46.6,51.6,56.6,61.6,66.599999999999994,null,null,2,6.8999999999999995,9,11,13,14,16,18,null,null,null,2,24,30,36,35,39,43,47]
[null,2.2000000000000002,22.9,26.9,31.9,36.9,40.9,45.9,50.9,55.9,60.9,65.900000000000006,null,null,1.9,6.6749999999999998,8.6750000000000007,10.6,12.5,13.5,15.5,17.25,null,null,null,1.9]
[null,2.1,22.2,26.2,31.2,36.200000000000003,40.200000000000003,45.2,50.2,55.2,60.2,65.2,null,null,1.8,6.4499999999999993,8.35,10.199999999999999,12,13,15,16.5,null,null,null,1.8]
[null,2,21.5,25.5,30.5,35.5,39.5,44.5,49.5,54.5,59.5,64.5,null,null,1.7,6.2249999999999996,8.0250000000000004,9.8000000000000007,11.5,12.5,14.5,15.75,null,null,null,1.7]
[null,1.9,20.8,24.8,29.8,34.799999999999997,38.799999999999997,43.8,48.8,53.8,58.8,63.8,null,null,1.6,5.9999999999999991,7.7,9.4,11,12,14,15,null,null,null,1.6,21,26,30,35,39,43,47]
[null,1.8,20.100000000000001,24.1,29.1,34.1,38.1,43.1,48.1,53.1,58.1,63.1,null,null,1.5,5.6749999999999989,7.2750000000000004,8.9,10.425000000000001,11.5,13.25,14.25,null,null,null,1.5]
[null,1.7,19.399999999999999,23.4,28.4,33.4,37.4,42.4,47.4,52.4,57.4,62.4,null,null,1.4,5.3499999999999988,6.8500000000000005,8.4,9.85,11,12.5,13.5,null,null,null,1.4]
[null,1.6,18.7,22.7,27.7,32.700000000000003,36.700000000000003,41.7,46.7,51.7,56.7,61.7,null,null,1.3,5.0249999999999986,6.4250000000000007,7.9,9.2750000000000004,10.5,11.75,12.75,null,null,null,1.3]
[null,1.5,18,22,27,32,36,41,46,51,56,61,null,null,1.2,4.6999999999999993,6,7.4,8.6999999999999993,10,11,12,null,null,null,1.2,16,20,24,28,31,35,38]
[null,1.4,null,null,null,null,null,null,null,null,null,null,null,null,1.1000000000000001,4.3749999999999991,5.55,6.8500000000000005,8.0499999999999989,9.2750000000000004,10.3,11.2,null,null,null,1.1000000000000001]
[null,1.3,null,null,null,null,null,null,null,null,null,null,null,null,1,4.0499999999999989,5.0999999999999996,6.3000000000000007,7.3999999999999995,8.5500000000000007,9.6,10.4,null,null,null,1]
[null,1.2,null,null,null,null,null,null,null,null,null,null,null,null,0.9,3.7249999999999992,4.6500000000000004,5.75,6.7499999999999991,7.8250000000000002,8.9,9.6,null,null,null,0.9]
[null,1.1000000000000001,null,null,null,null,null,null,null,null,null,null,null,null,0.8,3.3999999999999995,4.2,5.2,6.1,7.1,8.1999999999999993,8.8000000000000007,null,null,null,0.8,12,14,17,19,22,25,27]
[null,1,null,null,null,null,null,null,null,null,null,null,null,null,0.7,3.0749999999999993,3.7750000000000004,4.6749999999999998,5.4749999999999996,6.35,7.2999999999999989,7.8500000000000005,null,null,null,0.7]
[null,null,null,null,null,null,null,null,null,null,null,null,null,null,0.6,2.7499999999999996,3.35,4.1500000000000004,4.8499999999999996,5.6,6.3999999999999995,6.9,null,null,null,0.6]
[null,"Type of heat exchange:",null,"Borehole",null,null,"FLEQ run hours:",null,2400,null,null,null,null,null,0.5,2.4249999999999994,2.9250000000000003,3.625,4.2249999999999996,4.8499999999999996,5.4999999999999991,5.9500000000000011,null,null,null,0.5]
[null,null,"Mean Ground Temp",null,null,null,null,null,null,null,null,null,null,null,0.4,2.0999999999999996,2.5,3.1,3.5999999999999996,4.0999999999999996,4.5999999999999996,5.0000000000000009,null,null,null,0.4,7,8.1999999999999993,9.9,11,13,14,15]
[null,null,6,7,8,9,10,11,12,13,14,15,null,null,0.3,null,null,null,null,null,null,null,null,null,null,0.3]
["Average Thermal Conductivity",4.5,31,35,40,44,48,53,57,62,66,71,null,null,0.2,null,null,null,null,null,null,null,null,null,null,0.2]
[null,4.4000000000000004,30.6,34.6,39.6,43.6,47.6,52.6,56.6,61.6,65.599999999999994,70.599999999999994,null,null,0.1,null,null,null,null,null,null,null,null,null,null,0.1]
[null,4.3,30.2,34.200000000000003,39.200000000000003,43.2,47.2,52.2,56.2,61.2,65.2,70.2,null,null,0,null,null,null,null,null,null,null,null,null,null,0]
[null,4.2,29.8,33.799999999999997,38.799999999999997,42.8,46.8,51.8,55.8,60.8,64.8,69.8]
[null,4.0999999999999996,29.4,33.4,38.4,42.4,46.4,51.4,55.4,60.4,64.400000000000006,69.400000000000006,null,null,"Type of heat exchange:",null," horizontal ground ",null,null,"FLEQ run hours:",null,3000,null,null,null,"Type of heat exchange:",null," slinky ground ",null,null,"FLEQ run hours:",null,3000]
[null,4,29,33,38,42,46,51,55,60,64,69,null,null,null,"Mean Ground Temp",null,null,null,null,null,null,null,null,null,null,"Mean Ground Temp"]
[null,3.9,28.6,32.6,37.6,41.6,45.6,50.6,54.6,59.6,63.6,68.599999999999994,null,"Ground Thermal Conductivity",null,6,7,8,9,10,11,12,null,null,"Ground Thermal Conductivity",null,6,7,8,9,10,11,12]
[null,3.8,28.2,32.200000000000003,37.200000000000003,41.2,45.2,50.2,54.2,59.2,63.2,68.2,null,null,2.4,6.3,8.3000000000000007,10,12,14,15,17,null,null,null,2.4,22,27,32,38,42,46,51]
[null,3.7,27.8,31.8,36.799999999999997,40.799999999999997,44.8,49.8,53.8,58.8,62.8,67.8,null,null,2.2999999999999998,6.1499999999999995,8.0750000000000011,9.7249999999999996,11.5,13.5,14.5,16.5,null,null,null,2.2999999999999998]
[null,3.6,27.4,31.4,36.4,40.4,44.4,49.4,53.4,58.4,62.4,67.400000000000006,null,null,2.2000000000000002,6,7.8500000000000005,9.4499999999999993,11,13,14,16,null,null,null,2.2000000000000002]
[null,3.5,27,31,36,40,44,49,53,58,62,67,null,null,2.1,5.85,7.6250000000000009,9.1750000000000007,10.5,12.5,13.5,15.5,null,null,null,2.1]
[null,3.4,26.5,30.5,35.5,39.5,43.5,48.5,52.5,57.5,61.5,66.5,null,null,2,5.7,7.4,8.9,10,12,13,15,null,null,null,2,19,24,28,33,37,40,44]
[null,3.3,26,30,35,39,43,48,52,57,61,66,null,null,1.9,5.5,7.1000000000000005,8.5750000000000011,9.6999999999999993,11.5,12.5,14.25,null,null,null,1.9]
[null,3.2,25.5,29.5,34.5,38.5,42.5,47.5,51.5,56.5,60.5,65.5,null,null,1.8,5.3,6.8000000000000007,8.25,9.4,11,12,13.5,null,null,null,1.8]
[null,3.1,25,29,34,38,42,47,51,56,60,65,null,null,1.7,5.0999999999999996,6.5,7.9250000000000007,9.1,10.5,11.5,12.75,null,null,null,1.7]
[null,3,24.5,28.5,33.5,37.5,41.5,46.5,50.5,55.5,59.5,64.5,null,null,1.6,4.9000000000000004,6.2,7.6000000000000005,8.8000000000000007,10,11,12,null,null,null,1.6,16,20,24,27,31,34,37]
[null,2.9,24,28,33,37,41,46,50,55,59,64,null,null,1.5,4.625,5.8500000000000005,7.1750000000000007,8.3250000000000011,9.5,10.5,11.475,null,null,null,1.5]
[null,2.8,23.5,27.5,32.5,36.5,40.5,45.5,49.5,54.5,58.5,63.5,null,null,1.4,4.3500000000000005,5.5,6.7500000000000009,7.8500000000000005,9,10,10.95,null,null,null,1.4]
[null,2.7,23,27,32,36,40,45,49,54,58,63,null,null,1.3,4.0750000000000002,5.15,6.3250000000000011,7.3750000000000009,8.5,9.5,10.425000000000001,null,null,null,1.3]
[null,2.6,22.5,26.5,31.5,35.5,39.5,44.5,48.5,53.5,57.5,62.5,null,null,1.2,3.8000000000000003,4.8000000000000007,5.9,6.9,8,9,9.9,null,null,null,1.2,13,16,19,21,24,27,30]
[null,2.5,22,26,31,35,39,44,48,53,57,62,null,null,1.1000000000000001,3.5250000000000004,4.4250000000000007,5.45,6.375,7.4,8.375,9.15,null,null,null,1.1000000000000001]
[null,2.4,21.4,25.4,30.4,34.4,38.4,43.4,47.4,52.4,56.4,61.4,null,null,1,3.25,4.0500000000000007,5,5.8500000000000005,6.8,7.75,8.4,null,null,null,1]
[null,2.2999999999999998,20.8,24.8,29.8,33.799999999999997,37.799999999999997,42.8,46.8,51.8,55.8,60.8,null,null,0.9,2.9750000000000001,3.6750000000000007,4.5500000000000007,5.3250000000000002,6.2,7.125,7.65,null,null,null,0.9]
[null,2.2000000000000002,20.2,24.2,29.2,33.200000000000003,37.200000000000003,42.2,46.2,51.2,55.2,60.2,null,null,0.8,2.7,3.3000000000000007,4.1000000000000005,4.8000000000000007,5.6,6.5,6.9,null,null,null,0.8,9,11,13,15,17,19,21]
[null,2.1,19.600000000000001,23.6,28.6,32.6,36.6,41.6,45.6,50.6,54.6,59.6,null,null,0.7,2.4250000000000003,2.9500000000000006,3.6750000000000007,4.3000000000000007,5,5.7750000000000004,6.15,null,null,null,0.7]
[null,2,19,23,28,32,36,41,45,50,54,59,null,null,0.6,2.1500000000000004,2.6000000000000005,3.2500000000000004,3.8000000000000007,4.3999999999999995,5.05,5.4,null,null,null,0.6]
[null,1.9,18.399999999999999,22.4,27.4,31.4,35.4,40.4,44.4,49.4,53.4,58.4,null,null,0.5,1.875,2.2500000000000009,2.8250000000000006,3.3000000000000007,3.8,4.3250000000000002,4.6500000000000004,null,null,null,0.5]
[null,1.8,17.8,21.8,26.8,30.8,34.799999999999997,39.799999999999997,43.8,48.8,52.8,57.8,null,null,0.4,1.6,1.9000000000000008,2.4000000000000004,2.8000000000000007,3.1999999999999997,3.6,3.9000000000000004,null,null,null,0.4,5.3,6.3,7.5,8.5,9.6,11,12]
[null,1.7,17.2,21.2,26.2,30.2,34.200000000000003,39.200000000000003,43.2,48.2,52.2,57.2,null,null,0.3,null,null,null,null,null,null,null,null,null,null,0.3]
[null,1.6,16.600000000000001,20.6,25.6,29.6,33.6,38.6,42.6,47.6,51.6,56.6,null,null,0.2,null,null,null,null,null,null,null,null,null,null,0.2]
[null,1.5,16,20,25,29,33,38,42,47,51,56,null,null,0.1,null,null,null,null,null,null,null,null,null,null,0.1]
[null,1.4,null,null,null,null,null,null,null,null,null,null,null,null,0,null,null,null,null,null,null,null,null,null,null,0]
[null,1.3]
[null,1.2,null,null,null,null,null,null,null,null,null,null,null,null,"Type of heat exchange:",null," horizontal ground ",null,null,"FLEQ run hours:",null,3600,null,null,null,"Type of heat exchange:",null," slinky ground ",null,null,"FLEQ run hours:",null,3600]
[null,1.1000000000000001,null,null,null,null,null,null,null,null,null,null,null,null,null,"Mean Ground Temp",null,null,null,null,null,null,null,null,null,null,"Mean Ground Temp"]
[null,1,null,null,null,null,null,null,null,null,null,null,null,"Ground Thermal Conductivity",null,6,7,8,9,10,11,12,null,null,"Ground Thermal Conductivity",null,6,7,8,9,10,11,12]
[null,null,null,null,null,null,null,null,null,null,null,null,null,null,2.4,5.4,7.2,8.6999999999999993,10,11,13,14,null,null,null,2.4,18,23,27,32,35,39,43]
[null,"Type of heat exchange:",null,"Borehole",null,null,"FLEQ run hours:",null,3000,null,null,null,null,null,2.2999999999999998,5.25,7,8.4249999999999989,9.6999999999999993,10.725,12.5,13.5,null,null,null,2.2999999999999998]
[null,null,"Mean Ground Temp",null,null,null,null,null,null,null,null,null,null,null,2.2000000000000002,5.1000000000000005,6.8,8.1499999999999986,9.4,10.45,12,13,null,null,null,2.2000000000000002]
[null,null,6,7,8,9,10,11,12,13,14,15,null,null,2.1,4.95,6.6,7.8749999999999991,9.1,10.175000000000001,11.5,12.5,null,null,null,2.1]
["Average Thermal Conductivity",4.5,29,32,37,41,45,49,53,58,62,66,null,null,2,4.8000000000000007,6.4,7.6,8.8000000000000007,9.9,11,12,null,null,null,2,16,20,24,27,30,33,37]
[null,4.4000000000000004,28.6,31.6,36.6,40.6,44.6,48.6,52.6,57.6,61.6,65.599999999999994,null,null,1.9,4.6500000000000004,6.125,7.2749999999999995,8.4250000000000007,9.5,10.525,11.5,null,null,null,1.9]
[null,4.3,28.2,31.2,36.200000000000003,40.200000000000003,44.2,48.2,52.2,57.2,61.2,65.2,null,null,1.8,4.5000000000000009,5.8500000000000005,6.9499999999999993,8.0500000000000007,9.1,10.050000000000001,11,null,null,null,1.8]
[null,4.2,27.8,30.8,35.799999999999997,39.799999999999997,43.8,47.8,51.8,56.8,60.8,64.8,null,null,1.7,4.3500000000000005,5.5750000000000002,6.625,7.6750000000000007,8.6999999999999993,9.5749999999999993,10.5,null,null,null,1.7]
[null,4.0999999999999996,27.4,30.4,35.4,39.4,43.4,47.4,51.4,56.4,60.4,64.400000000000006,null,null,1.6,4.2000000000000011,5.3000000000000007,6.3,7.3000000000000007,8.3000000000000007,9.1,10,null,null,null,1.6,14,17,20,22,25,28,31]
[null,4,27,30,35,39,43,47,51,56,60,64,null,null,1.5,3.9500000000000011,5.0000000000000009,5.95,6.9,7.8500000000000005,8.625,9.4749999999999996,null,null,null,1.5]
[null,3.9,26.6,29.6,34.6,38.6,42.6,46.6,50.6,55.6,59.6,63.6,null,null,1.4,3.7000000000000011,4.7000000000000011,5.6,6.5000000000000009,7.4,8.15,8.9499999999999993,null,null,null,1.4]
[null,3.8,26.2,29.2,34.200000000000003,38.200000000000003,42.2,46.2,50.2,55.2,59.2,63.2,null,null,1.3,3.4500000000000011,4.4000000000000004,5.25,6.1000000000000005,6.9500000000000011,7.6749999999999998,8.4250000000000007,null,null,null,1.3]
[null,3.7,25.8,28.8,33.799999999999997,37.799999999999997,41.8,45.8,49.8,54.8,58.8,62.8,null,null,1.2,3.2000000000000011,4.1000000000000005,4.9000000000000004,5.7000000000000011,6.5000000000000009,7.1999999999999993,7.9,null,null,null,1.2,10,13,15,17,20,22,24]
[null,3.6,25.4,28.4,33.4,37.4,41.4,45.4,49.4,54.4,58.4,62.4,null,null,1.1000000000000001,2.975000000000001,3.7750000000000004,4.5250000000000004,5.2500000000000009,6.0000000000000009,6.6749999999999989,7.3250000000000002,null,null,null,1.1000000000000001]
[null,3.5,25,28,33,37,41,45,49,54,58,62,null,null,1,2.7500000000000009,3.4500000000000006,4.1500000000000004,4.8000000000000007,5.5000000000000009,6.1499999999999995,6.75,null,null,null,1]
[null,3.4,24.5,27.5,32.5,36.5,40.5,44.5,48.5,53.5,57.5,61.5,null,null,0.9,2.5250000000000012,3.1250000000000004,3.7750000000000004,4.3500000000000014,5.0000000000000009,5.6249999999999991,6.1750000000000007,null,null,null,0.9]
[null,3.3,24,27,32,36,40,44,48,53,57,61,null,null,0.8,2.3000000000000012,2.8000000000000007,3.4000000000000004,3.9000000000000012,4.5000000000000009,5.0999999999999996,5.6000000000000005,null,null,null,0.8,7.2,8.6,10,12,14,16,17]
[null,3.2,23.5,26.5,31.5,35.5,39.5,43.5,47.5,52.5,56.5,60.5,null,null,0.7,2.0750000000000011,2.5000000000000009,3.0500000000000003,3.5000000000000013,4.0000000000000009,4.55,5.0000000000000009,null,null,null,0.7]
[null,3.1,23,26,31,35,39,43,47,52,56,60,null,null,0.6,1.8500000000000012,2.2000000000000006,2.7,3.1000000000000014,3.5000000000000009,3.9999999999999996,4.4000000000000004,null,null,null,0.6]
[null,3,22.5,25.5,30.5,34.5,38.5,42.5,46.5,51.5,55.5,59.5,null,null,0.5,1.6250000000000011,1.9000000000000008,2.3500000000000005,2.7000000000000011,3.0000000000000009,3.4499999999999993,3.8000000000000007,null,null,null,0.5]
[null,2.9,22,25,30,34,38,42,46,51,55,59,null,null,0.4,1.4000000000000012,1.6000000000000008,2.0000000000000004,2.3000000000000012,2.5000000000000009,2.8999999999999995,3.2000000000000006,null,null,null,0.4,4.3,5,6,6.8,7.7,8.6999999999999993,9.3000000000000007]
[null,2.8,21.5,24.5,29.5,33.5,37.5,41.5,45.5,50.5,54.5,58.5,null,null,0.3,null,null,null,null,null,null,null,null,null,null,0.3]
[null,2.7,21,24,29,33,37,41,45,50,54,58,null,null,0.2,null,null,null,null,null,null,null,null,null,null,0.2]
[null,2.6,20.5,23.5,28.5,32.5,36.5,40.5,44.5,49.5,53.5,57.5,null,null,0.1,null,null,null,null,null,null,null,null,null,null,0.1]
[null,2.5,20,23,28,32,36,40,44,49,53,57,null,null,0,null,null,null,null,null,null,null,null,null,null,0]
[null,2.4,19.399999999999999,22.4,27.4,31.4,35.4,39.4,43.4,48.4,52.4,56.4]
[null,2.2999999999999998,18.8,21.8,26.8,30.8,34.799999999999997,38.799999999999997,42.8,47.8,51.8,55.8]
[null,2.2000000000000002,18.2,21.2,26.2,30.2,34.200000000000003,38.200000000000003,42.2,47.2,51.2,55.2]
[null,2.1,17.600000000000001,20.6,25.6,29.6,33.6,37.6,41.6,46.6,50.6,54.6]
[null,2,17,20,25,29,33,37,41,46,50,54]
[null,1.9,16.399999999999999,19.399999999999999,24.4,28.4,32.4,36.4,40.4,45.4,49.4,53.4]
[null,1.8,15.8,18.8,23.8,27.8,31.8,35.799999999999997,39.799999999999997,44.8,48.8,52.8]
[null,1.7,15.2,18.2,23.2,27.2,31.2,35.200000000000003,39.200000000000003,44.2,48.2,52.2]
[null,1.6,14.600000000000001,17.600000000000001,22.6,26.6,30.6,34.6,38.6,43.6,47.6,51.6]
[null,1.5,14,17,22,26,30,34,38,43,47,51]
[null,1.4]
[null,1.3]
[null,1.2]
[null,1.1000000000000001]
[null,1]
[]
[null,"Type of heat exchange:",null,"Borehole",null,null,"FLEQ run hours:",null,3600]
[null,null,"Mean Ground Temp"]
[null,null,6,7,8,9,10,11,12,13,14,15]
["Average Thermal Conductivity",4.5,29,32,37,41,45,49,53,58,62,66]
[null,4.4000000000000004,28.6,31.6,36.6,40.6,44.6,48.6,52.6,57.6,61.6,65.599999999999994]
[null,4.3,28.2,31.2,36.200000000000003,40.200000000000003,44.2,48.2,52.2,57.2,61.2,65.2]
[null,4.2,27.8,30.8,35.799999999999997,39.799999999999997,43.8,47.8,51.8,56.8,60.8,64.8]
[null,4.0999999999999996,27.4,30.4,35.4,39.4,43.4,47.4,51.4,56.4,60.4,64.400000000000006]
[null,4,27,30,35,39,43,47,51,56,60,64]
[null,3.9,26.6,29.6,34.6,38.6,42.6,46.6,50.6,55.6,59.6,63.6]
[null,3.8,26.2,29.2,34.200000000000003,38.200000000000003,42.2,46.2,50.2,55.2,59.2,63.2]
[null,3.7,25.8,28.8,33.799999999999997,37.799999999999997,41.8,45.8,49.8,54.8,58.8,62.8]
[null,3.6,25.4,28.4,33.4,37.4,41.4,45.4,49.4,54.4,58.4,62.4]
[null,3.5,25,28,33,37,41,45,49,54,58,62]
[null,3.4,24.5,27.5,32.5,36.5,40.5,44.5,48.5,53.5,57.5,61.5]
[null,3.3,24,27,32,36,40,44,48,53,57,61]
[null,3.2,23.5,26.5,31.5,35.5,39.5,43.5,47.5,52.5,56.5,60.5]
[null,3.1,23,26,31,35,39,43,47,52,56,60]
[null,3,22.5,25.5,30.5,34.5,38.5,42.5,46.5,51.5,55.5,59.5]
[null,2.9,22,25,30,34,38,42,46,51,55,59]
[null,2.8,21.5,24.5,29.5,33.5,37.5,41.5,45.5,50.5,54.5,58.5]
[null,2.7,21,24,29,33,37,41,45,50,54,58]
[null,2.6,20.5,23.5,28.5,32.5,36.5,40.5,44.5,49.5,53.5,57.5]
[null,2.5,20,23,28,32,36,40,44,49,53,57]
[null,2.4,19.399999999999999,22.4,27.4,31.4,35.4,39.4,43.4,48.4,52.4,56.4]
[null,2.2999999999999998,18.8,21.8,26.8,30.8,34.799999999999997,38.799999999999997,42.8,47.8,51.8,55.8]
[null,2.2000000000000002,18.2,21.2,26.2,30.2,34.200000000000003,38.200000000000003,42.2,47.2,51.2,55.2]
[null,2.1,17.600000000000001,20.6,25.6,29.6,33.6,37.6,41.6,46.6,50.6,54.6]
[null,2,17,20,25,29,33,37,41,46,50,54]
[null,1.9,16.399999999999999,19.399999999999999,24.4,28.4,32.4,36.4,40.4,45.4,49.4,53.4]
[null,1.8,15.8,18.8,23.8,27.8,31.8,35.799999999999997,39.799999999999997,44.8,48.8,52.8]
[null,1.7,15.2,18.2,23.2,27.2,31.2,35.200000000000003,39.200000000000003,44.2,48.2,52.2]
[null,1.6,14.600000000000001,17.600000000000001,22.6,26.6,30.6,34.6,38.6,43.6,47.6,51.6]
[null,1.5,14,17,22,26,30,34,38,43,47,51]
[null,1.4]
[null,1.3]
[null,1.2]
[null,1.1000000000000001]
[null,1]

{"sheet":"HP Rad sizing","index":24,"n_rows":74,"n_cols":33,"rows_kept":74,"cut":false,"hidden":false,"merged":[[33,12,33,13],[34,0,34,1],[33,0,33,3]]}
["Room","Room Temp (⁰C)","Heat Loss for room (Watts)","Mean Rad temp (⁰C)","Delta T (⁰C)","Radiator Height","Radiator Size (HxW)","Radiator Panel/Convector","No. of Rads in room","Output of Rad @ delta t 50⁰C (Watts)","Output of Rad at required delta t (Watts) ","Heat Loss for room (Watts)","Difference (Watts)","Min Rad Size Required @ Delta t 50⁰C"]
[{"$f":"'Design Details'!A87","v":"Living "},{"$f":"'Design Details'!D87","v":21},{"$f":"'Design Details'!B87","v":2055.8216000000002},{"$f":"IFERROR('Design Details'!$F$31-4,0)","v":46},{"$f":"D2-B2","v":25},null,null,null,null,{"$f":"IF(H2=\"P1\",LOOKUP(G2,W$3:W$74,X$3:X$74),IF(H2=\"K1\",LOOKUP(G2,W$3:W$74,Y$3:Y$74),IF(H2=\"P+\",LOOKUP(G2,W$3:W$74,Z$3:Z$74),IF(H2=\"K2\",LOOKUP(G2,W$3:W$74,AA$3:AA$74),IF(H2=\"K3\",LOOKUP(G2,W$3:W$74,AB$3:AB$74),0)))))*I2","v":0},{"$f":"J2*IF(AND(E2>=4,E2<9),C$36,IF(AND(E2>=9,E2<14),C$37,IF(AND(E2>=14,E2<19),C$38,IF(AND(E2>=19,E2<24),C$39,IF(AND(E2>=24,E2<29),C$40,IF(AND(E2>=29,E2<34),C$41,IF(AND(E2>=34,E2<39),C$42,IF(AND(E2>=39,E2<44),C$43,IF(E2>=44,C$44,\"1\")))))))))","v":0},{"$f":"C2","v":2055.8216000000002},{"$f":"K2-L2","v":-2055.8216000000002},{"$f":"L2/IF(D2=41,C$36,IF(D2=46,C$37,1))","v":16713.996747967481},null,null,null,null,null,null,null,null,null,"P1","K1","P+","K2","K3","P1","K1","P+","K2","K3"]
[{"$f":"'Design Details'!A88","v":"Studio "},{"$f":"'Design Details'!D88","v":16},{"$f":"'Design Details'!B88","v":1393.2480879999998},{"$f":"IFERROR('Design Details'!$F$31-4,0)","v":46},30,null,null,null,null,{"$f":"IF(H3=\"P1\",LOOKUP(G3,W$3:W$74,X$3:X$74),IF(H3=\"K1\",LOOKUP(G3,W$3:W$74,Y$3:Y$74),IF(H3=\"P+\",LOOKUP(G3,W$3:W$74,Z$3:Z$74),IF(H3=\"K2\",LOOKUP(G3,W$3:W$74,AA$3:AA$74),IF(H3=\"K3\",LOOKUP(G3,W$3:W$74,AB$3:AB$74),0)))))*I3","v":0},{"$f":"J3*IF(AND(E3>=4,E3<9),C$36,IF(AND(E3>=9,E3<14),C$37,IF(AND(E3>=14,E3<19),C$38,IF(AND(E3>=19,E3<24),C$39,IF(AND(E3>=24,E3<29),C$40,IF(AND(E3>=29,E3<34),C$41,IF(AND(E3>=34,E3<39),C$42,IF(AND(E3>=39,E3<44),C$43,IF(E3>=44,C$44,\"1\")))))))))","v":0},{"$f":"C3","v":1393.2480879999998},-1393.2480879999998,{"$f":"L3/IF(D3=41,C$36,IF(D3=46,C$37,1))","v":11327.220227642276},null,null,null,null,null,300,null,300,"300x0500","-",255,373,491,"-",0,18.04,23.5,26.14,0]
[{"$f":"'Design Details'!A89","v":"Sun room "},{"$f":"'Design Details'!D89","v":21},{"$f":"'Design Details'!B89","v":1242.9980860000001},{"$f":"IFERROR('Design Details'!$F$31-4,0)","v":46},25,null,null,null,null,0,{"$f":"J4*IF(AND(E4>=4,E4<9),C$36,IF(AND(E4>=9,E4<14),C$37,IF(AND(E4>=14,E4<19),C$38,IF(AND(E4>=19,E4<24),C$39,IF(AND(E4>=24,E4<29),C$40,IF(AND(E4>=29,E4<34),C$41,IF(AND(E4>=34,E4<39),C$42,IF(AND(E4>=39,E4<44),C$43,IF(E4>=44,C$44,\"1\")))))))))","v":0},{"$f":"C4","v":1242.9980860000001},-1242.9980860000001,10105.67549593496,null,null,null,null,null,450,null,300,"300x1000","-",509,745,982,1349,0,28.9,40.049999999999997,45.11,92.62]
[{"$f":"'Design Details'!A90","v":"Music room "},{"$f":"'Design Details'!D90","v":21},{"$f":"'Design Details'!B90","v":878.21873359999995},{"$f":"IFERROR('Design Details'!$F$31-4,0)","v":46},25,null,null,null,null,0,0,878.21873359999995,-878.21873359999995,7139.9897040650403,null,null,null,null,null,500,null,300,"300x1500","-",764,1118,1473,"-",0,39.69,56.14,63.79,0]
[{"$f":"'Design Details'!A91","v":"Hall "},{"$f":"'Design Details'!D91","v":18},{"$f":"'Design Details'!B91","v":227.22712512000001},{"$f":"IFERROR('Design Details'!$F$31-4,0)","v":46},28,null,null,null,null,0,0,227.22712512000001,-227.22712512000001,1847.37500097561,null,null,null,null,null,600,null,300,"300x2000","-",1018,1490,1964,2698,0,51.9,74.36,84.57,173.4]
[{"$f":"'Design Details'!A92","v":"Utility "},{"$f":"'Design Details'!D92","v":18},{"$f":"'Design Details'!B92","v":435.82518300000004},{"$f":"IFERROR('Design Details'!$F$31-4,0)","v":46},28,null,null,null,null,0,0,435.82518300000004,-435.82518300000004,3543.2941707317077,null,null,null,null,null,700,null,300,"300x2500","-",1273,1863,2455,"-",0,87.11,126.48,143.84,0]
[{"$f":"'Design Details'!A93","v":"WC "},{"$f":"'Design Details'!D93","v":18},{"$f":"'Design Details'!B93","v":86.44144},{"$f":"IFERROR('Design Details'!$F$31-4,0)","v":46},28,null,null,null,null,0,0,86.44144,-86.44144,702.77593495934957,null,null,null,null,null,null,null,300,"300x3000","-",1527,2235,2946,"-",0,102.69,151.94999999999999,173.07,0]
[{"$f":"'Design Details'!A94","v":"Kitchen "},{"$f":"'Design Details'!D94","v":18},{"$f":"'Design Details'!B94","v":1336.731544},{"$f":"IFERROR('Design Details'!$F$31-4,0)","v":46},28,null,null,null,null,0,0,1336.731544,-1336.731544,10867.736130081301,null,null,null,null,"P1",null,null,450,"450x0400",190,302,422,548,"-",19.899999999999999,19.73,25.68,28.47,0]
[{"$f":"'Design Details'!A95","v":"Bedroom 1"},{"$f":"'Design Details'!D95","v":18},{"$f":"'Design Details'!B95","v":545.95488},{"$f":"IFERROR('Design Details'!$F$31-4,0)","v":46},28,null,null,null,null,0,0,545.95488,-545.95488,4438.6575609756101,null,null,null,null,"K1",null,null,450,"450x0500",237,378,528,686,"-",21.94,22.58,30.03,33.56,0]
[{"$f":"'Design Details'!A96","v":"Bedroom 2"},{"$f":"'Design Details'!D96","v":18},{"$f":"'Design Details'!B96","v":485.41553759999994},{"$f":"IFERROR('Design Details'!$F$31-4,0)","v":46},28,null,null,null,null,0,0,485.41553759999994,-485.41553759999994,3946.4677853658532,null,null,null,null,"P+",null,null,450,"450x0600",284,454,633,823,"-",24.12,25.59,34.479999999999997,38.700000000000003,0]
[{"$f":"'Design Details'!A97","v":"Bedroom 3"},{"$f":"'Design Details'!D97","v":18},{"$f":"'Design Details'!B97","v":849.67528531999994},{"$f":"IFERROR('Design Details'!$F$31-4,0)","v":46},28,null,null,null,null,0,0,849.67528531999994,-849.67528531999994,6907.9291489430889,null,null,null,null,"K2",null,null,450,"450x0700",332,529,739,960,"-",26.32,28.61,38.950000000000003,43.91,0]
[{"$f":"'Design Details'!A98","v":"Bedroom 4"},{"$f":"'Design Details'!D98","v":18},{"$f":"'Design Details'!B98","v":547.09836280000002},{"$f":"IFERROR('Design Details'!$F$31-4,0)","v":46},28,null,null,null,null,0,0,547.09836280000002,-547.09836280000002,4447.9541691056911,null,null,null,null,"K3",null,null,450,"450x0800",379,605,844,1097,"-",30.61,31.64,43.46,49.14,0]
[{"$f":"'Design Details'!A99","v":"En-suite "},{"$f":"'Design Details'!D99","v":18},{"$f":"'Design Details'!B99","v":84.190939},{"$f":"IFERROR('Design Details'!$F$31-4,0)","v":46},28,null,null,null,null,0,0,84.190939,-84.190939,684.47917886178868,null,null,null,null,null,null,null,450,"450x0900",427,680,950,1234,"-",32.86,34.72,48.06,54.49,0]
[{"$f":"'Design Details'!A100","v":"Bath "},{"$f":"'Design Details'!D100","v":22},{"$f":"'Design Details'!B100","v":1064.4392088000002},{"$f":"IFERROR('Design Details'!$F$31-4,0)","v":46},24,null,null,null,null,0,0,1064.4392088000002,-1064.4392088000002,8653.9773073170745,null,null,null,null,18,null,null,450,"450x1000",474,756,1055,1371,"-",35.01,37.68,52.57,59.67,0]
[{"$f":"'Design Details'!A101","v":"Landing "},{"$f":"'Design Details'!D101","v":18},{"$f":"'Design Details'!B101","v":361.53011076000001},{"$f":"IFERROR('Design Details'!$F$31-4,0)","v":46},28,null,null,null,null,0,0,361.53011076000001,-361.53011076000001,2939.2691931707318,null,null,null,null,21,null,null,450,"450x1100","-",832,1161,1508,"-",0,40.76,56.92,64.760000000000005,0]
[{"$f":"'Design Details'!A102","v":"- "},{"$f":"'Design Details'!D102","v":0},{"$f":"'Design Details'!B102","v":0},{"$f":"IFERROR('Design Details'!$F$31-4,0)","v":46},46,null,null,null,null,0,0,0,0,0,null,null,null,null,22,null,null,450,"450x1200",569,907,1266,1645,"-",39.42,43.72,61.39,69.930000000000007,0]
[{"$f":"'Design Details'!A103","v":"- "},{"$f":"'Design Details'!D103","v":0},{"$f":"'Design Details'!B103","v":0},{"$f":"IFERROR('Design Details'!$F$31-4,0)","v":46},46,null,null,null,null,0,0,0,0,0,null,null,null,null,null,null,null,450,"450x1400",664,1058,1477,1919,"-",43.79,49.74,70.19,80.150000000000006,0]
[{"$f":"'Design Details'!A104","v":"- "},{"$f":"'Design Details'!D104","v":0},{"$f":"'Design Details'!B104","v":0},{"$f":"IFERROR('Design Details'!$F$31-4,0)","v":46},46,null,null,null,null,0,0,0,0,0,null,null,null,null,1,null,null,450,"450x1600",758,1210,1688,2194,"-",49.17,56.81,80.31,92.03,0]
[{"$f":"'Design Details'!A105","v":"- "},{"$f":"'Design Details'!D105","v":0},{"$f":"'Design Details'!B105","v":0},{"$f":"IFERROR('Design Details'!$F$31-4,0)","v":46},46,null,null,null,null,0,0,0,0,0,null,null,null,null,2,null,null,450,"450x1800","-",1361,1899,2468,"-",0,63.37,89.99,103,0]
[{"$f":"'Design Details'!A106","v":"- "},{"$f":"'Design Details'!D106","v":0},{"$f":"'Design Details'!B106","v":0},{"$f":"IFERROR('Design Details'!$F$31-4,0)","v":46},46,null,null,null,null,0,0,0,0,0,null,null,null,null,3,null,null,450,"450x2000","-",1512,2110,2742,"-",0,69.66,99.51,114.08,0]
[{"$f":"'Design Details'!A107","v":"- "},{"$f":"'Design Details'!D107","v":0},{"$f":"'Design Details'!B107","v":0},{"$f":"IFERROR('Design Details'!$F$31-4,0)","v":46},46,null,null,null,null,0,0,0,0,0,null,null,null,null,4,null,null,450,"450x2200","-",1663,2321,3016,"-",0,98.56,141.62,162.55000000000001,0]
[{"$f":"'Design Details'!A108","v":"- "},{"$f":"'Design Details'!D108","v":0},{"$f":"'Design Details'!B108","v":0},{"$f":"IFERROR('Design Details'!$F$31-4,0)","v":46},46,null,null,null,null,0,0,0,0,0,null,null,null,null,5,null,null,450,"450x2400","-",1814,2532,3290,"-",0,111.64,160.80000000000001,184.5,0]
[{"$f":"'Design Details'!A109","v":"- "},{"$f":"'Design Details'!D109","v":0},{"$f":"'Design Details'!B109","v":0},{"$f":"IFERROR('Design Details'!$F$31-4,0)","v":46},46,null,null,null,null,0,0,0,0,0,null,null,null,null,null,null,null,450,"450x2600","-",1966,2743,3565,"-",0,121.65,175.74,201.91,0]
[{"$f":"'Design Details'!A110","v":"- "},{"$f":"'Design Details'!D110","v":0},{"$f":"'Design Details'!B110","v":0},{"$f":"IFERROR('Design Details'!$F$31-4,0)","v":46},46,null,null,null,null,0,0,0,0,0,null,null,null,null,null,null,null,450,"450x2800","-",2117,2954,3939,"-",0,131.25,190.29,218.71,0]
[{"$f":"'Design Details'!A111","v":"- "},{"$f":"'Design Details'!D111","v":0},{"$f":"'Design Details'!B111","v":0},{"$f":"IFERROR('Design Details'!$F$31-4,0)","v":46},46,null,null,null,null,0,0,0,0,0,null,null,null,null,null,null,null,450,"450x3000","-",2268,3165,4113,"-",0,140.22,204.25,234.97,0]
[{"$f":"'Design Details'!A112","v":"- "},{"$f":"'Design Details'!D112","v":0},{"$f":"'Design Details'!B112","v":0},{"$f":"IFERROR('Design Details'!$F$31-4,0)","v":46},46,null,null,null,null,0,0,0,0,0,null,null,null,null,null,null,null,500,"500x0600","-","-","-","-",1234,0,0,0,0,81.63]
[{"$f":"'Design Details'!A113","v":"- "},{"$f":"'Design Details'!D113","v":0},{"$f":"'Design Details'!B113","v":0},{"$f":"IFERROR('Design Details'!$F$31-4,0)","v":46},46,null,null,null,null,0,0,0,0,0,null,null,null,null,null,null,null,500,"500x0700","-","-","-","-",1439,0,0,0,0,92.44]
[{"$f":"'Design Details'!A114","v":"- "},{"$f":"'Design Details'!D114","v":0},{"$f":"'Design Details'!B114","v":0},{"$f":"IFERROR('Design Details'!$F$31-4,0)","v":46},46,null,null,null,null,0,0,0,0,0,null,null,null,null,null,null,null,500,"500x0800","-","-","-","-",1645,0,0,0,0,103.22]
[{"$f":"'Design Details'!A115","v":"- "},{"$f":"'Design Details'!D115","v":0},{"$f":"'Design Details'!B115","v":0},{"$f":"IFERROR('Design Details'!$F$31-4,0)","v":46},46,null,null,null,null,0,0,0,0,0,null,null,null,null,null,null,null,500,"500x0900","-","-","-","-",1850,0,0,0,0,114.92]
[{"$f":"'Design Details'!A116","v":"- "},{"$f":"'Design Details'!D116","v":0},{"$f":"'Design Details'!B116","v":0},{"$f":"IFERROR('Design Details'!$F$31-4,0)","v":46},46,null,null,null,null,0,0,0,0,0,null,null,null,null,null,null,null,500,"500x1000","-","-","-","-",2056,0,0,0,0,127.1]
[null,null,null,null,null,null,null,null,null,"Total:",{"$f":"SUM(K2:K31)","v":0},{"$f":"SUM(L2:L31)","v":11594.816123999999},{"$f":"SUM(M2:M31)","v":-11594.816123999999},{"$f":"IF(M32<-50,\"Up radiator sizes\",IF(AND(M32>=-50,M32<0),\"Look at radiator sizing\",\"Radiator sizing good\"))","v":"Up radiator sizes"},null,null,null,null,null,null,null,500,"500x1100","-","-","-","-",2262,0,0,0,0,137.86000000000001]
[null,null,null,null,null,null,null,null,null,null,null,null,null,null,null,null,null,null,null,null,null,500,"500x1200","-","-","-","-",2467,0,0,0,0,148.58000000000001]
["Stelrad Correction Factor ",null,null,null,null,null,null,null,null,null,null,null,null,null,null,null,null,null,null,null,null,500,"500x1400","-","-","-","-",2878,0,0,0,0,170.35]
["Delta T (⁰C)",null,null,null,null,null,null,null,null,null,null,null,null,null,null,null,null,null,null,null,null,500,"500x1600","-","-","-","-",3290,0,0,0,0,195.49]
[null,5,0.05,null,null,null,null,null,null,null,null,null,null,null,null,null,null,null,null,null,null,500,"500x1800","-","-","-","-",3701,0,0,0,0,217.92]
[null,10,0.123,null,null,null,null,null,null,null,null,null,null,null,null,null,null,null,null,null,null,500,"500x2000","-","-","-","-",4112,0,0,0,0,241.54]
[null,15,0.20899999999999999,null,null,null,null,null,null,null,null,null,null,null,null,null,null,null,null,null,null,500,"500x2400","-","-","-","-",4934,0,0,0,0,386.7]
[null,20,0.30399999999999999,null,null,null,null,null,null,null,null,null,null,null,null,null,null,null,null,null,null,600,"600x0400",248,392,538,693,956,22.76,22,32.78,34.65,66.39]
[null,25,0.40600000000000003,null,null,null,null,null,null,null,null,null,null,null,null,null,null,null,null,null,null,600,"600x0500",310,490,673,866,1195,25.34,24,36.28,41.32,78.75]
[null,30,0.51500000000000001,null,null,null,null,null,null,null,null,null,null,null,null,null,null,null,null,null,null,600,"600x0600",371,588,807,1039,1433,27.99,27,41.95,46.99,91.01]
[null,35,0.629,null,null,null,null,null,null,null,null,null,null,null,null,null,null,null,null,null,null,600,"600x0700",433,686,942,1212,1672,30.79,32.5,47.61,54.45,103.38]
[null,40,0.748,null,null,null,null,null,null,null,null,null,null,null,null,null,null,null,null,null,null,600,"600x0800",495,784,1076,1386,1911,35.56,35,53.3,61.1,115.68]
[null,45,0.872,null,null,null,null,null,null,null,null,null,null,null,null,null,null,null,null,null,null,600,"600x0900",557,882,1211,1559,2150,38.36,40,59.12,67.900000000000006,128.96]
[null,null,null,null,null,null,null,null,null,null,null,null,null,null,null,null,null,null,null,null,null,600,"600x1000",619,980,1345,1732,2389,41.03,43,64.83,73.989999999999995,142.65]
[null,null,null,null,null,null,null,null,null,null,null,null,null,null,null,null,null,null,null,null,null,600,"600x1100","-",1078,1480,1905,2628,0,49,70.38,81.06,154.91999999999999]
[null,null,null,null,null,null,null,null,null,null,null,null,null,null,null,null,null,null,null,null,null,600,"600x1200",743,1176,1614,2078,2867,46.48,52,76.05,87.66,167.18]
[null,null,null,null,null,null,null,null,null,null,null,null,null,null,null,null,null,null,null,null,null,600,"600x1400",867,1372,1883,2425,3345,51.89,61.64,87.24,100.75,191.97]
[null,null,null,null,null,null,null,null,null,null,null,null,null,null,null,null,null,null,null,null,null,600,"600x1600",990,1568,2152,2771,3822,58.37,70.42,99.82,115.68,220.3]
[null,null,null,null,null,null,null,null,null,null,null,null,null,null,null,null,null,null,null,null,null,600,"600x1800","-",1764,2421,3118,4300,0,78.87,112.19,129.82,245.8]
[null,null,null,null,null,null,null,null,null,null,null,null,null,null,null,null,null,null,null,null,null,600,"600x2000","-",1960,2690,3464,4778,0,86.94,124.32,144.02000000000001,272.7]
[null,null,null,null,null,null,null,null,null,null,null,null,null,null,null,null,null,null,null,null,null,600,"600x2200","-",2156,2959,3810,5734,0,123.19,177.11,205.37,436.95]
[null,null,null,null,null,null,null,null,null,null,null,null,null,null,null,null,null,null,null,null,null,600,"600x2400","-",2352,3228,4157,"-",0,139.71,201.42,233.38,0]
[null,null,null,null,null,null,null,null,null,null,null,null,null,null,null,null,null,null,null,null,null,600,"600x2600","-",2548,3497,4503,"-",0,152.44999999999999,220.48,255.63,0]
[null,null,null,null,null,null,null,null,null,null,null,null,null,null,null,null,null,null,null,null,null,600,"600x2800","-",2744,3766,4850,"-",0,164.62,238.85,277.02,0]
[null,null,null,null,null,null,null,null,null,null,null,null,null,null,null,null,null,null,null,null,null,600,"600x3000","-",2940,4035,5196,"-",0,176.1,256.51,297.73,0]
[null,null,null,null,null,null,null,null,null,null,null,null,null,null,null,null,null,null,null,null,null,700,"700x0400","-",447,612,784,"-",0,26.14,34.47,38.799999999999997,0]
[null,null,null,null,null,null,null,null,null,null,null,null,null,null,null,null,null,null,null,null,null,700,"700x0500","-",559,765,981,1356,0,30.34,40.82,46.28,87.49]
[null,null,null,null,null,null,null,null,null,null,null,null,null,null,null,null,null,null,null,null,null,700,"700x0600","-",670,918,1177,1627,0,34.67,47.24,53.78,101.3]
[null,null,null,null,null,null,null,null,null,null,null,null,null,null,null,null,null,null,null,null,null,700,"700x0700","-",782,1071,1373,1898,0,39.06,53.73,61.39,115.17]
[null,null,null,null,null,null,null,null,null,null,null,null,null,null,null,null,null,null,null,null,null,700,"700x0800","-",894,1224,1569,2170,0,43.36,60.16,68.930000000000007,129]
[null,null,null,null,null,null,null,null,null,null,null,null,null,null,null,null,null,null,null,null,null,700,"700x0900","-",1005,1377,1765,2441,0,47.78,66.75,76.650000000000006,143.88999999999999]
[null,null,null,null,null,null,null,null,null,null,null,null,null,null,null,null,null,null,null,null,null,700,"700x1000","-",1117,1530,1961,2712,0,52.1,73.260000000000005,84.22,159.08000000000001]
[null,null,null,null,null,null,null,null,null,null,null,null,null,null,null,null,null,null,null,null,null,700,"700x1100","-",1229,1683,2157,2983,0,56.49,79.58,91.67,172.87]
[null,null,null,null,null,null,null,null,null,null,null,null,null,null,null,null,null,null,null,null,null,700,"700x1200","-",1340,1836,2353,3254,0,60.78,86.02,99.19,186.65]
[null,null,null,null,null,null,null,null,null,null,null,null,null,null,null,null,null,null,null,null,null,700,"700x1400","-",1564,2142,2745,3797,0,69.44,98.76,114.12,214.5]
[null,null,null,null,null,null,null,null,null,null,null,null,null,null,null,null,null,null,null,null,null,700,"700x1600","-",1787,2448,3138,4339,0,79.31,112.98,130.99,246.04]
[null,null,null,null,null,null,null,null,null,null,null,null,null,null,null,null,null,null,null,null,null,700,"700x1800","-",2011,2754,3530,4882,0,89.02,127.12,147.19999999999999,274.64999999999998]
[null,null,null,null,null,null,null,null,null,null,null,null,null,null,null,null,null,null,null,null,null,700,"700x2000","-",2234,3060,3922,5424,0,98.17,140.9,163.36000000000001,304.82]
[null,null,null,null,null,null,null,null,null,null,null,null,null,null,null,null,null,null,null,null,null,700,"700x2200","-",2457,3366,4314,"-",0,139.22,200.79,233.03,0]
[null,null,null,null,null,null,null,null,null,null,null,null,null,null,null,null,null,null,null,null,null,700,"700x2400","-",2681,3672,4706,"-",0,157.94999999999999,228.4,264.93,0]
[null,null,null,null,null,null,null,null,null,null,null,null,null,null,null,null,null,null,null,null,null,700,"700x2600","-",2904,3978,5099,"-",0,172.43,250.05,290.26,0]
[null,null,null,null,null,null,null,null,null,null,null,null,null,null,null,null,null,null,null,null,null,700,"700x2800","-",3128,4284,5491,"-",0,186.3,270.95999999999998,315.2,0]
[null,null,null,null,null,null,null,null,null,null,null,null,null,null,null,null,null,null,null,null,null,700,"700x3000","-",3351,4590,5883,"-",0,199.36,290.99,338.16,0]

{"sheet":"Solid","index":25,"n_rows":142,"n_cols":25,"rows_kept":142,"cut":false,"hidden":true,"merged":[[34,15,34,16],[34,17,34,18],[34,19,34,20],[34,21,34,22],[34,23,34,24],[28,0,28,1],[29,0,29,1],[30,0,30,1],[33,0,33,11],[33,13,33,24],[34,2,34,3],[34,4,34,5],[34,6,34,7],[34,8,34,9],[34,10,34,11],[27,0,27,1],[16,0,16,1],[17,0,17,1],[18,0,18,1],[19,0,19,1],[20,0,20,1],[21,0,21,1],[22,0,22,1],[23,0,23,1],[24,0,24,1],[25,0,25,1],[26,0,26,1],[15,0,15,1],[4,0,4,1],[5,0,5,1],[6,0,6,1],[7,0,7,1],[8,0,8,1],[9,0,9,1],[10,0,10,1],[11,0,11,1],[12,0,12,1],[13,0,13,1],[14,0,14,1],[0,19,0,20],[0,21,0,22],[0,23,0,24],[1,0,1,1],[2,0,2,1],[0,15,0,16],[0,17,0,18],[3,0,3,1],[0,0,0,1],[0,9,0,10],[0,11,0,12],[0,13,0,14]]}
["Solid (In Screed)",null,"Pipe size","Flow temp","Room Temp","Pipe spacing","Floor Covering","Output (W/m2)","Surface Temp (°C)","0.00/16mm",null,"0.05/16mm",null,"0.1/16mm",null,"0.15/16mm",null,"0/20mm",null,"0.05/20mm",null,"0.1/20mm",null,"0.15/20mm"]
[{"$f":"'UFH Guide'!A2","v":"Living "},null,{"$f":"'UFH Guide'!H2","v":0},{"$f":"'UFH Guide'!E2","v":0},{"$f":"'UFH Guide'!B2","v":0},{"$f":"'UFH Guide'!I2","v":0},{"$f":"'UFH Guide'!J2","v":0},{"$f":"IF(AND($G2=0,$C2=16),J2,IF(AND($G2=0,$C2=20),R2,IF(AND($G2=0.05,$C2=16),L2,IF(AND($G2=0.05,$C2=20),T2,IF(AND($G2=0.1,$C2=16),N2,IF(AND($G2=0.1,$C2=20),V2,IF(AND($G2=0.15,$C2=16),P2,IF(AND($G2=0.15,$C2=20),X2,0))))))))","v":0},{"$f":"IF(AND($G2=0,$C2=16),K2,IF(AND($G2=0,$C2=20),S2,IF(AND($G2=0.05,$C2=16),M2,IF(AND($G2=0.05,$C2=20),U2,IF(AND($G2=0.1,$C2=16),O2,IF(AND($G2=0.1,$C2=20),W2,IF(AND($G2=0.15,$C2=16),Q2,IF(AND($G2=0.15,$C2=20),Y2,0))))))))","v":0},{"$f":"INDEX(A$37:L$61,MATCH(1,(A$37:A$61=D2)*(B$37:B$61=E2),0),IF(F2=100,3,IF(F2=150,5,IF(F2=200,7,IF(F2=250,9,IF(F2=300,11,0))))))","v":{"$error":"#N/A"}},{"$f":"INDEX(A$37:L$61,MATCH(1,(A$37:A$61=D2)*(B$37:B$61=E2),0),IF(F2=100,4,IF(F2=150,6,IF(F2=200,8,IF(F2=250,10,IF(F2=300,12,0))))))","v":{"$error":"#N/A"}},{"$f":"INDEX(A$64:L$88,MATCH(1,(A$64:A$88=D2)*(B$64:B$88=E2),0),IF(F2=100,3,IF(F2=150,5,IF(F2=200,7,IF(F2=250,9,IF(F2=300,11,0))))))","v":{"$error":"#N/A"}},{"$f":"INDEX(A$64:L$88,MATCH(1,(A$64:A$88=D2)*(B$64:B$88=E2),0),IF(F2=100,4,IF(F2=150,6,IF(F2=200,8,IF(F2=250,10,IF(F2=300,12,0))))))","v":{"$error":"#N/A"}},{"$f":"INDEX(A$91:L$115,MATCH(1,(A$91:A$115=D2)*(B$91:B$115=E2),0),IF(F2=100,3,IF(F2=150,5,IF(F2=200,7,IF(F2=250,9,IF(F2=300,11,0))))))","v":{"$error":"#N/A"}},{"$f":"INDEX(A$91:L$115,MATCH(1,(A$91:A$115=D2)*(B$91:B$115=E2),0),IF(F2=100,4,IF(F2=150,6,IF(F2=200,8,IF(F2=250,10,IF(F2=300,12,0))))))","v":{"$error":"#N/A"}},{"$f":"INDEX(A$118:L$142,MATCH(1,(A$118:A$142=D2)*(B$118:B$142=E2),0),IF(F2=100,3,IF(F2=150,5,IF(F2=200,7,IF(F2=250,9,IF(F2=300,11,0))))))","v":{"$error":"#N/A"}},{"$f":"INDEX(A$118:L$142,MATCH(1,(A$118:A$142=D2)*(B$118:B$142=E2),0),IF(F2=100,4,IF(F2=150,6,IF(F2=200,8,IF(F2=250,10,IF(F2=300,12,0))))))","v":{"$error":"#N/A"}},{"$f":"INDEX(N$37:Y$61,MATCH(1,(N$37:N$61=D2)*(O$37:O$61=E2),0),IF(F2=100,3,IF(F2=150,5,IF(F2=200,7,IF(F2=250,9,IF(F2=300,11,0))))))","v":{"$error":"#N/A"}},{"$f":"INDEX(N$37:Y$61,MATCH(1,(N$37:N$61=D2)*(O$37:O$61=E2),0),IF(F2=100,4,IF(F2=150,6,IF(F2=200,8,IF(F2=250,10,IF(F2=300,12,0))))))","v":{"$error":"#N/A"}},{"$f":"INDEX(N$64:Y$88,MATCH(1,(N$64:N$88=D2)*(O$64:O$88=E2),0),IF(F2=100,3,IF(F2=150,5,IF(F2=200,7,IF(F2=250,9,IF(F2=300,11,0))))))","v":{"$error":"#N/A"}},{"$f":"INDEX(N$64:Y$88,MATCH(1,(N$64:N$88=D2)*(O$64:O$88=E2),0),IF(F2=100,4,IF(F2=150,6,IF(F2=200,8,IF(F2=250,10,IF(F2=300,12,0))))))","v":{"$error":"#N/A"}},{"$f":"INDEX(N$91:Y$115,MATCH(1,(N$91:N$115=D2)*(O$91:O$115=E2),0),IF(F2=100,3,IF(F2=150,5,IF(F2=200,7,IF(F2=250,9,IF(F2=300,11,0))))))","v":{"$error":"#N/A"}},{"$f":"INDEX(N$91:Y$115,MATCH(1,(N$91:N$115=D2)*(O$91:O$115=E2),0),IF(F2=100,4,IF(F2=150,6,IF(F2=200,8,IF(F2=250,10,IF(F2=300,12,0))))))","v":{"$error":"#N/A"}},{"$f":"INDEX(N$118:Y$142,MATCH(1,(N$118:N$142=D2)*(O$118:O$142=E2),0),IF(F2=100,3,IF(F2=150,5,IF(F2=200,7,IF(F2=250,9,IF(F2=300,11,0))))))","v":{"$error":"#N/A"}},{"$f":"INDEX(N$118:Y$142,MATCH(1,(N$118:N$142=D2)*(O$118:O$142=E2),0),IF(F2=100,4,IF(F2=150,6,IF(F2=200,8,IF(F2=250,10,IF(F2=300,12,0))))))","v":{"$error":"#N/A"}}]
[{"$f":"'UFH Guide'!A3","v":"Studio "},null,{"$f":"'UFH Guide'!H3","v":0},{"$f":"'UFH Guide'!E3","v":0},{"$f":"'UFH Guide'!B3","v":0},{"$f":"'UFH Guide'!I3","v":0},{"$f":"'UFH Guide'!J3","v":0},{"$f":"IF(AND($G3=0,$C3=16),J3,IF(AND($G3=0,$C3=20),R3,IF(AND($G3=0.05,$C3=16),L3,IF(AND($G3=0.05,$C3=20),T3,IF(AND($G3=0.1,$C3=16),N3,IF(AND($G3=0.1,$C3=20),V3,IF(AND($G3=0.15,$C3=16),P3,IF(AND($G3=0.15,$C3=20),X3,0))))))))","v":0},0,{"$f":"INDEX(A$37:L$61,MATCH(1,(A$37:A$61=D3)*(B$37:B$61=E3),0),IF(F3=100,3,IF(F3=150,5,IF(F3=200,7,IF(F3=250,9,IF(F3=300,11,0))))))","v":{"$error":"#N/A"}},{"$f":"INDEX(A$37:L$61,MATCH(1,(A$37:A$61=D3)*(B$37:B$61=E3),0),IF(F3=100,4,IF(F3=150,6,IF(F3=200,8,IF(F3=250,10,IF(F3=300,12,0))))))","v":{"$error":"#N/A"}},{"$f":"INDEX(A$64:L$88,MATCH(1,(A$64:A$88=D3)*(B$64:B$88=E3),0),IF(F3=100,3,IF(F3=150,5,IF(F3=200,7,IF(F3=250,9,IF(F3=300,11,0))))))","v":{"$error":"#N/A"}},{"$f":"INDEX(A$64:L$88,MATCH(1,(A$64:A$88=D3)*(B$64:B$88=E3),0),IF(F3=100,4,IF(F3=150,6,IF(F3=200,8,IF(F3=250,10,IF(F3=300,12,0))))))","v":{"$error":"#N/A"}},{"$f":"INDEX(A$91:L$115,MATCH(1,(A$91:A$115=D3)*(B$91:B$115=E3),0),IF(F3=100,3,IF(F3=150,5,IF(F3=200,7,IF(F3=250,9,IF(F3=300,11,0))))))","v":{"$error":"#N/A"}},{"$f":"INDEX(A$91:L$115,MATCH(1,(A$91:A$115=D3)*(B$91:B$115=E3),0),IF(F3=100,4,IF(F3=150,6,IF(F3=200,8,IF(F3=250,10,IF(F3=300,12,0))))))","v":{"$error":"#N/A"}},{"$f":"INDEX(A$118:L$142,MATCH(1,(A$118:A$142=D3)*(B$118:B$142=E3),0),IF(F3=100,3,IF(F3=150,5,IF(F3=200,7,IF(F3=250,9,IF(F3=300,11,0))))))","v":{"$error":"#N/A"}},{"$f":"INDEX(A$118:L$142,MATCH(1,(A$118:A$142=D3)*(B$118:B$142=E3),0),IF(F3=100,4,IF(F3=150,6,IF(F3=200,8,IF(F3=250,10,IF(F3=300,12,0))))))","v":{"$error":"#N/A"}},{"$f":"INDEX(N$37:Y$61,MATCH(1,(N$37:N$61=D3)*(O$37:O$61=E3),0),IF(F3=100,3,IF(F3=150,5,IF(F3=200,7,IF(F3=250,9,IF(F3=300,11,0))))))","v":{"$error":"#N/A"}},{"$f":"INDEX(N$37:Y$61,MATCH(1,(N$37:N$61=D3)*(O$37:O$61=E3),0),IF(F3=100,4,IF(F3=150,6,IF(F3=200,8,IF(F3=250,10,IF(F3=300,12,0))))))","v":{"$error":"#N/A"}},{"$f":"INDEX(N$64:Y$88,MATCH(1,(N$64:N$88=D3)*(O$64:O$88=E3),0),IF(F3=100,3,IF(F3=150,5,IF(F3=200,7,IF(F3=250,9,IF(F3=300,11,0))))))","v":{"$error":"#N/A"}},{"$f":"INDEX(N$64:Y$88,MATCH(1,(N$64:N$88=D3)*(O$64:O$88=E3),0),IF(F3=100,4,IF(F3=150,6,IF(F3=200,8,IF(F3=250,10,IF(F3=300,12,0))))))","v":{"$error":"#N/A"}},{"$f":"INDEX(N$91:Y$115,MATCH(1,(N$91:N$115=D3)*(O$91:O$115=E3),0),IF(F3=100,3,IF(F3=150,5,IF(F3=200,7,IF(F3=250,9,IF(F3=300,11,0))))))","v":{"$error":"#N/A"}},{"$f":"INDEX(N$91:Y$115,MATCH(1,(N$91:N$115=D3)*(O$91:O$115=E3),0),IF(F3=100,4,IF(F3=150,6,IF(F3=200,8,IF(F3=250,10,IF(F3=300,12,0))))))","v":{"$error":"#N/A"}},{"$f":"INDEX(N$118:Y$142,MATCH(1,(N$118:N$142=D3)*(O$118:O$142=E3),0),IF(F3=100,3,IF(F3=150,5,IF(F3=200,7,IF(F3=250,9,IF(F3=300,11,0))))))","v":{"$error":"#N/A"}},{"$f":"INDEX(N$118:Y$142,MATCH(1,(N$118:N$142=D3)*(O$118:O$142=E3),0),IF(F3=100,4,IF(F3=150,6,IF(F3=200,8,IF(F3=250,10,IF(F3=300,12,0))))))","v":{"$error":"#N/A"}}]
[{"$f":"'UFH Guide'!A4","v":"Sun room "},null,{"$f":"'UFH Guide'!H4","v":0},{"$f":"'UFH Guide'!E4","v":0},{"$f":"'UFH Guide'!B4","v":0},{"$f":"'UFH Guide'!I4","v":0},{"$f":"'UFH Guide'!J4","v":0},0,0,{"$f":"INDEX(A$37:L$61,MATCH(1,(A$37:A$61=D4)*(B$37:B$61=E4),0),IF(F4=100,3,IF(F4=150,5,IF(F4=200,7,IF(F4=250,9,IF(F4=300,11,0))))))","v":{"$error":"#N/A"}},{"$f":"INDEX(A$37:L$61,MATCH(1,(A$37:A$61=D4)*(B$37:B$61=E4),0),IF(F4=100,4,IF(F4=150,6,IF(F4=200,8,IF(F4=250,10,IF(F4=300,12,0))))))","v":{"$error":"#N/A"}},{"$f":"INDEX(A$64:L$88,MATCH(1,(A$64:A$88=D4)*(B$64:B$88=E4),0),IF(F4=100,3,IF(F4=150,5,IF(F4=200,7,IF(F4=250,9,IF(F4=300,11,0))))))","v":{"$error":"#N/A"}},{"$f":"INDEX(A$64:L$88,MATCH(1,(A$64:A$88=D4)*(B$64:B$88=E4),0),IF(F4=100,4,IF(F4=150,6,IF(F4=200,8,IF(F4=250,10,IF(F4=300,12,0))))))","v":{"$error":"#N/A"}},{"$f":"INDEX(A$91:L$115,MATCH(1,(A$91:A$115=D4)*(B$91:B$115=E4),0),IF(F4=100,3,IF(F4=150,5,IF(F4=200,7,IF(F4=250,9,IF(F4=300,11,0))))))","v":{"$error":"#N/A"}},{"$f":"INDEX(A$91:L$115,MATCH(1,(A$91:A$115=D4)*(B$91:B$115=E4),0),IF(F4=100,4,IF(F4=150,6,IF(F4=200,8,IF(F4=250,10,IF(F4=300,12,0))))))","v":{"$error":"#N/A"}},{"$f":"INDEX(A$118:L$142,MATCH(1,(A$118:A$142=D4)*(B$118:B$142=E4),0),IF(F4=100,3,IF(F4=150,5,IF(F4=200,7,IF(F4=250,9,IF(F4=300,11,0))))))","v":{"$error":"#N/A"}},{"$f":"INDEX(A$118:L$142,MATCH(1,(A$118:A$142=D4)*(B$118:B$142=E4),0),IF(F4=100,4,IF(F4=150,6,IF(F4=200,8,IF(F4=250,10,IF(F4=300,12,0))))))","v":{"$error":"#N/A"}},{"$f":"INDEX(N$37:Y$61,MATCH(1,(N$37:N$61=D4)*(O$37:O$61=E4),0),IF(F4=100,3,IF(F4=150,5,IF(F4=200,7,IF(F4=250,9,IF(F4=300,11,0))))))","v":{"$error":"#N/A"}},{"$f":"INDEX(N$37:Y$61,MATCH(1,(N$37:N$61=D4)*(O$37:O$61=E4),0),IF(F4=100,4,IF(F4=150,6,IF(F4=200,8,IF(F4=250,10,IF(F4=300,12,0))))))","v":{"$error":"#N/A"}},{"$f":"INDEX(N$64:Y$88,MATCH(1,(N$64:N$88=D4)*(O$64:O$88=E4),0),IF(F4=100,3,IF(F4=150,5,IF(F4=200,7,IF(F4=250,9,IF(F4=300,11,0))))))","v":{"$error":"#N/A"}},{"$f":"INDEX(N$64:Y$88,MATCH(1,(N$64:N$88=D4)*(O$64:O$88=E4),0),IF(F4=100,4,IF(F4=150,6,IF(F4=200,8,IF(F4=250,10,IF(F4=300,12,0))))))","v":{"$error":"#N/A"}},{"$f":"INDEX(N$91:Y$115,MATCH(1,(N$91:N$115=D4)*(O$91:O$115=E4),0),IF(F4=100,3,IF(F4=150,5,IF(F4=200,7,IF(F4=250,9,IF(F4=300,11,0))))))","v":{"$error":"#N/A"}},{"$f":"INDEX(N$91:Y$115,MATCH(1,(N$91:N$115=D4)*(O$91:O$115=E4),0),IF(F4=100,4,IF(F4=150,6,IF(F4=200,8,IF(F4=250,10,IF(F4=300,12,0))))))","v":{"$error":"#N/A"}},{"$f":"INDEX(N$118:Y$142,MATCH(1,(N$118:N$142=D4)*(O$118:O$142=E4),0),IF(F4=100,3,IF(F4=150,5,IF(F4=200,7,IF(F4=250,9,IF(F4=300,11,0))))))","v":{"$error":"#N/A"}},{"$f":"INDEX(N$118:Y$142,MATCH(1,(N$118:N$142=D4)*(O$118:O$142=E4),0),IF(F4=100,4,IF(F4=150,6,IF(F4=200,8,IF(F4=250,10,IF(F4=300,12,0))))))","v":{"$error":"#N/A"}}]
[{"$f":"'UFH Guide'!A5","v":"Music room "},null,{"$f":"'UFH Guide'!H5","v":0},{"$f":"'UFH Guide'!E5","v":0},{"$f":"'UFH Guide'!B5","v":0},{"$f":"'UFH Guide'!I5","v":0},{"$f":"'UFH Guide'!J5","v":0},0,0,{"$f":"INDEX(A$37:L$61,MATCH(1,(A$37:A$61=D5)*(B$37:B$61=E5),0),IF(F5=100,3,IF(F5=150,5,IF(F5=200,7,IF(F5=250,9,IF(F5=300,11,0))))))","v":{"$error":"#N/A"}},{"$f":"INDEX(A$37:L$61,MATCH(1,(A$37:A$61=D5)*(B$37:B$61=E5),0),IF(F5=100,4,IF(F5=150,6,IF(F5=200,8,IF(F5=250,10,IF(F5=300,12,0))))))","v":{"$error":"#N/A"}},{"$f":"INDEX(A$64:L$88,MATCH(1,(A$64:A$88=D5)*(B$64:B$88=E5),0),IF(F5=100,3,IF(F5=150,5,IF(F5=200,7,IF(F5=250,9,IF(F5=300,11,0))))))","v":{"$error":"#N/A"}},{"$f":"INDEX(A$64:L$88,MATCH(1,(A$64:A$88=D5)*(B$64:B$88=E5),0),IF(F5=100,4,IF(F5=150,6,IF(F5=200,8,IF(F5=250,10,IF(F5=300,12,0))))))","v":{"$error":"#N/A"}},{"$f":"INDEX(A$91:L$115,MATCH(1,(A$91:A$115=D5)*(B$91:B$115=E5),0),IF(F5=100,3,IF(F5=150,5,IF(F5=200,7,IF(F5=250,9,IF(F5=300,11,0))))))","v":{"$error":"#N/A"}},{"$f":"INDEX(A$91:L$115,MATCH(1,(A$91:A$115=D5)*(B$91:B$115=E5),0),IF(F5=100,4,IF(F5=150,6,IF(F5=200,8,IF(F5=250,10,IF(F5=300,12,0))))))","v":{"$error":"#N/A"}},{"$f":"INDEX(A$118:L$142,MATCH(1,(A$118:A$142=D5)*(B$118:B$142=E5),0),IF(F5=100,3,IF(F5=150,5,IF(F5=200,7,IF(F5=250,9,IF(F5=300,11,0))))))","v":{"$error":"#N/A"}},{"$f":"INDEX(A$118:L$142,MATCH(1,(A$118:A$142=D5)*(B$118:B$142=E5),0),IF(F5=100,4,IF(F5=150,6,IF(F5=200,8,IF(F5=250,10,IF(F5=300,12,0))))))","v":{"$error":"#N/A"}},{"$f":"INDEX(N$37:Y$61,MATCH(1,(N$37:N$61=D5)*(O$37:O$61=E5),0),IF(F5=100,3,IF(F5=150,5,IF(F5=200,7,IF(F5=250,9,IF(F5=300,11,0))))))","v":{"$error":"#N/A"}},{"$f":"INDEX(N$37:Y$61,MATCH(1,(N$37:N$61=D5)*(O$37:O$61=E5),0),IF(F5=100,4,IF(F5=150,6,IF(F5=200,8,IF(F5=250,10,IF(F5=300,12,0))))))","v":{"$error":"#N/A"}},{"$f":"INDEX(N$64:Y$88,MATCH(1,(N$64:N$88=D5)*(O$64:O$88=E5),0),IF(F5=100,3,IF(F5=150,5,IF(F5=200,7,IF(F5=250,9,IF(F5=300,11,0))))))","v":{"$error":"#N/A"}},{"$f":"INDEX(N$64:Y$88,MATCH(1,(N$64:N$88=D5)*(O$64:O$88=E5),0),IF(F5=100,4,IF(F5=150,6,IF(F5=200,8,IF(F5=250,10,IF(F5=300,12,0))))))","v":{"$error":"#N/A"}},{"$f":"INDEX(N$91:Y$115,MATCH(1,(N$91:N$115=D5)*(O$91:O$115=E5),0),IF(F5=100,3,IF(F5=150,5,IF(F5=200,7,IF(F5=250,9,IF(F5=300,11,0))))))","v":{"$error":"#N/A"}},{"$f":"INDEX(N$91:Y$115,MATCH(1,(N$91:N$115=D5)*(O$91:O$115=E5),0),IF(F5=100,4,IF(F5=150,6,IF(F5=200,8,IF(F5=250,10,IF(F5=300,12,0))))))","v":{"$error":"#N/A"}},{"$f":"INDEX(N$118:Y$142,MATCH(1,(N$118:N$142=D5)*(O$118:O$142=E5),0),IF(F5=100,3,IF(F5=150,5,IF(F5=200,7,IF(F5=250,9,IF(F5=300,11,0))))))","v":{"$error":"#N/A"}},{"$f":"INDEX(N$118:Y$142,MATCH(1,(N$118:N$142=D5)*(O$118:O$142=E5),0),IF(F5=100,4,IF(F5=150,6,IF(F5=200,8,IF(F5=250,10,IF(F5=300,12,0))))))","v":{"$error":"#N/A"}}]
[{"$f":"'UFH Guide'!A6","v":"Hall "},null,{"$f":"'UFH Guide'!H6","v":0},{"$f":"'UFH Guide'!E6","v":0},{"$f":"'UFH Guide'!B6","v":0},{"$f":"'UFH Guide'!I6","v":0},{"$f":"'UFH Guide'!J6","v":0},0,0,{"$f":"INDEX(A$37:L$61,MATCH(1,(A$37:A$61=D6)*(B$37:B$61=E6),0),IF(F6=100,3,IF(F6=150,5,IF(F6=200,7,IF(F6=250,9,IF(F6=300,11,0))))))","v":{"$error":"#N/A"}},{"$f":"INDEX(A$37:L$61,MATCH(1,(A$37:A$61=D6)*(B$37:B$61=E6),0),IF(F6=100,4,IF(F6=150,6,IF(F6=200,8,IF(F6=250,10,IF(F6=300,12,0))))))","v":{"$error":"#N/A"}},{"$f":"INDEX(A$64:L$88,MATCH(1,(A$64:A$88=D6)*(B$64:B$88=E6),0),IF(F6=100,3,IF(F6=150,5,IF(F6=200,7,IF(F6=250,9,IF(F6=300,11,0))))))","v":{"$error":"#N/A"}},{"$f":"INDEX(A$64:L$88,MATCH(1,(A$64:A$88=D6)*(B$64:B$88=E6),0),IF(F6=100,4,IF(F6=150,6,IF(F6=200,8,IF(F6=250,10,IF(F6=300,12,0))))))","v":{"$error":"#N/A"}},{"$f":"INDEX(A$91:L$115,MATCH(1,(A$91:A$115=D6)*(B$91:B$115=E6),0),IF(F6=100,3,IF(F6=150,5,IF(F6=200,7,IF(F6=250,9,IF(F6=300,11,0))))))","v":{"$error":"#N/A"}},{"$f":"INDEX(A$91:L$115,MATCH(1,(A$91:A$115=D6)*(B$91:B$115=E6),0),IF(F6=100,4,IF(F6=150,6,IF(F6=200,8,IF(F6=250,10,IF(F6=300,12,0))))))","v":{"$error":"#N/A"}},{"$f":"INDEX(A$118:L$142,MATCH(1,(A$118:A$142=D6)*(B$118:B$142=E6),0),IF(F6=100,3,IF(F6=150,5,IF(F6=200,7,IF(F6=250,9,IF(F6=300,11,0))))))","v":{"$error":"#N/A"}},{"$f":"INDEX(A$118:L$142,MATCH(1,(A$118:A$142=D6)*(B$118:B$142=E6),0),IF(F6=100,4,IF(F6=150,6,IF(F6=200,8,IF(F6=250,10,IF(F6=300,12,0))))))","v":{"$error":"#N/A"}},{"$f":"INDEX(N$37:Y$61,MATCH(1,(N$37:N$61=D6)*(O$37:O$61=E6),0),IF(F6=100,3,IF(F6=150,5,IF(F6=200,7,IF(F6=250,9,IF(F6=300,11,0))))))","v":{"$error":"#N/A"}},{"$f":"INDEX(N$37:Y$61,MATCH(1,(N$37:N$61=D6)*(O$37:O$61=E6),0),IF(F6=100,4,IF(F6=150,6,IF(F6=200,8,IF(F6=250,10,IF(F6=300,12,0))))))","v":{"$error":"#N/A"}},{"$f":"INDEX(N$64:Y$88,MATCH(1,(N$64:N$88=D6)*(O$64:O$88=E6),0),IF(F6=100,3,IF(F6=150,5,IF(F6=200,7,IF(F6=250,9,IF(F6=300,11,0))))))","v":{"$error":"#N/A"}},{"$f":"INDEX(N$64:Y$88,MATCH(1,(N$64:N$88=D6)*(O$64:O$88=E6),0),IF(F6=100,4,IF(F6=150,6,IF(F6=200,8,IF(F6=250,10,IF(F6=300,12,0))))))","v":{"$error":"#N/A"}},{"$f":"INDEX(N$91:Y$115,MATCH(1,(N$91:N$115=D6)*(O$91:O$115=E6),0),IF(F6=100,3,IF(F6=150,5,IF(F6=200,7,IF(F6=250,9,IF(F6=300,11,0))))))","v":{"$error":"#N/A"}},{"$f":"INDEX(N$91:Y$115,MATCH(1,(N$91:N$115=D6)*(O$91:O$115=E6),0),IF(F6=100,4,IF(F6=150,6,IF(F6=200,8,IF(F6=250,10,IF(F6=300,12,0))))))","v":{"$error":"#N/A"}},{"$f":"INDEX(N$118:Y$142,MATCH(1,(N$118:N$142=D6)*(O$118:O$142=E6),0),IF(F6=100,3,IF(F6=150,5,IF(F6=200,7,IF(F6=250,9,IF(F6=300,11,0))))))","v":{"$error":"#N/A"}},{"$f":"INDEX(N$118:Y$142,MATCH(1,(N$118:N$142=D6)*(O$118:O$142=E6),0),IF(F6=100,4,IF(F6=150,6,IF(F6=200,8,IF(F6=250,10,IF(F6=300,12,0))))))","v":{"$error":"#N/A"}}]
[{"$f":"'UFH Guide'!A7","v":"Utility "},null,{"$f":"'UFH Guide'!H7","v":0},{"$f":"'UFH Guide'!E7","v":0},{"$f":"'UFH Guide'!B7","v":0},{"$f":"'UFH Guide'!I7","v":0},{"$f":"'UFH Guide'!J7","v":0},0,0,{"$f":"INDEX(A$37:L$61,MATCH(1,(A$37:A$61=D7)*(B$37:B$61=E7),0),IF(F7=100,3,IF(F7=150,5,IF(F7=200,7,IF(F7=250,9,IF(F7=300,11,0))))))","v":{"$error":"#N/A"}},{"$f":"INDEX(A$37:L$61,MATCH(1,(A$37:A$61=D7)*(B$37:B$61=E7),0),IF(F7=100,4,IF(F7=150,6,IF(F7=200,8,IF(F7=250,10,IF(F7=300,12,0))))))","v":{"$error":"#N/A"}},{"$f":"INDEX(A$64:L$88,MATCH(1,(A$64:A$88=D7)*(B$64:B$88=E7),0),IF(F7=100,3,IF(F7=150,5,IF(F7=200,7,IF(F7=250,9,IF(F7=300,11,0))))))","v":{"$error":"#N/A"}},{"$f":"INDEX(A$64:L$88,MATCH(1,(A$64:A$88=D7)*(B$64:B$88=E7),0),IF(F7=100,4,IF(F7=150,6,IF(F7=200,8,IF(F7=250,10,IF(F7=300,12,0))))))","v":{"$error":"#N/A"}},{"$f":"INDEX(A$91:L$115,MATCH(1,(A$91:A$115=D7)*(B$91:B$115=E7),0),IF(F7=100,3,IF(F7=150,5,IF(F7=200,7,IF(F7=250,9,IF(F7=300,11,0))))))","v":{"$error":"#N/A"}},{"$f":"INDEX(A$91:L$115,MATCH(1,(A$91:A$115=D7)*(B$91:B$115=E7),0),IF(F7=100,4,IF(F7=150,6,IF(F7=200,8,IF(F7=250,10,IF(F7=300,12,0))))))","v":{"$error":"#N/A"}},{"$f":"INDEX(A$118:L$142,MATCH(1,(A$118:A$142=D7)*(B$118:B$142=E7),0),IF(F7=100,3,IF(F7=150,5,IF(F7=200,7,IF(F7=250,9,IF(F7=300,11,0))))))","v":{"$error":"#N/A"}},{"$f":"INDEX(A$118:L$142,MATCH(1,(A$118:A$142=D7)*(B$118:B$142=E7),0),IF(F7=100,4,IF(F7=150,6,IF(F7=200,8,IF(F7=250,10,IF(F7=300,12,0))))))","v":{"$error":"#N/A"}},{"$f":"INDEX(N$37:Y$61,MATCH(1,(N$37:N$61=D7)*(O$37:O$61=E7),0),IF(F7=100,3,IF(F7=150,5,IF(F7=200,7,IF(F7=250,9,IF(F7=300,11,0))))))","v":{"$error":"#N/A"}},{"$f":"INDEX(N$37:Y$61,MATCH(1,(N$37:N$61=D7)*(O$37:O$61=E7),0),IF(F7=100,4,IF(F7=150,6,IF(F7=200,8,IF(F7=250,10,IF(F7=300,12,0))))))","v":{"$error":"#N/A"}},{"$f":"INDEX(N$64:Y$88,MATCH(1,(N$64:N$88=D7)*(O$64:O$88=E7),0),IF(F7=100,3,IF(F7=150,5,IF(F7=200,7,IF(F7=250,9,IF(F7=300,11,0))))))","v":{"$error":"#N/A"}},{"$f":"INDEX(N$64:Y$88,MATCH(1,(N$64:N$88=D7)*(O$64:O$88=E7),0),IF(F7=100,4,IF(F7=150,6,IF(F7=200,8,IF(F7=250,10,IF(F7=300,12,0))))))","v":{"$error":"#N/A"}},{"$f":"INDEX(N$91:Y$115,MATCH(1,(N$91:N$115=D7)*(O$91:O$115=E7),0),IF(F7=100,3,IF(F7=150,5,IF(F7=200,7,IF(F7=250,9,IF(F7=300,11,0))))))","v":{"$error":"#N/A"}},{"$f":"INDEX(N$91:Y$115,MATCH(1,(N$91:N$115=D7)*(O$91:O$115=E7),0),IF(F7=100,4,IF(F7=150,6,IF(F7=200,8,IF(F7=250,10,IF(F7=300,12,0))))))","v":{"$error":"#N/A"}},{"$f":"INDEX(N$118:Y$142,MATCH(1,(N$118:N$142=D7)*(O$118:O$142=E7),0),IF(F7=100,3,IF(F7=150,5,IF(F7=200,7,IF(F7=250,9,IF(F7=300,11,0))))))","v":{"$error":"#N/A"}},{"$f":"INDEX(N$118:Y$142,MATCH(1,(N$118:N$142=D7)*(O$118:O$142=E7),0),IF(F7=100,4,IF(F7=150,6,IF(F7=200,8,IF(F7=250,10,IF(F7=300,12,0))))))","v":{"$error":"#N/A"}}]
[{"$f":"'UFH Guide'!A8","v":"WC "},null,{"$f":"'UFH Guide'!H8","v":0},{"$f":"'UFH Guide'!E8","v":0},{"$f":"'UFH Guide'!B8","v":0},{"$f":"'UFH Guide'!I8","v":0},{"$f":"'UFH Guide'!J8","v":0},0,0,{"$f":"INDEX(A$37:L$61,MATCH(1,(A$37:A$61=D8)*(B$37:B$61=E8),0),IF(F8=100,3,IF(F8=150,5,IF(F8=200,7,IF(F8=250,9,IF(F8=300,11,0))))))","v":{"$error":"#N/A"}},{"$f":"INDEX(A$37:L$61,MATCH(1,(A$37:A$61=D8)*(B$37:B$61=E8),0),IF(F8=100,4,IF(F8=150,6,IF(F8=200,8,IF(F8=250,10,IF(F8=300,12,0))))))","v":{"$error":"#N/A"}},{"$f":"INDEX(A$64:L$88,MATCH(1,(A$64:A$88=D8)*(B$64:B$88=E8),0),IF(F8=100,3,IF(F8=150,5,IF(F8=200,7,IF(F8=250,9,IF(F8=300,11,0))))))","v":{"$error":"#N/A"}},{"$f":"INDEX(A$64:L$88,MATCH(1,(A$64:A$88=D8)*(B$64:B$88=E8),0),IF(F8=100,4,IF(F8=150,6,IF(F8=200,8,IF(F8=250,10,IF(F8=300,12,0))))))","v":{"$error":"#N/A"}},{"$f":"INDEX(A$91:L$115,MATCH(1,(A$91:A$115=D8)*(B$91:B$115=E8),0),IF(F8=100,3,IF(F8=150,5,IF(F8=200,7,IF(F8=250,9,IF(F8=300,11,0))))))","v":{"$error":"#N/A"}},{"$f":"INDEX(A$91:L$115,MATCH(1,(A$91:A$115=D8)*(B$91:B$115=E8),0),IF(F8=100,4,IF(F8=150,6,IF(F8=200,8,IF(F8=250,10,IF(F8=300,12,0))))))","v":{"$error":"#N/A"}},{"$f":"INDEX(A$118:L$142,MATCH(1,(A$118:A$142=D8)*(B$118:B$142=E8),0),IF(F8=100,3,IF(F8=150,5,IF(F8=200,7,IF(F8=250,9,IF(F8=300,11,0))))))","v":{"$error":"#N/A"}},{"$f":"INDEX(A$118:L$142,MATCH(1,(A$118:A$142=D8)*(B$118:B$142=E8),0),IF(F8=100,4,IF(F8=150,6,IF(F8=200,8,IF(F8=250,10,IF(F8=300,12,0))))))","v":{"$error":"#N/A"}},{"$f":"INDEX(N$37:Y$61,MATCH(1,(N$37:N$61=D8)*(O$37:O$61=E8),0),IF(F8=100,3,IF(F8=150,5,IF(F8=200,7,IF(F8=250,9,IF(F8=300,11,0))))))","v":{"$error":"#N/A"}},{"$f":"INDEX(N$37:Y$61,MATCH(1,(N$37:N$61=D8)*(O$37:O$61=E8),0),IF(F8=100,4,IF(F8=150,6,IF(F8=200,8,IF(F8=250,10,IF(F8=300,12,0))))))","v":{"$error":"#N/A"}},{"$f":"INDEX(N$64:Y$88,MATCH(1,(N$64:N$88=D8)*(O$64:O$88=E8),0),IF(F8=100,3,IF(F8=150,5,IF(F8=200,7,IF(F8=250,9,IF(F8=300,11,0))))))","v":{"$error":"#N/A"}},{"$f":"INDEX(N$64:Y$88,MATCH(1,(N$64:N$88=D8)*(O$64:O$88=E8),0),IF(F8=100,4,IF(F8=150,6,IF(F8=200,8,IF(F8=250,10,IF(F8=300,12,0))))))","v":{"$error":"#N/A"}},{"$f":"INDEX(N$91:Y$115,MATCH(1,(N$91:N$115=D8)*(O$91:O$115=E8),0),IF(F8=100,3,IF(F8=150,5,IF(F8=200,7,IF(F8=250,9,IF(F8=300,11,0))))))","v":{"$error":"#N/A"}},{"$f":"INDEX(N$91:Y$115,MATCH(1,(N$91:N$115=D8)*(O$91:O$115=E8),0),IF(F8=100,4,IF(F8=150,6,IF(F8=200,8,IF(F8=250,10,IF(F8=300,12,0))))))","v":{"$error":"#N/A"}},{"$f":"INDEX(N$118:Y$142,MATCH(1,(N$118:N$142=D8)*(O$118:O$142=E8),0),IF(F8=100,3,IF(F8=150,5,IF(F8=200,7,IF(F8=250,9,IF(F8=300,11,0))))))","v":{"$error":"#N/A"}},{"$f":"INDEX(N$118:Y$142,MATCH(1,(N$118:N$142=D8)*(O$118:O$142=E8),0),IF(F8=100,4,IF(F8=150,6,IF(F8=200,8,IF(F8=250,10,IF(F8=300,12,0))))))","v":{"$error":"#N/A"}}]
[{"$f":"'UFH Guide'!A9","v":"Kitchen "},null,{"$f":"'UFH Guide'!H9","v":0},{"$f":"'UFH Guide'!E9","v":0},{"$f":"'UFH Guide'!B9","v":0},{"$f":"'UFH Guide'!I9","v":0},{"$f":"'UFH Guide'!J9","v":0},0,0,{"$f":"INDEX(A$37:L$61,MATCH(1,(A$37:A$61=D9)*(B$37:B$61=E9),0),IF(F9=100,3,IF(F9=150,5,IF(F9=200,7,IF(F9=250,9,IF(F9=300,11,0))))))","v":{"$error":"#N/A"}},{"$f":"INDEX(A$37:L$61,MATCH(1,(A$37:A$61=D9)*(B$37:B$61=E9),0),IF(F9=100,4,IF(F9=150,6,IF(F9=200,8,IF(F9=250,10,IF(F9=300,12,0))))))","v":{"$error":"#N/A"}},{"$f":"INDEX(A$64:L$88,MATCH(1,(A$64:A$88=D9)*(B$64:B$88=E9),0),IF(F9=100,3,IF(F9=150,5,IF(F9=200,7,IF(F9=250,9,IF(F9=300,11,0))))))","v":{"$error":"#N/A"}},{"$f":"INDEX(A$64:L$88,MATCH(1,(A$64:A$88=D9)*(B$64:B$88=E9),0),IF(F9=100,4,IF(F9=150,6,IF(F9=200,8,IF(F9=250,10,IF(F9=300,12,0))))))","v":{"$error":"#N/A"}},{"$f":"INDEX(A$91:L$115,MATCH(1,(A$91:A$115=D9)*(B$91:B$115=E9),0),IF(F9=100,3,IF(F9=150,5,IF(F9=200,7,IF(F9=250,9,IF(F9=300,11,0))))))","v":{"$error":"#N/A"}},{"$f":"INDEX(A$91:L$115,MATCH(1,(A$91:A$115=D9)*(B$91:B$115=E9),0),IF(F9=100,4,IF(F9=150,6,IF(F9=200,8,IF(F9=250,10,IF(F9=300,12,0))))))","v":{"$error":"#N/A"}},{"$f":"INDEX(A$118:L$142,MATCH(1,(A$118:A$142=D9)*(B$118:B$142=E9),0),IF(F9=100,3,IF(F9=150,5,IF(F9=200,7,IF(F9=250,9,IF(F9=300,11,0))))))","v":{"$error":"#N/A"}},{"$f":"INDEX(A$118:L$142,MATCH(1,(A$118:A$142=D9)*(B$118:B$142=E9),0),IF(F9=100,4,IF(F9=150,6,IF(F9=200,8,IF(F9=250,10,IF(F9=300,12,0))))))","v":{"$error":"#N/A"}},{"$f":"INDEX(N$37:Y$61,MATCH(1,(N$37:N$61=D9)*(O$37:O$61=E9),0),IF(F9=100,3,IF(F9=150,5,IF(F9=200,7,IF(F9=250,9,IF(F9=300,11,0))))))","v":{"$error":"#N/A"}},{"$f":"INDEX(N$37:Y$61,MATCH(1,(N$37:N$61=D9)*(O$37:O$61=E9),0),IF(F9=100,4,IF(F9=150,6,IF(F9=200,8,IF(F9=250,10,IF(F9=300,12,0))))))","v":{"$error":"#N/A"}},{"$f":"INDEX(N$64:Y$88,MATCH(1,(N$64:N$88=D9)*(O$64:O$88=E9),0),IF(F9=100,3,IF(F9=150,5,IF(F9=200,7,IF(F9=250,9,IF(F9=300,11,0))))))","v":{"$error":"#N/A"}},{"$f":"INDEX(N$64:Y$88,MATCH(1,(N$64:N$88=D9)*(O$64:O$88=E9),0),IF(F9=100,4,IF(F9=150,6,IF(F9=200,8,IF(F9=250,10,IF(F9=300,12,0))))))","v":{"$error":"#N/A"}},{"$f":"INDEX(N$91:Y$115,MATCH(1,(N$91:N$115=D9)*(O$91:O$115=E9),0),IF(F9=100,3,IF(F9=150,5,IF(F9=200,7,IF(F9=250,9,IF(F9=300,11,0))))))","v":{"$error":"#N/A"}},{"$f":"INDEX(N$91:Y$115,MATCH(1,(N$91:N$115=D9)*(O$91:O$115=E9),0),IF(F9=100,4,IF(F9=150,6,IF(F9=200,8,IF(F9=250,10,IF(F9=300,12,0))))))","v":{"$error":"#N/A"}},{"$f":"INDEX(N$118:Y$142,MATCH(1,(N$118:N$142=D9)*(O$118:O$142=E9),0),IF(F9=100,3,IF(F9=150,5,IF(F9=200,7,IF(F9=250,9,IF(F9=300,11,0))))))","v":{"$error":"#N/A"}},{"$f":"INDEX(N$118:Y$142,MATCH(1,(N$118:N$142=D9)*(O$118:O$142=E9),0),IF(F9=100,4,IF(F9=150,6,IF(F9=200,8,IF(F9=250,10,IF(F9=300,12,0))))))","v":{"$error":"#N/A"}}]
[{"$f":"'UFH Guide'!A10","v":"Bedroom 1"},null,{"$f":"'UFH Guide'!H10","v":0},{"$f":"'UFH Guide'!E10","v":0},{"$f":"'UFH Guide'!B10","v":0},{"$f":"'UFH Guide'!I10","v":0},{"$f":"'UFH Guide'!J10","v":0},0,0,{"$f":"INDEX(A$37:L$61,MATCH(1,(A$37:A$61=D10)*(B$37:B$61=E10),0),IF(F10=100,3,IF(F10=150,5,IF(F10=200,7,IF(F10=250,9,IF(F10=300,11,0))))))","v":{"$error":"#N/A"}},{"$f":"INDEX(A$37:L$61,MATCH(1,(A$37:A$61=D10)*(B$37:B$61=E10),0),IF(F10=100,4,IF(F10=150,6,IF(F10=200,8,IF(F10=250,10,IF(F10=300,12,0))))))","v":{"$error":"#N/A"}},{"$f":"INDEX(A$64:L$88,MATCH(1,(A$64:A$88=D10)*(B$64:B$88=E10),0),IF(F10=100,3,IF(F10=150,5,IF(F10=200,7,IF(F10=250,9,IF(F10=300,11,0))))))","v":{"$error":"#N/A"}},{"$f":"INDEX(A$64:L$88,MATCH(1,(A$64:A$88=D10)*(B$64:B$88=E10),0),IF(F10=100,4,IF(F10=150,6,IF(F10=200,8,IF(F10=250,10,IF(F10=300,12,0))))))","v":{"$error":"#N/A"}},{"$f":"INDEX(A$91:L$115,MATCH(1,(A$91:A$115=D10)*(B$91:B$115=E10),0),IF(F10=100,3,IF(F10=150,5,IF(F10=200,7,IF(F10=250,9,IF(F10=300,11,0))))))","v":{"$error":"#N/A"}},{"$f":"INDEX(A$91:L$115,MATCH(1,(A$91:A$115=D10)*(B$91:B$115=E10),0),IF(F10=100,4,IF(F10=150,6,IF(F10=200,8,IF(F10=250,10,IF(F10=300,12,0))))))","v":{"$error":"#N/A"}},{"$f":"INDEX(A$118:L$142,MATCH(1,(A$118:A$142=D10)*(B$118:B$142=E10),0),IF(F10=100,3,IF(F10=150,5,IF(F10=200,7,IF(F10=250,9,IF(F10=300,11,0))))))","v":{"$error":"#N/A"}},{"$f":"INDEX(A$118:L$142,MATCH(1,(A$118:A$142=D10)*(B$118:B$142=E10),0),IF(F10=100,4,IF(F10=150,6,IF(F10=200,8,IF(F10=250,10,IF(F10=300,12,0))))))","v":{"$error":"#N/A"}},{"$f":"INDEX(N$37:Y$61,MATCH(1,(N$37:N$61=D10)*(O$37:O$61=E10),0),IF(F10=100,3,IF(F10=150,5,IF(F10=200,7,IF(F10=250,9,IF(F10=300,11,0))))))","v":{"$error":"#N/A"}},{"$f":"INDEX(N$37:Y$61,MATCH(1,(N$37:N$61=D10)*(O$37:O$61=E10),0),IF(F10=100,4,IF(F10=150,6,IF(F10=200,8,IF(F10=250,10,IF(F10=300,12,0))))))","v":{"$error":"#N/A"}},{"$f":"INDEX(N$64:Y$88,MATCH(1,(N$64:N$88=D10)*(O$64:O$88=E10),0),IF(F10=100,3,IF(F10=150,5,IF(F10=200,7,IF(F10=250,9,IF(F10=300,11,0))))))","v":{"$error":"#N/A"}},{"$f":"INDEX(N$64:Y$88,MATCH(1,(N$64:N$88=D10)*(O$64:O$88=E10),0),IF(F10=100,4,IF(F10=150,6,IF(F10=200,8,IF(F10=250,10,IF(F10=300,12,0))))))","v":{"$error":"#N/A"}},{"$f":"INDEX(N$91:Y$115,MATCH(1,(N$91:N$115=D10)*(O$91:O$115=E10),0),IF(F10=100,3,IF(F10=150,5,IF(F10=200,7,IF(F10=250,9,IF(F10=300,11,0))))))","v":{"$error":"#N/A"}},{"$f":"INDEX(N$91:Y$115,MATCH(1,(N$91:N$115=D10)*(O$91:O$115=E10),0),IF(F10=100,4,IF(F10=150,6,IF(F10=200,8,IF(F10=250,10,IF(F10=300,12,0))))))","v":{"$error":"#N/A"}},{"$f":"INDEX(N$118:Y$142,MATCH(1,(N$118:N$142=D10)*(O$118:O$142=E10),0),IF(F10=100,3,IF(F10=150,5,IF(F10=200,7,IF(F10=250,9,IF(F10=300,11,0))))))","v":{"$error":"#N/A"}},{"$f":"INDEX(N$118:Y$142,MATCH(1,(N$118:N$142=D10)*(O$118:O$142=E10),0),IF(F10=100,4,IF(F10=150,6,IF(F10=200,8,IF(F10=250,10,IF(F10=300,12,0))))))","v":{"$error":"#N/A"}}]
[{"$f":"'UFH Guide'!A11","v":"Bedroom 2"},null,{"$f":"'UFH Guide'!H11","v":0},{"$f":"'UFH Guide'!E11","v":0},{"$f":"'UFH Guide'!B11","v":0},{"$f":"'UFH Guide'!I11","v":0},{"$f":"'UFH Guide'!J11","v":0},0,0,{"$f":"INDEX(A$37:L$61,MATCH(1,(A$37:A$61=D11)*(B$37:B$61=E11),0),IF(F11=100,3,IF(F11=150,5,IF(F11=200,7,IF(F11=250,9,IF(F11=300,11,0))))))","v":{"$error":"#N/A"}},{"$f":"INDEX(A$37:L$61,MATCH(1,(A$37:A$61=D11)*(B$37:B$61=E11),0),IF(F11=100,4,IF(F11=150,6,IF(F11=200,8,IF(F11=250,10,IF(F11=300,12,0))))))","v":{"$error":"#N/A"}},{"$f":"INDEX(A$64:L$88,MATCH(1,(A$64:A$88=D11)*(B$64:B$88=E11),0),IF(F11=100,3,IF(F11=150,5,IF(F11=200,7,IF(F11=250,9,IF(F11=300,11,0))))))","v":{"$error":"#N/A"}},{"$f":"INDEX(A$64:L$88,MATCH(1,(A$64:A$88=D11)*(B$64:B$88=E11),0),IF(F11=100,4,IF(F11=150,6,IF(F11=200,8,IF(F11=250,10,IF(F11=300,12,0))))))","v":{"$error":"#N/A"}},{"$f":"INDEX(A$91:L$115,MATCH(1,(A$91:A$115=D11)*(B$91:B$115=E11),0),IF(F11=100,3,IF(F11=150,5,IF(F11=200,7,IF(F11=250,9,IF(F11=300,11,0))))))","v":{"$error":"#N/A"}},{"$f":"INDEX(A$91:L$115,MATCH(1,(A$91:A$115=D11)*(B$91:B$115=E11),0),IF(F11=100,4,IF(F11=150,6,IF(F11=200,8,IF(F11=250,10,IF(F11=300,12,0))))))","v":{"$error":"#N/A"}},{"$f":"INDEX(A$118:L$142,MATCH(1,(A$118:A$142=D11)*(B$118:B$142=E11),0),IF(F11=100,3,IF(F11=150,5,IF(F11=200,7,IF(F11=250,9,IF(F11=300,11,0))))))","v":{"$error":"#N/A"}},{"$f":"INDEX(A$118:L$142,MATCH(1,(A$118:A$142=D11)*(B$118:B$142=E11),0),IF(F11=100,4,IF(F11=150,6,IF(F11=200,8,IF(F11=250,10,IF(F11=300,12,0))))))","v":{"$error":"#N/A"}},{"$f":"INDEX(N$37:Y$61,MATCH(1,(N$37:N$61=D11)*(O$37:O$61=E11),0),IF(F11=100,3,IF(F11=150,5,IF(F11=200,7,IF(F11=250,9,IF(F11=300,11,0))))))","v":{"$error":"#N/A"}},{"$f":"INDEX(N$37:Y$61,MATCH(1,(N$37:N$61=D11)*(O$37:O$61=E11),0),IF(F11=100,4,IF(F11=150,6,IF(F11=200,8,IF(F11=250,10,IF(F11=300,12,0))))))","v":{"$error":"#N/A"}},{"$f":"INDEX(N$64:Y$88,MATCH(1,(N$64:N$88=D11)*(O$64:O$88=E11),0),IF(F11=100,3,IF(F11=150,5,IF(F11=200,7,IF(F11=250,9,IF(F11=300,11,0))))))","v":{"$error":"#N/A"}},{"$f":"INDEX(N$64:Y$88,MATCH(1,(N$64:N$88=D11)*(O$64:O$88=E11),0),IF(F11=100,4,IF(F11=150,6,IF(F11=200,8,IF(F11=250,10,IF(F11=300,12,0))))))","v":{"$error":"#N/A"}},{"$f":"INDEX(N$91:Y$115,MATCH(1,(N$91:N$115=D11)*(O$91:O$115=E11),0),IF(F11=100,3,IF(F11=150,5,IF(F11=200,7,IF(F11=250,9,IF(F11=300,11,0))))))","v":{"$error":"#N/A"}},{"$f":"INDEX(N$91:Y$115,MATCH(1,(N$91:N$115=D11)*(O$91:O$115=E11),0),IF(F11=100,4,IF(F11=150,6,IF(F11=200,8,IF(F11=250,10,IF(F11=300,12,0))))))","v":{"$error":"#N/A"}},{"$f":"INDEX(N$118:Y$142,MATCH(1,(N$118:N$142=D11)*(O$118:O$142=E11),0),IF(F11=100,3,IF(F11=150,5,IF(F11=200,7,IF(F11=250,9,IF(F11=300,11,0))))))","v":{"$error":"#N/A"}},{"$f":"INDEX(N$118:Y$142,MATCH(1,(N$118:N$142=D11)*(O$118:O$142=E11),0),IF(F11=100,4,IF(F11=150,6,IF(F11=200,8,IF(F11=250,10,IF(F11=300,12,0))))))","v":{"$error":"#N/A"}}]
[{"$f":"'UFH Guide'!A12","v":"Bedroom 3"},null,{"$f":"'UFH Guide'!H12","v":0},{"$f":"'UFH Guide'!E12","v":0},{"$f":"'UFH Guide'!B12","v":0},{"$f":"'UFH Guide'!I12","v":0},{"$f":"'UFH Guide'!J12","v":0},0,0,{"$f":"INDEX(A$37:L$61,MATCH(1,(A$37:A$61=D12)*(B$37:B$61=E12),0),IF(F12=100,3,IF(F12=150,5,IF(F12=200,7,IF(F12=250,9,IF(F12=300,11,0))))))","v":{"$error":"#N/A"}},{"$f":"INDEX(A$37:L$61,MATCH(1,(A$37:A$61=D12)*(B$37:B$61=E12),0),IF(F12=100,4,IF(F12=150,6,IF(F12=200,8,IF(F12=250,10,IF(F12=300,12,0))))))","v":{"$error":"#N/A"}},{"$f":"INDEX(A$64:L$88,MATCH(1,(A$64:A$88=D12)*(B$64:B$88=E12),0),IF(F12=100,3,IF(F12=150,5,IF(F12=200,7,IF(F12=250,9,IF(F12=300,11,0))))))","v":{"$error":"#N/A"}},{"$f":"INDEX(A$64:L$88,MATCH(1,(A$64:A$88=D12)*(B$64:B$88=E12),0),IF(F12=100,4,IF(F12=150,6,IF(F12=200,8,IF(F12=250,10,IF(F12=300,12,0))))))","v":{"$error":"#N/A"}},{"$f":"INDEX(A$91:L$115,MATCH(1,(A$91:A$115=D12)*(B$91:B$115=E12),0),IF(F12=100,3,IF(F12=150,5,IF(F12=200,7,IF(F12=250,9,IF(F12=300,11,0))))))","v":{"$error":"#N/A"}},{"$f":"INDEX(A$91:L$115,MATCH(1,(A$91:A$115=D12)*(B$91:B$115=E12),0),IF(F12=100,4,IF(F12=150,6,IF(F12=200,8,IF(F12=250,10,IF(F12=300,12,0))))))","v":{"$error":"#N/A"}},{"$f":"INDEX(A$118:L$142,MATCH(1,(A$118:A$142=D12)*(B$118:B$142=E12),0),IF(F12=100,3,IF(F12=150,5,IF(F12=200,7,IF(F12=250,9,IF(F12=300,11,0))))))","v":{"$error":"#N/A"}},{"$f":"INDEX(A$118:L$142,MATCH(1,(A$118:A$142=D12)*(B$118:B$142=E12),0),IF(F12=100,4,IF(F12=150,6,IF(F12=200,8,IF(F12=250,10,IF(F12=300,12,0))))))","v":{"$error":"#N/A"}},{"$f":"INDEX(N$37:Y$61,MATCH(1,(N$37:N$61=D12)*(O$37:O$61=E12),0),IF(F12=100,3,IF(F12=150,5,IF(F12=200,7,IF(F12=250,9,IF(F12=300,11,0))))))","v":{"$error":"#N/A"}},{"$f":"INDEX(N$37:Y$61,MATCH(1,(N$37:N$61=D12)*(O$37:O$61=E12),0),IF(F12=100,4,IF(F12=150,6,IF(F12=200,8,IF(F12=250,10,IF(F12=300,12,0))))))","v":{"$error":"#N/A"}},{"$f":"INDEX(N$64:Y$88,MATCH(1,(N$64:N$88=D12)*(O$64:O$88=E12),0),IF(F12=100,3,IF(F12=150,5,IF(F12=200,7,IF(F12=250,9,IF(F12=300,11,0))))))","v":{"$error":"#N/A"}},{"$f":"INDEX(N$64:Y$88,MATCH(1,(N$64:N$88=D12)*(O$64:O$88=E12),0),IF(F12=100,4,IF(F12=150,6,IF(F12=200,8,IF(F12=250,10,IF(F12=300,12,0))))))","v":{"$error":"#N/A"}},{"$f":"INDEX(N$91:Y$115,MATCH(1,(N$91:N$115=D12)*(O$91:O$115=E12),0),IF(F12=100,3,IF(F12=150,5,IF(F12=200,7,IF(F12=250,9,IF(F12=300,11,0))))))","v":{"$error":"#N/A"}},{"$f":"INDEX(N$91:Y$115,MATCH(1,(N$91:N$115=D12)*(O$91:O$115=E12),0),IF(F12=100,4,IF(F12=150,6,IF(F12=200,8,IF(F12=250,10,IF(F12=300,12,0))))))","v":{"$error":"#N/A"}},{"$f":"INDEX(N$118:Y$142,MATCH(1,(N$118:N$142=D12)*(O$118:O$142=E12),0),IF(F12=100,3,IF(F12=150,5,IF(F12=200,7,IF(F12=250,9,IF(F12=300,11,0))))))","v":{"$error":"#N/A"}},{"$f":"INDEX(N$118:Y$142,MATCH(1,(N$118:N$142=D12)*(O$118:O$142=E12),0),IF(F12=100,4,IF(F12=150,6,IF(F12=200,8,IF(F12=250,10,IF(F12=300,12,0))))))","v":{"$error":"#N/A"}}]
[{"$f":"'UFH Guide'!A13","v":"Bedroom 4"},null,{"$f":"'UFH Guide'!H13","v":0},{"$f":"'UFH Guide'!E13","v":0},{"$f":"'UFH Guide'!B13","v":0},{"$f":"'UFH Guide'!I13","v":0},{"$f":"'UFH Guide'!J13","v":0},0,0,{"$f":"INDEX(A$37:L$61,MATCH(1,(A$37:A$61=D13)*(B$37:B$61=E13),0),IF(F13=100,3,IF(F13=150,5,IF(F13=200,7,IF(F13=250,9,IF(F13=300,11,0))))))","v":{"$error":"#N/A"}},{"$f":"INDEX(A$37:L$61,MATCH(1,(A$37:A$61=D13)*(B$37:B$61=E13),0),IF(F13=100,4,IF(F13=150,6,IF(F13=200,8,IF(F13=250,10,IF(F13=300,12,0))))))","v":{"$error":"#N/A"}},{"$f":"INDEX(A$64:L$88,MATCH(1,(A$64:A$88=D13)*(B$64:B$88=E13),0),IF(F13=100,3,IF(F13=150,5,IF(F13=200,7,IF(F13=250,9,IF(F13=300,11,0))))))","v":{"$error":"#N/A"}},{"$f":"INDEX(A$64:L$88,MATCH(1,(A$64:A$88=D13)*(B$64:B$88=E13),0),IF(F13=100,4,IF(F13=150,6,IF(F13=200,8,IF(F13=250,10,IF(F13=300,12,0))))))","v":{"$error":"#N/A"}},{"$f":"INDEX(A$91:L$115,MATCH(1,(A$91:A$115=D13)*(B$91:B$115=E13),0),IF(F13=100,3,IF(F13=150,5,IF(F13=200,7,IF(F13=250,9,IF(F13=300,11,0))))))","v":{"$error":"#N/A"}},{"$f":"INDEX(A$91:L$115,MATCH(1,(A$91:A$115=D13)*(B$91:B$115=E13),0),IF(F13=100,4,IF(F13=150,6,IF(F13=200,8,IF(F13=250,10,IF(F13=300,12,0))))))","v":{"$error":"#N/A"}},{"$f":"INDEX(A$118:L$142,MATCH(1,(A$118:A$142=D13)*(B$118:B$142=E13),0),IF(F13=100,3,IF(F13=150,5,IF(F13=200,7,IF(F13=250,9,IF(F13=300,11,0))))))","v":{"$error":"#N/A"}},{"$f":"INDEX(A$118:L$142,MATCH(1,(A$118:A$142=D13)*(B$118:B$142=E13),0),IF(F13=100,4,IF(F13=150,6,IF(F13=200,8,IF(F13=250,10,IF(F13=300,12,0))))))","v":{"$error":"#N/A"}},{"$f":"INDEX(N$37:Y$61,MATCH(1,(N$37:N$61=D13)*(O$37:O$61=E13),0),IF(F13=100,3,IF(F13=150,5,IF(F13=200,7,IF(F13=250,9,IF(F13=300,11,0))))))","v":{"$error":"#N/A"}},{"$f":"INDEX(N$37:Y$61,MATCH(1,(N$37:N$61=D13)*(O$37:O$61=E13),0),IF(F13=100,4,IF(F13=150,6,IF(F13=200,8,IF(F13=250,10,IF(F13=300,12,0))))))","v":{"$error":"#N/A"}},{"$f":"INDEX(N$64:Y$88,MATCH(1,(N$64:N$88=D13)*(O$64:O$88=E13),0),IF(F13=100,3,IF(F13=150,5,IF(F13=200,7,IF(F13=250,9,IF(F13=300,11,0))))))","v":{"$error":"#N/A"}},{"$f":"INDEX(N$64:Y$88,MATCH(1,(N$64:N$88=D13)*(O$64:O$88=E13),0),IF(F13=100,4,IF(F13=150,6,IF(F13=200,8,IF(F13=250,10,IF(F13=300,12,0))))))","v":{"$error":"#N/A"}},{"$f":"INDEX(N$91:Y$115,MATCH(1,(N$91:N$115=D13)*(O$91:O$115=E13),0),IF(F13=100,3,IF(F13=150,5,IF(F13=200,7,IF(F13=250,9,IF(F13=300,11,0))))))","v":{"$error":"#N/A"}},{"$f":"INDEX(N$91:Y$115,MATCH(1,(N$91:N$115=D13)*(O$91:O$115=E13),0),IF(F13=100,4,IF(F13=150,6,IF(F13=200,8,IF(F13=250,10,IF(F13=300,12,0))))))","v":{"$error":"#N/A"}},{"$f":"INDEX(N$118:Y$142,MATCH(1,(N$118:N$142=D13)*(O$118:O$142=E13),0),IF(F13=100,3,IF(F13=150,5,IF(F13=200,7,IF(F13=250,9,IF(F13=300,11,0))))))","v":{"$error":"#N/A"}},{"$f":"INDEX(N$118:Y$142,MATCH(1,(N$118:N$142=D13)*(O$118:O$142=E13),0),IF(F13=100,4,IF(F13=150,6,IF(F13=200,8,IF(F13=250,10,IF(F13=300,12,0))))))","v":{"$error":"#N/A"}}]
[{"$f":"'UFH Guide'!A14","v":"En-suite "},null,{"$f":"'UFH Guide'!H14","v":0},{"$f":"'UFH Guide'!E14","v":0},{"$f":"'UFH Guide'!B14","v":0},{"$f":"'UFH Guide'!I14","v":0},{"$f":"'UFH Guide'!J14","v":0},0,0,{"$f":"INDEX(A$37:L$61,MATCH(1,(A$37:A$61=D14)*(B$37:B$61=E14),0),IF(F14=100,3,IF(F14=150,5,IF(F14=200,7,IF(F14=250,9,IF(F14=300,11,0))))))","v":{"$error":"#N/A"}},{"$f":"INDEX(A$37:L$61,MATCH(1,(A$37:A$61=D14)*(B$37:B$61=E14),0),IF(F14=100,4,IF(F14=150,6,IF(F14=200,8,IF(F14=250,10,IF(F14=300,12,0))))))","v":{"$error":"#N/A"}},{"$f":"INDEX(A$64:L$88,MATCH(1,(A$64:A$88=D14)*(B$64:B$88=E14),0),IF(F14=100,3,IF(F14=150,5,IF(F14=200,7,IF(F14=250,9,IF(F14=300,11,0))))))","v":{"$error":"#N/A"}},{"$f":"INDEX(A$64:L$88,MATCH(1,(A$64:A$88=D14)*(B$64:B$88=E14),0),IF(F14=100,4,IF(F14=150,6,IF(F14=200,8,IF(F14=250,10,IF(F14=300,12,0))))))","v":{"$error":"#N/A"}},{"$f":"INDEX(A$91:L$115,MATCH(1,(A$91:A$115=D14)*(B$91:B$115=E14),0),IF(F14=100,3,IF(F14=150,5,IF(F14=200,7,IF(F14=250,9,IF(F14=300,11,0))))))","v":{"$error":"#N/A"}},{"$f":"INDEX(A$91:L$115,MATCH(1,(A$91:A$115=D14)*(B$91:B$115=E14),0),IF(F14=100,4,IF(F14=150,6,IF(F14=200,8,IF(F14=250,10,IF(F14=300,12,0))))))","v":{"$error":"#N/A"}},{"$f":"INDEX(A$118:L$142,MATCH(1,(A$118:A$142=D14)*(B$118:B$142=E14),0),IF(F14=100,3,IF(F14=150,5,IF(F14=200,7,IF(F14=250,9,IF(F14=300,11,0))))))","v":{"$error":"#N/A"}},{"$f":"INDEX(A$118:L$142,MATCH(1,(A$118:A$142=D14)*(B$118:B$142=E14),0),IF(F14=100,4,IF(F14=150,6,IF(F14=200,8,IF(F14=250,10,IF(F14=300,12,0))))))","v":{"$error":"#N/A"}},{"$f":"INDEX(N$37:Y$61,MATCH(1,(N$37:N$61=D14)*(O$37:O$61=E14),0),IF(F14=100,3,IF(F14=150,5,IF(F14=200,7,IF(F14=250,9,IF(F14=300,11,0))))))","v":{"$error":"#N/A"}},{"$f":"INDEX(N$37:Y$61,MATCH(1,(N$37:N$61=D14)*(O$37:O$61=E14),0),IF(F14=100,4,IF(F14=150,6,IF(F14=200,8,IF(F14=250,10,IF(F14=300,12,0))))))","v":{"$error":"#N/A"}},{"$f":"INDEX(N$64:Y$88,MATCH(1,(N$64:N$88=D14)*(O$64:O$88=E14),0),IF(F14=100,3,IF(F14=150,5,IF(F14=200,7,IF(F14=250,9,IF(F14=300,11,0))))))","v":{"$error":"#N/A"}},{"$f":"INDEX(N$64:Y$88,MATCH(1,(N$64:N$88=D14)*(O$64:O$88=E14),0),IF(F14=100,4,IF(F14=150,6,IF(F14=200,8,IF(F14=250,10,IF(F14=300,12,0))))))","v":{"$error":"#N/A"}},{"$f":"INDEX(N$91:Y$115,MATCH(1,(N$91:N$115=D14)*(O$91:O$115=E14),0),IF(F14=100,3,IF(F14=150,5,IF(F14=200,7,IF(F14=250,9,IF(F14=300,11,0))))))","v":{"$error":"#N/A"}},{"$f":"INDEX(N$91:Y$115,MATCH(1,(N$91:N$115=D14)*(O$91:O$115=E14),0),IF(F14=100,4,IF(F14=150,6,IF(F14=200,8,IF(F14=250,10,IF(F14=300,12,0))))))","v":{"$error":"#N/A"}},{"$f":"INDEX(N$118:Y$142,MATCH(1,(N$118:N$142=D14)*(O$118:O$142=E14),0),IF(F14=100,3,IF(F14=150,5,IF(F14=200,7,IF(F14=250,9,IF(F14=300,11,0))))))","v":{"$error":"#N/A"}},{"$f":"INDEX(N$118:Y$142,MATCH(1,(N$118:N$142=D14)*(O$118:O$142=E14),0),IF(F14=100,4,IF(F14=150,6,IF(F14=200,8,IF(F14=250,10,IF(F14=300,12,0))))))","v":{"$error":"#N/A"}}]
[{"$f":"'UFH Guide'!A15","v":"Bath "},null,{"$f":"'UFH Guide'!H15","v":0},{"$f":"'UFH Guide'!E15","v":0},{"$f":"'UFH Guide'!B15","v":0},{"$f":"'UFH Guide'!I15","v":0},{"$f":"'UFH Guide'!J15","v":0},0,0,{"$f":"INDEX(A$37:L$61,MATCH(1,(A$37:A$61=D15)*(B$37:B$61=E15),0),IF(F15=100,3,IF(F15=150,5,IF(F15=200,7,IF(F15=250,9,IF(F15=300,11,0))))))","v":{"$error":"#N/A"}},{"$f":"INDEX(A$37:L$61,MATCH(1,(A$37:A$61=D15)*(B$37:B$61=E15),0),IF(F15=100,4,IF(F15=150,6,IF(F15=200,8,IF(F15=250,10,IF(F15=300,12,0))))))","v":{"$error":"#N/A"}},{"$f":"INDEX(A$64:L$88,MATCH(1,(A$64:A$88=D15)*(B$64:B$88=E15),0),IF(F15=100,3,IF(F15=150,5,IF(F15=200,7,IF(F15=250,9,IF(F15=300,11,0))))))","v":{"$error":"#N/A"}},{"$f":"INDEX(A$64:L$88,MATCH(1,(A$64:A$88=D15)*(B$64:B$88=E15),0),IF(F15=100,4,IF(F15=150,6,IF(F15=200,8,IF(F15=250,10,IF(F15=300,12,0))))))","v":{"$error":"#N/A"}},{"$f":"INDEX(A$91:L$115,MATCH(1,(A$91:A$115=D15)*(B$91:B$115=E15),0),IF(F15=100,3,IF(F15=150,5,IF(F15=200,7,IF(F15=250,9,IF(F15=300,11,0))))))","v":{"$error":"#N/A"}},{"$f":"INDEX(A$91:L$115,MATCH(1,(A$91:A$115=D15)*(B$91:B$115=E15),0),IF(F15=100,4,IF(F15=150,6,IF(F15=200,8,IF(F15=250,10,IF(F15=300,12,0))))))","v":{"$error":"#N/A"}},{"$f":"INDEX(A$118:L$142,MATCH(1,(A$118:A$142=D15)*(B$118:B$142=E15),0),IF(F15=100,3,IF(F15=150,5,IF(F15=200,7,IF(F15=250,9,IF(F15=300,11,0))))))","v":{"$error":"#N/A"}},{"$f":"INDEX(A$118:L$142,MATCH(1,(A$118:A$142=D15)*(B$118:B$142=E15),0),IF(F15=100,4,IF(F15=150,6,IF(F15=200,8,IF(F15=250,10,IF(F15=300,12,0))))))","v":{"$error":"#N/A"}},{"$f":"INDEX(N$37:Y$61,MATCH(1,(N$37:N$61=D15)*(O$37:O$61=E15),0),IF(F15=100,3,IF(F15=150,5,IF(F15=200,7,IF(F15=250,9,IF(F15=300,11,0))))))","v":{"$error":"#N/A"}},{"$f":"INDEX(N$37:Y$61,MATCH(1,(N$37:N$61=D15)*(O$37:O$61=E15),0),IF(F15=100,4,IF(F15=150,6,IF(F15=200,8,IF(F15=250,10,IF(F15=300,12,0))))))","v":{"$error":"#N/A"}},{"$f":"INDEX(N$64:Y$88,MATCH(1,(N$64:N$88=D15)*(O$64:O$88=E15),0),IF(F15=100,3,IF(F15=150,5,IF(F15=200,7,IF(F15=250,9,IF(F15=300,11,0))))))","v":{"$error":"#N/A"}},{"$f":"INDEX(N$64:Y$88,MATCH(1,(N$64:N$88=D15)*(O$64:O$88=E15),0),IF(F15=100,4,IF(F15=150,6,IF(F15=200,8,IF(F15=250,10,IF(F15=300,12,0))))))","v":{"$error":"#N/A"}},{"$f":"INDEX(N$91:Y$115,MATCH(1,(N$91:N$115=D15)*(O$91:O$115=E15),0),IF(F15=100,3,IF(F15=150,5,IF(F15=200,7,IF(F15=250,9,IF(F15=300,11,0))))))","v":{"$error":"#N/A"}},{"$f":"INDEX(N$91:Y$115,MATCH(1,(N$91:N$115=D15)*(O$91:O$115=E15),0),IF(F15=100,4,IF(F15=150,6,IF(F15=200,8,IF(F15=250,10,IF(F15=300,12,0))))))","v":{"$error":"#N/A"}},{"$f":"INDEX(N$118:Y$142,MATCH(1,(N$118:N$142=D15)*(O$118:O$142=E15),0),IF(F15=100,3,IF(F15=150,5,IF(F15=200,7,IF(F15=250,9,IF(F15=300,11,0))))))","v":{"$error":"#N/A"}},{"$f":"INDEX(N$118:Y$142,MATCH(1,(N$118:N$142=D15)*(O$118:O$142=E15),0),IF(F15=100,4,IF(F15=150,6,IF(F15=200,8,IF(F15=250,10,IF(F15=300,12,0))))))","v":{"$error":"#N/A"}}]
[{"$f":"'UFH Guide'!A16","v":"Landing "},null,{"$f":"'UFH Guide'!H16","v":0},{"$f":"'UFH Guide'!E16","v":0},{"$f":"'UFH Guide'!B16","v":0},{"$f":"'UFH Guide'!I16","v":0},{"$f":"'UFH Guide'!J16","v":0},0,0,{"$f":"INDEX(A$37:L$61,MATCH(1,(A$37:A$61=D16)*(B$37:B$61=E16),0),IF(F16=100,3,IF(F16=150,5,IF(F16=200,7,IF(F16=250,9,IF(F16=300,11,0))))))","v":{"$error":"#N/A"}},{"$f":"INDEX(A$37:L$61,MATCH(1,(A$37:A$61=D16)*(B$37:B$61=E16),0),IF(F16=100,4,IF(F16=150,6,IF(F16=200,8,IF(F16=250,10,IF(F16=300,12,0))))))","v":{"$error":"#N/A"}},{"$f":"INDEX(A$64:L$88,MATCH(1,(A$64:A$88=D16)*(B$64:B$88=E16),0),IF(F16=100,3,IF(F16=150,5,IF(F16=200,7,IF(F16=250,9,IF(F16=300,11,0))))))","v":{"$error":"#N/A"}},{"$f":"INDEX(A$64:L$88,MATCH(1,(A$64:A$88=D16)*(B$64:B$88=E16),0),IF(F16=100,4,IF(F16=150,6,IF(F16=200,8,IF(F16=250,10,IF(F16=300,12,0))))))","v":{"$error":"#N/A"}},{"$f":"INDEX(A$91:L$115,MATCH(1,(A$91:A$115=D16)*(B$91:B$115=E16),0),IF(F16=100,3,IF(F16=150,5,IF(F16=200,7,IF(F16=250,9,IF(F16=300,11,0))))))","v":{"$error":"#N/A"}},{"$f":"INDEX(A$91:L$115,MATCH(1,(A$91:A$115=D16)*(B$91:B$115=E16),0),IF(F16=100,4,IF(F16=150,6,IF(F16=200,8,IF(F16=250,10,IF(F16=300,12,0))))))","v":{"$error":"#N/A"}},{"$f":"INDEX(A$118:L$142,MATCH(1,(A$118:A$142=D16)*(B$118:B$142=E16),0),IF(F16=100,3,IF(F16=150,5,IF(F16=200,7,IF(F16=250,9,IF(F16=300,11,0))))))","v":{"$error":"#N/A"}},{"$f":"INDEX(A$118:L$142,MATCH(1,(A$118:A$142=D16)*(B$118:B$142=E16),0),IF(F16=100,4,IF(F16=150,6,IF(F16=200,8,IF(F16=250,10,IF(F16=300,12,0))))))","v":{"$error":"#N/A"}},{"$f":"INDEX(N$37:Y$61,MATCH(1,(N$37:N$61=D16)*(O$37:O$61=E16),0),IF(F16=100,3,IF(F16=150,5,IF(F16=200,7,IF(F16=250,9,IF(F16=300,11,0))))))","v":{"$error":"#N/A"}},{"$f":"INDEX(N$37:Y$61,MATCH(1,(N$37:N$61=D16)*(O$37:O$61=E16),0),IF(F16=100,4,IF(F16=150,6,IF(F16=200,8,IF(F16=250,10,IF(F16=300,12,0))))))","v":{"$error":"#N/A"}},{"$f":"INDEX(N$64:Y$88,MATCH(1,(N$64:N$88=D16)*(O$64:O$88=E16),0),IF(F16=100,3,IF(F16=150,5,IF(F16=200,7,IF(F16=250,9,IF(F16=300,11,0))))))","v":{"$error":"#N/A"}},{"$f":"INDEX(N$64:Y$88,MATCH(1,(N$64:N$88=D16)*(O$64:O$88=E16),0),IF(F16=100,4,IF(F16=150,6,IF(F16=200,8,IF(F16=250,10,IF(F16=300,12,0))))))","v":{"$error":"#N/A"}},{"$f":"INDEX(N$91:Y$115,MATCH(1,(N$91:N$115=D16)*(O$91:O$115=E16),0),IF(F16=100,3,IF(F16=150,5,IF(F16=200,7,IF(F16=250,9,IF(F16=300,11,0))))))","v":{"$error":"#N/A"}},{"$f":"INDEX(N$91:Y$115,MATCH(1,(N$91:N$115=D16)*(O$91:O$115=E16),0),IF(F16=100,4,IF(F16=150,6,IF(F16=200,8,IF(F16=250,10,IF(F16=300,12,0))))))","v":{"$error":"#N/A"}},{"$f":"INDEX(N$118:Y$142,MATCH(1,(N$118:N$142=D16)*(O$118:O$142=E16),0),IF(F16=100,3,IF(F16=150,5,IF(F16=200,7,IF(F16=250,9,IF(F16=300,11,0))))))","v":{"$error":"#N/A"}},{"$f":"INDEX(N$118:Y$142,MATCH(1,(N$118:N$142=D16)*(O$118:O$142=E16),0),IF(F16=100,4,IF(F16=150,6,IF(F16=200,8,IF(F16=250,10,IF(F16=300,12,0))))))","v":{"$error":"#N/A"}}]
[{"$f":"'UFH Guide'!A17","v":"- "},null,{"$f":"'UFH Guide'!H17","v":0},{"$f":"'UFH Guide'!E17","v":0},{"$f":"'UFH Guide'!B17","v":0},{"$f":"'UFH Guide'!I17","v":0},{"$f":"'UFH Guide'!J17","v":0},0,0,{"$f":"INDEX(A$37:L$61,MATCH(1,(A$37:A$61=D17)*(B$37:B$61=E17),0),IF(F17=100,3,IF(F17=150,5,IF(F17=200,7,IF(F17=250,9,IF(F17=300,11,0))))))","v":{"$error":"#N/A"}},{"$f":"INDEX(A$37:L$61,MATCH(1,(A$37:A$61=D17)*(B$37:B$61=E17),0),IF(F17=100,4,IF(F17=150,6,IF(F17=200,8,IF(F17=250,10,IF(F17=300,12,0))))))","v":{"$error":"#N/A"}},{"$f":"INDEX(A$64:L$88,MATCH(1,(A$64:A$88=D17)*(B$64:B$88=E17),0),IF(F17=100,3,IF(F17=150,5,IF(F17=200,7,IF(F17=250,9,IF(F17=300,11,0))))))","v":{"$error":"#N/A"}},{"$f":"INDEX(A$64:L$88,MATCH(1,(A$64:A$88=D17)*(B$64:B$88=E17),0),IF(F17=100,4,IF(F17=150,6,IF(F17=200,8,IF(F17=250,10,IF(F17=300,12,0))))))","v":{"$error":"#N/A"}},{"$f":"INDEX(A$91:L$115,MATCH(1,(A$91:A$115=D17)*(B$91:B$115=E17),0),IF(F17=100,3,IF(F17=150,5,IF(F17=200,7,IF(F17=250,9,IF(F17=300,11,0))))))","v":{"$error":"#N/A"}},{"$f":"INDEX(A$91:L$115,MATCH(1,(A$91:A$115=D17)*(B$91:B$115=E17),0),IF(F17=100,4,IF(F17=150,6,IF(F17=200,8,IF(F17=250,10,IF(F17=300,12,0))))))","v":{"$error":"#N/A"}},{"$f":"INDEX(A$118:L$142,MATCH(1,(A$118:A$142=D17)*(B$118:B$142=E17),0),IF(F17=100,3,IF(F17=150,5,IF(F17=200,7,IF(F17=250,9,IF(F17=300,11,0))))))","v":{"$error":"#N/A"}},{"$f":"INDEX(A$118:L$142,MATCH(1,(A$118:A$142=D17)*(B$118:B$142=E17),0),IF(F17=100,4,IF(F17=150,6,IF(F17=200,8,IF(F17=250,10,IF(F17=300,12,0))))))","v":{"$error":"#N/A"}},{"$f":"INDEX(N$37:Y$61,MATCH(1,(N$37:N$61=D17)*(O$37:O$61=E17),0),IF(F17=100,3,IF(F17=150,5,IF(F17=200,7,IF(F17=250,9,IF(F17=300,11,0))))))","v":{"$error":"#N/A"}},{"$f":"INDEX(N$37:Y$61,MATCH(1,(N$37:N$61=D17)*(O$37:O$61=E17),0),IF(F17=100,4,IF(F17=150,6,IF(F17=200,8,IF(F17=250,10,IF(F17=300,12,0))))))","v":{"$error":"#N/A"}},{"$f":"INDEX(N$64:Y$88,MATCH(1,(N$64:N$88=D17)*(O$64:O$88=E17),0),IF(F17=100,3,IF(F17=150,5,IF(F17=200,7,IF(F17=250,9,IF(F17=300,11,0))))))","v":{"$error":"#N/A"}},{"$f":"INDEX(N$64:Y$88,MATCH(1,(N$64:N$88=D17)*(O$64:O$88=E17),0),IF(F17=100,4,IF(F17=150,6,IF(F17=200,8,IF(F17=250,10,IF(F17=300,12,0))))))","v":{"$error":"#N/A"}},{"$f":"INDEX(N$91:Y$115,MATCH(1,(N$91:N$115=D17)*(O$91:O$115=E17),0),IF(F17=100,3,IF(F17=150,5,IF(F17=200,7,IF(F17=250,9,IF(F17=300,11,0))))))","v":{"$error":"#N/A"}},{"$f":"INDEX(N$91:Y$115,MATCH(1,(N$91:N$115=D17)*(O$91:O$115=E17),0),IF(F17=100,4,IF(F17=150,6,IF(F17=200,8,IF(F17=250,10,IF(F17=300,12,0))))))","v":{"$error":"#N/A"}},{"$f":"INDEX(N$118:Y$142,MATCH(1,(N$118:N$142=D17)*(O$118:O$142=E17),0),IF(F17=100,3,IF(F17=150,5,IF(F17=200,7,IF(F17=250,9,IF(F17=300,11,0))))))","v":{"$error":"#N/A"}},{"$f":"INDEX(N$118:Y$142,MATCH(1,(N$118:N$142=D17)*(O$118:O$142=E17),0),IF(F17=100,4,IF(F17=150,6,IF(F17=200,8,IF(F17=250,10,IF(F17=300,12,0))))))","v":{"$error":"#N/A"}}]
[{"$f":"'UFH Guide'!A18","v":"- "},null,{"$f":"'UFH Guide'!H18","v":0},{"$f":"'UFH Guide'!E18","v":0},{"$f":"'UFH Guide'!B18","v":0},{"$f":"'UFH Guide'!I18","v":0},{"$f":"'UFH Guide'!J18","v":0},0,0,{"$f":"INDEX(A$37:L$61,MATCH(1,(A$37:A$61=D18)*(B$37:B$61=E18),0),IF(F18=100,3,IF(F18=150,5,IF(F18=200,7,IF(F18=250,9,IF(F18=300,11,0))))))","v":{"$error":"#N/A"}},{"$f":"INDEX(A$37:L$61,MATCH(1,(A$37:A$61=D18)*(B$37:B$61=E18),0),IF(F18=100,4,IF(F18=150,6,IF(F18=200,8,IF(F18=250,10,IF(F18=300,12,0))))))","v":{"$error":"#N/A"}},{"$f":"INDEX(A$64:L$88,MATCH(1,(A$64:A$88=D18)*(B$64:B$88=E18),0),IF(F18=100,3,IF(F18=150,5,IF(F18=200,7,IF(F18=250,9,IF(F18=300,11,0))))))","v":{"$error":"#N/A"}},{"$f":"INDEX(A$64:L$88,MATCH(1,(A$64:A$88=D18)*(B$64:B$88=E18),0),IF(F18=100,4,IF(F18=150,6,IF(F18=200,8,IF(F18=250,10,IF(F18=300,12,0))))))","v":{"$error":"#N/A"}},{"$f":"INDEX(A$91:L$115,MATCH(1,(A$91:A$115=D18)*(B$91:B$115=E18),0),IF(F18=100,3,IF(F18=150,5,IF(F18=200,7,IF(F18=250,9,IF(F18=300,11,0))))))","v":{"$error":"#N/A"}},{"$f":"INDEX(A$91:L$115,MATCH(1,(A$91:A$115=D18)*(B$91:B$115=E18),0),IF(F18=100,4,IF(F18=150,6,IF(F18=200,8,IF(F18=250,10,IF(F18=300,12,0))))))","v":{"$error":"#N/A"}},{"$f":"INDEX(A$118:L$142,MATCH(1,(A$118:A$142=D18)*(B$118:B$142=E18),0),IF(F18=100,3,IF(F18=150,5,IF(F18=200,7,IF(F18=250,9,IF(F18=300,11,0))))))","v":{"$error":"#N/A"}},{"$f":"INDEX(A$118:L$142,MATCH(1,(A$118:A$142=D18)*(B$118:B$142=E18),0),IF(F18=100,4,IF(F18=150,6,IF(F18=200,8,IF(F18=250,10,IF(F18=300,12,0))))))","v":{"$error":"#N/A"}},{"$f":"INDEX(N$37:Y$61,MATCH(1,(N$37:N$61=D18)*(O$37:O$61=E18),0),IF(F18=100,3,IF(F18=150,5,IF(F18=200,7,IF(F18=250,9,IF(F18=300,11,0))))))","v":{"$error":"#N/A"}},{"$f":"INDEX(N$37:Y$61,MATCH(1,(N$37:N$61=D18)*(O$37:O$61=E18),0),IF(F18=100,4,IF(F18=150,6,IF(F18=200,8,IF(F18=250,10,IF(F18=300,12,0))))))","v":{"$error":"#N/A"}},{"$f":"INDEX(N$64:Y$88,MATCH(1,(N$64:N$88=D18)*(O$64:O$88=E18),0),IF(F18=100,3,IF(F18=150,5,IF(F18=200,7,IF(F18=250,9,IF(F18=300,11,0))))))","v":{"$error":"#N/A"}},{"$f":"INDEX(N$64:Y$88,MATCH(1,(N$64:N$88=D18)*(O$64:O$88=E18),0),IF(F18=100,4,IF(F18=150,6,IF(F18=200,8,IF(F18=250,10,IF(F18=300,12,0))))))","v":{"$error":"#N/A"}},{"$f":"INDEX(N$91:Y$115,MATCH(1,(N$91:N$115=D18)*(O$91:O$115=E18),0),IF(F18=100,3,IF(F18=150,5,IF(F18=200,7,IF(F18=250,9,IF(F18=300,11,0))))))","v":{"$error":"#N/A"}},{"$f":"INDEX(N$91:Y$115,MATCH(1,(N$91:N$115=D18)*(O$91:O$115=E18),0),IF(F18=100,4,IF(F18=150,6,IF(F18=200,8,IF(F18=250,10,IF(F18=300,12,0))))))","v":{"$error":"#N/A"}},{"$f":"INDEX(N$118:Y$142,MATCH(1,(N$118:N$142=D18)*(O$118:O$142=E18),0),IF(F18=100,3,IF(F18=150,5,IF(F18=200,7,IF(F18=250,9,IF(F18=300,11,0))))))","v":{"$error":"#N/A"}},{"$f":"INDEX(N$118:Y$142,MATCH(1,(N$118:N$142=D18)*(O$118:O$142=E18),0),IF(F18=100,4,IF(F18=150,6,IF(F18=200,8,IF(F18=250,10,IF(F18=300,12,0))))))","v":{"$error":"#N/A"}}]
[{"$f":"'UFH Guide'!A19","v":"- "},null,{"$f":"'UFH Guide'!H19","v":0},{"$f":"'UFH Guide'!E19","v":0},{"$f":"'UFH Guide'!B19","v":0},{"$f":"'UFH Guide'!I19","v":0},{"$f":"'UFH Guide'!J19","v":0},0,0,{"$f":"INDEX(A$37:L$61,MATCH(1,(A$37:A$61=D19)*(B$37:B$61=E19),0),IF(F19=100,3,IF(F19=150,5,IF(F19=200,7,IF(F19=250,9,IF(F19=300,11,0))))))","v":{"$error":"#N/A"}},{"$f":"INDEX(A$37:L$61,MATCH(1,(A$37:A$61=D19)*(B$37:B$61=E19),0),IF(F19=100,4,IF(F19=150,6,IF(F19=200,8,IF(F19=250,10,IF(F19=300,12,0))))))","v":{"$error":"#N/A"}},{"$f":"INDEX(A$64:L$88,MATCH(1,(A$64:A$88=D19)*(B$64:B$88=E19),0),IF(F19=100,3,IF(F19=150,5,IF(F19=200,7,IF(F19=250,9,IF(F19=300,11,0))))))","v":{"$error":"#N/A"}},{"$f":"INDEX(A$64:L$88,MATCH(1,(A$64:A$88=D19)*(B$64:B$88=E19),0),IF(F19=100,4,IF(F19=150,6,IF(F19=200,8,IF(F19=250,10,IF(F19=300,12,0))))))","v":{"$error":"#N/A"}},{"$f":"INDEX(A$91:L$115,MATCH(1,(A$91:A$115=D19)*(B$91:B$115=E19),0),IF(F19=100,3,IF(F19=150,5,IF(F19=200,7,IF(F19=250,9,IF(F19=300,11,0))))))","v":{"$error":"#N/A"}},{"$f":"INDEX(A$91:L$115,MATCH(1,(A$91:A$115=D19)*(B$91:B$115=E19),0),IF(F19=100,4,IF(F19=150,6,IF(F19=200,8,IF(F19=250,10,IF(F19=300,12,0))))))","v":{"$error":"#N/A"}},{"$f":"INDEX(A$118:L$142,MATCH(1,(A$118:A$142=D19)*(B$118:B$142=E19),0),IF(F19=100,3,IF(F19=150,5,IF(F19=200,7,IF(F19=250,9,IF(F19=300,11,0))))))","v":{"$error":"#N/A"}},{"$f":"INDEX(A$118:L$142,MATCH(1,(A$118:A$142=D19)*(B$118:B$142=E19),0),IF(F19=100,4,IF(F19=150,6,IF(F19=200,8,IF(F19=250,10,IF(F19=300,12,0))))))","v":{"$error":"#N/A"}},{"$f":"INDEX(N$37:Y$61,MATCH(1,(N$37:N$61=D19)*(O$37:O$61=E19),0),IF(F19=100,3,IF(F19=150,5,IF(F19=200,7,IF(F19=250,9,IF(F19=300,11,0))))))","v":{"$error":"#N/A"}},{"$f":"INDEX(N$37:Y$61,MATCH(1,(N$37:N$61=D19)*(O$37:O$61=E19),0),IF(F19=100,4,IF(F19=150,6,IF(F19=200,8,IF(F19=250,10,IF(F19=300,12,0))))))","v":{"$error":"#N/A"}},{"$f":"INDEX(N$64:Y$88,MATCH(1,(N$64:N$88=D19)*(O$64:O$88=E19),0),IF(F19=100,3,IF(F19=150,5,IF(F19=200,7,IF(F19=250,9,IF(F19=300,11,0))))))","v":{"$error":"#N/A"}},{"$f":"INDEX(N$64:Y$88,MATCH(1,(N$64:N$88=D19)*(O$64:O$88=E19),0),IF(F19=100,4,IF(F19=150,6,IF(F19=200,8,IF(F19=250,10,IF(F19=300,12,0))))))","v":{"$error":"#N/A"}},{"$f":"INDEX(N$91:Y$115,MATCH(1,(N$91:N$115=D19)*(O$91:O$115=E19),0),IF(F19=100,3,IF(F19=150,5,IF(F19=200,7,IF(F19=250,9,IF(F19=300,11,0))))))","v":{"$error":"#N/A"}},{"$f":"INDEX(N$91:Y$115,MATCH(1,(N$91:N$115=D19)*(O$91:O$115=E19),0),IF(F19=100,4,IF(F19=150,6,IF(F19=200,8,IF(F19=250,10,IF(F19=300,12,0))))))","v":{"$error":"#N/A"}},{"$f":"INDEX(N$118:Y$142,MATCH(1,(N$118:N$142=D19)*(O$118:O$142=E19),0),IF(F19=100,3,IF(F19=150,5,IF(F19=200,7,IF(F19=250,9,IF(F19=300,11,0))))))","v":{"$error":"#N/A"}},{"$f":"INDEX(N$118:Y$142,MATCH(1,(N$118:N$142=D19)*(O$118:O$142=E19),0),IF(F19=100,4,IF(F19=150,6,IF(F19=200,8,IF(F19=250,10,IF(F19=300,12,0))))))","v":{"$error":"#N/A"}}]
[{"$f":"'UFH Guide'!A20","v":"- "},null,{"$f":"'UFH Guide'!H20","v":0},{"$f":"'UFH Guide'!E20","v":0},{"$f":"'UFH Guide'!B20","v":0},{"$f":"'UFH Guide'!I20","v":0},{"$f":"'UFH Guide'!J20","v":0},0,0,{"$f":"INDEX(A$37:L$61,MATCH(1,(A$37:A$61=D20)*(B$37:B$61=E20),0),IF(F20=100,3,IF(F20=150,5,IF(F20=200,7,IF(F20=250,9,IF(F20=300,11,0))))))","v":{"$error":"#N/A"}},{"$f":"INDEX(A$37:L$61,MATCH(1,(A$37:A$61=D20)*(B$37:B$61=E20),0),IF(F20=100,4,IF(F20=150,6,IF(F20=200,8,IF(F20=250,10,IF(F20=300,12,0))))))","v":{"$error":"#N/A"}},{"$f":"INDEX(A$64:L$88,MATCH(1,(A$64:A$88=D20)*(B$64:B$88=E20),0),IF(F20=100,3,IF(F20=150,5,IF(F20=200,7,IF(F20=250,9,IF(F20=300,11,0))))))","v":{"$error":"#N/A"}},{"$f":"INDEX(A$64:L$88,MATCH(1,(A$64:A$88=D20)*(B$64:B$88=E20),0),IF(F20=100,4,IF(F20=150,6,IF(F20=200,8,IF(F20=250,10,IF(F20=300,12,0))))))","v":{"$error":"#N/A"}},{"$f":"INDEX(A$91:L$115,MATCH(1,(A$91:A$115=D20)*(B$91:B$115=E20),0),IF(F20=100,3,IF(F20=150,5,IF(F20=200,7,IF(F20=250,9,IF(F20=300,11,0))))))","v":{"$error":"#N/A"}},{"$f":"INDEX(A$91:L$115,MATCH(1,(A$91:A$115=D20)*(B$91:B$115=E20),0),IF(F20=100,4,IF(F20=150,6,IF(F20=200,8,IF(F20=250,10,IF(F20=300,12,0))))))","v":{"$error":"#N/A"}},{"$f":"INDEX(A$118:L$142,MATCH(1,(A$118:A$142=D20)*(B$118:B$142=E20),0),IF(F20=100,3,IF(F20=150,5,IF(F20=200,7,IF(F20=250,9,IF(F20=300,11,0))))))","v":{"$error":"#N/A"}},{"$f":"INDEX(A$118:L$142,MATCH(1,(A$118:A$142=D20)*(B$118:B$142=E20),0),IF(F20=100,4,IF(F20=150,6,IF(F20=200,8,IF(F20=250,10,IF(F20=300,12,0))))))","v":{"$error":"#N/A"}},{"$f":"INDEX(N$37:Y$61,MATCH(1,(N$37:N$61=D20)*(O$37:O$61=E20),0),IF(F20=100,3,IF(F20=150,5,IF(F20=200,7,IF(F20=250,9,IF(F20=300,11,0))))))","v":{"$error":"#N/A"}},{"$f":"INDEX(N$37:Y$61,MATCH(1,(N$37:N$61=D20)*(O$37:O$61=E20),0),IF(F20=100,4,IF(F20=150,6,IF(F20=200,8,IF(F20=250,10,IF(F20=300,12,0))))))","v":{"$error":"#N/A"}},{"$f":"INDEX(N$64:Y$88,MATCH(1,(N$64:N$88=D20)*(O$64:O$88=E20),0),IF(F20=100,3,IF(F20=150,5,IF(F20=200,7,IF(F20=250,9,IF(F20=300,11,0))))))","v":{"$error":"#N/A"}},{"$f":"INDEX(N$64:Y$88,MATCH(1,(N$64:N$88=D20)*(O$64:O$88=E20),0),IF(F20=100,4,IF(F20=150,6,IF(F20=200,8,IF(F20=250,10,IF(F20=300,12,0))))))","v":{"$error":"#N/A"}},{"$f":"INDEX(N$91:Y$115,MATCH(1,(N$91:N$115=D20)*(O$91:O$115=E20),0),IF(F20=100,3,IF(F20=150,5,IF(F20=200,7,IF(F20=250,9,IF(F20=300,11,0))))))","v":{"$error":"#N/A"}},{"$f":"INDEX(N$91:Y$115,MATCH(1,(N$91:N$115=D20)*(O$91:O$115=E20),0),IF(F20=100,4,IF(F20=150,6,IF(F20=200,8,IF(F20=250,10,IF(F20=300,12,0))))))","v":{"$error":"#N/A"}},{"$f":"INDEX(N$118:Y$142,MATCH(1,(N$118:N$142=D20)*(O$118:O$142=E20),0),IF(F20=100,3,IF(F20=150,5,IF(F20=200,7,IF(F20=250,9,IF(F20=300,11,0))))))","v":{"$error":"#N/A"}},{"$f":"INDEX(N$118:Y$142,MATCH(1,(N$118:N$142=D20)*(O$118:O$142=E20),0),IF(F20=100,4,IF(F20=150,6,IF(F20=200,8,IF(F20=250,10,IF(F20=300,12,0))))))","v":{"$error":"#N/A"}}]
[{"$f":"'UFH Guide'!A21","v":"- "},null,{"$f":"'UFH Guide'!H21","v":0},{"$f":"'UFH Guide'!E21","v":0},{"$f":"'UFH Guide'!B21","v":0},{"$f":"'UFH Guide'!I21","v":0},{"$f":"'UFH Guide'!J21","v":0},0,0,{"$f":"INDEX(A$37:L$61,MATCH(1,(A$37:A$61=D21)*(B$37:B$61=E21),0),IF(F21=100,3,IF(F21=150,5,IF(F21=200,7,IF(F21=250,9,IF(F21=300,11,0))))))","v":{"$error":"#N/A"}},{"$f":"INDEX(A$37:L$61,MATCH(1,(A$37:A$61=D21)*(B$37:B$61=E21),0),IF(F21=100,4,IF(F21=150,6,IF(F21=200,8,IF(F21=250,10,IF(F21=300,12,0))))))","v":{"$error":"#N/A"}},{"$f":"INDEX(A$64:L$88,MATCH(1,(A$64:A$88=D21)*(B$64:B$88=E21),0),IF(F21=100,3,IF(F21=150,5,IF(F21=200,7,IF(F21=250,9,IF(F21=300,11,0))))))","v":{"$error":"#N/A"}},{"$f":"INDEX(A$64:L$88,MATCH(1,(A$64:A$88=D21)*(B$64:B$88=E21),0),IF(F21=100,4,IF(F21=150,6,IF(F21=200,8,IF(F21=250,10,IF(F21=300,12,0))))))","v":{"$error":"#N/A"}},{"$f":"INDEX(A$91:L$115,MATCH(1,(A$91:A$115=D21)*(B$91:B$115=E21),0),IF(F21=100,3,IF(F21=150,5,IF(F21=200,7,IF(F21=250,9,IF(F21=300,11,0))))))","v":{"$error":"#N/A"}},{"$f":"INDEX(A$91:L$115,MATCH(1,(A$91:A$115=D21)*(B$91:B$115=E21),0),IF(F21=100,4,IF(F21=150,6,IF(F21=200,8,IF(F21=250,10,IF(F21=300,12,0))))))","v":{"$error":"#N/A"}},{"$f":"INDEX(A$118:L$142,MATCH(1,(A$118:A$142=D21)*(B$118:B$142=E21),0),IF(F21=100,3,IF(F21=150,5,IF(F21=200,7,IF(F21=250,9,IF(F21=300,11,0))))))","v":{"$error":"#N/A"}},{"$f":"INDEX(A$118:L$142,MATCH(1,(A$118:A$142=D21)*(B$118:B$142=E21),0),IF(F21=100,4,IF(F21=150,6,IF(F21=200,8,IF(F21=250,10,IF(F21=300,12,0))))))","v":{"$error":"#N/A"}},{"$f":"INDEX(N$37:Y$61,MATCH(1,(N$37:N$61=D21)*(O$37:O$61=E21),0),IF(F21=100,3,IF(F21=150,5,IF(F21=200,7,IF(F21=250,9,IF(F21=300,11,0))))))","v":{"$error":"#N/A"}},{"$f":"INDEX(N$37:Y$61,MATCH(1,(N$37:N$61=D21)*(O$37:O$61=E21),0),IF(F21=100,4,IF(F21=150,6,IF(F21=200,8,IF(F21=250,10,IF(F21=300,12,0))))))","v":{"$error":"#N/A"}},{"$f":"INDEX(N$64:Y$88,MATCH(1,(N$64:N$88=D21)*(O$64:O$88=E21),0),IF(F21=100,3,IF(F21=150,5,IF(F21=200,7,IF(F21=250,9,IF(F21=300,11,0))))))","v":{"$error":"#N/A"}},{"$f":"INDEX(N$64:Y$88,MATCH(1,(N$64:N$88=D21)*(O$64:O$88=E21),0),IF(F21=100,4,IF(F21=150,6,IF(F21=200,8,IF(F21=250,10,IF(F21=300,12,0))))))","v":{"$error":"#N/A"}},{"$f":"INDEX(N$91:Y$115,MATCH(1,(N$91:N$115=D21)*(O$91:O$115=E21),0),IF(F21=100,3,IF(F21=150,5,IF(F21=200,7,IF(F21=250,9,IF(F21=300,11,0))))))","v":{"$error":"#N/A"}},{"$f":"INDEX(N$91:Y$115,MATCH(1,(N$91:N$115=D21)*(O$91:O$115=E21),0),IF(F21=100,4,IF(F21=150,6,IF(F21=200,8,IF(F21=250,10,IF(F21=300,12,0))))))","v":{"$error":"#N/A"}},{"$f":"INDEX(N$118:Y$142,MATCH(1,(N$118:N$142=D21)*(O$118:O$142=E21),0),IF(F21=100,3,IF(F21=150,5,IF(F21=200,7,IF(F21=250,9,IF(F21=300,11,0))))))","v":{"$error":"#N/A"}},{"$f":"INDEX(N$118:Y$142,MATCH(1,(N$118:N$142=D21)*(O$118:O$142=E21),0),IF(F21=100,4,IF(F21=150,6,IF(F21=200,8,IF(F21=250,10,IF(F21=300,12,0))))))","v":{"$error":"#N/A"}}]
[{"$f":"'UFH Guide'!A22","v":"- "},null,{"$f":"'UFH Guide'!H22","v":0},{"$f":"'UFH Guide'!E22","v":0},{"$f":"'UFH Guide'!B22","v":0},{"$f":"'UFH Guide'!I22","v":0},{"$f":"'UFH Guide'!J22","v":0},0,0,{"$f":"INDEX(A$37:L$61,MATCH(1,(A$37:A$61=D22)*(B$37:B$61=E22),0),IF(F22=100,3,IF(F22=150,5,IF(F22=200,7,IF(F22=250,9,IF(F22=300,11,0))))))","v":{"$error":"#N/A"}},{"$f":"INDEX(A$37:L$61,MATCH(1,(A$37:A$61=D22)*(B$37:B$61=E22),0),IF(F22=100,4,IF(F22=150,6,IF(F22=200,8,IF(F22=250,10,IF(F22=300,12,0))))))","v":{"$error":"#N/A"}},{"$f":"INDEX(A$64:L$88,MATCH(1,(A$64:A$88=D22)*(B$64:B$88=E22),0),IF(F22=100,3,IF(F22=150,5,IF(F22=200,7,IF(F22=250,9,IF(F22=300,11,0))))))","v":{"$error":"#N/A"}},{"$f":"INDEX(A$64:L$88,MATCH(1,(A$64:A$88=D22)*(B$64:B$88=E22),0),IF(F22=100,4,IF(F22=150,6,IF(F22=200,8,IF(F22=250,10,IF(F22=300,12,0))))))","v":{"$error":"#N/A"}},{"$f":"INDEX(A$91:L$115,MATCH(1,(A$91:A$115=D22)*(B$91:B$115=E22),0),IF(F22=100,3,IF(F22=150,5,IF(F22=200,7,IF(F22=250,9,IF(F22=300,11,0))))))","v":{"$error":"#N/A"}},{"$f":"INDEX(A$91:L$115,MATCH(1,(A$91:A$115=D22)*(B$91:B$115=E22),0),IF(F22=100,4,IF(F22=150,6,IF(F22=200,8,IF(F22=250,10,IF(F22=300,12,0))))))","v":{"$error":"#N/A"}},{"$f":"INDEX(A$118:L$142,MATCH(1,(A$118:A$142=D22)*(B$118:B$142=E22),0),IF(F22=100,3,IF(F22=150,5,IF(F22=200,7,IF(F22=250,9,IF(F22=300,11,0))))))","v":{"$error":"#N/A"}},{"$f":"INDEX(A$118:L$142,MATCH(1,(A$118:A$142=D22)*(B$118:B$142=E22),0),IF(F22=100,4,IF(F22=150,6,IF(F22=200,8,IF(F22=250,10,IF(F22=300,12,0))))))","v":{"$error":"#N/A"}},{"$f":"INDEX(N$37:Y$61,MATCH(1,(N$37:N$61=D22)*(O$37:O$61=E22),0),IF(F22=100,3,IF(F22=150,5,IF(F22=200,7,IF(F22=250,9,IF(F22=300,11,0))))))","v":{"$error":"#N/A"}},{"$f":"INDEX(N$37:Y$61,MATCH(1,(N$37:N$61=D22)*(O$37:O$61=E22),0),IF(F22=100,4,IF(F22=150,6,IF(F22=200,8,IF(F22=250,10,IF(F22=300,12,0))))))","v":{"$error":"#N/A"}},{"$f":"INDEX(N$64:Y$88,MATCH(1,(N$64:N$88=D22)*(O$64:O$88=E22),0),IF(F22=100,3,IF(F22=150,5,IF(F22=200,7,IF(F22=250,9,IF(F22=300,11,0))))))","v":{"$error":"#N/A"}},{"$f":"INDEX(N$64:Y$88,MATCH(1,(N$64:N$88=D22)*(O$64:O$88=E22),0),IF(F22=100,4,IF(F22=150,6,IF(F22=200,8,IF(F22=250,10,IF(F22=300,12,0))))))","v":{"$error":"#N/A"}},{"$f":"INDEX(N$91:Y$115,MATCH(1,(N$91:N$115=D22)*(O$91:O$115=E22),0),IF(F22=100,3,IF(F22=150,5,IF(F22=200,7,IF(F22=250,9,IF(F22=300,11,0))))))","v":{"$error":"#N/A"}},{"$f":"INDEX(N$91:Y$115,MATCH(1,(N$91:N$115=D22)*(O$91:O$115=E22),0),IF(F22=100,4,IF(F22=150,6,IF(F22=200,8,IF(F22=250,10,IF(F22=300,12,0))))))","v":{"$error":"#N/A"}},{"$f":"INDEX(N$118:Y$142,MATCH(1,(N$118:N$142=D22)*(O$118:O$142=E22),0),IF(F22=100,3,IF(F22=150,5,IF(F22=200,7,IF(F22=250,9,IF(F22=300,11,0))))))","v":{"$error":"#N/A"}},{"$f":"INDEX(N$118:Y$142,MATCH(1,(N$118:N$142=D22)*(O$118:O$142=E22),0),IF(F22=100,4,IF(F22=150,6,IF(F22=200,8,IF(F22=250,10,IF(F22=300,12,0))))))","v":{"$error":"#N/A"}}]
[{"$f":"'UFH Guide'!A23","v":"- "},null,{"$f":"'UFH Guide'!H23","v":0},{"$f":"'UFH Guide'!E23","v":0},{"$f":"'UFH Guide'!B23","v":0},{"$f":"'UFH Guide'!I23","v":0},{"$f":"'UFH Guide'!J23","v":0},0,0,{"$f":"INDEX(A$37:L$61,MATCH(1,(A$37:A$61=D23)*(B$37:B$61=E23),0),IF(F23=100,3,IF(F23=150,5,IF(F23=200,7,IF(F23=250,9,IF(F23=300,11,0))))))","v":{"$error":"#N/A"}},{"$f":"INDEX(A$37:L$61,MATCH(1,(A$37:A$61=D23)*(B$37:B$61=E23),0),IF(F23=100,4,IF(F23=150,6,IF(F23=200,8,IF(F23=250,10,IF(F23=300,12,0))))))","v":{"$error":"#N/A"}},{"$f":"INDEX(A$64:L$88,MATCH(1,(A$64:A$88=D23)*(B$64:B$88=E23),0),IF(F23=100,3,IF(F23=150,5,IF(F23=200,7,IF(F23=250,9,IF(F23=300,11,0))))))","v":{"$error":"#N/A"}},{"$f":"INDEX(A$64:L$88,MATCH(1,(A$64:A$88=D23)*(B$64:B$88=E23),0),IF(F23=100,4,IF(F23=150,6,IF(F23=200,8,IF(F23=250,10,IF(F23=300,12,0))))))","v":{"$error":"#N/A"}},{"$f":"INDEX(A$91:L$115,MATCH(1,(A$91:A$115=D23)*(B$91:B$115=E23),0),IF(F23=100,3,IF(F23=150,5,IF(F23=200,7,IF(F23=250,9,IF(F23=300,11,0))))))","v":{"$error":"#N/A"}},{"$f":"INDEX(A$91:L$115,MATCH(1,(A$91:A$115=D23)*(B$91:B$115=E23),0),IF(F23=100,4,IF(F23=150,6,IF(F23=200,8,IF(F23=250,10,IF(F23=300,12,0))))))","v":{"$error":"#N/A"}},{"$f":"INDEX(A$118:L$142,MATCH(1,(A$118:A$142=D23)*(B$118:B$142=E23),0),IF(F23=100,3,IF(F23=150,5,IF(F23=200,7,IF(F23=250,9,IF(F23=300,11,0))))))","v":{"$error":"#N/A"}},{"$f":"INDEX(A$118:L$142,MATCH(1,(A$118:A$142=D23)*(B$118:B$142=E23),0),IF(F23=100,4,IF(F23=150,6,IF(F23=200,8,IF(F23=250,10,IF(F23=300,12,0))))))","v":{"$error":"#N/A"}},{"$f":"INDEX(N$37:Y$61,MATCH(1,(N$37:N$61=D23)*(O$37:O$61=E23),0),IF(F23=100,3,IF(F23=150,5,IF(F23=200,7,IF(F23=250,9,IF(F23=300,11,0))))))","v":{"$error":"#N/A"}},{"$f":"INDEX(N$37:Y$61,MATCH(1,(N$37:N$61=D23)*(O$37:O$61=E23),0),IF(F23=100,4,IF(F23=150,6,IF(F23=200,8,IF(F23=250,10,IF(F23=300,12,0))))))","v":{"$error":"#N/A"}},{"$f":"INDEX(N$64:Y$88,MATCH(1,(N$64:N$88=D23)*(O$64:O$88=E23),0),IF(F23=100,3,IF(F23=150,5,IF(F23=200,7,IF(F23=250,9,IF(F23=300,11,0))))))","v":{"$error":"#N/A"}},{"$f":"INDEX(N$64:Y$88,MATCH(1,(N$64:N$88=D23)*(O$64:O$88=E23),0),IF(F23=100,4,IF(F23=150,6,IF(F23=200,8,IF(F23=250,10,IF(F23=300,12,0))))))","v":{"$error":"#N/A"}},{"$f":"INDEX(N$91:Y$115,MATCH(1,(N$91:N$115=D23)*(O$91:O$115=E23),0),IF(F23=100,3,IF(F23=150,5,IF(F23=200,7,IF(F23=250,9,IF(F23=300,11,0))))))","v":{"$error":"#N/A"}},{"$f":"INDEX(N$91:Y$115,MATCH(1,(N$91:N$115=D23)*(O$91:O$115=E23),0),IF(F23=100,4,IF(F23=150,6,IF(F23=200,8,IF(F23=250,10,IF(F23=300,12,0))))))","v":{"$error":"#N/A"}},{"$f":"INDEX(N$118:Y$142,MATCH(1,(N$118:N$142=D23)*(O$118:O$142=E23),0),IF(F23=100,3,IF(F23=150,5,IF(F23=200,7,IF(F23=250,9,IF(F23=300,11,0))))))","v":{"$error":"#N/A"}},{"$f":"INDEX(N$118:Y$142,MATCH(1,(N$118:N$142=D23)*(O$118:O$142=E23),0),IF(F23=100,4,IF(F23=150,6,IF(F23=200,8,IF(F23=250,10,IF(F23=300,12,0))))))","v":{"$error":"#N/A"}}]
[{"$f":"'UFH Guide'!A24","v":"- "},null,{"$f":"'UFH Guide'!H24","v":0},{"$f":"'UFH Guide'!E24","v":0},{"$f":"'UFH Guide'!B24","v":0},{"$f":"'UFH Guide'!I24","v":0},{"$f":"'UFH Guide'!J24","v":0},0,0,{"$f":"INDEX(A$37:L$61,MATCH(1,(A$37:A$61=D24)*(B$37:B$61=E24),0),IF(F24=100,3,IF(F24=150,5,IF(F24=200,7,IF(F24=250,9,IF(F24=300,11,0))))))","v":{"$error":"#N/A"}},{"$f":"INDEX(A$37:L$61,MATCH(1,(A$37:A$61=D24)*(B$37:B$61=E24),0),IF(F24=100,4,IF(F24=150,6,IF(F24=200,8,IF(F24=250,10,IF(F24=300,12,0))))))","v":{"$error":"#N/A"}},{"$f":"INDEX(A$64:L$88,MATCH(1,(A$64:A$88=D24)*(B$64:B$88=E24),0),IF(F24=100,3,IF(F24=150,5,IF(F24=200,7,IF(F24=250,9,IF(F24=300,11,0))))))","v":{"$error":"#N/A"}},{"$f":"INDEX(A$64:L$88,MATCH(1,(A$64:A$88=D24)*(B$64:B$88=E24),0),IF(F24=100,4,IF(F24=150,6,IF(F24=200,8,IF(F24=250,10,IF(F24=300,12,0))))))","v":{"$error":"#N/A"}},{"$f":"INDEX(A$91:L$115,MATCH(1,(A$91:A$115=D24)*(B$91:B$115=E24),0),IF(F24=100,3,IF(F24=150,5,IF(F24=200,7,IF(F24=250,9,IF(F24=300,11,0))))))","v":{"$error":"#N/A"}},{"$f":"INDEX(A$91:L$115,MATCH(1,(A$91:A$115=D24)*(B$91:B$115=E24),0),IF(F24=100,4,IF(F24=150,6,IF(F24=200,8,IF(F24=250,10,IF(F24=300,12,0))))))","v":{"$error":"#N/A"}},{"$f":"INDEX(A$118:L$142,MATCH(1,(A$118:A$142=D24)*(B$118:B$142=E24),0),IF(F24=100,3,IF(F24=150,5,IF(F24=200,7,IF(F24=250,9,IF(F24=300,11,0))))))","v":{"$error":"#N/A"}},{"$f":"INDEX(A$118:L$142,MATCH(1,(A$118:A$142=D24)*(B$118:B$142=E24),0),IF(F24=100,4,IF(F24=150,6,IF(F24=200,8,IF(F24=250,10,IF(F24=300,12,0))))))","v":{"$error":"#N/A"}},{"$f":"INDEX(N$37:Y$61,MATCH(1,(N$37:N$61=D24)*(O$37:O$61=E24),0),IF(F24=100,3,IF(F24=150,5,IF(F24=200,7,IF(F24=250,9,IF(F24=300,11,0))))))","v":{"$error":"#N/A"}},{"$f":"INDEX(N$37:Y$61,MATCH(1,(N$37:N$61=D24)*(O$37:O$61=E24),0),IF(F24=100,4,IF(F24=150,6,IF(F24=200,8,IF(F24=250,10,IF(F24=300,12,0))))))","v":{"$error":"#N/A"}},{"$f":"INDEX(N$64:Y$88,MATCH(1,(N$64:N$88=D24)*(O$64:O$88=E24),0),IF(F24=100,3,IF(F24=150,5,IF(F24=200,7,IF(F24=250,9,IF(F24=300,11,0))))))","v":{"$error":"#N/A"}},{"$f":"INDEX(N$64:Y$88,MATCH(1,(N$64:N$88=D24)*(O$64:O$88=E24),0),IF(F24=100,4,IF(F24=150,6,IF(F24=200,8,IF(F24=250,10,IF(F24=300,12,0))))))","v":{"$error":"#N/A"}},{"$f":"INDEX(N$91:Y$115,MATCH(1,(N$91:N$115=D24)*(O$91:O$115=E24),0),IF(F24=100,3,IF(F24=150,5,IF(F24=200,7,IF(F24=250,9,IF(F24=300,11,0))))))","v":{"$error":"#N/A"}},{"$f":"INDEX(N$91:Y$115,MATCH(1,(N$91:N$115=D24)*(O$91:O$115=E24),0),IF(F24=100,4,IF(F24=150,6,IF(F24=200,8,IF(F24=250,10,IF(F24=300,12,0))))))","v":{"$error":"#N/A"}},{"$f":"INDEX(N$118:Y$142,MATCH(1,(N$118:N$142=D24)*(O$118:O$142=E24),0),IF(F24=100,3,IF(F24=150,5,IF(F24=200,7,IF(F24=250,9,IF(F24=300,11,0))))))","v":{"$error":"#N/A"}},{"$f":"INDEX(N$118:Y$142,MATCH(1,(N$118:N$142=D24)*(O$118:O$142=E24),0),IF(F24=100,4,IF(F24=150,6,IF(F24=200,8,IF(F24=250,10,IF(F24=300,12,0))))))","v":{"$error":"#N/A"}}]
[{"$f":"'UFH Guide'!A25","v":"- "},null,{"$f":"'UFH Guide'!H25","v":0},{"$f":"'UFH Guide'!E25","v":0},{"$f":"'UFH Guide'!B25","v":0},{"$f":"'UFH Guide'!I25","v":0},{"$f":"'UFH Guide'!J25","v":0},0,0,{"$f":"INDEX(A$37:L$61,MATCH(1,(A$37:A$61=D25)*(B$37:B$61=E25),0),IF(F25=100,3,IF(F25=150,5,IF(F25=200,7,IF(F25=250,9,IF(F25=300,11,0))))))","v":{"$error":"#N/A"}},{"$f":"INDEX(A$37:L$61,MATCH(1,(A$37:A$61=D25)*(B$37:B$61=E25),0),IF(F25=100,4,IF(F25=150,6,IF(F25=200,8,IF(F25=250,10,IF(F25=300,12,0))))))","v":{"$error":"#N/A"}},{"$f":"INDEX(A$64:L$88,MATCH(1,(A$64:A$88=D25)*(B$64:B$88=E25),0),IF(F25=100,3,IF(F25=150,5,IF(F25=200,7,IF(F25=250,9,IF(F25=300,11,0))))))","v":{"$error":"#N/A"}},{"$f":"INDEX(A$64:L$88,MATCH(1,(A$64:A$88=D25)*(B$64:B$88=E25),0),IF(F25=100,4,IF(F25=150,6,IF(F25=200,8,IF(F25=250,10,IF(F25=300,12,0))))))","v":{"$error":"#N/A"}},{"$f":"INDEX(A$91:L$115,MATCH(1,(A$91:A$115=D25)*(B$91:B$115=E25),0),IF(F25=100,3,IF(F25=150,5,IF(F25=200,7,IF(F25=250,9,IF(F25=300,11,0))))))","v":{"$error":"#N/A"}},{"$f":"INDEX(A$91:L$115,MATCH(1,(A$91:A$115=D25)*(B$91:B$115=E25),0),IF(F25=100,4,IF(F25=150,6,IF(F25=200,8,IF(F25=250,10,IF(F25=300,12,0))))))","v":{"$error":"#N/A"}},{"$f":"INDEX(A$118:L$142,MATCH(1,(A$118:A$142=D25)*(B$118:B$142=E25),0),IF(F25=100,3,IF(F25=150,5,IF(F25=200,7,IF(F25=250,9,IF(F25=300,11,0))))))","v":{"$error":"#N/A"}},{"$f":"INDEX(A$118:L$142,MATCH(1,(A$118:A$142=D25)*(B$118:B$142=E25),0),IF(F25=100,4,IF(F25=150,6,IF(F25=200,8,IF(F25=250,10,IF(F25=300,12,0))))))","v":{"$error":"#N/A"}},{"$f":"INDEX(N$37:Y$61,MATCH(1,(N$37:N$61=D25)*(O$37:O$61=E25),0),IF(F25=100,3,IF(F25=150,5,IF(F25=200,7,IF(F25=250,9,IF(F25=300,11,0))))))","v":{"$error":"#N/A"}},{"$f":"INDEX(N$37:Y$61,MATCH(1,(N$37:N$61=D25)*(O$37:O$61=E25),0),IF(F25=100,4,IF(F25=150,6,IF(F25=200,8,IF(F25=250,10,IF(F25=300,12,0))))))","v":{"$error":"#N/A"}},{"$f":"INDEX(N$64:Y$88,MATCH(1,(N$64:N$88=D25)*(O$64:O$88=E25),0),IF(F25=100,3,IF(F25=150,5,IF(F25=200,7,IF(F25=250,9,IF(F25=300,11,0))))))","v":{"$error":"#N/A"}},{"$f":"INDEX(N$64:Y$88,MATCH(1,(N$64:N$88=D25)*(O$64:O$88=E25),0),IF(F25=100,4,IF(F25=150,6,IF(F25=200,8,IF(F25=250,10,IF(F25=300,12,0))))))","v":{"$error":"#N/A"}},{"$f":"INDEX(N$91:Y$115,MATCH(1,(N$91:N$115=D25)*(O$91:O$115=E25),0),IF(F25=100,3,IF(F25=150,5,IF(F25=200,7,IF(F25=250,9,IF(F25=300,11,0))))))","v":{"$error":"#N/A"}},{"$f":"INDEX(N$91:Y$115,MATCH(1,(N$91:N$115=D25)*(O$91:O$115=E25),0),IF(F25=100,4,IF(F25=150,6,IF(F25=200,8,IF(F25=250,10,IF(F25=300,12,0))))))","v":{"$error":"#N/A"}},{"$f":"INDEX(N$118:Y$142,MATCH(1,(N$118:N$142=D25)*(O$118:O$142=E25),0),IF(F25=100,3,IF(F25=150,5,IF(F25=200,7,IF(F25=250,9,IF(F25=300,11,0))))))","v":{"$error":"#N/A"}},{"$f":"INDEX(N$118:Y$142,MATCH(1,(N$118:N$142=D25)*(O$118:O$142=E25),0),IF(F25=100,4,IF(F25=150,6,IF(F25=200,8,IF(F25=250,10,IF(F25=300,12,0))))))","v":{"$error":"#N/A"}}]
[{"$f":"'UFH Guide'!A26","v":"- "},null,{"$f":"'UFH Guide'!H26","v":0},{"$f":"'UFH Guide'!E26","v":0},{"$f":"'UFH Guide'!B26","v":0},{"$f":"'UFH Guide'!I26","v":0},{"$f":"'UFH Guide'!J26","v":0},0,0,{"$f":"INDEX(A$37:L$61,MATCH(1,(A$37:A$61=D26)*(B$37:B$61=E26),0),IF(F26=100,3,IF(F26=150,5,IF(F26=200,7,IF(F26=250,9,IF(F26=300,11,0))))))","v":{"$error":"#N/A"}},{"$f":"INDEX(A$37:L$61,MATCH(1,(A$37:A$61=D26)*(B$37:B$61=E26),0),IF(F26=100,4,IF(F26=150,6,IF(F26=200,8,IF(F26=250,10,IF(F26=300,12,0))))))","v":{"$error":"#N/A"}},{"$f":"INDEX(A$64:L$88,MATCH(1,(A$64:A$88=D26)*(B$64:B$88=E26),0),IF(F26=100,3,IF(F26=150,5,IF(F26=200,7,IF(F26=250,9,IF(F26=300,11,0))))))","v":{"$error":"#N/A"}},{"$f":"INDEX(A$64:L$88,MATCH(1,(A$64:A$88=D26)*(B$64:B$88=E26),0),IF(F26=100,4,IF(F26=150,6,IF(F26=200,8,IF(F26=250,10,IF(F26=300,12,0))))))","v":{"$error":"#N/A"}},{"$f":"INDEX(A$91:L$115,MATCH(1,(A$91:A$115=D26)*(B$91:B$115=E26),0),IF(F26=100,3,IF(F26=150,5,IF(F26=200,7,IF(F26=250,9,IF(F26=300,11,0))))))","v":{"$error":"#N/A"}},{"$f":"INDEX(A$91:L$115,MATCH(1,(A$91:A$115=D26)*(B$91:B$115=E26),0),IF(F26=100,4,IF(F26=150,6,IF(F26=200,8,IF(F26=250,10,IF(F26=300,12,0))))))","v":{"$error":"#N/A"}},{"$f":"INDEX(A$118:L$142,MATCH(1,(A$118:A$142=D26)*(B$118:B$142=E26),0),IF(F26=100,3,IF(F26=150,5,IF(F26=200,7,IF(F26=250,9,IF(F26=300,11,0))))))","v":{"$error":"#N/A"}},{"$f":"INDEX(A$118:L$142,MATCH(1,(A$118:A$142=D26)*(B$118:B$142=E26),0),IF(F26=100,4,IF(F26=150,6,IF(F26=200,8,IF(F26=250,10,IF(F26=300,12,0))))))","v":{"$error":"#N/A"}},{"$f":"INDEX(N$37:Y$61,MATCH(1,(N$37:N$61=D26)*(O$37:O$61=E26),0),IF(F26=100,3,IF(F26=150,5,IF(F26=200,7,IF(F26=250,9,IF(F26=300,11,0))))))","v":{"$error":"#N/A"}},{"$f":"INDEX(N$37:Y$61,MATCH(1,(N$37:N$61=D26)*(O$37:O$61=E26),0),IF(F26=100,4,IF(F26=150,6,IF(F26=200,8,IF(F26=250,10,IF(F26=300,12,0))))))","v":{"$error":"#N/A"}},{"$f":"INDEX(N$64:Y$88,MATCH(1,(N$64:N$88=D26)*(O$64:O$88=E26),0),IF(F26=100,3,IF(F26=150,5,IF(F26=200,7,IF(F26=250,9,IF(F26=300,11,0))))))","v":{"$error":"#N/A"}},{"$f":"INDEX(N$64:Y$88,MATCH(1,(N$64:N$88=D26)*(O$64:O$88=E26),0),IF(F26=100,4,IF(F26=150,6,IF(F26=200,8,IF(F26=250,10,IF(F26=300,12,0))))))","v":{"$error":"#N/A"}},{"$f":"INDEX(N$91:Y$115,MATCH(1,(N$91:N$115=D26)*(O$91:O$115=E26),0),IF(F26=100,3,IF(F26=150,5,IF(F26=200,7,IF(F26=250,9,IF(F26=300,11,0))))))","v":{"$error":"#N/A"}},{"$f":"INDEX(N$91:Y$115,MATCH(1,(N$91:N$115=D26)*(O$91:O$115=E26),0),IF(F26=100,4,IF(F26=150,6,IF(F26=200,8,IF(F26=250,10,IF(F26=300,12,0))))))","v":{"$error":"#N/A"}},{"$f":"INDEX(N$118:Y$142,MATCH(1,(N$118:N$142=D26)*(O$118:O$142=E26),0),IF(F26=100,3,IF(F26=150,5,IF(F26=200,7,IF(F26=250,9,IF(F26=300,11,0))))))","v":{"$error":"#N/A"}},{"$f":"INDEX(N$118:Y$142,MATCH(1,(N$118:N$142=D26)*(O$118:O$142=E26),0),IF(F26=100,4,IF(F26=150,6,IF(F26=200,8,IF(F26=250,10,IF(F26=300,12,0))))))","v":{"$error":"#N/A"}}]
[{"$f":"'UFH Guide'!A27","v":"- "},null,{"$f":"'UFH Guide'!H27","v":0},{"$f":"'UFH Guide'!E27","v":0},{"$f":"'UFH Guide'!B27","v":0},{"$f":"'UFH Guide'!I27","v":0},{"$f":"'UFH Guide'!J27","v":0},0,0,{"$f":"INDEX(A$37:L$61,MATCH(1,(A$37:A$61=D27)*(B$37:B$61=E27),0),IF(F27=100,3,IF(F27=150,5,IF(F27=200,7,IF(F27=250,9,IF(F27=300,11,0))))))","v":{"$error":"#N/A"}},{"$f":"INDEX(A$37:L$61,MATCH(1,(A$37:A$61=D27)*(B$37:B$61=E27),0),IF(F27=100,4,IF(F27=150,6,IF(F27=200,8,IF(F27=250,10,IF(F27=300,12,0))))))","v":{"$error":"#N/A"}},{"$f":"INDEX(A$64:L$88,MATCH(1,(A$64:A$88=D27)*(B$64:B$88=E27),0),IF(F27=100,3,IF(F27=150,5,IF(F27=200,7,IF(F27=250,9,IF(F27=300,11,0))))))","v":{"$error":"#N/A"}},{"$f":"INDEX(A$64:L$88,MATCH(1,(A$64:A$88=D27)*(B$64:B$88=E27),0),IF(F27=100,4,IF(F27=150,6,IF(F27=200,8,IF(F27=250,10,IF(F27=300,12,0))))))","v":{"$error":"#N/A"}},{"$f":"INDEX(A$91:L$115,MATCH(1,(A$91:A$115=D27)*(B$91:B$115=E27),0),IF(F27=100,3,IF(F27=150,5,IF(F27=200,7,IF(F27=250,9,IF(F27=300,11,0))))))","v":{"$error":"#N/A"}},{"$f":"INDEX(A$91:L$115,MATCH(1,(A$91:A$115=D27)*(B$91:B$115=E27),0),IF(F27=100,4,IF(F27=150,6,IF(F27=200,8,IF(F27=250,10,IF(F27=300,12,0))))))","v":{"$error":"#N/A"}},{"$f":"INDEX(A$118:L$142,MATCH(1,(A$118:A$142=D27)*(B$118:B$142=E27),0),IF(F27=100,3,IF(F27=150,5,IF(F27=200,7,IF(F27=250,9,IF(F27=300,11,0))))))","v":{"$error":"#N/A"}},{"$f":"INDEX(A$118:L$142,MATCH(1,(A$118:A$142=D27)*(B$118:B$142=E27),0),IF(F27=100,4,IF(F27=150,6,IF(F27=200,8,IF(F27=250,10,IF(F27=300,12,0))))))","v":{"$error":"#N/A"}},{"$f":"INDEX(N$37:Y$61,MATCH(1,(N$37:N$61=D27)*(O$37:O$61=E27),0),IF(F27=100,3,IF(F27=150,5,IF(F27=200,7,IF(F27=250,9,IF(F27=300,11,0))))))","v":{"$error":"#N/A"}},{"$f":"INDEX(N$37:Y$61,MATCH(1,(N$37:N$61=D27)*(O$37:O$61=E27),0),IF(F27=100,4,IF(F27=150,6,IF(F27=200,8,IF(F27=250,10,IF(F27=300,12,0))))))","v":{"$error":"#N/A"}},{"$f":"INDEX(N$64:Y$88,MATCH(1,(N$64:N$88=D27)*(O$64:O$88=E27),0),IF(F27=100,3,IF(F27=150,5,IF(F27=200,7,IF(F27=250,9,IF(F27=300,11,0))))))","v":{"$error":"#N/A"}},{"$f":"INDEX(N$64:Y$88,MATCH(1,(N$64:N$88=D27)*(O$64:O$88=E27),0),IF(F27=100,4,IF(F27=150,6,IF(F27=200,8,IF(F27=250,10,IF(F27=300,12,0))))))","v":{"$error":"#N/A"}},{"$f":"INDEX(N$91:Y$115,MATCH(1,(N$91:N$115=D27)*(O$91:O$115=E27),0),IF(F27=100,3,IF(F27=150,5,IF(F27=200,7,IF(F27=250,9,IF(F27=300,11,0))))))","v":{"$error":"#N/A"}},{"$f":"INDEX(N$91:Y$115,MATCH(1,(N$91:N$115=D27)*(O$91:O$115=E27),0),IF(F27=100,4,IF(F27=150,6,IF(F27=200,8,IF(F27=250,10,IF(F27=300,12,0))))))","v":{"$error":"#N/A"}},{"$f":"INDEX(N$118:Y$142,MATCH(1,(N$118:N$142=D27)*(O$118:O$142=E27),0),IF(F27=100,3,IF(F27=150,5,IF(F27=200,7,IF(F27=250,9,IF(F27=300,11,0))))))","v":{"$error":"#N/A"}},{"$f":"INDEX(N$118:Y$142,MATCH(1,(N$118:N$142=D27)*(O$118:O$142=E27),0),IF(F27=100,4,IF(F27=150,6,IF(F27=200,8,IF(F27=250,10,IF(F27=300,12,0))))))","v":{"$error":"#N/A"}}]
[{"$f":"'UFH Guide'!A28","v":"- "},null,{"$f":"'UFH Guide'!H28","v":0},{"$f":"'UFH Guide'!E28","v":0},{"$f":"'UFH Guide'!B28","v":0},{"$f":"'UFH Guide'!I28","v":0},{"$f":"'UFH Guide'!J28","v":0},0,0,{"$f":"INDEX(A$37:L$61,MATCH(1,(A$37:A$61=D28)*(B$37:B$61=E28),0),IF(F28=100,3,IF(F28=150,5,IF(F28=200,7,IF(F28=250,9,IF(F28=300,11,0))))))","v":{"$error":"#N/A"}},{"$f":"INDEX(A$37:L$61,MATCH(1,(A$37:A$61=D28)*(B$37:B$61=E28),0),IF(F28=100,4,IF(F28=150,6,IF(F28=200,8,IF(F28=250,10,IF(F28=300,12,0))))))","v":{"$error":"#N/A"}},{"$f":"INDEX(A$64:L$88,MATCH(1,(A$64:A$88=D28)*(B$64:B$88=E28),0),IF(F28=100,3,IF(F28=150,5,IF(F28=200,7,IF(F28=250,9,IF(F28=300,11,0))))))","v":{"$error":"#N/A"}},{"$f":"INDEX(A$64:L$88,MATCH(1,(A$64:A$88=D28)*(B$64:B$88=E28),0),IF(F28=100,4,IF(F28=150,6,IF(F28=200,8,IF(F28=250,10,IF(F28=300,12,0))))))","v":{"$error":"#N/A"}},{"$f":"INDEX(A$91:L$115,MATCH(1,(A$91:A$115=D28)*(B$91:B$115=E28),0),IF(F28=100,3,IF(F28=150,5,IF(F28=200,7,IF(F28=250,9,IF(F28=300,11,0))))))","v":{"$error":"#N/A"}},{"$f":"INDEX(A$91:L$115,MATCH(1,(A$91:A$115=D28)*(B$91:B$115=E28),0),IF(F28=100,4,IF(F28=150,6,IF(F28=200,8,IF(F28=250,10,IF(F28=300,12,0))))))","v":{"$error":"#N/A"}},{"$f":"INDEX(A$118:L$142,MATCH(1,(A$118:A$142=D28)*(B$118:B$142=E28),0),IF(F28=100,3,IF(F28=150,5,IF(F28=200,7,IF(F28=250,9,IF(F28=300,11,0))))))","v":{"$error":"#N/A"}},{"$f":"INDEX(A$118:L$142,MATCH(1,(A$118:A$142=D28)*(B$118:B$142=E28),0),IF(F28=100,4,IF(F28=150,6,IF(F28=200,8,IF(F28=250,10,IF(F28=300,12,0))))))","v":{"$error":"#N/A"}},{"$f":"INDEX(N$37:Y$61,MATCH(1,(N$37:N$61=D28)*(O$37:O$61=E28),0),IF(F28=100,3,IF(F28=150,5,IF(F28=200,7,IF(F28=250,9,IF(F28=300,11,0))))))","v":{"$error":"#N/A"}},{"$f":"INDEX(N$37:Y$61,MATCH(1,(N$37:N$61=D28)*(O$37:O$61=E28),0),IF(F28=100,4,IF(F28=150,6,IF(F28=200,8,IF(F28=250,10,IF(F28=300,12,0))))))","v":{"$error":"#N/A"}},{"$f":"INDEX(N$64:Y$88,MATCH(1,(N$64:N$88=D28)*(O$64:O$88=E28),0),IF(F28=100,3,IF(F28=150,5,IF(F28=200,7,IF(F28=250,9,IF(F28=300,11,0))))))","v":{"$error":"#N/A"}},{"$f":"INDEX(N$64:Y$88,MATCH(1,(N$64:N$88=D28)*(O$64:O$88=E28),0),IF(F28=100,4,IF(F28=150,6,IF(F28=200,8,IF(F28=250,10,IF(F28=300,12,0))))))","v":{"$error":"#N/A"}},{"$f":"INDEX(N$91:Y$115,MATCH(1,(N$91:N$115=D28)*(O$91:O$115=E28),0),IF(F28=100,3,IF(F28=150,5,IF(F28=200,7,IF(F28=250,9,IF(F28=300,11,0))))))","v":{"$error":"#N/A"}},{"$f":"INDEX(N$91:Y$115,MATCH(1,(N$91:N$115=D28)*(O$91:O$115=E28),0),IF(F28=100,4,IF(F28=150,6,IF(F28=200,8,IF(F28=250,10,IF(F28=300,12,0))))))","v":{"$error":"#N/A"}},{"$f":"INDEX(N$118:Y$142,MATCH(1,(N$118:N$142=D28)*(O$118:O$142=E28),0),IF(F28=100,3,IF(F28=150,5,IF(F28=200,7,IF(F28=250,9,IF(F28=300,11,0))))))","v":{"$error":"#N/A"}},{"$f":"INDEX(N$118:Y$142,MATCH(1,(N$118:N$142=D28)*(O$118:O$142=E28),0),IF(F28=100,4,IF(F28=150,6,IF(F28=200,8,IF(F28=250,10,IF(F28=300,12,0))))))","v":{"$error":"#N/A"}}]
[{"$f":"'UFH Guide'!A29","v":"- "},null,{"$f":"'UFH Guide'!H29","v":0},{"$f":"'UFH Guide'!E29","v":0},{"$f":"'UFH Guide'!B29","v":0},{"$f":"'UFH Guide'!I29","v":0},{"$f":"'UFH Guide'!J29","v":0},0,0,{"$f":"INDEX(A$37:L$61,MATCH(1,(A$37:A$61=D29)*(B$37:B$61=E29),0),IF(F29=100,3,IF(F29=150,5,IF(F29=200,7,IF(F29=250,9,IF(F29=300,11,0))))))","v":{"$error":"#N/A"}},{"$f":"INDEX(A$37:L$61,MATCH(1,(A$37:A$61=D29)*(B$37:B$61=E29),0),IF(F29=100,4,IF(F29=150,6,IF(F29=200,8,IF(F29=250,10,IF(F29=300,12,0))))))","v":{"$error":"#N/A"}},{"$f":"INDEX(A$64:L$88,MATCH(1,(A$64:A$88=D29)*(B$64:B$88=E29),0),IF(F29=100,3,IF(F29=150,5,IF(F29=200,7,IF(F29=250,9,IF(F29=300,11,0))))))","v":{"$error":"#N/A"}},{"$f":"INDEX(A$64:L$88,MATCH(1,(A$64:A$88=D29)*(B$64:B$88=E29),0),IF(F29=100,4,IF(F29=150,6,IF(F29=200,8,IF(F29=250,10,IF(F29=300,12,0))))))","v":{"$error":"#N/A"}},{"$f":"INDEX(A$91:L$115,MATCH(1,(A$91:A$115=D29)*(B$91:B$115=E29),0),IF(F29=100,3,IF(F29=150,5,IF(F29=200,7,IF(F29=250,9,IF(F29=300,11,0))))))","v":{"$error":"#N/A"}},{"$f":"INDEX(A$91:L$115,MATCH(1,(A$91:A$115=D29)*(B$91:B$115=E29),0),IF(F29=100,4,IF(F29=150,6,IF(F29=200,8,IF(F29=250,10,IF(F29=300,12,0))))))","v":{"$error":"#N/A"}},{"$f":"INDEX(A$118:L$142,MATCH(1,(A$118:A$142=D29)*(B$118:B$142=E29),0),IF(F29=100,3,IF(F29=150,5,IF(F29=200,7,IF(F29=250,9,IF(F29=300,11,0))))))","v":{"$error":"#N/A"}},{"$f":"INDEX(A$118:L$142,MATCH(1,(A$118:A$142=D29)*(B$118:B$142=E29),0),IF(F29=100,4,IF(F29=150,6,IF(F29=200,8,IF(F29=250,10,IF(F29=300,12,0))))))","v":{"$error":"#N/A"}},{"$f":"INDEX(N$37:Y$61,MATCH(1,(N$37:N$61=D29)*(O$37:O$61=E29),0),IF(F29=100,3,IF(F29=150,5,IF(F29=200,7,IF(F29=250,9,IF(F29=300,11,0))))))","v":{"$error":"#N/A"}},{"$f":"INDEX(N$37:Y$61,MATCH(1,(N$37:N$61=D29)*(O$37:O$61=E29),0),IF(F29=100,4,IF(F29=150,6,IF(F29=200,8,IF(F29=250,10,IF(F29=300,12,0))))))","v":{"$error":"#N/A"}},{"$f":"INDEX(N$64:Y$88,MATCH(1,(N$64:N$88=D29)*(O$64:O$88=E29),0),IF(F29=100,3,IF(F29=150,5,IF(F29=200,7,IF(F29=250,9,IF(F29=300,11,0))))))","v":{"$error":"#N/A"}},{"$f":"INDEX(N$64:Y$88,MATCH(1,(N$64:N$88=D29)*(O$64:O$88=E29),0),IF(F29=100,4,IF(F29=150,6,IF(F29=200,8,IF(F29=250,10,IF(F29=300,12,0))))))","v":{"$error":"#N/A"}},{"$f":"INDEX(N$91:Y$115,MATCH(1,(N$91:N$115=D29)*(O$91:O$115=E29),0),IF(F29=100,3,IF(F29=150,5,IF(F29=200,7,IF(F29=250,9,IF(F29=300,11,0))))))","v":{"$error":"#N/A"}},{"$f":"INDEX(N$91:Y$115,MATCH(1,(N$91:N$115=D29)*(O$91:O$115=E29),0),IF(F29=100,4,IF(F29=150,6,IF(F29=200,8,IF(F29=250,10,IF(F29=300,12,0))))))","v":{"$error":"#N/A"}},{"$f":"INDEX(N$118:Y$142,MATCH(1,(N$118:N$142=D29)*(O$118:O$142=E29),0),IF(F29=100,3,IF(F29=150,5,IF(F29=200,7,IF(F29=250,9,IF(F29=300,11,0))))))","v":{"$error":"#N/A"}},{"$f":"INDEX(N$118:Y$142,MATCH(1,(N$118:N$142=D29)*(O$118:O$142=E29),0),IF(F29=100,4,IF(F29=150,6,IF(F29=200,8,IF(F29=250,10,IF(F29=300,12,0))))))","v":{"$error":"#N/A"}}]
[{"$f":"'UFH Guide'!A30","v":"- "},null,{"$f":"'UFH Guide'!H30","v":0},{"$f":"'UFH Guide'!E30","v":0},{"$f":"'UFH Guide'!B30","v":0},{"$f":"'UFH Guide'!I30","v":0},{"$f":"'UFH Guide'!J30","v":0},0,0,{"$f":"INDEX(A$37:L$61,MATCH(1,(A$37:A$61=D30)*(B$37:B$61=E30),0),IF(F30=100,3,IF(F30=150,5,IF(F30=200,7,IF(F30=250,9,IF(F30=300,11,0))))))","v":{"$error":"#N/A"}},{"$f":"INDEX(A$37:L$61,MATCH(1,(A$37:A$61=D30)*(B$37:B$61=E30),0),IF(F30=100,4,IF(F30=150,6,IF(F30=200,8,IF(F30=250,10,IF(F30=300,12,0))))))","v":{"$error":"#N/A"}},{"$f":"INDEX(A$64:L$88,MATCH(1,(A$64:A$88=D30)*(B$64:B$88=E30),0),IF(F30=100,3,IF(F30=150,5,IF(F30=200,7,IF(F30=250,9,IF(F30=300,11,0))))))","v":{"$error":"#N/A"}},{"$f":"INDEX(A$64:L$88,MATCH(1,(A$64:A$88=D30)*(B$64:B$88=E30),0),IF(F30=100,4,IF(F30=150,6,IF(F30=200,8,IF(F30=250,10,IF(F30=300,12,0))))))","v":{"$error":"#N/A"}},{"$f":"INDEX(A$91:L$115,MATCH(1,(A$91:A$115=D30)*(B$91:B$115=E30),0),IF(F30=100,3,IF(F30=150,5,IF(F30=200,7,IF(F30=250,9,IF(F30=300,11,0))))))","v":{"$error":"#N/A"}},{"$f":"INDEX(A$91:L$115,MATCH(1,(A$91:A$115=D30)*(B$91:B$115=E30),0),IF(F30=100,4,IF(F30=150,6,IF(F30=200,8,IF(F30=250,10,IF(F30=300,12,0))))))","v":{"$error":"#N/A"}},{"$f":"INDEX(A$118:L$142,MATCH(1,(A$118:A$142=D30)*(B$118:B$142=E30),0),IF(F30=100,3,IF(F30=150,5,IF(F30=200,7,IF(F30=250,9,IF(F30=300,11,0))))))","v":{"$error":"#N/A"}},{"$f":"INDEX(A$118:L$142,MATCH(1,(A$118:A$142=D30)*(B$118:B$142=E30),0),IF(F30=100,4,IF(F30=150,6,IF(F30=200,8,IF(F30=250,10,IF(F30=300,12,0))))))","v":{"$error":"#N/A"}},{"$f":"INDEX(N$37:Y$61,MATCH(1,(N$37:N$61=D30)*(O$37:O$61=E30),0),IF(F30=100,3,IF(F30=150,5,IF(F30=200,7,IF(F30=250,9,IF(F30=300,11,0))))))","v":{"$error":"#N/A"}},{"$f":"INDEX(N$37:Y$61,MATCH(1,(N$37:N$61=D30)*(O$37:O$61=E30),0),IF(F30=100,4,IF(F30=150,6,IF(F30=200,8,IF(F30=250,10,IF(F30=300,12,0))))))","v":{"$error":"#N/A"}},{"$f":"INDEX(N$64:Y$88,MATCH(1,(N$64:N$88=D30)*(O$64:O$88=E30),0),IF(F30=100,3,IF(F30=150,5,IF(F30=200,7,IF(F30=250,9,IF(F30=300,11,0))))))","v":{"$error":"#N/A"}},{"$f":"INDEX(N$64:Y$88,MATCH(1,(N$64:N$88=D30)*(O$64:O$88=E30),0),IF(F30=100,4,IF(F30=150,6,IF(F30=200,8,IF(F30=250,10,IF(F30=300,12,0))))))","v":{"$error":"#N/A"}},{"$f":"INDEX(N$91:Y$115,MATCH(1,(N$91:N$115=D30)*(O$91:O$115=E30),0),IF(F30=100,3,IF(F30=150,5,IF(F30=200,7,IF(F30=250,9,IF(F30=300,11,0))))))","v":{"$error":"#N/A"}},{"$f":"INDEX(N$91:Y$115,MATCH(1,(N$91:N$115=D30)*(O$91:O$115=E30),0),IF(F30=100,4,IF(F30=150,6,IF(F30=200,8,IF(F30=250,10,IF(F30=300,12,0))))))","v":{"$error":"#N/A"}},{"$f":"INDEX(N$118:Y$142,MATCH(1,(N$118:N$142=D30)*(O$118:O$142=E30),0),IF(F30=100,3,IF(F30=150,5,IF(F30=200,7,IF(F30=250,9,IF(F30=300,11,0))))))","v":{"$error":"#N/A"}},{"$f":"INDEX(N$118:Y$142,MATCH(1,(N$118:N$142=D30)*(O$118:O$142=E30),0),IF(F30=100,4,IF(F30=150,6,IF(F30=200,8,IF(F30=250,10,IF(F30=300,12,0))))))","v":{"$error":"#N/A"}}]
[{"$f":"'UFH Guide'!A31","v":"- "},null,{"$f":"'UFH Guide'!H31","v":0},{"$f":"'UFH Guide'!E31","v":0},{"$f":"'UFH Guide'!B31","v":0},{"$f":"'UFH Guide'!I31","v":0},{"$f":"'UFH Guide'!J31","v":0},0,0,{"$f":"INDEX(A$37:L$61,MATCH(1,(A$37:A$61=D31)*(B$37:B$61=E31),0),IF(F31=100,3,IF(F31=150,5,IF(F31=200,7,IF(F31=250,9,IF(F31=300,11,0))))))","v":{"$error":"#N/A"}},{"$f":"INDEX(A$37:L$61,MATCH(1,(A$37:A$61=D31)*(B$37:B$61=E31),0),IF(F31=100,4,IF(F31=150,6,IF(F31=200,8,IF(F31=250,10,IF(F31=300,12,0))))))","v":{"$error":"#N/A"}},{"$f":"INDEX(A$64:L$88,MATCH(1,(A$64:A$88=D31)*(B$64:B$88=E31),0),IF(F31=100,3,IF(F31=150,5,IF(F31=200,7,IF(F31=250,9,IF(F31=300,11,0))))))","v":{"$error":"#N/A"}},{"$f":"INDEX(A$64:L$88,MATCH(1,(A$64:A$88=D31)*(B$64:B$88=E31),0),IF(F31=100,4,IF(F31=150,6,IF(F31=200,8,IF(F31=250,10,IF(F31=300,12,0))))))","v":{"$error":"#N/A"}},{"$f":"INDEX(A$91:L$115,MATCH(1,(A$91:A$115=D31)*(B$91:B$115=E31),0),IF(F31=100,3,IF(F31=150,5,IF(F31=200,7,IF(F31=250,9,IF(F31=300,11,0))))))","v":{"$error":"#N/A"}},{"$f":"INDEX(A$91:L$115,MATCH(1,(A$91:A$115=D31)*(B$91:B$115=E31),0),IF(F31=100,4,IF(F31=150,6,IF(F31=200,8,IF(F31=250,10,IF(F31=300,12,0))))))","v":{"$error":"#N/A"}},{"$f":"INDEX(A$118:L$142,MATCH(1,(A$118:A$142=D31)*(B$118:B$142=E31),0),IF(F31=100,3,IF(F31=150,5,IF(F31=200,7,IF(F31=250,9,IF(F31=300,11,0))))))","v":{"$error":"#N/A"}},{"$f":"INDEX(A$118:L$142,MATCH(1,(A$118:A$142=D31)*(B$118:B$142=E31),0),IF(F31=100,4,IF(F31=150,6,IF(F31=200,8,IF(F31=250,10,IF(F31=300,12,0))))))","v":{"$error":"#N/A"}},{"$f":"INDEX(N$37:Y$61,MATCH(1,(N$37:N$61=D31)*(O$37:O$61=E31),0),IF(F31=100,3,IF(F31=150,5,IF(F31=200,7,IF(F31=250,9,IF(F31=300,11,0))))))","v":{"$error":"#N/A"}},{"$f":"INDEX(N$37:Y$61,MATCH(1,(N$37:N$61=D31)*(O$37:O$61=E31),0),IF(F31=100,4,IF(F31=150,6,IF(F31=200,8,IF(F31=250,10,IF(F31=300,12,0))))))","v":{"$error":"#N/A"}},{"$f":"INDEX(N$64:Y$88,MATCH(1,(N$64:N$88=D31)*(O$64:O$88=E31),0),IF(F31=100,3,IF(F31=150,5,IF(F31=200,7,IF(F31=250,9,IF(F31=300,11,0))))))","v":{"$error":"#N/A"}},{"$f":"INDEX(N$64:Y$88,MATCH(1,(N$64:N$88=D31)*(O$64:O$88=E31),0),IF(F31=100,4,IF(F31=150,6,IF(F31=200,8,IF(F31=250,10,IF(F31=300,12,0))))))","v":{"$error":"#N/A"}},{"$f":"INDEX(N$91:Y$115,MATCH(1,(N$91:N$115=D31)*(O$91:O$115=E31),0),IF(F31=100,3,IF(F31=150,5,IF(F31=200,7,IF(F31=250,9,IF(F31=300,11,0))))))","v":{"$error":"#N/A"}},{"$f":"INDEX(N$91:Y$115,MATCH(1,(N$91:N$115=D31)*(O$91:O$115=E31),0),IF(F31=100,4,IF(F31=150,6,IF(F31=200,8,IF(F31=250,10,IF(F31=300,12,0))))))","v":{"$error":"#N/A"}},{"$f":"INDEX(N$118:Y$142,MATCH(1,(N$118:N$142=D31)*(O$118:O$142=E31),0),IF(F31=100,3,IF(F31=150,5,IF(F31=200,7,IF(F31=250,9,IF(F31=300,11,0))))))","v":{"$error":"#N/A"}},{"$f":"INDEX(N$118:Y$142,MATCH(1,(N$118:N$142=D31)*(O$118:O$142=E31),0),IF(F31=100,4,IF(F31=150,6,IF(F31=200,8,IF(F31=250,10,IF(F31=300,12,0))))))","v":{"$error":"#N/A"}}]
[]
[]
["16mm",null,null,null,null,null,null,null,null,null,null,null,null,"20mm"]
[0,"W/(m2xK)",100,null,150,null,200,null,250,null,300,null,null,0,"W/(m2xK)",100,null,150,null,200,null,250,null,300]
["Flow temp ","Room temp","Output (W/m2)","surface temp","Output (W/m2)","surface temp","Output (W/m2)","surface temp","Output (W/m2)","surface temp","Output (W/m2)","surface temp",null,"Flow temp ","Room temp","Output (W/m2)","surface temp","Output (W/m2)","surface temp","Output (W/m2)","surface temp","Output (W/m2)","surface temp","Output (W/m2)","surface temp"]
[35,15,100.3,24,86.4,22.9,74.900000000000006,21.9,64.900000000000006,21.1,56.4,20.3,null,35,15]
[35,18,80.2,25.4,69.099999999999994,24.4,59.9,23.6,51.9,23,45.1,22.4,null,35,18]
[35,20,66.8,26.2,57.6,25.5,49.9,24.8,43.3,24.2,37.6,23.6,null,35,20]
[35,22,53.5,27.1,46.1,26.5,39.9,25.9,34.6,25.4,30.1,25,null,35,22]
[35,24,40.1,27.9,34.6,27.4,29.9,27,26,26.6,22.6,26.3,null,35,24]
[40,15,133.69999999999999,26.7,115.2,25.2,99.8,24,86.5,22.9,75.2,21.9,null,40,15]
[40,18,113.6,28.1,97.9,26.8,84.8,25.7,73.5,24.8,63.9,24,null,40,18]
[40,20,100.3,29,86.4,27.9,74.900000000000006,26.9,64.900000000000006,26.1,56.4,25.3,null,40,20]
[40,22,86.9,29.9,74.900000000000006,28.9,64.900000000000006,28.1,56.2,27.3,48.9,26.7,null,40,22]
[40,24,73.5,30.8,63.4,29.9,54.9,29.2,47.6,28.6,41.4,28,null,40,24]
[45,15,167.1,29.4,144,27.5,124.8,26,108.2,24.7,94,23.5,null,45,15]
[45,18,147,30.8,126.7,29.2,109.8,27.8,95.2,26.6,82.7,25.6,null,45,18]
[45,20,133.69999999999999,31.7,115.2,30.2,99.8,29,86.5,27.9,75.2,26.9,null,45,20]
[45,22,120.3,32.6,103.7,31.3,89.8,30.2,77.900000000000006,29.2,67.7,28.3,null,45,22]
[45,24,106.9,33.6,92.2,32.4,79.8,31.3,69.2,30.4,60.2,29.7,null,45,24]
[50,15,200.5,31.9,172.8,29.8,149.69999999999999,28,129.80000000000001,26.4,112.8,25,null,50,15]
[50,18,180.5,33.4,155.5,31.4,134.69999999999999,29.8,116.8,28.4,101.5,27.1,null,50,18]
[50,20,167.1,34.4,144,32.5,124.8,31,108.2,29.7,94,28.5,null,50,20]
[50,22,153.69999999999999,35.299999999999997,132.5,33.6,114.8,32.200000000000003,99.5,31,86.5,29.9,null,50,22]
[50,24,140.4,36.299999999999997,121,34.700000000000003,104.8,33.4,90.8,32.200000000000003,79,31.3,null,50,24]
[55,15,233.9,34.5,201.6,32,174.7,29.9,151.4,28.1,131.6,26.6,null,55,15]
[55,18,213.9,36,184.4,33.700000000000003,159.69999999999999,31.8,138.4,30.1,120.4,28.7,null,55,18]
[55,20,200.5,36.9,172.8,34.799999999999997,149.69999999999999,33,129.80000000000001,31.4,112.8,30,null,55,20]
[55,22,187.2,37.9,161.30000000000001,35.9,139.69999999999999,34.200000000000003,121.1,32.700000000000003,105.3,31.4,null,55,22]
[55,24,173.8,38.9,149.80000000000001,37,129.69999999999999,35.4,112.5,34,97.8,32.799999999999997,null,55,24]
[0.05,"W/(m2xK)",null,null,null,null,null,null,null,null,null,null,null,0.05,"W/(m2xK)"]
["Flow temp ","Room temp","Output (W/m2)","surface temp","Output (W/m2)","surface temp","Output (W/m2)","surface temp","Output (W/m2)","surface temp","Output (W/m2)","surface temp",null,"Flow temp ","Room temp","Output (W/m2)","surface temp","Output (W/m2)","surface temp","Output (W/m2)","surface temp","Output (W/m2)","surface temp","Output (W/m2)","surface temp"]
[35,15,73.599999999999994,21.8,65,21.1,57.6,20.5,51.1,19.899999999999999,45.4,19.399999999999999,null,35,15]
[35,18,58.8,23.6,52,23,46.1,22.5,40.9,22,36.299999999999997,21.6,null,35,18]
[35,20,49,24.7,43.3,24.2,38.4,23.8,34.1,23.4,30.3,23,null,35,20]
[35,22,39.200000000000003,25.8,34.700000000000003,25.4,30.7,25.1,27.2,24.8,24.2,24.5,null,35,22]
[35,24,29.4,27,26,26.6,23,26.4,20.399999999999999,26.1,18.2,25.9,null,35,24]
[40,15,98.1,23.8,86.7,22.9,76.8,22.1,68.099999999999994,21.3,60.5,20.7,null,40,15]
[40,18,83.4,25.6,73.7,24.8,65.3,24.1,57.9,23.5,51.5,22.9,null,40,18]
[40,20,73.599999999999994,26.8,65,26.1,57.6,25.5,51.1,24.9,45.4,24.4,null,40,20]
[40,22,63.8,28,56.3,27.3,49.9,26.8,44.3,26.3,39.4,25.9,null,40,22]
[40,24,53.9,29.1,47.7,28.6,42.3,28.1,37.5,27.7,33.299999999999997,27.3,null,40,24]
[45,15,122.6,25.8,108.4,24.7,96,23.7,85.2,22.8,75.7,22,null,45,15]
[45,18,107.9,27.7,95.3,26.6,84.5,25.7,74.900000000000006,24.9,66.599999999999994,24.2,null,45,18]
[45,20,98.1,28.8,86.7,27.9,76.8,27.1,68.099999999999994,26.3,60.5,25.7,null,45,20]
[45,22,88.3,30,78,29.2,69.099999999999994,28.4,61.3,27.8,54.5,27.2,null,45,22]
[45,24,78.5,31.2,69.3,30.4,61.5,29.8,54.5,29.2,48.4,28.7,null,45,24]
[50,15,147.1,27.8,130,26.4,115.2,25.2,102.2,24.2,90.8,23.2,null,50,15]
[50,18,132.4,29.6,117,28.4,103.7,27.3,92,26.3,81.7,25.5,null,50,18]
[50,20,122.6,30.8,108.4,29.7,96,28.7,85.2,27.8,75.7,27,null,50,20]
[50,22,112.8,32,99.7,31,88.3,30,78.3,29.2,69.599999999999994,28.5,null,50,22]
[50,24,103,33.200000000000003,91,32.299999999999997,80.7,31.4,71.5,30.6,63.6,30,null,50,24]
[55,15,171.6,29.7,151.69999999999999,28.1,134.4,26.8,119.2,25.6,105.9,24.5,null,55,15]
[55,18,156.9,31.6,138.69999999999999,30.1,122.9,28.9,109,27.7,96.9,26.7,null,55,18]
[55,20,147.1,32.799999999999997,130,31.4,115.2,30.2,102.2,29.2,90.8,28.2,null,55,20]
[55,22,137.30000000000001,34,121.4,32.700000000000003,107.5,31.6,95.4,30.6,84.8,29.7,null,55,22]
[55,24,127.5,35.200000000000003,112.7,34,99.9,33,88.6,32.1,78.7,31.2,null,55,24]
[0.1,"W/(m2xK)",null,null,null,null,null,null,null,null,null,null,null,0.1,"W/(m2xK)"]
["Flow temp ","Room temp","Output (W/m2)","surface temp","Output (W/m2)","surface temp","Output (W/m2)","surface temp","Output (W/m2)","surface temp","Output (W/m2)","surface temp",null,"Flow temp ","Room temp","Output (W/m2)","surface temp","Output (W/m2)","surface temp","Output (W/m2)","surface temp","Output (W/m2)","surface temp","Output (W/m2)","surface temp"]
[35,15,58.3,20.5,52.5,20,47.4,19.600000000000001,42.8,19.2,38.799999999999997,18.8,null,35,15]
[35,18,46.6,22.5,42,22.1,37.9,21.7,34.299999999999997,21.4,31,21.1,null,35,18]
[35,20,38.9,23.8,35,23.5,31.6,23.2,28.6,22.9,25.8,22.6,null,35,20]
[35,22,31.1,25.1,28,24.8,25.3,24.6,22.8,24.3,20.7,24.1,null,35,22]
[35,24,23.3,26.4,21,26.2,19,26,17.100000000000001,25.8,15.5,25.7,null,35,24]
[40,15,77.7,22.2,70.099999999999994,21.5,63.2,20.9,57.1,20.399999999999999,51.7,19.899999999999999,null,40,15]
[40,18,66,24.2,59.6,23.6,53.8,23.1,48.5,22.7,43.9,22.3,null,40,18]
[40,20,58.3,25.5,52.5,25,47.4,24.6,42.8,24.2,38.799999999999997,23.8,null,40,20]
[40,22,50.5,26.8,45.5,26.4,41.1,26,37.1,25.7,33.6,25.3,null,40,22]
[40,24,42.7,28.2,38.5,27.8,34.799999999999997,27.4,31.4,27.1,28.4,26.9,null,40,24]
[45,15,97.1,23.8,87.6,23,79.099999999999994,22.3,71.400000000000006,21.6,64.599999999999994,21,null,45,15]
[45,18,85.5,25.8,77.099999999999994,25.1,69.599999999999994,24.5,62.8,23.9,56.8,23.4,null,45,18]
[45,20,77.7,27.2,70.099999999999994,26.5,63.2,25.9,57.1,25.4,51.7,24.9,null,45,20]
[45,22,69.900000000000006,28.5,63.1,27.9,56.9,27.4,51.4,26.9,46.5,26.5,null,45,22]
[45,24,62.2,29.8,56,29.3,50.6,28.8,45.7,28.4,41.3,28,null,45,24]
[50,15,116.6,25.3,105.1,24.4,94.9,23.6,85.7,22.8,77.5,22.1,null,50,15]
[50,18,104.9,27.4,94.6,26.6,85.4,25.8,77.099999999999994,25.1,69.8,24.5,null,50,18]
[50,20,97.1,28.8,87.6,28,79.099999999999994,27.3,71.400000000000006,26.6,64.599999999999994,26,null,50,20]
[50,22,89.4,30.1,80.599999999999994,29.4,72.7,28.7,65.7,28.1,59.4,27.6,null,50,22]
[50,24,81.599999999999994,31.5,73.599999999999994,30.8,66.400000000000006,30.2,60,29.7,54.3,29.2,null,50,24]
[55,15,136,26.9,122.6,25.8,110.7,24.9,99.9,24,90.4,23.2,null,55,15]
[55,18,124.3,29,112.1,28,101.2,27.1,91.4,26.3,82.7,25.6,null,55,18]
[55,20,116.6,30.3,105.1,29.4,94.9,28.6,85.7,27.8,77.5,27.1,null,55,20]
[55,22,108.8,31.7,98.1,30.8,88.5,30.1,79.900000000000006,29.3,72.400000000000006,28.7,null,55,22]
[55,24,101,33.1,91.1,32.299999999999997,82.2,31.5,74.2,30.9,67.2,30.3,null,55,24]
[0.15,"W/(m2xK)",null,null,null,null,null,null,null,null,null,null,null,0.15,"W/(m2xK)"]
["Flow temp ","Room temp","Output (W/m2)","surface temp","Output (W/m2)","surface temp","Output (W/m2)","surface temp","Output (W/m2)","surface temp","Output (W/m2)","surface temp",null,"Flow temp ","Room temp","Output (W/m2)","surface temp","Output (W/m2)","surface temp","Output (W/m2)","surface temp","Output (W/m2)","surface temp","Output (W/m2)","surface temp"]
[35,15,48.4,19.7,44.2,19.3,40.4,18.899999999999999,37,18.600000000000001,33.9,18.399999999999999,null,35,15]
[35,18,38.700000000000003,21.8,35.4,21.5,32.299999999999997,21.2,29.6,21,27.1,20.7,null,35,18]
[35,20,32.200000000000003,23.2,29.5,23,27,22.7,24.7,22.5,22.6,22.3,null,35,20]
[35,22,25.8,24.6,23.6,24.4,21.6,24.2,19.7,24.1,18.100000000000001,23.9,null,35,22]
[35,24,19.3,26,17.7,25.9,16.2,25.7,14.8,25.6,13.6,25.5,null,35,24]
[40,15,64.5,21,59,20.6,53.9,20.100000000000001,49.3,19.7,45.2,19.399999999999999,null,40,15]
[40,18,54.8,23.2,50.1,22.8,45.8,22.4,41.9,22.1,38.4,21.8,null,40,18]
[40,20,48.4,24.7,44.2,24.3,40.4,23.9,37,23.6,33.9,23.4,null,40,20]
[40,22,41.9,26.1,38.299999999999997,25.8,35,25.5,32,25.2,29.4,25,null,40,22]
[40,24,35.5,27.5,32.4,27.2,29.6,27,27.1,26.7,24.8,26.5,null,40,24]
[45,15,80.599999999999994,22.4,73.7,21.8,67.400000000000006,21.3,61.6,20.8,56.5,20.399999999999999,null,45,15]
[45,18,70.900000000000006,24.6,64.900000000000006,24.1,59.3,23.6,54.2,23.2,49.7,22.8,null,45,18]
[45,20,64.5,26,59,25.6,53.9,25.1,49.3,24.7,45.2,24.4,null,45,20]
[45,22,58,27.5,53.1,27.1,48.5,26.7,44.4,26.3,40.700000000000003,26,null,45,22]
[45,24,51.6,28.9,47.2,28.5,43.1,28.2,39.4,27.9,36.1,27.6,null,45,24]
[50,15,96.7,23.7,88.4,23,80.900000000000006,22.4,74,21.8,67.8,21.3,null,50,15]
[50,18,87,25.9,79.599999999999994,25.3,72.8,24.7,66.599999999999994,24.2,61,23.7,null,50,18]
[50,20,80.599999999999994,27.4,73.7,26.8,67.400000000000006,26.3,61.6,25.8,56.5,25.4,null,50,20]
[50,22,74.2,28.9,67.8,28.3,62,27.8,56.7,27.4,52,27,null,50,22]
[50,24,67.7,30.3,61.9,29.8,56.6,29.4,51.8,28.9,47.4,28.6,null,50,24]
[55,15,112.8,25,103.2,24.3,94.3,23.5,86.3,22.9,79.099999999999994,22.3,null,55,15]
[55,18,103.2,27.3,94.3,26.5,86.2,25.9,78.900000000000006,25.3,72.3,24.7,null,55,18]
[55,20,96.7,28.7,88.4,28,80.900000000000006,27.4,74,26.8,67.8,26.3,null,55,20]
[55,22,90.3,30.2,82.5,29.6,75.5,29,69,28.4,63.3,27.9,null,55,22]
[55,24,83.8,31.7,76.599999999999994,31.1,70.099999999999994,30.5,64.099999999999994,30,58.7,29.5,null,55,24]

{"sheet":"Suspended","index":26,"n_rows":142,"n_cols":25,"rows_kept":142,"cut":false,"hidden":true,"merged":[[34,15,34,16],[34,17,34,18],[34,19,34,20],[34,21,34,22],[34,23,34,24],[28,0,28,1],[29,0,29,1],[30,0,30,1],[33,0,33,11],[33,13,33,24],[34,2,34,3],[34,4,34,5],[34,6,34,7],[34,8,34,9],[34,10,34,11],[27,0,27,1],[16,0,16,1],[17,0,17,1],[18,0,18,1],[19,0,19,1],[20,0,20,1],[21,0,21,1],[22,0,22,1],[23,0,23,1],[24,0,24,1],[25,0,25,1],[26,0,26,1],[15,0,15,1],[4,0,4,1],[5,0,5,1],[6,0,6,1],[7,0,7,1],[8,0,8,1],[9,0,9,1],[10,0,10,1],[11,0,11,1],[12,0,12,1],[13,0,13,1],[14,0,14,1],[0,19,0,20],[0,21,0,22],[0,23,0,24],[1,0,1,1],[2,0,2,1],[0,15,0,16],[0,17,0,18],[3,0,3,1],[0,0,0,1],[0,9,0,10],[0,11,0,12],[0,13,0,14]]}
["Suspended (HEP)",null,"Pipe size","Flow temp","Room Temp","Pipe spacing","Floor Covering","Output (W/m2)","Surface Temp (°C)","0.00/16mm",null,"0.05/16mm",null,"0.1/16mm",null,"0.15/16mm",null,"0/20mm",null,"0.05/20mm",null,"0.1/20mm",null,"0.15/20mm"]
[{"$f":"'UFH Guide'!A2","v":"Living "},null,{"$f":"'UFH Guide'!H2","v":0},{"$f":"'UFH Guide'!E2","v":0},{"$f":"'UFH Guide'!B2","v":0},{"$f":"'UFH Guide'!I2","v":0},{"$f":"'UFH Guide'!J2","v":0},{"$f":"IF(AND($G2=0,$C2=16),J2,IF(AND($G2=0,$C2=20),R2,IF(AND($G2=0.05,$C2=16),L2,IF(AND($G2=0.05,$C2=20),T2,IF(AND($G2=0.1,$C2=16),N2,IF(AND($G2=0.1,$C2=20),V2,IF(AND($G2=0.2,$C2=16),P2,IF(AND($G2=0.2,$C2=20),X2,0))))))))","v":0},{"$f":"IF(AND($G2=0,$C2=16),K2,IF(AND($G2=0,$C2=20),S2,IF(AND($G2=0.05,$C2=16),M2,IF(AND($G2=0.05,$C2=20),U2,IF(AND($G2=0.1,$C2=16),O2,IF(AND($G2=0.1,$C2=20),W2,IF(AND($G2=0.2,$C2=16),Q2,IF(AND($G2=0.2,$C2=20),Y2,0))))))))","v":0},{"$f":"INDEX(A$37:L$61,MATCH(1,(A$37:A$61=D2)*(B$37:B$61=E2),0),IF(F2=100,3,IF(F2=150,5,IF(F2=200,7,IF(F2=250,9,IF(F2=300,11,0))))))","v":{"$error":"#N/A"}},{"$f":"INDEX(A$37:L$61,MATCH(1,(A$37:A$61=D2)*(B$37:B$61=E2),0),IF(F2=100,4,IF(F2=150,6,IF(F2=200,8,IF(F2=250,10,IF(F2=300,12,0))))))","v":{"$error":"#N/A"}},{"$f":"INDEX(A$64:L$88,MATCH(1,(A$64:A$88=D2)*(B$64:B$88=E2),0),IF(F2=100,3,IF(F2=150,5,IF(F2=200,7,IF(F2=250,9,IF(F2=300,11,0))))))","v":{"$error":"#N/A"}},{"$f":"INDEX(A$64:L$88,MATCH(1,(A$64:A$88=D2)*(B$64:B$88=E2),0),IF(F2=100,4,IF(F2=150,6,IF(F2=200,8,IF(F2=250,10,IF(F2=300,12,0))))))","v":{"$error":"#N/A"}},{"$f":"INDEX(A$91:L$115,MATCH(1,(A$91:A$115=D2)*(B$91:B$115=E2),0),IF(F2=100,3,IF(F2=150,5,IF(F2=200,7,IF(F2=250,9,IF(F2=300,11,0))))))","v":{"$error":"#N/A"}},{"$f":"INDEX(A$91:L$115,MATCH(1,(A$91:A$115=D2)*(B$91:B$115=E2),0),IF(F2=100,4,IF(F2=150,6,IF(F2=200,8,IF(F2=250,10,IF(F2=300,12,0))))))","v":{"$error":"#N/A"}},{"$f":"INDEX(A$118:L$142,MATCH(1,(A$118:A$142=D2)*(B$118:B$142=E2),0),IF(F2=100,3,IF(F2=150,5,IF(F2=200,7,IF(F2=250,9,IF(F2=300,11,0))))))","v":{"$error":"#N/A"}},{"$f":"INDEX(A$118:L$142,MATCH(1,(A$118:A$142=D2)*(B$118:B$142=E2),0),IF(F2=100,4,IF(F2=150,6,IF(F2=200,8,IF(F2=250,10,IF(F2=300,12,0))))))","v":{"$error":"#N/A"}},{"$f":"INDEX(N$37:Y$61,MATCH(1,(N$37:N$61=D2)*(O$37:O$61=E2),0),IF(F2=100,3,IF(F2=150,5,IF(F2=200,7,IF(F2=250,9,IF(F2=300,11,0))))))","v":{"$error":"#N/A"}},{"$f":"INDEX(N$37:Y$61,MATCH(1,(N$37:N$61=D2)*(O$37:O$61=E2),0),IF(F2=100,4,IF(F2=150,6,IF(F2=200,8,IF(F2=250,10,IF(F2=300,12,0))))))","v":{"$error":"#N/A"}},{"$f":"INDEX(N$64:Y$88,MATCH(1,(N$64:N$88=D2)*(O$64:O$88=E2),0),IF(F2=100,3,IF(F2=150,5,IF(F2=200,7,IF(F2=250,9,IF(F2=300,11,0))))))","v":{"$error":"#N/A"}},{"$f":"INDEX(N$64:Y$88,MATCH(1,(N$64:N$88=D2)*(O$64:O$88=E2),0),IF(F2=100,4,IF(F2=150,6,IF(F2=200,8,IF(F2=250,10,IF(F2=300,12,0))))))","v":{"$error":"#N/A"}},{"$f":"INDEX(N$91:Y$115,MATCH(1,(N$91:N$115=D2)*(O$91:O$115=E2),0),IF(F2=100,3,IF(F2=150,5,IF(F2=200,7,IF(F2=250,9,IF(F2=300,11,0))))))","v":{"$error":"#N/A"}},{"$f":"INDEX(N$91:Y$115,MATCH(1,(N$91:N$115=D2)*(O$91:O$115=E2),0),IF(F2=100,4,IF(F2=150,6,IF(F2=200,8,IF(F2=250,10,IF(F2=300,12,0))))))","v":{"$error":"#N/A"}},{"$f":"INDEX(N$118:Y$142,MATCH(1,(N$118:N$142=D2)*(O$118:O$142=E2),0),IF(F2=100,3,IF(F2=150,5,IF(F2=200,7,IF(F2=250,9,IF(F2=300,11,0))))))","v":{"$error":"#N/A"}},{"$f":"INDEX(N$118:Y$142,MATCH(1,(N$118:N$142=D2)*(O$118:O$142=E2),0),IF(F2=100,4,IF(F2=150,6,IF(F2=200,8,IF(F2=250,10,IF(F2=300,12,0))))))","v":{"$error":"#N/A"}}]
[{"$f":"'UFH Guide'!A3","v":"Studio "},null,{"$f":"'UFH Guide'!H3","v":0},{"$f":"'UFH Guide'!E3","v":0},{"$f":"'UFH Guide'!B3","v":0},{"$f":"'UFH Guide'!I3","v":0},{"$f":"'UFH Guide'!J3","v":0},{"$f":"IF(AND($G3=0,$C3=16),J3,IF(AND($G3=0,$C3=20),R3,IF(AND($G3=0.05,$C3=16),L3,IF(AND($G3=0.05,$C3=20),T3,IF(AND($G3=0.1,$C3=16),N3,IF(AND($G3=0.1,$C3=20),V3,IF(AND($G3=0.2,$C3=16),P3,IF(AND($G3=0.2,$C3=20),X3,0))))))))","v":0},0,{"$f":"INDEX(A$37:L$61,MATCH(1,(A$37:A$61=D3)*(B$37:B$61=E3),0),IF(F3=100,3,IF(F3=150,5,IF(F3=200,7,IF(F3=250,9,IF(F3=300,11,0))))))","v":{"$error":"#N/A"}},{"$f":"INDEX(A$37:L$61,MATCH(1,(A$37:A$61=D3)*(B$37:B$61=E3),0),IF(F3=100,4,IF(F3=150,6,IF(F3=200,8,IF(F3=250,10,IF(F3=300,12,0))))))","v":{"$error":"#N/A"}},{"$f":"INDEX(A$64:L$88,MATCH(1,(A$64:A$88=D3)*(B$64:B$88=E3),0),IF(F3=100,3,IF(F3=150,5,IF(F3=200,7,IF(F3=250,9,IF(F3=300,11,0))))))","v":{"$error":"#N/A"}},{"$f":"INDEX(A$64:L$88,MATCH(1,(A$64:A$88=D3)*(B$64:B$88=E3),0),IF(F3=100,4,IF(F3=150,6,IF(F3=200,8,IF(F3=250,10,IF(F3=300,12,0))))))","v":{"$error":"#N/A"}},{"$f":"INDEX(A$91:L$115,MATCH(1,(A$91:A$115=D3)*(B$91:B$115=E3),0),IF(F3=100,3,IF(F3=150,5,IF(F3=200,7,IF(F3=250,9,IF(F3=300,11,0))))))","v":{"$error":"#N/A"}},{"$f":"INDEX(A$91:L$115,MATCH(1,(A$91:A$115=D3)*(B$91:B$115=E3),0),IF(F3=100,4,IF(F3=150,6,IF(F3=200,8,IF(F3=250,10,IF(F3=300,12,0))))))","v":{"$error":"#N/A"}},{"$f":"INDEX(A$118:L$142,MATCH(1,(A$118:A$142=D3)*(B$118:B$142=E3),0),IF(F3=100,3,IF(F3=150,5,IF(F3=200,7,IF(F3=250,9,IF(F3=300,11,0))))))","v":{"$error":"#N/A"}},{"$f":"INDEX(A$118:L$142,MATCH(1,(A$118:A$142=D3)*(B$118:B$142=E3),0),IF(F3=100,4,IF(F3=150,6,IF(F3=200,8,IF(F3=250,10,IF(F3=300,12,0))))))","v":{"$error":"#N/A"}},{"$f":"INDEX(N$37:Y$61,MATCH(1,(N$37:N$61=D3)*(O$37:O$61=E3),0),IF(F3=100,3,IF(F3=150,5,IF(F3=200,7,IF(F3=250,9,IF(F3=300,11,0))))))","v":{"$error":"#N/A"}},{"$f":"INDEX(N$37:Y$61,MATCH(1,(N$37:N$61=D3)*(O$37:O$61=E3),0),IF(F3=100,4,IF(F3=150,6,IF(F3=200,8,IF(F3=250,10,IF(F3=300,12,0))))))","v":{"$error":"#N/A"}},{"$f":"INDEX(N$64:Y$88,MATCH(1,(N$64:N$88=D3)*(O$64:O$88=E3),0),IF(F3=100,3,IF(F3=150,5,IF(F3=200,7,IF(F3=250,9,IF(F3=300,11,0))))))","v":{"$error":"#N/A"}},{"$f":"INDEX(N$64:Y$88,MATCH(1,(N$64:N$88=D3)*(O$64:O$88=E3),0),IF(F3=100,4,IF(F3=150,6,IF(F3=200,8,IF(F3=250,10,IF(F3=300,12,0))))))","v":{"$error":"#N/A"}},{"$f":"INDEX(N$91:Y$115,MATCH(1,(N$91:N$115=D3)*(O$91:O$115=E3),0),IF(F3=100,3,IF(F3=150,5,IF(F3=200,7,IF(F3=250,9,IF(F3=300,11,0))))))","v":{"$error":"#N/A"}},{"$f":"INDEX(N$91:Y$115,MATCH(1,(N$91:N$115=D3)*(O$91:O$115=E3),0),IF(F3=100,4,IF(F3=150,6,IF(F3=200,8,IF(F3=250,10,IF(F3=300,12,0))))))","v":{"$error":"#N/A"}},{"$f":"INDEX(N$118:Y$142,MATCH(1,(N$118:N$142=D3)*(O$118:O$142=E3),0),IF(F3=100,3,IF(F3=150,5,IF(F3=200,7,IF(F3=250,9,IF(F3=300,11,0))))))","v":{"$error":"#N/A"}},{"$f":"INDEX(N$118:Y$142,MATCH(1,(N$118:N$142=D3)*(O$118:O$142=E3),0),IF(F3=100,4,IF(F3=150,6,IF(F3=200,8,IF(F3=250,10,IF(F3=300,12,0))))))","v":{"$error":"#N/A"}}]
[{"$f":"'UFH Guide'!A4","v":"Sun room "},null,{"$f":"'UFH Guide'!H4","v":0},{"$f":"'UFH Guide'!E4","v":0},{"$f":"'UFH Guide'!B4","v":0},{"$f":"'UFH Guide'!I4","v":0},{"$f":"'UFH Guide'!J4","v":0},0,0,{"$f":"INDEX(A$37:L$61,MATCH(1,(A$37:A$61=D4)*(B$37:B$61=E4),0),IF(F4=100,3,IF(F4=150,5,IF(F4=200,7,IF(F4=250,9,IF(F4=300,11,0))))))","v":{"$error":"#N/A"}},{"$f":"INDEX(A$37:L$61,MATCH(1,(A$37:A$61=D4)*(B$37:B$61=E4),0),IF(F4=100,4,IF(F4=150,6,IF(F4=200,8,IF(F4=250,10,IF(F4=300,12,0))))))","v":{"$error":"#N/A"}},{"$f":"INDEX(A$64:L$88,MATCH(1,(A$64:A$88=D4)*(B$64:B$88=E4),0),IF(F4=100,3,IF(F4=150,5,IF(F4=200,7,IF(F4=250,9,IF(F4=300,11,0))))))","v":{"$error":"#N/A"}},{"$f":"INDEX(A$64:L$88,MATCH(1,(A$64:A$88=D4)*(B$64:B$88=E4),0),IF(F4=100,4,IF(F4=150,6,IF(F4=200,8,IF(F4=250,10,IF(F4=300,12,0))))))","v":{"$error":"#N/A"}},{"$f":"INDEX(A$91:L$115,MATCH(1,(A$91:A$115=D4)*(B$91:B$115=E4),0),IF(F4=100,3,IF(F4=150,5,IF(F4=200,7,IF(F4=250,9,IF(F4=300,11,0))))))","v":{"$error":"#N/A"}},{"$f":"INDEX(A$91:L$115,MATCH(1,(A$91:A$115=D4)*(B$91:B$115=E4),0),IF(F4=100,4,IF(F4=150,6,IF(F4=200,8,IF(F4=250,10,IF(F4=300,12,0))))))","v":{"$error":"#N/A"}},{"$f":"INDEX(A$118:L$142,MATCH(1,(A$118:A$142=D4)*(B$118:B$142=E4),0),IF(F4=100,3,IF(F4=150,5,IF(F4=200,7,IF(F4=250,9,IF(F4=300,11,0))))))","v":{"$error":"#N/A"}},{"$f":"INDEX(A$118:L$142,MATCH(1,(A$118:A$142=D4)*(B$118:B$142=E4),0),IF(F4=100,4,IF(F4=150,6,IF(F4=200,8,IF(F4=250,10,IF(F4=300,12,0))))))","v":{"$error":"#N/A"}},{"$f":"INDEX(N$37:Y$61,MATCH(1,(N$37:N$61=D4)*(O$37:O$61=E4),0),IF(F4=100,3,IF(F4=150,5,IF(F4=200,7,IF(F4=250,9,IF(F4=300,11,0))))))","v":{"$error":"#N/A"}},{"$f":"INDEX(N$37:Y$61,MATCH(1,(N$37:N$61=D4)*(O$37:O$61=E4),0),IF(F4=100,4,IF(F4=150,6,IF(F4=200,8,IF(F4=250,10,IF(F4=300,12,0))))))","v":{"$error":"#N/A"}},{"$f":"INDEX(N$64:Y$88,MATCH(1,(N$64:N$88=D4)*(O$64:O$88=E4),0),IF(F4=100,3,IF(F4=150,5,IF(F4=200,7,IF(F4=250,9,IF(F4=300,11,0))))))","v":{"$error":"#N/A"}},{"$f":"INDEX(N$64:Y$88,MATCH(1,(N$64:N$88=D4)*(O$64:O$88=E4),0),IF(F4=100,4,IF(F4=150,6,IF(F4=200,8,IF(F4=250,10,IF(F4=300,12,0))))))","v":{"$error":"#N/A"}},{"$f":"INDEX(N$91:Y$115,MATCH(1,(N$91:N$115=D4)*(O$91:O$115=E4),0),IF(F4=100,3,IF(F4=150,5,IF(F4=200,7,IF(F4=250,9,IF(F4=300,11,0))))))","v":{"$error":"#N/A"}},{"$f":"INDEX(N$91:Y$115,MATCH(1,(N$91:N$115=D4)*(O$91:O$115=E4),0),IF(F4=100,4,IF(F4=150,6,IF(F4=200,8,IF(F4=250,10,IF(F4=300,12,0))))))","v":{"$error":"#N/A"}},{"$f":"INDEX(N$118:Y$142,MATCH(1,(N$118:N$142=D4)*(O$118:O$142=E4),0),IF(F4=100,3,IF(F4=150,5,IF(F4=200,7,IF(F4=250,9,IF(F4=300,11,0))))))","v":{"$error":"#N/A"}},{"$f":"INDEX(N$118:Y$142,MATCH(1,(N$118:N$142=D4)*(O$118:O$142=E4),0),IF(F4=100,4,IF(F4=150,6,IF(F4=200,8,IF(F4=250,10,IF(F4=300,12,0))))))","v":{"$error":"#N/A"}}]
[{"$f":"'UFH Guide'!A5","v":"Music room "},null,{"$f":"'UFH Guide'!H5","v":0},{"$f":"'UFH Guide'!E5","v":0},{"$f":"'UFH Guide'!B5","v":0},{"$f":"'UFH Guide'!I5","v":0},{"$f":"'UFH Guide'!J5","v":0},0,0,{"$f":"INDEX(A$37:L$61,MATCH(1,(A$37:A$61=D5)*(B$37:B$61=E5),0),IF(F5=100,3,IF(F5=150,5,IF(F5=200,7,IF(F5=250,9,IF(F5=300,11,0))))))","v":{"$error":"#N/A"}},{"$f":"INDEX(A$37:L$61,MATCH(1,(A$37:A$61=D5)*(B$37:B$61=E5),0),IF(F5=100,4,IF(F5=150,6,IF(F5=200,8,IF(F5=250,10,IF(F5=300,12,0))))))","v":{"$error":"#N/A"}},{"$f":"INDEX(A$64:L$88,MATCH(1,(A$64:A$88=D5)*(B$64:B$88=E5),0),IF(F5=100,3,IF(F5=150,5,IF(F5=200,7,IF(F5=250,9,IF(F5=300,11,0))))))","v":{"$error":"#N/A"}},{"$f":"INDEX(A$64:L$88,MATCH(1,(A$64:A$88=D5)*(B$64:B$88=E5),0),IF(F5=100,4,IF(F5=150,6,IF(F5=200,8,IF(F5=250,10,IF(F5=300,12,0))))))","v":{"$error":"#N/A"}},{"$f":"INDEX(A$91:L$115,MATCH(1,(A$91:A$115=D5)*(B$91:B$115=E5),0),IF(F5=100,3,IF(F5=150,5,IF(F5=200,7,IF(F5=250,9,IF(F5=300,11,0))))))","v":{"$error":"#N/A"}},{"$f":"INDEX(A$91:L$115,MATCH(1,(A$91:A$115=D5)*(B$91:B$115=E5),0),IF(F5=100,4,IF(F5=150,6,IF(F5=200,8,IF(F5=250,10,IF(F5=300,12,0))))))","v":{"$error":"#N/A"}},{"$f":"INDEX(A$118:L$142,MATCH(1,(A$118:A$142=D5)*(B$118:B$142=E5),0),IF(F5=100,3,IF(F5=150,5,IF(F5=200,7,IF(F5=250,9,IF(F5=300,11,0))))))","v":{"$error":"#N/A"}},{"$f":"INDEX(A$118:L$142,MATCH(1,(A$118:A$142=D5)*(B$118:B$142=E5),0),IF(F5=100,4,IF(F5=150,6,IF(F5=200,8,IF(F5=250,10,IF(F5=300,12,0))))))","v":{"$error":"#N/A"}},{"$f":"INDEX(N$37:Y$61,MATCH(1,(N$37:N$61=D5)*(O$37:O$61=E5),0),IF(F5=100,3,IF(F5=150,5,IF(F5=200,7,IF(F5=250,9,IF(F5=300,11,0))))))","v":{"$error":"#N/A"}},{"$f":"INDEX(N$37:Y$61,MATCH(1,(N$37:N$61=D5)*(O$37:O$61=E5),0),IF(F5=100,4,IF(F5=150,6,IF(F5=200,8,IF(F5=250,10,IF(F5=300,12,0))))))","v":{"$error":"#N/A"}},{"$f":"INDEX(N$64:Y$88,MATCH(1,(N$64:N$88=D5)*(O$64:O$88=E5),0),IF(F5=100,3,IF(F5=150,5,IF(F5=200,7,IF(F5=250,9,IF(F5=300,11,0))))))","v":{"$error":"#N/A"}},{"$f":"INDEX(N$64:Y$88,MATCH(1,(N$64:N$88=D5)*(O$64:O$88=E5),0),IF(F5=100,4,IF(F5=150,6,IF(F5=200,8,IF(F5=250,10,IF(F5=300,12,0))))))","v":{"$error":"#N/A"}},{"$f":"INDEX(N$91:Y$115,MATCH(1,(N$91:N$115=D5)*(O$91:O$115=E5),0),IF(F5=100,3,IF(F5=150,5,IF(F5=200,7,IF(F5=250,9,IF(F5=300,11,0))))))","v":{"$error":"#N/A"}},{"$f":"INDEX(N$91:Y$115,MATCH(1,(N$91:N$115=D5)*(O$91:O$115=E5),0),IF(F5=100,4,IF(F5=150,6,IF(F5=200,8,IF(F5=250,10,IF(F5=300,12,0))))))","v":{"$error":"#N/A"}},{"$f":"INDEX(N$118:Y$142,MATCH(1,(N$118:N$142=D5)*(O$118:O$142=E5),0),IF(F5=100,3,IF(F5=150,5,IF(F5=200,7,IF(F5=250,9,IF(F5=300,11,0))))))","v":{"$error":"#N/A"}},{"$f":"INDEX(N$118:Y$142,MATCH(1,(N$118:N$142=D5)*(O$118:O$142=E5),0),IF(F5=100,4,IF(F5=150,6,IF(F5=200,8,IF(F5=250,10,IF(F5=300,12,0))))))","v":{"$error":"#N/A"}}]
[{"$f":"'UFH Guide'!A6","v":"Hall "},null,{"$f":"'UFH Guide'!H6","v":0},{"$f":"'UFH Guide'!E6","v":0},{"$f":"'UFH Guide'!B6","v":0},{"$f":"'UFH Guide'!I6","v":0},{"$f":"'UFH Guide'!J6","v":0},0,0,{"$f":"INDEX(A$37:L$61,MATCH(1,(A$37:A$61=D6)*(B$37:B$61=E6),0),IF(F6=100,3,IF(F6=150,5,IF(F6=200,7,IF(F6=250,9,IF(F6=300,11,0))))))","v":{"$error":"#N/A"}},{"$f":"INDEX(A$37:L$61,MATCH(1,(A$37:A$61=D6)*(B$37:B$61=E6),0),IF(F6=100,4,IF(F6=150,6,IF(F6=200,8,IF(F6=250,10,IF(F6=300,12,0))))))","v":{"$error":"#N/A"}},{"$f":"INDEX(A$64:L$88,MATCH(1,(A$64:A$88=D6)*(B$64:B$88=E6),0),IF(F6=100,3,IF(F6=150,5,IF(F6=200,7,IF(F6=250,9,IF(F6=300,11,0))))))","v":{"$error":"#N/A"}},{"$f":"INDEX(A$64:L$88,MATCH(1,(A$64:A$88=D6)*(B$64:B$88=E6),0),IF(F6=100,4,IF(F6=150,6,IF(F6=200,8,IF(F6=250,10,IF(F6=300,12,0))))))","v":{"$error":"#N/A"}},{"$f":"INDEX(A$91:L$115,MATCH(1,(A$91:A$115=D6)*(B$91:B$115=E6),0),IF(F6=100,3,IF(F6=150,5,IF(F6=200,7,IF(F6=250,9,IF(F6=300,11,0))))))","v":{"$error":"#N/A"}},{"$f":"INDEX(A$91:L$115,MATCH(1,(A$91:A$115=D6)*(B$91:B$115=E6),0),IF(F6=100,4,IF(F6=150,6,IF(F6=200,8,IF(F6=250,10,IF(F6=300,12,0))))))","v":{"$error":"#N/A"}},{"$f":"INDEX(A$118:L$142,MATCH(1,(A$118:A$142=D6)*(B$118:B$142=E6),0),IF(F6=100,3,IF(F6=150,5,IF(F6=200,7,IF(F6=250,9,IF(F6=300,11,0))))))","v":{"$error":"#N/A"}},{"$f":"INDEX(A$118:L$142,MATCH(1,(A$118:A$142=D6)*(B$118:B$142=E6),0),IF(F6=100,4,IF(F6=150,6,IF(F6=200,8,IF(F6=250,10,IF(F6=300,12,0))))))","v":{"$error":"#N/A"}},{"$f":"INDEX(N$37:Y$61,MATCH(1,(N$37:N$61=D6)*(O$37:O$61=E6),0),IF(F6=100,3,IF(F6=150,5,IF(F6=200,7,IF(F6=250,9,IF(F6=300,11,0))))))","v":{"$error":"#N/A"}},{"$f":"INDEX(N$37:Y$61,MATCH(1,(N$37:N$61=D6)*(O$37:O$61=E6),0),IF(F6=100,4,IF(F6=150,6,IF(F6=200,8,IF(F6=250,10,IF(F6=300,12,0))))))","v":{"$error":"#N/A"}},{"$f":"INDEX(N$64:Y$88,MATCH(1,(N$64:N$88=D6)*(O$64:O$88=E6),0),IF(F6=100,3,IF(F6=150,5,IF(F6=200,7,IF(F6=250,9,IF(F6=300,11,0))))))","v":{"$error":"#N/A"}},{"$f":"INDEX(N$64:Y$88,MATCH(1,(N$64:N$88=D6)*(O$64:O$88=E6),0),IF(F6=100,4,IF(F6=150,6,IF(F6=200,8,IF(F6=250,10,IF(F6=300,12,0))))))","v":{"$error":"#N/A"}},{"$f":"INDEX(N$91:Y$115,MATCH(1,(N$91:N$115=D6)*(O$91:O$115=E6),0),IF(F6=100,3,IF(F6=150,5,IF(F6=200,7,IF(F6=250,9,IF(F6=300,11,0))))))","v":{"$error":"#N/A"}},{"$f":"INDEX(N$91:Y$115,MATCH(1,(N$91:N$115=D6)*(O$91:O$115=E6),0),IF(F6=100,4,IF(F6=150,6,IF(F6=200,8,IF(F6=250,10,IF(F6=300,12,0))))))","v":{"$error":"#N/A"}},{"$f":"INDEX(N$118:Y$142,MATCH(1,(N$118:N$142=D6)*(O$118:O$142=E6),0),IF(F6=100,3,IF(F6=150,5,IF(F6=200,7,IF(F6=250,9,IF(F6=300,11,0))))))","v":{"$error":"#N/A"}},{"$f":"INDEX(N$118:Y$142,MATCH(1,(N$118:N$142=D6)*(O$118:O$142=E6),0),IF(F6=100,4,IF(F6=150,6,IF(F6=200,8,IF(F6=250,10,IF(F6=300,12,0))))))","v":{"$error":"#N/A"}}]
[{"$f":"'UFH Guide'!A7","v":"Utility "},null,{"$f":"'UFH Guide'!H7","v":0},{"$f":"'UFH Guide'!E7","v":0},{"$f":"'UFH Guide'!B7","v":0},{"$f":"'UFH Guide'!I7","v":0},{"$f":"'UFH Guide'!J7","v":0},0,0,{"$f":"INDEX(A$37:L$61,MATCH(1,(A$37:A$61=D7)*(B$37:B$61=E7),0),IF(F7=100,3,IF(F7=150,5,IF(F7=200,7,IF(F7=250,9,IF(F7=300,11,0))))))","v":{"$error":"#N/A"}},{"$f":"INDEX(A$37:L$61,MATCH(1,(A$37:A$61=D7)*(B$37:B$61=E7),0),IF(F7=100,4,IF(F7=150,6,IF(F7=200,8,IF(F7=250,10,IF(F7=300,12,0))))))","v":{"$error":"#N/A"}},{"$f":"INDEX(A$64:L$88,MATCH(1,(A$64:A$88=D7)*(B$64:B$88=E7),0),IF(F7=100,3,IF(F7=150,5,IF(F7=200,7,IF(F7=250,9,IF(F7=300,11,0))))))","v":{"$error":"#N/A"}},{"$f":"INDEX(A$64:L$88,MATCH(1,(A$64:A$88=D7)*(B$64:B$88=E7),0),IF(F7=100,4,IF(F7=150,6,IF(F7=200,8,IF(F7=250,10,IF(F7=300,12,0))))))","v":{"$error":"#N/A"}},{"$f":"INDEX(A$91:L$115,MATCH(1,(A$91:A$115=D7)*(B$91:B$115=E7),0),IF(F7=100,3,IF(F7=150,5,IF(F7=200,7,IF(F7=250,9,IF(F7=300,11,0))))))","v":{"$error":"#N/A"}},{"$f":"INDEX(A$91:L$115,MATCH(1,(A$91:A$115=D7)*(B$91:B$115=E7),0),IF(F7=100,4,IF(F7=150,6,IF(F7=200,8,IF(F7=250,10,IF(F7=300,12,0))))))","v":{"$error":"#N/A"}},{"$f":"INDEX(A$118:L$142,MATCH(1,(A$118:A$142=D7)*(B$118:B$142=E7),0),IF(F7=100,3,IF(F7=150,5,IF(F7=200,7,IF(F7=250,9,IF(F7=300,11,0))))))","v":{"$error":"#N/A"}},{"$f":"INDEX(A$118:L$142,MATCH(1,(A$118:A$142=D7)*(B$118:B$142=E7),0),IF(F7=100,4,IF(F7=150,6,IF(F7=200,8,IF(F7=250,10,IF(F7=300,12,0))))))","v":{"$error":"#N/A"}},{"$f":"INDEX(N$37:Y$61,MATCH(1,(N$37:N$61=D7)*(O$37:O$61=E7),0),IF(F7=100,3,IF(F7=150,5,IF(F7=200,7,IF(F7=250,9,IF(F7=300,11,0))))))","v":{"$error":"#N/A"}},{"$f":"INDEX(N$37:Y$61,MATCH(1,(N$37:N$61=D7)*(O$37:O$61=E7),0),IF(F7=100,4,IF(F7=150,6,IF(F7=200,8,IF(F7=250,10,IF(F7=300,12,0))))))","v":{"$error":"#N/A"}},{"$f":"INDEX(N$64:Y$88,MATCH(1,(N$64:N$88=D7)*(O$64:O$88=E7),0),IF(F7=100,3,IF(F7=150,5,IF(F7=200,7,IF(F7=250,9,IF(F7=300,11,0))))))","v":{"$error":"#N/A"}},{"$f":"INDEX(N$64:Y$88,MATCH(1,(N$64:N$88=D7)*(O$64:O$88=E7),0),IF(F7=100,4,IF(F7=150,6,IF(F7=200,8,IF(F7=250,10,IF(F7=300,12,0))))))","v":{"$error":"#N/A"}},{"$f":"INDEX(N$91:Y$115,MATCH(1,(N$91:N$115=D7)*(O$91:O$115=E7),0),IF(F7=100,3,IF(F7=150,5,IF(F7=200,7,IF(F7=250,9,IF(F7=300,11,0))))))","v":{"$error":"#N/A"}},{"$f":"INDEX(N$91:Y$115,MATCH(1,(N$91:N$115=D7)*(O$91:O$115=E7),0),IF(F7=100,4,IF(F7=150,6,IF(F7=200,8,IF(F7=250,10,IF(F7=300,12,0))))))","v":{"$error":"#N/A"}},{"$f":"INDEX(N$118:Y$142,MATCH(1,(N$118:N$142=D7)*(O$118:O$142=E7),0),IF(F7=100,3,IF(F7=150,5,IF(F7=200,7,IF(F7=250,9,IF(F7=300,11,0))))))","v":{"$error":"#N/A"}},{"$f":"INDEX(N$118:Y$142,MATCH(1,(N$118:N$142=D7)*(O$118:O$142=E7),0),IF(F7=100,4,IF(F7=150,6,IF(F7=200,8,IF(F7=250,10,IF(F7=300,12,0))))))","v":{"$error":"#N/A"}}]
[{"$f":"'UFH Guide'!A8","v":"WC "},null,{"$f":"'UFH Guide'!H8","v":0},{"$f":"'UFH Guide'!E8","v":0},{"$f":"'UFH Guide'!B8","v":0},{"$f":"'UFH Guide'!I8","v":0},{"$f":"'UFH Guide'!J8","v":0},0,0,{"$f":"INDEX(A$37:L$61,MATCH(1,(A$37:A$61=D8)*(B$37:B$61=E8),0),IF(F8=100,3,IF(F8=150,5,IF(F8=200,7,IF(F8=250,9,IF(F8=300,11,0))))))","v":{"$error":"#N/A"}},{"$f":"INDEX(A$37:L$61,MATCH(1,(A$37:A$61=D8)*(B$37:B$61=E8),0),IF(F8=100,4,IF(F8=150,6,IF(F8=200,8,IF(F8=250,10,IF(F8=300,12,0))))))","v":{"$error":"#N/A"}},{"$f":"INDEX(A$64:L$88,MATCH(1,(A$64:A$88=D8)*(B$64:B$88=E8),0),IF(F8=100,3,IF(F8=150,5,IF(F8=200,7,IF(F8=250,9,IF(F8=300,11,0))))))","v":{"$error":"#N/A"}},{"$f":"INDEX(A$64:L$88,MATCH(1,(A$64:A$88=D8)*(B$64:B$88=E8),0),IF(F8=100,4,IF(F8=150,6,IF(F8=200,8,IF(F8=250,10,IF(F8=300,12,0))))))","v":{"$error":"#N/A"}},{"$f":"INDEX(A$91:L$115,MATCH(1,(A$91:A$115=D8)*(B$91:B$115=E8),0),IF(F8=100,3,IF(F8=150,5,IF(F8=200,7,IF(F8=250,9,IF(F8=300,11,0))))))","v":{"$error":"#N/A"}},{"$f":"INDEX(A$91:L$115,MATCH(1,(A$91:A$115=D8)*(B$91:B$115=E8),0),IF(F8=100,4,IF(F8=150,6,IF(F8=200,8,IF(F8=250,10,IF(F8=300,12,0))))))","v":{"$error":"#N/A"}},{"$f":"INDEX(A$118:L$142,MATCH(1,(A$118:A$142=D8)*(B$118:B$142=E8),0),IF(F8=100,3,IF(F8=150,5,IF(F8=200,7,IF(F8=250,9,IF(F8=300,11,0))))))","v":{"$error":"#N/A"}},{"$f":"INDEX(A$118:L$142,MATCH(1,(A$118:A$142=D8)*(B$118:B$142=E8),0),IF(F8=100,4,IF(F8=150,6,IF(F8=200,8,IF(F8=250,10,IF(F8=300,12,0))))))","v":{"$error":"#N/A"}},{"$f":"INDEX(N$37:Y$61,MATCH(1,(N$37:N$61=D8)*(O$37:O$61=E8),0),IF(F8=100,3,IF(F8=150,5,IF(F8=200,7,IF(F8=250,9,IF(F8=300,11,0))))))","v":{"$error":"#N/A"}},{"$f":"INDEX(N$37:Y$61,MATCH(1,(N$37:N$61=D8)*(O$37:O$61=E8),0),IF(F8=100,4,IF(F8=150,6,IF(F8=200,8,IF(F8=250,10,IF(F8=300,12,0))))))","v":{"$error":"#N/A"}},{"$f":"INDEX(N$64:Y$88,MATCH(1,(N$64:N$88=D8)*(O$64:O$88=E8),0),IF(F8=100,3,IF(F8=150,5,IF(F8=200,7,IF(F8=250,9,IF(F8=300,11,0))))))","v":{"$error":"#N/A"}},{"$f":"INDEX(N$64:Y$88,MATCH(1,(N$64:N$88=D8)*(O$64:O$88=E8),0),IF(F8=100,4,IF(F8=150,6,IF(F8=200,8,IF(F8=250,10,IF(F8=300,12,0))))))","v":{"$error":"#N/A"}},{"$f":"INDEX(N$91:Y$115,MATCH(1,(N$91:N$115=D8)*(O$91:O$115=E8),0),IF(F8=100,3,IF(F8=150,5,IF(F8=200,7,IF(F8=250,9,IF(F8=300,11,0))))))","v":{"$error":"#N/A"}},{"$f":"INDEX(N$91:Y$115,MATCH(1,(N$91:N$115=D8)*(O$91:O$115=E8),0),IF(F8=100,4,IF(F8=150,6,IF(F8=200,8,IF(F8=250,10,IF(F8=300,12,0))))))","v":{"$error":"#N/A"}},{"$f":"INDEX(N$118:Y$142,MATCH(1,(N$118:N$142=D8)*(O$118:O$142=E8),0),IF(F8=100,3,IF(F8=150,5,IF(F8=200,7,IF(F8=250,9,IF(F8=300,11,0))))))","v":{"$error":"#N/A"}},{"$f":"INDEX(N$118:Y$142,MATCH(1,(N$118:N$142=D8)*(O$118:O$142=E8),0),IF(F8=100,4,IF(F8=150,6,IF(F8=200,8,IF(F8=250,10,IF(F8=300,12,0))))))","v":{"$error":"#N/A"}}]
[{"$f":"'UFH Guide'!A9","v":"Kitchen "},null,{"$f":"'UFH Guide'!H9","v":0},{"$f":"'UFH Guide'!E9","v":0},{"$f":"'UFH Guide'!B9","v":0},{"$f":"'UFH Guide'!I9","v":0},{"$f":"'UFH Guide'!J9","v":0},0,0,{"$f":"INDEX(A$37:L$61,MATCH(1,(A$37:A$61=D9)*(B$37:B$61=E9),0),IF(F9=100,3,IF(F9=150,5,IF(F9=200,7,IF(F9=250,9,IF(F9=300,11,0))))))","v":{"$error":"#N/A"}},{"$f":"INDEX(A$37:L$61,MATCH(1,(A$37:A$61=D9)*(B$37:B$61=E9),0),IF(F9=100,4,IF(F9=150,6,IF(F9=200,8,IF(F9=250,10,IF(F9=300,12,0))))))","v":{"$error":"#N/A"}},{"$f":"INDEX(A$64:L$88,MATCH(1,(A$64:A$88=D9)*(B$64:B$88=E9),0),IF(F9=100,3,IF(F9=150,5,IF(F9=200,7,IF(F9=250,9,IF(F9=300,11,0))))))","v":{"$error":"#N/A"}},{"$f":"INDEX(A$64:L$88,MATCH(1,(A$64:A$88=D9)*(B$64:B$88=E9),0),IF(F9=100,4,IF(F9=150,6,IF(F9=200,8,IF(F9=250,10,IF(F9=300,12,0))))))","v":{"$error":"#N/A"}},{"$f":"INDEX(A$91:L$115,MATCH(1,(A$91:A$115=D9)*(B$91:B$115=E9),0),IF(F9=100,3,IF(F9=150,5,IF(F9=200,7,IF(F9=250,9,IF(F9=300,11,0))))))","v":{"$error":"#N/A"}},{"$f":"INDEX(A$91:L$115,MATCH(1,(A$91:A$115=D9)*(B$91:B$115=E9),0),IF(F9=100,4,IF(F9=150,6,IF(F9=200,8,IF(F9=250,10,IF(F9=300,12,0))))))","v":{"$error":"#N/A"}},{"$f":"INDEX(A$118:L$142,MATCH(1,(A$118:A$142=D9)*(B$118:B$142=E9),0),IF(F9=100,3,IF(F9=150,5,IF(F9=200,7,IF(F9=250,9,IF(F9=300,11,0))))))","v":{"$error":"#N/A"}},{"$f":"INDEX(A$118:L$142,MATCH(1,(A$118:A$142=D9)*(B$118:B$142=E9),0),IF(F9=100,4,IF(F9=150,6,IF(F9=200,8,IF(F9=250,10,IF(F9=300,12,0))))))","v":{"$error":"#N/A"}},{"$f":"INDEX(N$37:Y$61,MATCH(1,(N$37:N$61=D9)*(O$37:O$61=E9),0),IF(F9=100,3,IF(F9=150,5,IF(F9=200,7,IF(F9=250,9,IF(F9=300,11,0))))))","v":{"$error":"#N/A"}},{"$f":"INDEX(N$37:Y$61,MATCH(1,(N$37:N$61=D9)*(O$37:O$61=E9),0),IF(F9=100,4,IF(F9=150,6,IF(F9=200,8,IF(F9=250,10,IF(F9=300,12,0))))))","v":{"$error":"#N/A"}},{"$f":"INDEX(N$64:Y$88,MATCH(1,(N$64:N$88=D9)*(O$64:O$88=E9),0),IF(F9=100,3,IF(F9=150,5,IF(F9=200,7,IF(F9=250,9,IF(F9=300,11,0))))))","v":{"$error":"#N/A"}},{"$f":"INDEX(N$64:Y$88,MATCH(1,(N$64:N$88=D9)*(O$64:O$88=E9),0),IF(F9=100,4,IF(F9=150,6,IF(F9=200,8,IF(F9=250,10,IF(F9=300,12,0))))))","v":{"$error":"#N/A"}},{"$f":"INDEX(N$91:Y$115,MATCH(1,(N$91:N$115=D9)*(O$91:O$115=E9),0),IF(F9=100,3,IF(F9=150,5,IF(F9=200,7,IF(F9=250,9,IF(F9=300,11,0))))))","v":{"$error":"#N/A"}},{"$f":"INDEX(N$91:Y$115,MATCH(1,(N$91:N$115=D9)*(O$91:O$115=E9),0),IF(F9=100,4,IF(F9=150,6,IF(F9=200,8,IF(F9=250,10,IF(F9=300,12,0))))))","v":{"$error":"#N/A"}},{"$f":"INDEX(N$118:Y$142,MATCH(1,(N$118:N$142=D9)*(O$118:O$142=E9),0),IF(F9=100,3,IF(F9=150,5,IF(F9=200,7,IF(F9=250,9,IF(F9=300,11,0))))))","v":{"$error":"#N/A"}},{"$f":"INDEX(N$118:Y$142,MATCH(1,(N$118:N$142=D9)*(O$118:O$142=E9),0),IF(F9=100,4,IF(F9=150,6,IF(F9=200,8,IF(F9=250,10,IF(F9=300,12,0))))))","v":{"$error":"#N/A"}}]
[{"$f":"'UFH Guide'!A10","v":"Bedroom 1"},null,{"$f":"'UFH Guide'!H10","v":0},{"$f":"'UFH Guide'!E10","v":0},{"$f":"'UFH Guide'!B10","v":0},{"$f":"'UFH Guide'!I10","v":0},{"$f":"'UFH Guide'!J10","v":0},0,0,{"$f":"INDEX(A$37:L$61,MATCH(1,(A$37:A$61=D10)*(B$37:B$61=E10),0),IF(F10=100,3,IF(F10=150,5,IF(F10=200,7,IF(F10=250,9,IF(F10=300,11,0))))))","v":{"$error":"#N/A"}},{"$f":"INDEX(A$37:L$61,MATCH(1,(A$37:A$61=D10)*(B$37:B$61=E10),0),IF(F10=100,4,IF(F10=150,6,IF(F10=200,8,IF(F10=250,10,IF(F10=300,12,0))))))","v":{"$error":"#N/A"}},{"$f":"INDEX(A$64:L$88,MATCH(1,(A$64:A$88=D10)*(B$64:B$88=E10),0),IF(F10=100,3,IF(F10=150,5,IF(F10=200,7,IF(F10=250,9,IF(F10=300,11,0))))))","v":{"$error":"#N/A"}},{"$f":"INDEX(A$64:L$88,MATCH(1,(A$64:A$88=D10)*(B$64:B$88=E10),0),IF(F10=100,4,IF(F10=150,6,IF(F10=200,8,IF(F10=250,10,IF(F10=300,12,0))))))","v":{"$error":"#N/A"}},{"$f":"INDEX(A$91:L$115,MATCH(1,(A$91:A$115=D10)*(B$91:B$115=E10),0),IF(F10=100,3,IF(F10=150,5,IF(F10=200,7,IF(F10=250,9,IF(F10=300,11,0))))))","v":{"$error":"#N/A"}},{"$f":"INDEX(A$91:L$115,MATCH(1,(A$91:A$115=D10)*(B$91:B$115=E10),0),IF(F10=100,4,IF(F10=150,6,IF(F10=200,8,IF(F10=250,10,IF(F10=300,12,0))))))","v":{"$error":"#N/A"}},{"$f":"INDEX(A$118:L$142,MATCH(1,(A$118:A$142=D10)*(B$118:B$142=E10),0),IF(F10=100,3,IF(F10=150,5,IF(F10=200,7,IF(F10=250,9,IF(F10=300,11,0))))))","v":{"$error":"#N/A"}},{"$f":"INDEX(A$118:L$142,MATCH(1,(A$118:A$142=D10)*(B$118:B$142=E10),0),IF(F10=100,4,IF(F10=150,6,IF(F10=200,8,IF(F10=250,10,IF(F10=300,12,0))))))","v":{"$error":"#N/A"}},{"$f":"INDEX(N$37:Y$61,MATCH(1,(N$37:N$61=D10)*(O$37:O$61=E10),0),IF(F10=100,3,IF(F10=150,5,IF(F10=200,7,IF(F10=250,9,IF(F10=300,11,0))))))","v":{"$error":"#N/A"}},{"$f":"INDEX(N$37:Y$61,MATCH(1,(N$37:N$61=D10)*(O$37:O$61=E10),0),IF(F10=100,4,IF(F10=150,6,IF(F10=200,8,IF(F10=250,10,IF(F10=300,12,0))))))","v":{"$error":"#N/A"}},{"$f":"INDEX(N$64:Y$88,MATCH(1,(N$64:N$88=D10)*(O$64:O$88=E10),0),IF(F10=100,3,IF(F10=150,5,IF(F10=200,7,IF(F10=250,9,IF(F10=300,11,0))))))","v":{"$error":"#N/A"}},{"$f":"INDEX(N$64:Y$88,MATCH(1,(N$64:N$88=D10)*(O$64:O$88=E10),0),IF(F10=100,4,IF(F10=150,6,IF(F10=200,8,IF(F10=250,10,IF(F10=300,12,0))))))","v":{"$error":"#N/A"}},{"$f":"INDEX(N$91:Y$115,MATCH(1,(N$91:N$115=D10)*(O$91:O$115=E10),0),IF(F10=100,3,IF(F10=150,5,IF(F10=200,7,IF(F10=250,9,IF(F10=300,11,0))))))","v":{"$error":"#N/A"}},{"$f":"INDEX(N$91:Y$115,MATCH(1,(N$91:N$115=D10)*(O$91:O$115=E10),0),IF(F10=100,4,IF(F10=150,6,IF(F10=200,8,IF(F10=250,10,IF(F10=300,12,0))))))","v":{"$error":"#N/A"}},{"$f":"INDEX(N$118:Y$142,MATCH(1,(N$118:N$142=D10)*(O$118:O$142=E10),0),IF(F10=100,3,IF(F10=150,5,IF(F10=200,7,IF(F10=250,9,IF(F10=300,11,0))))))","v":{"$error":"#N/A"}},{"$f":"INDEX(N$118:Y$142,MATCH(1,(N$118:N$142=D10)*(O$118:O$142=E10),0),IF(F10=100,4,IF(F10=150,6,IF(F10=200,8,IF(F10=250,10,IF(F10=300,12,0))))))","v":{"$error":"#N/A"}}]
[{"$f":"'UFH Guide'!A11","v":"Bedroom 2"},null,{"$f":"'UFH Guide'!H11","v":0},{"$f":"'UFH Guide'!E11","v":0},{"$f":"'UFH Guide'!B11","v":0},{"$f":"'UFH Guide'!I11","v":0},{"$f":"'UFH Guide'!J11","v":0},0,0,{"$f":"INDEX(A$37:L$61,MATCH(1,(A$37:A$61=D11)*(B$37:B$61=E11),0),IF(F11=100,3,IF(F11=150,5,IF(F11=200,7,IF(F11=250,9,IF(F11=300,11,0))))))","v":{"$error":"#N/A"}},{"$f":"INDEX(A$37:L$61,MATCH(1,(A$37:A$61=D11)*(B$37:B$61=E11),0),IF(F11=100,4,IF(F11=150,6,IF(F11=200,8,IF(F11=250,10,IF(F11=300,12,0))))))","v":{"$error":"#N/A"}},{"$f":"INDEX(A$64:L$88,MATCH(1,(A$64:A$88=D11)*(B$64:B$88=E11),0),IF(F11=100,3,IF(F11=150,5,IF(F11=200,7,IF(F11=250,9,IF(F11=300,11,0))))))","v":{"$error":"#N/A"}},{"$f":"INDEX(A$64:L$88,MATCH(1,(A$64:A$88=D11)*(B$64:B$88=E11),0),IF(F11=100,4,IF(F11=150,6,IF(F11=200,8,IF(F11=250,10,IF(F11=300,12,0))))))","v":{"$error":"#N/A"}},{"$f":"INDEX(A$91:L$115,MATCH(1,(A$91:A$115=D11)*(B$91:B$115=E11),0),IF(F11=100,3,IF(F11=150,5,IF(F11=200,7,IF(F11=250,9,IF(F11=300,11,0))))))","v":{"$error":"#N/A"}},{"$f":"INDEX(A$91:L$115,MATCH(1,(A$91:A$115=D11)*(B$91:B$115=E11),0),IF(F11=100,4,IF(F11=150,6,IF(F11=200,8,IF(F11=250,10,IF(F11=300,12,0))))))","v":{"$error":"#N/A"}},{"$f":"INDEX(A$118:L$142,MATCH(1,(A$118:A$142=D11)*(B$118:B$142=E11),0),IF(F11=100,3,IF(F11=150,5,IF(F11=200,7,IF(F11=250,9,IF(F11=300,11,0))))))","v":{"$error":"#N/A"}},{"$f":"INDEX(A$118:L$142,MATCH(1,(A$118:A$142=D11)*(B$118:B$142=E11),0),IF(F11=100,4,IF(F11=150,6,IF(F11=200,8,IF(F11=250,10,IF(F11=300,12,0))))))","v":{"$error":"#N/A"}},{"$f":"INDEX(N$37:Y$61,MATCH(1,(N$37:N$61=D11)*(O$37:O$61=E11),0),IF(F11=100,3,IF(F11=150,5,IF(F11=200,7,IF(F11=250,9,IF(F11=300,11,0))))))","v":{"$error":"#N/A"}},{"$f":"INDEX(N$37:Y$61,MATCH(1,(N$37:N$61=D11)*(O$37:O$61=E11),0),IF(F11=100,4,IF(F11=150,6,IF(F11=200,8,IF(F11=250,10,IF(F11=300,12,0))))))","v":{"$error":"#N/A"}},{"$f":"INDEX(N$64:Y$88,MATCH(1,(N$64:N$88=D11)*(O$64:O$88=E11),0),IF(F11=100,3,IF(F11=150,5,IF(F11=200,7,IF(F11=250,9,IF(F11=300,11,0))))))","v":{"$error":"#N/A"}},{"$f":"INDEX(N$64:Y$88,MATCH(1,(N$64:N$88=D11)*(O$64:O$88=E11),0),IF(F11=100,4,IF(F11=150,6,IF(F11=200,8,IF(F11=250,10,IF(F11=300,12,0))))))","v":{"$error":"#N/A"}},{"$f":"INDEX(N$91:Y$115,MATCH(1,(N$91:N$115=D11)*(O$91:O$115=E11),0),IF(F11=100,3,IF(F11=150,5,IF(F11=200,7,IF(F11=250,9,IF(F11=300,11,0))))))","v":{"$error":"#N/A"}},{"$f":"INDEX(N$91:Y$115,MATCH(1,(N$91:N$115=D11)*(O$91:O$115=E11),0),IF(F11=100,4,IF(F11=150,6,IF(F11=200,8,IF(F11=250,10,IF(F11=300,12,0))))))","v":{"$error":"#N/A"}},{"$f":"INDEX(N$118:Y$142,MATCH(1,(N$118:N$142=D11)*(O$118:O$142=E11),0),IF(F11=100,3,IF(F11=150,5,IF(F11=200,7,IF(F11=250,9,IF(F11=300,11,0))))))","v":{"$error":"#N/A"}},{"$f":"INDEX(N$118:Y$142,MATCH(1,(N$118:N$142=D11)*(O$118:O$142=E11),0),IF(F11=100,4,IF(F11=150,6,IF(F11=200,8,IF(F11=250,10,IF(F11=300,12,0))))))","v":{"$error":"#N/A"}}]
[{"$f":"'UFH Guide'!A12","v":"Bedroom 3"},null,{"$f":"'UFH Guide'!H12","v":0},{"$f":"'UFH Guide'!E12","v":0},{"$f":"'UFH Guide'!B12","v":0},{"$f":"'UFH Guide'!I12","v":0},{"$f":"'UFH Guide'!J12","v":0},0,0,{"$f":"INDEX(A$37:L$61,MATCH(1,(A$37:A$61=D12)*(B$37:B$61=E12),0),IF(F12=100,3,IF(F12=150,5,IF(F12=200,7,IF(F12=250,9,IF(F12=300,11,0))))))","v":{"$error":"#N/A"}},{"$f":"INDEX(A$37:L$61,MATCH(1,(A$37:A$61=D12)*(B$37:B$61=E12),0),IF(F12=100,4,IF(F12=150,6,IF(F12=200,8,IF(F12=250,10,IF(F12=300,12,0))))))","v":{"$error":"#N/A"}},{"$f":"INDEX(A$64:L$88,MATCH(1,(A$64:A$88=D12)*(B$64:B$88=E12),0),IF(F12=100,3,IF(F12=150,5,IF(F12=200,7,IF(F12=250,9,IF(F12=300,11,0))))))","v":{"$error":"#N/A"}},{"$f":"INDEX(A$64:L$88,MATCH(1,(A$64:A$88=D12)*(B$64:B$88=E12),0),IF(F12=100,4,IF(F12=150,6,IF(F12=200,8,IF(F12=250,10,IF(F12=300,12,0))))))","v":{"$error":"#N/A"}},{"$f":"INDEX(A$91:L$115,MATCH(1,(A$91:A$115=D12)*(B$91:B$115=E12),0),IF(F12=100,3,IF(F12=150,5,IF(F12=200,7,IF(F12=250,9,IF(F12=300,11,0))))))","v":{"$error":"#N/A"}},{"$f":"INDEX(A$91:L$115,MATCH(1,(A$91:A$115=D12)*(B$91:B$115=E12),0),IF(F12=100,4,IF(F12=150,6,IF(F12=200,8,IF(F12=250,10,IF(F12=300,12,0))))))","v":{"$error":"#N/A"}},{"$f":"INDEX(A$118:L$142,MATCH(1,(A$118:A$142=D12)*(B$118:B$142=E12),0),IF(F12=100,3,IF(F12=150,5,IF(F12=200,7,IF(F12=250,9,IF(F12=300,11,0))))))","v":{"$error":"#N/A"}},{"$f":"INDEX(A$118:L$142,MATCH(1,(A$118:A$142=D12)*(B$118:B$142=E12),0),IF(F12=100,4,IF(F12=150,6,IF(F12=200,8,IF(F12=250,10,IF(F12=300,12,0))))))","v":{"$error":"#N/A"}},{"$f":"INDEX(N$37:Y$61,MATCH(1,(N$37:N$61=D12)*(O$37:O$61=E12),0),IF(F12=100,3,IF(F12=150,5,IF(F12=200,7,IF(F12=250,9,IF(F12=300,11,0))))))","v":{"$error":"#N/A"}},{"$f":"INDEX(N$37:Y$61,MATCH(1,(N$37:N$61=D12)*(O$37:O$61=E12),0),IF(F12=100,4,IF(F12=150,6,IF(F12=200,8,IF(F12=250,10,IF(F12=300,12,0))))))","v":{"$error":"#N/A"}},{"$f":"INDEX(N$64:Y$88,MATCH(1,(N$64:N$88=D12)*(O$64:O$88=E12),0),IF(F12=100,3,IF(F12=150,5,IF(F12=200,7,IF(F12=250,9,IF(F12=300,11,0))))))","v":{"$error":"#N/A"}},{"$f":"INDEX(N$64:Y$88,MATCH(1,(N$64:N$88=D12)*(O$64:O$88=E12),0),IF(F12=100,4,IF(F12=150,6,IF(F12=200,8,IF(F12=250,10,IF(F12=300,12,0))))))","v":{"$error":"#N/A"}},{"$f":"INDEX(N$91:Y$115,MATCH(1,(N$91:N$115=D12)*(O$91:O$115=E12),0),IF(F12=100,3,IF(F12=150,5,IF(F12=200,7,IF(F12=250,9,IF(F12=300,11,0))))))","v":{"$error":"#N/A"}},{"$f":"INDEX(N$91:Y$115,MATCH(1,(N$91:N$115=D12)*(O$91:O$115=E12),0),IF(F12=100,4,IF(F12=150,6,IF(F12=200,8,IF(F12=250,10,IF(F12=300,12,0))))))","v":{"$error":"#N/A"}},{"$f":"INDEX(N$118:Y$142,MATCH(1,(N$118:N$142=D12)*(O$118:O$142=E12),0),IF(F12=100,3,IF(F12=150,5,IF(F12=200,7,IF(F12=250,9,IF(F12=300,11,0))))))","v":{"$error":"#N/A"}},{"$f":"INDEX(N$118:Y$142,MATCH(1,(N$118:N$142=D12)*(O$118:O$142=E12),0),IF(F12=100,4,IF(F12=150,6,IF(F12=200,8,IF(F12=250,10,IF(F12=300,12,0))))))","v":{"$error":"#N/A"}}]
[{"$f":"'UFH Guide'!A13","v":"Bedroom 4"},null,{"$f":"'UFH Guide'!H13","v":0},{"$f":"'UFH Guide'!E13","v":0},{"$f":"'UFH Guide'!B13","v":0},{"$f":"'UFH Guide'!I13","v":0},{"$f":"'UFH Guide'!J13","v":0},0,0,{"$f":"INDEX(A$37:L$61,MATCH(1,(A$37:A$61=D13)*(B$37:B$61=E13),0),IF(F13=100,3,IF(F13=150,5,IF(F13=200,7,IF(F13=250,9,IF(F13=300,11,0))))))","v":{"$error":"#N/A"}},{"$f":"INDEX(A$37:L$61,MATCH(1,(A$37:A$61=D13)*(B$37:B$61=E13),0),IF(F13=100,4,IF(F13=150,6,IF(F13=200,8,IF(F13=250,10,IF(F13=300,12,0))))))","v":{"$error":"#N/A"}},{"$f":"INDEX(A$64:L$88,MATCH(1,(A$64:A$88=D13)*(B$64:B$88=E13),0),IF(F13=100,3,IF(F13=150,5,IF(F13=200,7,IF(F13=250,9,IF(F13=300,11,0))))))","v":{"$error":"#N/A"}},{"$f":"INDEX(A$64:L$88,MATCH(1,(A$64:A$88=D13)*(B$64:B$88=E13),0),IF(F13=100,4,IF(F13=150,6,IF(F13=200,8,IF(F13=250,10,IF(F13=300,12,0))))))","v":{"$error":"#N/A"}},{"$f":"INDEX(A$91:L$115,MATCH(1,(A$91:A$115=D13)*(B$91:B$115=E13),0),IF(F13=100,3,IF(F13=150,5,IF(F13=200,7,IF(F13=250,9,IF(F13=300,11,0))))))","v":{"$error":"#N/A"}},{"$f":"INDEX(A$91:L$115,MATCH(1,(A$91:A$115=D13)*(B$91:B$115=E13),0),IF(F13=100,4,IF(F13=150,6,IF(F13=200,8,IF(F13=250,10,IF(F13=300,12,0))))))","v":{"$error":"#N/A"}},{"$f":"INDEX(A$118:L$142,MATCH(1,(A$118:A$142=D13)*(B$118:B$142=E13),0),IF(F13=100,3,IF(F13=150,5,IF(F13=200,7,IF(F13=250,9,IF(F13=300,11,0))))))","v":{"$error":"#N/A"}},{"$f":"INDEX(A$118:L$142,MATCH(1,(A$118:A$142=D13)*(B$118:B$142=E13),0),IF(F13=100,4,IF(F13=150,6,IF(F13=200,8,IF(F13=250,10,IF(F13=300,12,0))))))","v":{"$error":"#N/A"}},{"$f":"INDEX(N$37:Y$61,MATCH(1,(N$37:N$61=D13)*(O$37:O$61=E13),0),IF(F13=100,3,IF(F13=150,5,IF(F13=200,7,IF(F13=250,9,IF(F13=300,11,0))))))","v":{"$error":"#N/A"}},{"$f":"INDEX(N$37:Y$61,MATCH(1,(N$37:N$61=D13)*(O$37:O$61=E13),0),IF(F13=100,4,IF(F13=150,6,IF(F13=200,8,IF(F13=250,10,IF(F13=300,12,0))))))","v":{"$error":"#N/A"}},{"$f":"INDEX(N$64:Y$88,MATCH(1,(N$64:N$88=D13)*(O$64:O$88=E13),0),IF(F13=100,3,IF(F13=150,5,IF(F13=200,7,IF(F13=250,9,IF(F13=300,11,0))))))","v":{"$error":"#N/A"}},{"$f":"INDEX(N$64:Y$88,MATCH(1,(N$64:N$88=D13)*(O$64:O$88=E13),0),IF(F13=100,4,IF(F13=150,6,IF(F13=200,8,IF(F13=250,10,IF(F13=300,12,0))))))","v":{"$error":"#N/A"}},{"$f":"INDEX(N$91:Y$115,MATCH(1,(N$91:N$115=D13)*(O$91:O$115=E13),0),IF(F13=100,3,IF(F13=150,5,IF(F13=200,7,IF(F13=250,9,IF(F13=300,11,0))))))","v":{"$error":"#N/A"}},{"$f":"INDEX(N$91:Y$115,MATCH(1,(N$91:N$115=D13)*(O$91:O$115=E13),0),IF(F13=100,4,IF(F13=150,6,IF(F13=200,8,IF(F13=250,10,IF(F13=300,12,0))))))","v":{"$error":"#N/A"}},{"$f":"INDEX(N$118:Y$142,MATCH(1,(N$118:N$142=D13)*(O$118:O$142=E13),0),IF(F13=100,3,IF(F13=150,5,IF(F13=200,7,IF(F13=250,9,IF(F13=300,11,0))))))","v":{"$error":"#N/A"}},{"$f":"INDEX(N$118:Y$142,MATCH(1,(N$118:N$142=D13)*(O$118:O$142=E13),0),IF(F13=100,4,IF(F13=150,6,IF(F13=200,8,IF(F13=250,10,IF(F13=300,12,0))))))","v":{"$error":"#N/A"}}]
[{"$f":"'UFH Guide'!A14","v":"En-suite "},null,{"$f":"'UFH Guide'!H14","v":0},{"$f":"'UFH Guide'!E14","v":0},{"$f":"'UFH Guide'!B14","v":0},{"$f":"'UFH Guide'!I14","v":0},{"$f":"'UFH Guide'!J14","v":0},0,0,{"$f":"INDEX(A$37:L$61,MATCH(1,(A$37:A$61=D14)*(B$37:B$61=E14),0),IF(F14=100,3,IF(F14=150,5,IF(F14=200,7,IF(F14=250,9,IF(F14=300,11,0))))))","v":{"$error":"#N/A"}},{"$f":"INDEX(A$37:L$61,MATCH(1,(A$37:A$61=D14)*(B$37:B$61=E14),0),IF(F14=100,4,IF(F14=150,6,IF(F14=200,8,IF(F14=250,10,IF(F14=300,12,0))))))","v":{"$error":"#N/A"}},{"$f":"INDEX(A$64:L$88,MATCH(1,(A$64:A$88=D14)*(B$64:B$88=E14),0),IF(F14=100,3,IF(F14=150,5,IF(F14=200,7,IF(F14=250,9,IF(F14=300,11,0))))))","v":{"$error":"#N/A"}},{"$f":"INDEX(A$64:L$88,MATCH(1,(A$64:A$88=D14)*(B$64:B$88=E14),0),IF(F14=100,4,IF(F14=150,6,IF(F14=200,8,IF(F14=250,10,IF(F14=300,12,0))))))","v":{"$error":"#N/A"}},{"$f":"INDEX(A$91:L$115,MATCH(1,(A$91:A$115=D14)*(B$91:B$115=E14),0),IF(F14=100,3,IF(F14=150,5,IF(F14=200,7,IF(F14=250,9,IF(F14=300,11,0))))))","v":{"$error":"#N/A"}},{"$f":"INDEX(A$91:L$115,MATCH(1,(A$91:A$115=D14)*(B$91:B$115=E14),0),IF(F14=100,4,IF(F14=150,6,IF(F14=200,8,IF(F14=250,10,IF(F14=300,12,0))))))","v":{"$error":"#N/A"}},{"$f":"INDEX(A$118:L$142,MATCH(1,(A$118:A$142=D14)*(B$118:B$142=E14),0),IF(F14=100,3,IF(F14=150,5,IF(F14=200,7,IF(F14=250,9,IF(F14=300,11,0))))))","v":{"$error":"#N/A"}},{"$f":"INDEX(A$118:L$142,MATCH(1,(A$118:A$142=D14)*(B$118:B$142=E14),0),IF(F14=100,4,IF(F14=150,6,IF(F14=200,8,IF(F14=250,10,IF(F14=300,12,0))))))","v":{"$error":"#N/A"}},{"$f":"INDEX(N$37:Y$61,MATCH(1,(N$37:N$61=D14)*(O$37:O$61=E14),0),IF(F14=100,3,IF(F14=150,5,IF(F14=200,7,IF(F14=250,9,IF(F14=300,11,0))))))","v":{"$error":"#N/A"}},{"$f":"INDEX(N$37:Y$61,MATCH(1,(N$37:N$61=D14)*(O$37:O$61=E14),0),IF(F14=100,4,IF(F14=150,6,IF(F14=200,8,IF(F14=250,10,IF(F14=300,12,0))))))","v":{"$error":"#N/A"}},{"$f":"INDEX(N$64:Y$88,MATCH(1,(N$64:N$88=D14)*(O$64:O$88=E14),0),IF(F14=100,3,IF(F14=150,5,IF(F14=200,7,IF(F14=250,9,IF(F14=300,11,0))))))","v":{"$error":"#N/A"}},{"$f":"INDEX(N$64:Y$88,MATCH(1,(N$64:N$88=D14)*(O$64:O$88=E14),0),IF(F14=100,4,IF(F14=150,6,IF(F14=200,8,IF(F14=250,10,IF(F14=300,12,0))))))","v":{"$error":"#N/A"}},{"$f":"INDEX(N$91:Y$115,MATCH(1,(N$91:N$115=D14)*(O$91:O$115=E14),0),IF(F14=100,3,IF(F14=150,5,IF(F14=200,7,IF(F14=250,9,IF(F14=300,11,0))))))","v":{"$error":"#N/A"}},{"$f":"INDEX(N$91:Y$115,MATCH(1,(N$91:N$115=D14)*(O$91:O$115=E14),0),IF(F14=100,4,IF(F14=150,6,IF(F14=200,8,IF(F14=250,10,IF(F14=300,12,0))))))","v":{"$error":"#N/A"}},{"$f":"INDEX(N$118:Y$142,MATCH(1,(N$118:N$142=D14)*(O$118:O$142=E14),0),IF(F14=100,3,IF(F14=150,5,IF(F14=200,7,IF(F14=250,9,IF(F14=300,11,0))))))","v":{"$error":"#N/A"}},{"$f":"INDEX(N$118:Y$142,MATCH(1,(N$118:N$142=D14)*(O$118:O$142=E14),0),IF(F14=100,4,IF(F14=150,6,IF(F14=200,8,IF(F14=250,10,IF(F14=300,12,0))))))","v":{"$error":"#N/A"}}]
[{"$f":"'UFH Guide'!A15","v":"Bath "},null,{"$f":"'UFH Guide'!H15","v":0},{"$f":"'UFH Guide'!E15","v":0},{"$f":"'UFH Guide'!B15","v":0},{"$f":"'UFH Guide'!I15","v":0},{"$f":"'UFH Guide'!J15","v":0},0,0,{"$f":"INDEX(A$37:L$61,MATCH(1,(A$37:A$61=D15)*(B$37:B$61=E15),0),IF(F15=100,3,IF(F15=150,5,IF(F15=200,7,IF(F15=250,9,IF(F15=300,11,0))))))","v":{"$error":"#N/A"}},{"$f":"INDEX(A$37:L$61,MATCH(1,(A$37:A$61=D15)*(B$37:B$61=E15),0),IF(F15=100,4,IF(F15=150,6,IF(F15=200,8,IF(F15=250,10,IF(F15=300,12,0))))))","v":{"$error":"#N/A"}},{"$f":"INDEX(A$64:L$88,MATCH(1,(A$64:A$88=D15)*(B$64:B$88=E15),0),IF(F15=100,3,IF(F15=150,5,IF(F15=200,7,IF(F15=250,9,IF(F15=300,11,0))))))","v":{"$error":"#N/A"}},{"$f":"INDEX(A$64:L$88,MATCH(1,(A$64:A$88=D15)*(B$64:B$88=E15),0),IF(F15=100,4,IF(F15=150,6,IF(F15=200,8,IF(F15=250,10,IF(F15=300,12,0))))))","v":{"$error":"#N/A"}},{"$f":"INDEX(A$91:L$115,MATCH(1,(A$91:A$115=D15)*(B$91:B$115=E15),0),IF(F15=100,3,IF(F15=150,5,IF(F15=200,7,IF(F15=250,9,IF(F15=300,11,0))))))","v":{"$error":"#N/A"}},{"$f":"INDEX(A$91:L$115,MATCH(1,(A$91:A$115=D15)*(B$91:B$115=E15),0),IF(F15=100,4,IF(F15=150,6,IF(F15=200,8,IF(F15=250,10,IF(F15=300,12,0))))))","v":{"$error":"#N/A"}},{"$f":"INDEX(A$118:L$142,MATCH(1,(A$118:A$142=D15)*(B$118:B$142=E15),0),IF(F15=100,3,IF(F15=150,5,IF(F15=200,7,IF(F15=250,9,IF(F15=300,11,0))))))","v":{"$error":"#N/A"}},{"$f":"INDEX(A$118:L$142,MATCH(1,(A$118:A$142=D15)*(B$118:B$142=E15),0),IF(F15=100,4,IF(F15=150,6,IF(F15=200,8,IF(F15=250,10,IF(F15=300,12,0))))))","v":{"$error":"#N/A"}},{"$f":"INDEX(N$37:Y$61,MATCH(1,(N$37:N$61=D15)*(O$37:O$61=E15),0),IF(F15=100,3,IF(F15=150,5,IF(F15=200,7,IF(F15=250,9,IF(F15=300,11,0))))))","v":{"$error":"#N/A"}},{"$f":"INDEX(N$37:Y$61,MATCH(1,(N$37:N$61=D15)*(O$37:O$61=E15),0),IF(F15=100,4,IF(F15=150,6,IF(F15=200,8,IF(F15=250,10,IF(F15=300,12,0))))))","v":{"$error":"#N/A"}},{"$f":"INDEX(N$64:Y$88,MATCH(1,(N$64:N$88=D15)*(O$64:O$88=E15),0),IF(F15=100,3,IF(F15=150,5,IF(F15=200,7,IF(F15=250,9,IF(F15=300,11,0))))))","v":{"$error":"#N/A"}},{"$f":"INDEX(N$64:Y$88,MATCH(1,(N$64:N$88=D15)*(O$64:O$88=E15),0),IF(F15=100,4,IF(F15=150,6,IF(F15=200,8,IF(F15=250,10,IF(F15=300,12,0))))))","v":{"$error":"#N/A"}},{"$f":"INDEX(N$91:Y$115,MATCH(1,(N$91:N$115=D15)*(O$91:O$115=E15),0),IF(F15=100,3,IF(F15=150,5,IF(F15=200,7,IF(F15=250,9,IF(F15=300,11,0))))))","v":{"$error":"#N/A"}},{"$f":"INDEX(N$91:Y$115,MATCH(1,(N$91:N$115=D15)*(O$91:O$115=E15),0),IF(F15=100,4,IF(F15=150,6,IF(F15=200,8,IF(F15=250,10,IF(F15=300,12,0))))))","v":{"$error":"#N/A"}},{"$f":"INDEX(N$118:Y$142,MATCH(1,(N$118:N$142=D15)*(O$118:O$142=E15),0),IF(F15=100,3,IF(F15=150,5,IF(F15=200,7,IF(F15=250,9,IF(F15=300,11,0))))))","v":{"$error":"#N/A"}},{"$f":"INDEX(N$118:Y$142,MATCH(1,(N$118:N$142=D15)*(O$118:O$142=E15),0),IF(F15=100,4,IF(F15=150,6,IF(F15=200,8,IF(F15=250,10,IF(F15=300,12,0))))))","v":{"$error":"#N/A"}}]
[{"$f":"'UFH Guide'!A16","v":"Landing "},null,{"$f":"'UFH Guide'!H16","v":0},{"$f":"'UFH Guide'!E16","v":0},{"$f":"'UFH Guide'!B16","v":0},{"$f":"'UFH Guide'!I16","v":0},{"$f":"'UFH Guide'!J16","v":0},0,0,{"$f":"INDEX(A$37:L$61,MATCH(1,(A$37:A$61=D16)*(B$37:B$61=E16),0),IF(F16=100,3,IF(F16=150,5,IF(F16=200,7,IF(F16=250,9,IF(F16=300,11,0))))))","v":{"$error":"#N/A"}},{"$f":"INDEX(A$37:L$61,MATCH(1,(A$37:A$61=D16)*(B$37:B$61=E16),0),IF(F16=100,4,IF(F16=150,6,IF(F16=200,8,IF(F16=250,10,IF(F16=300,12,0))))))","v":{"$error":"#N/A"}},{"$f":"INDEX(A$64:L$88,MATCH(1,(A$64:A$88=D16)*(B$64:B$88=E16),0),IF(F16=100,3,IF(F16=150,5,IF(F16=200,7,IF(F16=250,9,IF(F16=300,11,0))))))","v":{"$error":"#N/A"}},{"$f":"INDEX(A$64:L$88,MATCH(1,(A$64:A$88=D16)*(B$64:B$88=E16),0),IF(F16=100,4,IF(F16=150,6,IF(F16=200,8,IF(F16=250,10,IF(F16=300,12,0))))))","v":{"$error":"#N/A"}},{"$f":"INDEX(A$91:L$115,MATCH(1,(A$91:A$115=D16)*(B$91:B$115=E16),0),IF(F16=100,3,IF(F16=150,5,IF(F16=200,7,IF(F16=250,9,IF(F16=300,11,0))))))","v":{"$error":"#N/A"}},{"$f":"INDEX(A$91:L$115,MATCH(1,(A$91:A$115=D16)*(B$91:B$115=E16),0),IF(F16=100,4,IF(F16=150,6,IF(F16=200,8,IF(F16=250,10,IF(F16=300,12,0))))))","v":{"$error":"#N/A"}},{"$f":"INDEX(A$118:L$142,MATCH(1,(A$118:A$142=D16)*(B$118:B$142=E16),0),IF(F16=100,3,IF(F16=150,5,IF(F16=200,7,IF(F16=250,9,IF(F16=300,11,0))))))","v":{"$error":"#N/A"}},{"$f":"INDEX(A$118:L$142,MATCH(1,(A$118:A$142=D16)*(B$118:B$142=E16),0),IF(F16=100,4,IF(F16=150,6,IF(F16=200,8,IF(F16=250,10,IF(F16=300,12,0))))))","v":{"$error":"#N/A"}},{"$f":"INDEX(N$37:Y$61,MATCH(1,(N$37:N$61=D16)*(O$37:O$61=E16),0),IF(F16=100,3,IF(F16=150,5,IF(F16=200,7,IF(F16=250,9,IF(F16=300,11,0))))))","v":{"$error":"#N/A"}},{"$f":"INDEX(N$37:Y$61,MATCH(1,(N$37:N$61=D16)*(O$37:O$61=E16),0),IF(F16=100,4,IF(F16=150,6,IF(F16=200,8,IF(F16=250,10,IF(F16=300,12,0))))))","v":{"$error":"#N/A"}},{"$f":"INDEX(N$64:Y$88,MATCH(1,(N$64:N$88=D16)*(O$64:O$88=E16),0),IF(F16=100,3,IF(F16=150,5,IF(F16=200,7,IF(F16=250,9,IF(F16=300,11,0))))))","v":{"$error":"#N/A"}},{"$f":"INDEX(N$64:Y$88,MATCH(1,(N$64:N$88=D16)*(O$64:O$88=E16),0),IF(F16=100,4,IF(F16=150,6,IF(F16=200,8,IF(F16=250,10,IF(F16=300,12,0))))))","v":{"$error":"#N/A"}},{"$f":"INDEX(N$91:Y$115,MATCH(1,(N$91:N$115=D16)*(O$91:O$115=E16),0),IF(F16=100,3,IF(F16=150,5,IF(F16=200,7,IF(F16=250,9,IF(F16=300,11,0))))))","v":{"$error":"#N/A"}},{"$f":"INDEX(N$91:Y$115,MATCH(1,(N$91:N$115=D16)*(O$91:O$115=E16),0),IF(F16=100,4,IF(F16=150,6,IF(F16=200,8,IF(F16=250,10,IF(F16=300,12,0))))))","v":{"$error":"#N/A"}},{"$f":"INDEX(N$118:Y$142,MATCH(1,(N$118:N$142=D16)*(O$118:O$142=E16),0),IF(F16=100,3,IF(F16=150,5,IF(F16=200,7,IF(F16=250,9,IF(F16=300,11,0))))))","v":{"$error":"#N/A"}},{"$f":"INDEX(N$118:Y$142,MATCH(1,(N$118:N$142=D16)*(O$118:O$142=E16),0),IF(F16=100,4,IF(F16=150,6,IF(F16=200,8,IF(F16=250,10,IF(F16=300,12,0))))))","v":{"$error":"#N/A"}}]
[{"$f":"'UFH Guide'!A17","v":"- "},null,{"$f":"'UFH Guide'!H17","v":0},{"$f":"'UFH Guide'!E17","v":0},{"$f":"'UFH Guide'!B17","v":0},{"$f":"'UFH Guide'!I17","v":0},{"$f":"'UFH Guide'!J17","v":0},0,0,{"$f":"INDEX(A$37:L$61,MATCH(1,(A$37:A$61=D17)*(B$37:B$61=E17),0),IF(F17=100,3,IF(F17=150,5,IF(F17=200,7,IF(F17=250,9,IF(F17=300,11,0))))))","v":{"$error":"#N/A"}},{"$f":"INDEX(A$37:L$61,MATCH(1,(A$37:A$61=D17)*(B$37:B$61=E17),0),IF(F17=100,4,IF(F17=150,6,IF(F17=200,8,IF(F17=250,10,IF(F17=300,12,0))))))","v":{"$error":"#N/A"}},{"$f":"INDEX(A$64:L$88,MATCH(1,(A$64:A$88=D17)*(B$64:B$88=E17),0),IF(F17=100,3,IF(F17=150,5,IF(F17=200,7,IF(F17=250,9,IF(F17=300,11,0))))))","v":{"$error":"#N/A"}},{"$f":"INDEX(A$64:L$88,MATCH(1,(A$64:A$88=D17)*(B$64:B$88=E17),0),IF(F17=100,4,IF(F17=150,6,IF(F17=200,8,IF(F17=250,10,IF(F17=300,12,0))))))","v":{"$error":"#N/A"}},{"$f":"INDEX(A$91:L$115,MATCH(1,(A$91:A$115=D17)*(B$91:B$115=E17),0),IF(F17=100,3,IF(F17=150,5,IF(F17=200,7,IF(F17=250,9,IF(F17=300,11,0))))))","v":{"$error":"#N/A"}},{"$f":"INDEX(A$91:L$115,MATCH(1,(A$91:A$115=D17)*(B$91:B$115=E17),0),IF(F17=100,4,IF(F17=150,6,IF(F17=200,8,IF(F17=250,10,IF(F17=300,12,0))))))","v":{"$error":"#N/A"}},{"$f":"INDEX(A$118:L$142,MATCH(1,(A$118:A$142=D17)*(B$118:B$142=E17),0),IF(F17=100,3,IF(F17=150,5,IF(F17=200,7,IF(F17=250,9,IF(F17=300,11,0))))))","v":{"$error":"#N/A"}},{"$f":"INDEX(A$118:L$142,MATCH(1,(A$118:A$142=D17)*(B$118:B$142=E17),0),IF(F17=100,4,IF(F17=150,6,IF(F17=200,8,IF(F17=250,10,IF(F17=300,12,0))))))","v":{"$error":"#N/A"}},{"$f":"INDEX(N$37:Y$61,MATCH(1,(N$37:N$61=D17)*(O$37:O$61=E17),0),IF(F17=100,3,IF(F17=150,5,IF(F17=200,7,IF(F17=250,9,IF(F17=300,11,0))))))","v":{"$error":"#N/A"}},{"$f":"INDEX(N$37:Y$61,MATCH(1,(N$37:N$61=D17)*(O$37:O$61=E17),0),IF(F17=100,4,IF(F17=150,6,IF(F17=200,8,IF(F17=250,10,IF(F17=300,12,0))))))","v":{"$error":"#N/A"}},{"$f":"INDEX(N$64:Y$88,MATCH(1,(N$64:N$88=D17)*(O$64:O$88=E17),0),IF(F17=100,3,IF(F17=150,5,IF(F17=200,7,IF(F17=250,9,IF(F17=300,11,0))))))","v":{"$error":"#N/A"}},{"$f":"INDEX(N$64:Y$88,MATCH(1,(N$64:N$88=D17)*(O$64:O$88=E17),0),IF(F17=100,4,IF(F17=150,6,IF(F17=200,8,IF(F17=250,10,IF(F17=300,12,0))))))","v":{"$error":"#N/A"}},{"$f":"INDEX(N$91:Y$115,MATCH(1,(N$91:N$115=D17)*(O$91:O$115=E17),0),IF(F17=100,3,IF(F17=150,5,IF(F17=200,7,IF(F17=250,9,IF(F17=300,11,0))))))","v":{"$error":"#N/A"}},{"$f":"INDEX(N$91:Y$115,MATCH(1,(N$91:N$115=D17)*(O$91:O$115=E17),0),IF(F17=100,4,IF(F17=150,6,IF(F17=200,8,IF(F17=250,10,IF(F17=300,12,0))))))","v":{"$error":"#N/A"}},{"$f":"INDEX(N$118:Y$142,MATCH(1,(N$118:N$142=D17)*(O$118:O$142=E17),0),IF(F17=100,3,IF(F17=150,5,IF(F17=200,7,IF(F17=250,9,IF(F17=300,11,0))))))","v":{"$error":"#N/A"}},{"$f":"INDEX(N$118:Y$142,MATCH(1,(N$118:N$142=D17)*(O$118:O$142=E17),0),IF(F17=100,4,IF(F17=150,6,IF(F17=200,8,IF(F17=250,10,IF(F17=300,12,0))))))","v":{"$error":"#N/A"}}]
[{"$f":"'UFH Guide'!A18","v":"- "},null,{"$f":"'UFH Guide'!H18","v":0},{"$f":"'UFH Guide'!E18","v":0},{"$f":"'UFH Guide'!B18","v":0},{"$f":"'UFH Guide'!I18","v":0},{"$f":"'UFH Guide'!J18","v":0},0,0,{"$f":"INDEX(A$37:L$61,MATCH(1,(A$37:A$61=D18)*(B$37:B$61=E18),0),IF(F18=100,3,IF(F18=150,5,IF(F18=200,7,IF(F18=250,9,IF(F18=300,11,0))))))","v":{"$error":"#N/A"}},{"$f":"INDEX(A$37:L$61,MATCH(1,(A$37:A$61=D18)*(B$37:B$61=E18),0),IF(F18=100,4,IF(F18=150,6,IF(F18=200,8,IF(F18=250,10,IF(F18=300,12,0))))))","v":{"$error":"#N/A"}},{"$f":"INDEX(A$64:L$88,MATCH(1,(A$64:A$88=D18)*(B$64:B$88=E18),0),IF(F18=100,3,IF(F18=150,5,IF(F18=200,7,IF(F18=250,9,IF(F18=300,11,0))))))","v":{"$error":"#N/A"}},{"$f":"INDEX(A$64:L$88,MATCH(1,(A$64:A$88=D18)*(B$64:B$88=E18),0),IF(F18=100,4,IF(F18=150,6,IF(F18=200,8,IF(F18=250,10,IF(F18=300,12,0))))))","v":{"$error":"#N/A"}},{"$f":"INDEX(A$91:L$115,MATCH(1,(A$91:A$115=D18)*(B$91:B$115=E18),0),IF(F18=100,3,IF(F18=150,5,IF(F18=200,7,IF(F18=250,9,IF(F18=300,11,0))))))","v":{"$error":"#N/A"}},{"$f":"INDEX(A$91:L$115,MATCH(1,(A$91:A$115=D18)*(B$91:B$115=E18),0),IF(F18=100,4,IF(F18=150,6,IF(F18=200,8,IF(F18=250,10,IF(F18=300,12,0))))))","v":{"$error":"#N/A"}},{"$f":"INDEX(A$118:L$142,MATCH(1,(A$118:A$142=D18)*(B$118:B$142=E18),0),IF(F18=100,3,IF(F18=150,5,IF(F18=200,7,IF(F18=250,9,IF(F18=300,11,0))))))","v":{"$error":"#N/A"}},{"$f":"INDEX(A$118:L$142,MATCH(1,(A$118:A$142=D18)*(B$118:B$142=E18),0),IF(F18=100,4,IF(F18=150,6,IF(F18=200,8,IF(F18=250,10,IF(F18=300,12,0))))))","v":{"$error":"#N/A"}},{"$f":"INDEX(N$37:Y$61,MATCH(1,(N$37:N$61=D18)*(O$37:O$61=E18),0),IF(F18=100,3,IF(F18=150,5,IF(F18=200,7,IF(F18=250,9,IF(F18=300,11,0))))))","v":{"$error":"#N/A"}},{"$f":"INDEX(N$37:Y$61,MATCH(1,(N$37:N$61=D18)*(O$37:O$61=E18),0),IF(F18=100,4,IF(F18=150,6,IF(F18=200,8,IF(F18=250,10,IF(F18=300,12,0))))))","v":{"$error":"#N/A"}},{"$f":"INDEX(N$64:Y$88,MATCH(1,(N$64:N$88=D18)*(O$64:O$88=E18),0),IF(F18=100,3,IF(F18=150,5,IF(F18=200,7,IF(F18=250,9,IF(F18=300,11,0))))))","v":{"$error":"#N/A"}},{"$f":"INDEX(N$64:Y$88,MATCH(1,(N$64:N$88=D18)*(O$64:O$88=E18),0),IF(F18=100,4,IF(F18=150,6,IF(F18=200,8,IF(F18=250,10,IF(F18=300,12,0))))))","v":{"$error":"#N/A"}},{"$f":"INDEX(N$91:Y$115,MATCH(1,(N$91:N$115=D18)*(O$91:O$115=E18),0),IF(F18=100,3,IF(F18=150,5,IF(F18=200,7,IF(F18=250,9,IF(F18=300,11,0))))))","v":{"$error":"#N/A"}},{"$f":"INDEX(N$91:Y$115,MATCH(1,(N$91:N$115=D18)*(O$91:O$115=E18),0),IF(F18=100,4,IF(F18=150,6,IF(F18=200,8,IF(F18=250,10,IF(F18=300,12,0))))))","v":{"$error":"#N/A"}},{"$f":"INDEX(N$118:Y$142,MATCH(1,(N$118:N$142=D18)*(O$118:O$142=E18),0),IF(F18=100,3,IF(F18=150,5,IF(F18=200,7,IF(F18=250,9,IF(F18=300,11,0))))))","v":{"$error":"#N/A"}},{"$f":"INDEX(N$118:Y$142,MATCH(1,(N$118:N$142=D18)*(O$118:O$142=E18),0),IF(F18=100,4,IF(F18=150,6,IF(F18=200,8,IF(F18=250,10,IF(F18=300,12,0))))))","v":{"$error":"#N/A"}}]
[{"$f":"'UFH Guide'!A19","v":"- "},null,{"$f":"'UFH Guide'!H19","v":0},{"$f":"'UFH Guide'!E19","v":0},{"$f":"'UFH Guide'!B19","v":0},{"$f":"'UFH Guide'!I19","v":0},{"$f":"'UFH Guide'!J19","v":0},0,0,{"$f":"INDEX(A$37:L$61,MATCH(1,(A$37:A$61=D19)*(B$37:B$61=E19),0),IF(F19=100,3,IF(F19=150,5,IF(F19=200,7,IF(F19=250,9,IF(F19=300,11,0))))))","v":{"$error":"#N/A"}},{"$f":"INDEX(A$37:L$61,MATCH(1,(A$37:A$61=D19)*(B$37:B$61=E19),0),IF(F19=100,4,IF(F19=150,6,IF(F19=200,8,IF(F19=250,10,IF(F19=300,12,0))))))","v":{"$error":"#N/A"}},{"$f":"INDEX(A$64:L$88,MATCH(1,(A$64:A$88=D19)*(B$64:B$88=E19),0),IF(F19=100,3,IF(F19=150,5,IF(F19=200,7,IF(F19=250,9,IF(F19=300,11,0))))))","v":{"$error":"#N/A"}},{"$f":"INDEX(A$64:L$88,MATCH(1,(A$64:A$88=D19)*(B$64:B$88=E19),0),IF(F19=100,4,IF(F19=150,6,IF(F19=200,8,IF(F19=250,10,IF(F19=300,12,0))))))","v":{"$error":"#N/A"}},{"$f":"INDEX(A$91:L$115,MATCH(1,(A$91:A$115=D19)*(B$91:B$115=E19),0),IF(F19=100,3,IF(F19=150,5,IF(F19=200,7,IF(F19=250,9,IF(F19=300,11,0))))))","v":{"$error":"#N/A"}},{"$f":"INDEX(A$91:L$115,MATCH(1,(A$91:A$115=D19)*(B$91:B$115=E19),0),IF(F19=100,4,IF(F19=150,6,IF(F19=200,8,IF(F19=250,10,IF(F19=300,12,0))))))","v":{"$error":"#N/A"}},{"$f":"INDEX(A$118:L$142,MATCH(1,(A$118:A$142=D19)*(B$118:B$142=E19),0),IF(F19=100,3,IF(F19=150,5,IF(F19=200,7,IF(F19=250,9,IF(F19=300,11,0))))))","v":{"$error":"#N/A"}},{"$f":"INDEX(A$118:L$142,MATCH(1,(A$118:A$142=D19)*(B$118:B$142=E19),0),IF(F19=100,4,IF(F19=150,6,IF(F19=200,8,IF(F19=250,10,IF(F19=300,12,0))))))","v":{"$error":"#N/A"}},{"$f":"INDEX(N$37:Y$61,MATCH(1,(N$37:N$61=D19)*(O$37:O$61=E19),0),IF(F19=100,3,IF(F19=150,5,IF(F19=200,7,IF(F19=250,9,IF(F19=300,11,0))))))","v":{"$error":"#N/A"}},{"$f":"INDEX(N$37:Y$61,MATCH(1,(N$37:N$61=D19)*(O$37:O$61=E19),0),IF(F19=100,4,IF(F19=150,6,IF(F19=200,8,IF(F19=250,10,IF(F19=300,12,0))))))","v":{"$error":"#N/A"}},{"$f":"INDEX(N$64:Y$88,MATCH(1,(N$64:N$88=D19)*(O$64:O$88=E19),0),IF(F19=100,3,IF(F19=150,5,IF(F19=200,7,IF(F19=250,9,IF(F19=300,11,0))))))","v":{"$error":"#N/A"}},{"$f":"INDEX(N$64:Y$88,MATCH(1,(N$64:N$88=D19)*(O$64:O$88=E19),0),IF(F19=100,4,IF(F19=150,6,IF(F19=200,8,IF(F19=250,10,IF(F19=300,12,0))))))","v":{"$error":"#N/A"}},{"$f":"INDEX(N$91:Y$115,MATCH(1,(N$91:N$115=D19)*(O$91:O$115=E19),0),IF(F19=100,3,IF(F19=150,5,IF(F19=200,7,IF(F19=250,9,IF(F19=300,11,0))))))","v":{"$error":"#N/A"}},{"$f":"INDEX(N$91:Y$115,MATCH(1,(N$91:N$115=D19)*(O$91:O$115=E19),0),IF(F19=100,4,IF(F19=150,6,IF(F19=200,8,IF(F19=250,10,IF(F19=300,12,0))))))","v":{"$error":"#N/A"}},{"$f":"INDEX(N$118:Y$142,MATCH(1,(N$118:N$142=D19)*(O$118:O$142=E19),0),IF(F19=100,3,IF(F19=150,5,IF(F19=200,7,IF(F19=250,9,IF(F19=300,11,0))))))","v":{"$error":"#N/A"}},{"$f":"INDEX(N$118:Y$142,MATCH(1,(N$118:N$142=D19)*(O$118:O$142=E19),0),IF(F19=100,4,IF(F19=150,6,IF(F19=200,8,IF(F19=250,10,IF(F19=300,12,0))))))","v":{"$error":"#N/A"}}]
[{"$f":"'UFH Guide'!A20","v":"- "},null,{"$f":"'UFH Guide'!H20","v":0},{"$f":"'UFH Guide'!E20","v":0},{"$f":"'UFH Guide'!B20","v":0},{"$f":"'UFH Guide'!I20","v":0},{"$f":"'UFH Guide'!J20","v":0},0,0,{"$f":"INDEX(A$37:L$61,MATCH(1,(A$37:A$61=D20)*(B$37:B$61=E20),0),IF(F20=100,3,IF(F20=150,5,IF(F20=200,7,IF(F20=250,9,IF(F20=300,11,0))))))","v":{"$error":"#N/A"}},{"$f":"INDEX(A$37:L$61,MATCH(1,(A$37:A$61=D20)*(B$37:B$61=E20),0),IF(F20=100,4,IF(F20=150,6,IF(F20=200,8,IF(F20=250,10,IF(F20=300,12,0))))))","v":{"$error":"#N/A"}},{"$f":"INDEX(A$64:L$88,MATCH(1,(A$64:A$88=D20)*(B$64:B$88=E20),0),IF(F20=100,3,IF(F20=150,5,IF(F20=200,7,IF(F20=250,9,IF(F20=300,11,0))))))","v":{"$error":"#N/A"}},{"$f":"INDEX(A$64:L$88,MATCH(1,(A$64:A$88=D20)*(B$64:B$88=E20),0),IF(F20=100,4,IF(F20=150,6,IF(F20=200,8,IF(F20=250,10,IF(F20=300,12,0))))))","v":{"$error":"#N/A"}},{"$f":"INDEX(A$91:L$115,MATCH(1,(A$91:A$115=D20)*(B$91:B$115=E20),0),IF(F20=100,3,IF(F20=150,5,IF(F20=200,7,IF(F20=250,9,IF(F20=300,11,0))))))","v":{"$error":"#N/A"}},{"$f":"INDEX(A$91:L$115,MATCH(1,(A$91:A$115=D20)*(B$91:B$115=E20),0),IF(F20=100,4,IF(F20=150,6,IF(F20=200,8,IF(F20=250,10,IF(F20=300,12,0))))))","v":{"$error":"#N/A"}},{"$f":"INDEX(A$118:L$142,MATCH(1,(A$118:A$142=D20)*(B$118:B$142=E20),0),IF(F20=100,3,IF(F20=150,5,IF(F20=200,7,IF(F20=250,9,IF(F20=300,11,0))))))","v":{"$error":"#N/A"}},{"$f":"INDEX(A$118:L$142,MATCH(1,(A$118:A$142=D20)*(B$118:B$142=E20),0),IF(F20=100,4,IF(F20=150,6,IF(F20=200,8,IF(F20=250,10,IF(F20=300,12,0))))))","v":{"$error":"#N/A"}},{"$f":"INDEX(N$37:Y$61,MATCH(1,(N$37:N$61=D20)*(O$37:O$61=E20),0),IF(F20=100,3,IF(F20=150,5,IF(F20=200,7,IF(F20=250,9,IF(F20=300,11,0))))))","v":{"$error":"#N/A"}},{"$f":"INDEX(N$37:Y$61,MATCH(1,(N$37:N$61=D20)*(O$37:O$61=E20),0),IF(F20=100,4,IF(F20=150,6,IF(F20=200,8,IF(F20=250,10,IF(F20=300,12,0))))))","v":{"$error":"#N/A"}},{"$f":"INDEX(N$64:Y$88,MATCH(1,(N$64:N$88=D20)*(O$64:O$88=E20),0),IF(F20=100,3,IF(F20=150,5,IF(F20=200,7,IF(F20=250,9,IF(F20=300,11,0))))))","v":{"$error":"#N/A"}},{"$f":"INDEX(N$64:Y$88,MATCH(1,(N$64:N$88=D20)*(O$64:O$88=E20),0),IF(F20=100,4,IF(F20=150,6,IF(F20=200,8,IF(F20=250,10,IF(F20=300,12,0))))))","v":{"$error":"#N/A"}},{"$f":"INDEX(N$91:Y$115,MATCH(1,(N$91:N$115=D20)*(O$91:O$115=E20),0),IF(F20=100,3,IF(F20=150,5,IF(F20=200,7,IF(F20=250,9,IF(F20=300,11,0))))))","v":{"$error":"#N/A"}},{"$f":"INDEX(N$91:Y$115,MATCH(1,(N$91:N$115=D20)*(O$91:O$115=E20),0),IF(F20=100,4,IF(F20=150,6,IF(F20=200,8,IF(F20=250,10,IF(F20=300,12,0))))))","v":{"$error":"#N/A"}},{"$f":"INDEX(N$118:Y$142,MATCH(1,(N$118:N$142=D20)*(O$118:O$142=E20),0),IF(F20=100,3,IF(F20=150,5,IF(F20=200,7,IF(F20=250,9,IF(F20=300,11,0))))))","v":{"$error":"#N/A"}},{"$f":"INDEX(N$118:Y$142,MATCH(1,(N$118:N$142=D20)*(O$118:O$142=E20),0),IF(F20=100,4,IF(F20=150,6,IF(F20=200,8,IF(F20=250,10,IF(F20=300,12,0))))))","v":{"$error":"#N/A"}}]
[{"$f":"'UFH Guide'!A21","v":"- "},null,{"$f":"'UFH Guide'!H21","v":0},{"$f":"'UFH Guide'!E21","v":0},{"$f":"'UFH Guide'!B21","v":0},{"$f":"'UFH Guide'!I21","v":0},{"$f":"'UFH Guide'!J21","v":0},0,0,{"$f":"INDEX(A$37:L$61,MATCH(1,(A$37:A$61=D21)*(B$37:B$61=E21),0),IF(F21=100,3,IF(F21=150,5,IF(F21=200,7,IF(F21=250,9,IF(F21=300,11,0))))))","v":{"$error":"#N/A"}},{"$f":"INDEX(A$37:L$61,MATCH(1,(A$37:A$61=D21)*(B$37:B$61=E21),0),IF(F21=100,4,IF(F21=150,6,IF(F21=200,8,IF(F21=250,10,IF(F21=300,12,0))))))","v":{"$error":"#N/A"}},{"$f":"INDEX(A$64:L$88,MATCH(1,(A$64:A$88=D21)*(B$64:B$88=E21),0),IF(F21=100,3,IF(F21=150,5,IF(F21=200,7,IF(F21=250,9,IF(F21=300,11,0))))))","v":{"$error":"#N/A"}},{"$f":"INDEX(A$64:L$88,MATCH(1,(A$64:A$88=D21)*(B$64:B$88=E21),0),IF(F21=100,4,IF(F21=150,6,IF(F21=200,8,IF(F21=250,10,IF(F21=300,12,0))))))","v":{"$error":"#N/A"}},{"$f":"INDEX(A$91:L$115,MATCH(1,(A$91:A$115=D21)*(B$91:B$115=E21),0),IF(F21=100,3,IF(F21=150,5,IF(F21=200,7,IF(F21=250,9,IF(F21=300,11,0))))))","v":{"$error":"#N/A"}},{"$f":"INDEX(A$91:L$115,MATCH(1,(A$91:A$115=D21)*(B$91:B$115=E21),0),IF(F21=100,4,IF(F21=150,6,IF(F21=200,8,IF(F21=250,10,IF(F21=300,12,0))))))","v":{"$error":"#N/A"}},{"$f":"INDEX(A$118:L$142,MATCH(1,(A$118:A$142=D21)*(B$118:B$142=E21),0),IF(F21=100,3,IF(F21=150,5,IF(F21=200,7,IF(F21=250,9,IF(F21=300,11,0))))))","v":{"$error":"#N/A"}},{"$f":"INDEX(A$118:L$142,MATCH(1,(A$118:A$142=D21)*(B$118:B$142=E21),0),IF(F21=100,4,IF(F21=150,6,IF(F21=200,8,IF(F21=250,10,IF(F21=300,12,0))))))","v":{"$error":"#N/A"}},{"$f":"INDEX(N$37:Y$61,MATCH(1,(N$37:N$61=D21)*(O$37:O$61=E21),0),IF(F21=100,3,IF(F21=150,5,IF(F21=200,7,IF(F21=250,9,IF(F21=300,11,0))))))","v":{"$error":"#N/A"}},{"$f":"INDEX(N$37:Y$61,MATCH(1,(N$37:N$61=D21)*(O$37:O$61=E21),0),IF(F21=100,4,IF(F21=150,6,IF(F21=200,8,IF(F21=250,10,IF(F21=300,12,0))))))","v":{"$error":"#N/A"}},{"$f":"INDEX(N$64:Y$88,MATCH(1,(N$64:N$88=D21)*(O$64:O$88=E21),0),IF(F21=100,3,IF(F21=150,5,IF(F21=200,7,IF(F21=250,9,IF(F21=300,11,0))))))","v":{"$error":"#N/A"}},{"$f":"INDEX(N$64:Y$88,MATCH(1,(N$64:N$88=D21)*(O$64:O$88=E21),0),IF(F21=100,4,IF(F21=150,6,IF(F21=200,8,IF(F21=250,10,IF(F21=300,12,0))))))","v":{"$error":"#N/A"}},{"$f":"INDEX(N$91:Y$115,MATCH(1,(N$91:N$115=D21)*(O$91:O$115=E21),0),IF(F21=100,3,IF(F21=150,5,IF(F21=200,7,IF(F21=250,9,IF(F21=300,11,0))))))","v":{"$error":"#N/A"}},{"$f":"INDEX(N$91:Y$115,MATCH(1,(N$91:N$115=D21)*(O$91:O$115=E21),0),IF(F21=100,4,IF(F21=150,6,IF(F21=200,8,IF(F21=250,10,IF(F21=300,12,0))))))","v":{"$error":"#N/A"}},{"$f":"INDEX(N$118:Y$142,MATCH(1,(N$118:N$142=D21)*(O$118:O$142=E21),0),IF(F21=100,3,IF(F21=150,5,IF(F21=200,7,IF(F21=250,9,IF(F21=300,11,0))))))","v":{"$error":"#N/A"}},{"$f":"INDEX(N$118:Y$142,MATCH(1,(N$118:N$142=D21)*(O$118:O$142=E21),0),IF(F21=100,4,IF(F21=150,6,IF(F21=200,8,IF(F21=250,10,IF(F21=300,12,0))))))","v":{"$error":"#N/A"}}]
[{"$f":"'UFH Guide'!A22","v":"- "},null,{"$f":"'UFH Guide'!H22","v":0},{"$f":"'UFH Guide'!E22","v":0},{"$f":"'UFH Guide'!B22","v":0},{"$f":"'UFH Guide'!I22","v":0},{"$f":"'UFH Guide'!J22","v":0},0,0,{"$f":"INDEX(A$37:L$61,MATCH(1,(A$37:A$61=D22)*(B$37:B$61=E22),0),IF(F22=100,3,IF(F22=150,5,IF(F22=200,7,IF(F22=250,9,IF(F22=300,11,0))))))","v":{"$error":"#N/A"}},{"$f":"INDEX(A$37:L$61,MATCH(1,(A$37:A$61=D22)*(B$37:B$61=E22),0),IF(F22=100,4,IF(F22=150,6,IF(F22=200,8,IF(F22=250,10,IF(F22=300,12,0))))))","v":{"$error":"#N/A"}},{"$f":"INDEX(A$64:L$88,MATCH(1,(A$64:A$88=D22)*(B$64:B$88=E22),0),IF(F22=100,3,IF(F22=150,5,IF(F22=200,7,IF(F22=250,9,IF(F22=300,11,0))))))","v":{"$error":"#N/A"}},{"$f":"INDEX(A$64:L$88,MATCH(1,(A$64:A$88=D22)*(B$64:B$88=E22),0),IF(F22=100,4,IF(F22=150,6,IF(F22=200,8,IF(F22=250,10,IF(F22=300,12,0))))))","v":{"$error":"#N/A"}},{"$f":"INDEX(A$91:L$115,MATCH(1,(A$91:A$115=D22)*(B$91:B$115=E22),0),IF(F22=100,3,IF(F22=150,5,IF(F22=200,7,IF(F22=250,9,IF(F22=300,11,0))))))","v":{"$error":"#N/A"}},{"$f":"INDEX(A$91:L$115,MATCH(1,(A$91:A$115=D22)*(B$91:B$115=E22),0),IF(F22=100,4,IF(F22=150,6,IF(F22=200,8,IF(F22=250,10,IF(F22=300,12,0))))))","v":{"$error":"#N/A"}},{"$f":"INDEX(A$118:L$142,MATCH(1,(A$118:A$142=D22)*(B$118:B$142=E22),0),IF(F22=100,3,IF(F22=150,5,IF(F22=200,7,IF(F22=250,9,IF(F22=300,11,0))))))","v":{"$error":"#N/A"}},{"$f":"INDEX(A$118:L$142,MATCH(1,(A$118:A$142=D22)*(B$118:B$142=E22),0),IF(F22=100,4,IF(F22=150,6,IF(F22=200,8,IF(F22=250,10,IF(F22=300,12,0))))))","v":{"$error":"#N/A"}},{"$f":"INDEX(N$37:Y$61,MATCH(1,(N$37:N$61=D22)*(O$37:O$61=E22),0),IF(F22=100,3,IF(F22=150,5,IF(F22=200,7,IF(F22=250,9,IF(F22=300,11,0))))))","v":{"$error":"#N/A"}},{"$f":"INDEX(N$37:Y$61,MATCH(1,(N$37:N$61=D22)*(O$37:O$61=E22),0),IF(F22=100,4,IF(F22=150,6,IF(F22=200,8,IF(F22=250,10,IF(F22=300,12,0))))))","v":{"$error":"#N/A"}},{"$f":"INDEX(N$64:Y$88,MATCH(1,(N$64:N$88=D22)*(O$64:O$88=E22),0),IF(F22=100,3,IF(F22=150,5,IF(F22=200,7,IF(F22=250,9,IF(F22=300,11,0))))))","v":{"$error":"#N/A"}},{"$f":"INDEX(N$64:Y$88,MATCH(1,(N$64:N$88=D22)*(O$64:O$88=E22),0),IF(F22=100,4,IF(F22=150,6,IF(F22=200,8,IF(F22=250,10,IF(F22=300,12,0))))))","v":{"$error":"#N/A"}},{"$f":"INDEX(N$91:Y$115,MATCH(1,(N$91:N$115=D22)*(O$91:O$115=E22),0),IF(F22=100,3,IF(F22=150,5,IF(F22=200,7,IF(F22=250,9,IF(F22=300,11,0))))))","v":{"$error":"#N/A"}},{"$f":"INDEX(N$91:Y$115,MATCH(1,(N$91:N$115=D22)*(O$91:O$115=E22),0),IF(F22=100,4,IF(F22=150,6,IF(F22=200,8,IF(F22=250,10,IF(F22=300,12,0))))))","v":{"$error":"#N/A"}},{"$f":"INDEX(N$118:Y$142,MATCH(1,(N$118:N$142=D22)*(O$118:O$142=E22),0),IF(F22=100,3,IF(F22=150,5,IF(F22=200,7,IF(F22=250,9,IF(F22=300,11,0))))))","v":{"$error":"#N/A"}},{"$f":"INDEX(N$118:Y$142,MATCH(1,(N$118:N$142=D22)*(O$118:O$142=E22),0),IF(F22=100,4,IF(F22=150,6,IF(F22=200,8,IF(F22=250,10,IF(F22=300,12,0))))))","v":{"$error":"#N/A"}}]
[{"$f":"'UFH Guide'!A23","v":"- "},null,{"$f":"'UFH Guide'!H23","v":0},{"$f":"'UFH Guide'!E23","v":0},{"$f":"'UFH Guide'!B23","v":0},{"$f":"'UFH Guide'!I23","v":0},{"$f":"'UFH Guide'!J23","v":0},0,0,{"$f":"INDEX(A$37:L$61,MATCH(1,(A$37:A$61=D23)*(B$37:B$61=E23),0),IF(F23=100,3,IF(F23=150,5,IF(F23=200,7,IF(F23=250,9,IF(F23=300,11,0))))))","v":{"$error":"#N/A"}},{"$f":"INDEX(A$37:L$61,MATCH(1,(A$37:A$61=D23)*(B$37:B$61=E23),0),IF(F23=100,4,IF(F23=150,6,IF(F23=200,8,IF(F23=250,10,IF(F23=300,12,0))))))","v":{"$error":"#N/A"}},{"$f":"INDEX(A$64:L$88,MATCH(1,(A$64:A$88=D23)*(B$64:B$88=E23),0),IF(F23=100,3,IF(F23=150,5,IF(F23=200,7,IF(F23=250,9,IF(F23=300,11,0))))))","v":{"$error":"#N/A"}},{"$f":"INDEX(A$64:L$88,MATCH(1,(A$64:A$88=D23)*(B$64:B$88=E23),0),IF(F23=100,4,IF(F23=150,6,IF(F23=200,8,IF(F23=250,10,IF(F23=300,12,0))))))","v":{"$error":"#N/A"}},{"$f":"INDEX(A$91:L$115,MATCH(1,(A$91:A$115=D23)*(B$91:B$115=E23),0),IF(F23=100,3,IF(F23=150,5,IF(F23=200,7,IF(F23=250,9,IF(F23=300,11,0))))))","v":{"$error":"#N/A"}},{"$f":"INDEX(A$91:L$115,MATCH(1,(A$91:A$115=D23)*(B$91:B$115=E23),0),IF(F23=100,4,IF(F23=150,6,IF(F23=200,8,IF(F23=250,10,IF(F23=300,12,0))))))","v":{"$error":"#N/A"}},{"$f":"INDEX(A$118:L$142,MATCH(1,(A$118:A$142=D23)*(B$118:B$142=E23),0),IF(F23=100,3,IF(F23=150,5,IF(F23=200,7,IF(F23=250,9,IF(F23=300,11,0))))))","v":{"$error":"#N/A"}},{"$f":"INDEX(A$118:L$142,MATCH(1,(A$118:A$142=D23)*(B$118:B$142=E23),0),IF(F23=100,4,IF(F23=150,6,IF(F23=200,8,IF(F23=250,10,IF(F23=300,12,0))))))","v":{"$error":"#N/A"}},{"$f":"INDEX(N$37:Y$61,MATCH(1,(N$37:N$61=D23)*(O$37:O$61=E23),0),IF(F23=100,3,IF(F23=150,5,IF(F23=200,7,IF(F23=250,9,IF(F23=300,11,0))))))","v":{"$error":"#N/A"}},{"$f":"INDEX(N$37:Y$61,MATCH(1,(N$37:N$61=D23)*(O$37:O$61=E23),0),IF(F23=100,4,IF(F23=150,6,IF(F23=200,8,IF(F23=250,10,IF(F23=300,12,0))))))","v":{"$error":"#N/A"}},{"$f":"INDEX(N$64:Y$88,MATCH(1,(N$64:N$88=D23)*(O$64:O$88=E23),0),IF(F23=100,3,IF(F23=150,5,IF(F23=200,7,IF(F23=250,9,IF(F23=300,11,0))))))","v":{"$error":"#N/A"}},{"$f":"INDEX(N$64:Y$88,MATCH(1,(N$64:N$88=D23)*(O$64:O$88=E23),0),IF(F23=100,4,IF(F23=150,6,IF(F23=200,8,IF(F23=250,10,IF(F23=300,12,0))))))","v":{"$error":"#N/A"}},{"$f":"INDEX(N$91:Y$115,MATCH(1,(N$91:N$115=D23)*(O$91:O$115=E23),0),IF(F23=100,3,IF(F23=150,5,IF(F23=200,7,IF(F23=250,9,IF(F23=300,11,0))))))","v":{"$error":"#N/A"}},{"$f":"INDEX(N$91:Y$115,MATCH(1,(N$91:N$115=D23)*(O$91:O$115=E23),0),IF(F23=100,4,IF(F23=150,6,IF(F23=200,8,IF(F23=250,10,IF(F23=300,12,0))))))","v":{"$error":"#N/A"}},{"$f":"INDEX(N$118:Y$142,MATCH(1,(N$118:N$142=D23)*(O$118:O$142=E23),0),IF(F23=100,3,IF(F23=150,5,IF(F23=200,7,IF(F23=250,9,IF(F23=300,11,0))))))","v":{"$error":"#N/A"}},{"$f":"INDEX(N$118:Y$142,MATCH(1,(N$118:N$142=D23)*(O$118:O$142=E23),0),IF(F23=100,4,IF(F23=150,6,IF(F23=200,8,IF(F23=250,10,IF(F23=300,12,0))))))","v":{"$error":"#N/A"}}]
[{"$f":"'UFH Guide'!A24","v":"- "},null,{"$f":"'UFH Guide'!H24","v":0},{"$f":"'UFH Guide'!E24","v":0},{"$f":"'UFH Guide'!B24","v":0},{"$f":"'UFH Guide'!I24","v":0},{"$f":"'UFH Guide'!J24","v":0},0,0,{"$f":"INDEX(A$37:L$61,MATCH(1,(A$37:A$61=D24)*(B$37:B$61=E24),0),IF(F24=100,3,IF(F24=150,5,IF(F24=200,7,IF(F24=250,9,IF(F24=300,11,0))))))","v":{"$error":"#N/A"}},{"$f":"INDEX(A$37:L$61,MATCH(1,(A$37:A$61=D24)*(B$37:B$61=E24),0),IF(F24=100,4,IF(F24=150,6,IF(F24=200,8,IF(F24=250,10,IF(F24=300,12,0))))))","v":{"$error":"#N/A"}},{"$f":"INDEX(A$64:L$88,MATCH(1,(A$64:A$88=D24)*(B$64:B$88=E24),0),IF(F24=100,3,IF(F24=150,5,IF(F24=200,7,IF(F24=250,9,IF(F24=300,11,0))))))","v":{"$error":"#N/A"}},{"$f":"INDEX(A$64:L$88,MATCH(1,(A$64:A$88=D24)*(B$64:B$88=E24),0),IF(F24=100,4,IF(F24=150,6,IF(F24=200,8,IF(F24=250,10,IF(F24=300,12,0))))))","v":{"$error":"#N/A"}},{"$f":"INDEX(A$91:L$115,MATCH(1,(A$91:A$115=D24)*(B$91:B$115=E24),0),IF(F24=100,3,IF(F24=150,5,IF(F24=200,7,IF(F24=250,9,IF(F24=300,11,0))))))","v":{"$error":"#N/A"}},{"$f":"INDEX(A$91:L$115,MATCH(1,(A$91:A$115=D24)*(B$91:B$115=E24),0),IF(F24=100,4,IF(F24=150,6,IF(F24=200,8,IF(F24=250,10,IF(F24=300,12,0))))))","v":{"$error":"#N/A"}},{"$f":"INDEX(A$118:L$142,MATCH(1,(A$118:A$142=D24)*(B$118:B$142=E24),0),IF(F24=100,3,IF(F24=150,5,IF(F24=200,7,IF(F24=250,9,IF(F24=300,11,0))))))","v":{"$error":"#N/A"}},{"$f":"INDEX(A$118:L$142,MATCH(1,(A$118:A$142=D24)*(B$118:B$142=E24),0),IF(F24=100,4,IF(F24=150,6,IF(F24=200,8,IF(F24=250,10,IF(F24=300,12,0))))))","v":{"$error":"#N/A"}},{"$f":"INDEX(N$37:Y$61,MATCH(1,(N$37:N$61=D24)*(O$37:O$61=E24),0),IF(F24=100,3,IF(F24=150,5,IF(F24=200,7,IF(F24=250,9,IF(F24=300,11,0))))))","v":{"$error":"#N/A"}},{"$f":"INDEX(N$37:Y$61,MATCH(1,(N$37:N$61=D24)*(O$37:O$61=E24),0),IF(F24=100,4,IF(F24=150,6,IF(F24=200,8,IF(F24=250,10,IF(F24=300,12,0))))))","v":{"$error":"#N/A"}},{"$f":"INDEX(N$64:Y$88,MATCH(1,(N$64:N$88=D24)*(O$64:O$88=E24),0),IF(F24=100,3,IF(F24=150,5,IF(F24=200,7,IF(F24=250,9,IF(F24=300,11,0))))))","v":{"$error":"#N/A"}},{"$f":"INDEX(N$64:Y$88,MATCH(1,(N$64:N$88=D24)*(O$64:O$88=E24),0),IF(F24=100,4,IF(F24=150,6,IF(F24=200,8,IF(F24=250,10,IF(F24=300,12,0))))))","v":{"$error":"#N/A"}},{"$f":"INDEX(N$91:Y$115,MATCH(1,(N$91:N$115=D24)*(O$91:O$115=E24),0),IF(F24=100,3,IF(F24=150,5,IF(F24=200,7,IF(F24=250,9,IF(F24=300,11,0))))))","v":{"$error":"#N/A"}},{"$f":"INDEX(N$91:Y$115,MATCH(1,(N$91:N$115=D24)*(O$91:O$115=E24),0),IF(F24=100,4,IF(F24=150,6,IF(F24=200,8,IF(F24=250,10,IF(F24=300,12,0))))))","v":{"$error":"#N/A"}},{"$f":"INDEX(N$118:Y$142,MATCH(1,(N$118:N$142=D24)*(O$118:O$142=E24),0),IF(F24=100,3,IF(F24=150,5,IF(F24=200,7,IF(F24=250,9,IF(F24=300,11,0))))))","v":{"$error":"#N/A"}},{"$f":"INDEX(N$118:Y$142,MATCH(1,(N$118:N$142=D24)*(O$118:O$142=E24),0),IF(F24=100,4,IF(F24=150,6,IF(F24=200,8,IF(F24=250,10,IF(F24=300,12,0))))))","v":{"$error":"#N/A"}}]
[{"$f":"'UFH Guide'!A25","v":"- "},null,{"$f":"'UFH Guide'!H25","v":0},{"$f":"'UFH Guide'!E25","v":0},{"$f":"'UFH Guide'!B25","v":0},{"$f":"'UFH Guide'!I25","v":0},{"$f":"'UFH Guide'!J25","v":0},0,0,{"$f":"INDEX(A$37:L$61,MATCH(1,(A$37:A$61=D25)*(B$37:B$61=E25),0),IF(F25=100,3,IF(F25=150,5,IF(F25=200,7,IF(F25=250,9,IF(F25=300,11,0))))))","v":{"$error":"#N/A"}},{"$f":"INDEX(A$37:L$61,MATCH(1,(A$37:A$61=D25)*(B$37:B$61=E25),0),IF(F25=100,4,IF(F25=150,6,IF(F25=200,8,IF(F25=250,10,IF(F25=300,12,0))))))","v":{"$error":"#N/A"}},{"$f":"INDEX(A$64:L$88,MATCH(1,(A$64:A$88=D25)*(B$64:B$88=E25),0),IF(F25=100,3,IF(F25=150,5,IF(F25=200,7,IF(F25=250,9,IF(F25=300,11,0))))))","v":{"$error":"#N/A"}},{"$f":"INDEX(A$64:L$88,MATCH(1,(A$64:A$88=D25)*(B$64:B$88=E25),0),IF(F25=100,4,IF(F25=150,6,IF(F25=200,8,IF(F25=250,10,IF(F25=300,12,0))))))","v":{"$error":"#N/A"}},{"$f":"INDEX(A$91:L$115,MATCH(1,(A$91:A$115=D25)*(B$91:B$115=E25),0),IF(F25=100,3,IF(F25=150,5,IF(F25=200,7,IF(F25=250,9,IF(F25=300,11,0))))))","v":{"$error":"#N/A"}},{"$f":"INDEX(A$91:L$115,MATCH(1,(A$91:A$115=D25)*(B$91:B$115=E25),0),IF(F25=100,4,IF(F25=150,6,IF(F25=200,8,IF(F25=250,10,IF(F25=300,12,0))))))","v":{"$error":"#N/A"}},{"$f":"INDEX(A$118:L$142,MATCH(1,(A$118:A$142=D25)*(B$118:B$142=E25),0),IF(F25=100,3,IF(F25=150,5,IF(F25=200,7,IF(F25=250,9,IF(F25=300,11,0))))))","v":{"$error":"#N/A"}},{"$f":"INDEX(A$118:L$142,MATCH(1,(A$118:A$142=D25)*(B$118:B$142=E25),0),IF(F25=100,4,IF(F25=150,6,IF(F25=200,8,IF(F25=250,10,IF(F25=300,12,0))))))","v":{"$error":"#N/A"}},{"$f":"INDEX(N$37:Y$61,MATCH(1,(N$37:N$61=D25)*(O$37:O$61=E25),0),IF(F25=100,3,IF(F25=150,5,IF(F25=200,7,IF(F25=250,9,IF(F25=300,11,0))))))","v":{"$error":"#N/A"}},{"$f":"INDEX(N$37:Y$61,MATCH(1,(N$37:N$61=D25)*(O$37:O$61=E25),0),IF(F25=100,4,IF(F25=150,6,IF(F25=200,8,IF(F25=250,10,IF(F25=300,12,0))))))","v":{"$error":"#N/A"}},{"$f":"INDEX(N$64:Y$88,MATCH(1,(N$64:N$88=D25)*(O$64:O$88=E25),0),IF(F25=100,3,IF(F25=150,5,IF(F25=200,7,IF(F25=250,9,IF(F25=300,11,0))))))","v":{"$error":"#N/A"}},{"$f":"INDEX(N$64:Y$88,MATCH(1,(N$64:N$88=D25)*(O$64:O$88=E25),0),IF(F25=100,4,IF(F25=150,6,IF(F25=200,8,IF(F25=250,10,IF(F25=300,12,0))))))","v":{"$error":"#N/A"}},{"$f":"INDEX(N$91:Y$115,MATCH(1,(N$91:N$115=D25)*(O$91:O$115=E25),0),IF(F25=100,3,IF(F25=150,5,IF(F25=200,7,IF(F25=250,9,IF(F25=300,11,0))))))","v":{"$error":"#N/A"}},{"$f":"INDEX(N$91:Y$115,MATCH(1,(N$91:N$115=D25)*(O$91:O$115=E25),0),IF(F25=100,4,IF(F25=150,6,IF(F25=200,8,IF(F25=250,10,IF(F25=300,12,0))))))","v":{"$error":"#N/A"}},{"$f":"INDEX(N$118:Y$142,MATCH(1,(N$118:N$142=D25)*(O$118:O$142=E25),0),IF(F25=100,3,IF(F25=150,5,IF(F25=200,7,IF(F25=250,9,IF(F25=300,11,0))))))","v":{"$error":"#N/A"}},{"$f":"INDEX(N$118:Y$142,MATCH(1,(N$118:N$142=D25)*(O$118:O$142=E25),0),IF(F25=100,4,IF(F25=150,6,IF(F25=200,8,IF(F25=250,10,IF(F25=300,12,0))))))","v":{"$error":"#N/A"}}]
[{"$f":"'UFH Guide'!A26","v":"- "},null,{"$f":"'UFH Guide'!H26","v":0},{"$f":"'UFH Guide'!E26","v":0},{"$f":"'UFH Guide'!B26","v":0},{"$f":"'UFH Guide'!I26","v":0},{"$f":"'UFH Guide'!J26","v":0},0,0,{"$f":"INDEX(A$37:L$61,MATCH(1,(A$37:A$61=D26)*(B$37:B$61=E26),0),IF(F26=100,3,IF(F26=150,5,IF(F26=200,7,IF(F26=250,9,IF(F26=300,11,0))))))","v":{"$error":"#N/A"}},{"$f":"INDEX(A$37:L$61,MATCH(1,(A$37:A$61=D26)*(B$37:B$61=E26),0),IF(F26=100,4,IF(F26=150,6,IF(F26=200,8,IF(F26=250,10,IF(F26=300,12,0))))))","v":{"$error":"#N/A"}},{"$f":"INDEX(A$64:L$88,MATCH(1,(A$64:A$88=D26)*(B$64:B$88=E26),0),IF(F26=100,3,IF(F26=150,5,IF(F26=200,7,IF(F26=250,9,IF(F26=300,11,0))))))","v":{"$error":"#N/A"}},{"$f":"INDEX(A$64:L$88,MATCH(1,(A$64:A$88=D26)*(B$64:B$88=E26),0),IF(F26=100,4,IF(F26=150,6,IF(F26=200,8,IF(F26=250,10,IF(F26=300,12,0))))))","v":{"$error":"#N/A"}},{"$f":"INDEX(A$91:L$115,MATCH(1,(A$91:A$115=D26)*(B$91:B$115=E26),0),IF(F26=100,3,IF(F26=150,5,IF(F26=200,7,IF(F26=250,9,IF(F26=300,11,0))))))","v":{"$error":"#N/A"}},{"$f":"INDEX(A$91:L$115,MATCH(1,(A$91:A$115=D26)*(B$91:B$115=E26),0),IF(F26=100,4,IF(F26=150,6,IF(F26=200,8,IF(F26=250,10,IF(F26=300,12,0))))))","v":{"$error":"#N/A"}},{"$f":"INDEX(A$118:L$142,MATCH(1,(A$118:A$142=D26)*(B$118:B$142=E26),0),IF(F26=100,3,IF(F26=150,5,IF(F26=200,7,IF(F26=250,9,IF(F26=300,11,0))))))","v":{"$error":"#N/A"}},{"$f":"INDEX(A$118:L$142,MATCH(1,(A$118:A$142=D26)*(B$118:B$142=E26),0),IF(F26=100,4,IF(F26=150,6,IF(F26=200,8,IF(F26=250,10,IF(F26=300,12,0))))))","v":{"$error":"#N/A"}},{"$f":"INDEX(N$37:Y$61,MATCH(1,(N$37:N$61=D26)*(O$37:O$61=E26),0),IF(F26=100,3,IF(F26=150,5,IF(F26=200,7,IF(F26=250,9,IF(F26=300,11,0))))))","v":{"$error":"#N/A"}},{"$f":"INDEX(N$37:Y$61,MATCH(1,(N$37:N$61=D26)*(O$37:O$61=E26),0),IF(F26=100,4,IF(F26=150,6,IF(F26=200,8,IF(F26=250,10,IF(F26=300,12,0))))))","v":{"$error":"#N/A"}},{"$f":"INDEX(N$64:Y$88,MATCH(1,(N$64:N$88=D26)*(O$64:O$88=E26),0),IF(F26=100,3,IF(F26=150,5,IF(F26=200,7,IF(F26=250,9,IF(F26=300,11,0))))))","v":{"$error":"#N/A"}},{"$f":"INDEX(N$64:Y$88,MATCH(1,(N$64:N$88=D26)*(O$64:O$88=E26),0),IF(F26=100,4,IF(F26=150,6,IF(F26=200,8,IF(F26=250,10,IF(F26=300,12,0))))))","v":{"$error":"#N/A"}},{"$f":"INDEX(N$91:Y$115,MATCH(1,(N$91:N$115=D26)*(O$91:O$115=E26),0),IF(F26=100,3,IF(F26=150,5,IF(F26=200,7,IF(F26=250,9,IF(F26=300,11,0))))))","v":{"$error":"#N/A"}},{"$f":"INDEX(N$91:Y$115,MATCH(1,(N$91:N$115=D26)*(O$91:O$115=E26),0),IF(F26=100,4,IF(F26=150,6,IF(F26=200,8,IF(F26=250,10,IF(F26=300,12,0))))))","v":{"$error":"#N/A"}},{"$f":"INDEX(N$118:Y$142,MATCH(1,(N$118:N$142=D26)*(O$118:O$142=E26),0),IF(F26=100,3,IF(F26=150,5,IF(F26=200,7,IF(F26=250,9,IF(F26=300,11,0))))))","v":{"$error":"#N/A"}},{"$f":"INDEX(N$118:Y$142,MATCH(1,(N$118:N$142=D26)*(O$118:O$142=E26),0),IF(F26=100,4,IF(F26=150,6,IF(F26=200,8,IF(F26=250,10,IF(F26=300,12,0))))))","v":{"$error":"#N/A"}}]
[{"$f":"'UFH Guide'!A27","v":"- "},null,{"$f":"'UFH Guide'!H27","v":0},{"$f":"'UFH Guide'!E27","v":0},{"$f":"'UFH Guide'!B27","v":0},{"$f":"'UFH Guide'!I27","v":0},{"$f":"'UFH Guide'!J27","v":0},0,0,{"$f":"INDEX(A$37:L$61,MATCH(1,(A$37:A$61=D27)*(B$37:B$61=E27),0),IF(F27=100,3,IF(F27=150,5,IF(F27=200,7,IF(F27=250,9,IF(F27=300,11,0))))))","v":{"$error":"#N/A"}},{"$f":"INDEX(A$37:L$61,MATCH(1,(A$37:A$61=D27)*(B$37:B$61=E27),0),IF(F27=100,4,IF(F27=150,6,IF(F27=200,8,IF(F27=250,10,IF(F27=300,12,0))))))","v":{"$error":"#N/A"}},{"$f":"INDEX(A$64:L$88,MATCH(1,(A$64:A$88=D27)*(B$64:B$88=E27),0),IF(F27=100,3,IF(F27=150,5,IF(F27=200,7,IF(F27=250,9,IF(F27=300,11,0))))))","v":{"$error":"#N/A"}},{"$f":"INDEX(A$64:L$88,MATCH(1,(A$64:A$88=D27)*(B$64:B$88=E27),0),IF(F27=100,4,IF(F27=150,6,IF(F27=200,8,IF(F27=250,10,IF(F27=300,12,0))))))","v":{"$error":"#N/A"}},{"$f":"INDEX(A$91:L$115,MATCH(1,(A$91:A$115=D27)*(B$91:B$115=E27),0),IF(F27=100,3,IF(F27=150,5,IF(F27=200,7,IF(F27=250,9,IF(F27=300,11,0))))))","v":{"$error":"#N/A"}},{"$f":"INDEX(A$91:L$115,MATCH(1,(A$91:A$115=D27)*(B$91:B$115=E27),0),IF(F27=100,4,IF(F27=150,6,IF(F27=200,8,IF(F27=250,10,IF(F27=300,12,0))))))","v":{"$error":"#N/A"}},{"$f":"INDEX(A$118:L$142,MATCH(1,(A$118:A$142=D27)*(B$118:B$142=E27),0),IF(F27=100,3,IF(F27=150,5,IF(F27=200,7,IF(F27=250,9,IF(F27=300,11,0))))))","v":{"$error":"#N/A"}},{"$f":"INDEX(A$118:L$142,MATCH(1,(A$118:A$142=D27)*(B$118:B$142=E27),0),IF(F27=100,4,IF(F27=150,6,IF(F27=200,8,IF(F27=250,10,IF(F27=300,12,0))))))","v":{"$error":"#N/A"}},{"$f":"INDEX(N$37:Y$61,MATCH(1,(N$37:N$61=D27)*(O$37:O$61=E27),0),IF(F27=100,3,IF(F27=150,5,IF(F27=200,7,IF(F27=250,9,IF(F27=300,11,0))))))","v":{"$error":"#N/A"}},{"$f":"INDEX(N$37:Y$61,MATCH(1,(N$37:N$61=D27)*(O$37:O$61=E27),0),IF(F27=100,4,IF(F27=150,6,IF(F27=200,8,IF(F27=250,10,IF(F27=300,12,0))))))","v":{"$error":"#N/A"}},{"$f":"INDEX(N$64:Y$88,MATCH(1,(N$64:N$88=D27)*(O$64:O$88=E27),0),IF(F27=100,3,IF(F27=150,5,IF(F27=200,7,IF(F27=250,9,IF(F27=300,11,0))))))","v":{"$error":"#N/A"}},{"$f":"INDEX(N$64:Y$88,MATCH(1,(N$64:N$88=D27)*(O$64:O$88=E27),0),IF(F27=100,4,IF(F27=150,6,IF(F27=200,8,IF(F27=250,10,IF(F27=300,12,0))))))","v":{"$error":"#N/A"}},{"$f":"INDEX(N$91:Y$115,MATCH(1,(N$91:N$115=D27)*(O$91:O$115=E27),0),IF(F27=100,3,IF(F27=150,5,IF(F27=200,7,IF(F27=250,9,IF(F27=300,11,0))))))","v":{"$error":"#N/A"}},{"$f":"INDEX(N$91:Y$115,MATCH(1,(N$91:N$115=D27)*(O$91:O$115=E27),0),IF(F27=100,4,IF(F27=150,6,IF(F27=200,8,IF(F27=250,10,IF(F27=300,12,0))))))","v":{"$error":"#N/A"}},{"$f":"INDEX(N$118:Y$142,MATCH(1,(N$118:N$142=D27)*(O$118:O$142=E27),0),IF(F27=100,3,IF(F27=150,5,IF(F27=200,7,IF(F27=250,9,IF(F27=300,11,0))))))","v":{"$error":"#N/A"}},{"$f":"INDEX(N$118:Y$142,MATCH(1,(N$118:N$142=D27)*(O$118:O$142=E27),0),IF(F27=100,4,IF(F27=150,6,IF(F27=200,8,IF(F27=250,10,IF(F27=300,12,0))))))","v":{"$error":"#N/A"}}]
[{"$f":"'UFH Guide'!A28","v":"- "},null,{"$f":"'UFH Guide'!H28","v":0},{"$f":"'UFH Guide'!E28","v":0},{"$f":"'UFH Guide'!B28","v":0},{"$f":"'UFH Guide'!I28","v":0},{"$f":"'UFH Guide'!J28","v":0},0,0,{"$f":"INDEX(A$37:L$61,MATCH(1,(A$37:A$61=D28)*(B$37:B$61=E28),0),IF(F28=100,3,IF(F28=150,5,IF(F28=200,7,IF(F28=250,9,IF(F28=300,11,0))))))","v":{"$error":"#N/A"}},{"$f":"INDEX(A$37:L$61,MATCH(1,(A$37:A$61=D28)*(B$37:B$61=E28),0),IF(F28=100,4,IF(F28=150,6,IF(F28=200,8,IF(F28=250,10,IF(F28=300,12,0))))))","v":{"$error":"#N/A"}},{"$f":"INDEX(A$64:L$88,MATCH(1,(A$64:A$88=D28)*(B$64:B$88=E28),0),IF(F28=100,3,IF(F28=150,5,IF(F28=200,7,IF(F28=250,9,IF(F28=300,11,0))))))","v":{"$error":"#N/A"}},{"$f":"INDEX(A$64:L$88,MATCH(1,(A$64:A$88=D28)*(B$64:B$88=E28),0),IF(F28=100,4,IF(F28=150,6,IF(F28=200,8,IF(F28=250,10,IF(F28=300,12,0))))))","v":{"$error":"#N/A"}},{"$f":"INDEX(A$91:L$115,MATCH(1,(A$91:A$115=D28)*(B$91:B$115=E28),0),IF(F28=100,3,IF(F28=150,5,IF(F28=200,7,IF(F28=250,9,IF(F28=300,11,0))))))","v":{"$error":"#N/A"}},{"$f":"INDEX(A$91:L$115,MATCH(1,(A$91:A$115=D28)*(B$91:B$115=E28),0),IF(F28=100,4,IF(F28=150,6,IF(F28=200,8,IF(F28=250,10,IF(F28=300,12,0))))))","v":{"$error":"#N/A"}},{"$f":"INDEX(A$118:L$142,MATCH(1,(A$118:A$142=D28)*(B$118:B$142=E28),0),IF(F28=100,3,IF(F28=150,5,IF(F28=200,7,IF(F28=250,9,IF(F28=300,11,0))))))","v":{"$error":"#N/A"}},{"$f":"INDEX(A$118:L$142,MATCH(1,(A$118:A$142=D28)*(B$118:B$142=E28),0),IF(F28=100,4,IF(F28=150,6,IF(F28=200,8,IF(F28=250,10,IF(F28=300,12,0))))))","v":{"$error":"#N/A"}},{"$f":"INDEX(N$37:Y$61,MATCH(1,(N$37:N$61=D28)*(O$37:O$61=E28),0),IF(F28=100,3,IF(F28=150,5,IF(F28=200,7,IF(F28=250,9,IF(F28=300,11,0))))))","v":{"$error":"#N/A"}},{"$f":"INDEX(N$37:Y$61,MATCH(1,(N$37:N$61=D28)*(O$37:O$61=E28),0),IF(F28=100,4,IF(F28=150,6,IF(F28=200,8,IF(F28=250,10,IF(F28=300,12,0))))))","v":{"$error":"#N/A"}},{"$f":"INDEX(N$64:Y$88,MATCH(1,(N$64:N$88=D28)*(O$64:O$88=E28),0),IF(F28=100,3,IF(F28=150,5,IF(F28=200,7,IF(F28=250,9,IF(F28=300,11,0))))))","v":{"$error":"#N/A"}},{"$f":"INDEX(N$64:Y$88,MATCH(1,(N$64:N$88=D28)*(O$64:O$88=E28),0),IF(F28=100,4,IF(F28=150,6,IF(F28=200,8,IF(F28=250,10,IF(F28=300,12,0))))))","v":{"$error":"#N/A"}},{"$f":"INDEX(N$91:Y$115,MATCH(1,(N$91:N$115=D28)*(O$91:O$115=E28),0),IF(F28=100,3,IF(F28=150,5,IF(F28=200,7,IF(F28=250,9,IF(F28=300,11,0))))))","v":{"$error":"#N/A"}},{"$f":"INDEX(N$91:Y$115,MATCH(1,(N$91:N$115=D28)*(O$91:O$115=E28),0),IF(F28=100,4,IF(F28=150,6,IF(F28=200,8,IF(F28=250,10,IF(F28=300,12,0))))))","v":{"$error":"#N/A"}},{"$f":"INDEX(N$118:Y$142,MATCH(1,(N$118:N$142=D28)*(O$118:O$142=E28),0),IF(F28=100,3,IF(F28=150,5,IF(F28=200,7,IF(F28=250,9,IF(F28=300,11,0))))))","v":{"$error":"#N/A"}},{"$f":"INDEX(N$118:Y$142,MATCH(1,(N$118:N$142=D28)*(O$118:O$142=E28),0),IF(F28=100,4,IF(F28=150,6,IF(F28=200,8,IF(F28=250,10,IF(F28=300,12,0))))))","v":{"$error":"#N/A"}}]
[{"$f":"'UFH Guide'!A29","v":"- "},null,{"$f":"'UFH Guide'!H29","v":0},{"$f":"'UFH Guide'!E29","v":0},{"$f":"'UFH Guide'!B29","v":0},{"$f":"'UFH Guide'!I29","v":0},{"$f":"'UFH Guide'!J29","v":0},0,0,{"$f":"INDEX(A$37:L$61,MATCH(1,(A$37:A$61=D29)*(B$37:B$61=E29),0),IF(F29=100,3,IF(F29=150,5,IF(F29=200,7,IF(F29=250,9,IF(F29=300,11,0))))))","v":{"$error":"#N/A"}},{"$f":"INDEX(A$37:L$61,MATCH(1,(A$37:A$61=D29)*(B$37:B$61=E29),0),IF(F29=100,4,IF(F29=150,6,IF(F29=200,8,IF(F29=250,10,IF(F29=300,12,0))))))","v":{"$error":"#N/A"}},{"$f":"INDEX(A$64:L$88,MATCH(1,(A$64:A$88=D29)*(B$64:B$88=E29),0),IF(F29=100,3,IF(F29=150,5,IF(F29=200,7,IF(F29=250,9,IF(F29=300,11,0))))))","v":{"$error":"#N/A"}},{"$f":"INDEX(A$64:L$88,MATCH(1,(A$64:A$88=D29)*(B$64:B$88=E29),0),IF(F29=100,4,IF(F29=150,6,IF(F29=200,8,IF(F29=250,10,IF(F29=300,12,0))))))","v":{"$error":"#N/A"}},{"$f":"INDEX(A$91:L$115,MATCH(1,(A$91:A$115=D29)*(B$91:B$115=E29),0),IF(F29=100,3,IF(F29=150,5,IF(F29=200,7,IF(F29=250,9,IF(F29=300,11,0))))))","v":{"$error":"#N/A"}},{"$f":"INDEX(A$91:L$115,MATCH(1,(A$91:A$115=D29)*(B$91:B$115=E29),0),IF(F29=100,4,IF(F29=150,6,IF(F29=200,8,IF(F29=250,10,IF(F29=300,12,0))))))","v":{"$error":"#N/A"}},{"$f":"INDEX(A$118:L$142,MATCH(1,(A$118:A$142=D29)*(B$118:B$142=E29),0),IF(F29=100,3,IF(F29=150,5,IF(F29=200,7,IF(F29=250,9,IF(F29=300,11,0))))))","v":{"$error":"#N/A"}},{"$f":"INDEX(A$118:L$142,MATCH(1,(A$118:A$142=D29)*(B$118:B$142=E29),0),IF(F29=100,4,IF(F29=150,6,IF(F29=200,8,IF(F29=250,10,IF(F29=300,12,0))))))","v":{"$error":"#N/A"}},{"$f":"INDEX(N$37:Y$61,MATCH(1,(N$37:N$61=D29)*(O$37:O$61=E29),0),IF(F29=100,3,IF(F29=150,5,IF(F29=200,7,IF(F29=250,9,IF(F29=300,11,0))))))","v":{"$error":"#N/A"}},{"$f":"INDEX(N$37:Y$61,MATCH(1,(N$37:N$61=D29)*(O$37:O$61=E29),0),IF(F29=100,4,IF(F29=150,6,IF(F29=200,8,IF(F29=250,10,IF(F29=300,12,0))))))","v":{"$error":"#N/A"}},{"$f":"INDEX(N$64:Y$88,MATCH(1,(N$64:N$88=D29)*(O$64:O$88=E29),0),IF(F29=100,3,IF(F29=150,5,IF(F29=200,7,IF(F29=250,9,IF(F29=300,11,0))))))","v":{"$error":"#N/A"}},{"$f":"INDEX(N$64:Y$88,MATCH(1,(N$64:N$88=D29)*(O$64:O$88=E29),0),IF(F29=100,4,IF(F29=150,6,IF(F29=200,8,IF(F29=250,10,IF(F29=300,12,0))))))","v":{"$error":"#N/A"}},{"$f":"INDEX(N$91:Y$115,MATCH(1,(N$91:N$115=D29)*(O$91:O$115=E29),0),IF(F29=100,3,IF(F29=150,5,IF(F29=200,7,IF(F29=250,9,IF(F29=300,11,0))))))","v":{"$error":"#N/A"}},{"$f":"INDEX(N$91:Y$115,MATCH(1,(N$91:N$115=D29)*(O$91:O$115=E29),0),IF(F29=100,4,IF(F29=150,6,IF(F29=200,8,IF(F29=250,10,IF(F29=300,12,0))))))","v":{"$error":"#N/A"}},{"$f":"INDEX(N$118:Y$142,MATCH(1,(N$118:N$142=D29)*(O$118:O$142=E29),0),IF(F29=100,3,IF(F29=150,5,IF(F29=200,7,IF(F29=250,9,IF(F29=300,11,0))))))","v":{"$error":"#N/A"}},{"$f":"INDEX(N$118:Y$142,MATCH(1,(N$118:N$142=D29)*(O$118:O$142=E29),0),IF(F29=100,4,IF(F29=150,6,IF(F29=200,8,IF(F29=250,10,IF(F29=300,12,0))))))","v":{"$error":"#N/A"}}]
[{"$f":"'UFH Guide'!A30","v":"- "},null,{"$f":"'UFH Guide'!H30","v":0},{"$f":"'UFH Guide'!E30","v":0},{"$f":"'UFH Guide'!B30","v":0},{"$f":"'UFH Guide'!I30","v":0},{"$f":"'UFH Guide'!J30","v":0},0,0,{"$f":"INDEX(A$37:L$61,MATCH(1,(A$37:A$61=D30)*(B$37:B$61=E30),0),IF(F30=100,3,IF(F30=150,5,IF(F30=200,7,IF(F30=250,9,IF(F30=300,11,0))))))","v":{"$error":"#N/A"}},{"$f":"INDEX(A$37:L$61,MATCH(1,(A$37:A$61=D30)*(B$37:B$61=E30),0),IF(F30=100,4,IF(F30=150,6,IF(F30=200,8,IF(F30=250,10,IF(F30=300,12,0))))))","v":{"$error":"#N/A"}},{"$f":"INDEX(A$64:L$88,MATCH(1,(A$64:A$88=D30)*(B$64:B$88=E30),0),IF(F30=100,3,IF(F30=150,5,IF(F30=200,7,IF(F30=250,9,IF(F30=300,11,0))))))","v":{"$error":"#N/A"}},{"$f":"INDEX(A$64:L$88,MATCH(1,(A$64:A$88=D30)*(B$64:B$88=E30),0),IF(F30=100,4,IF(F30=150,6,IF(F30=200,8,IF(F30=250,10,IF(F30=300,12,0))))))","v":{"$error":"#N/A"}},{"$f":"INDEX(A$91:L$115,MATCH(1,(A$91:A$115=D30)*(B$91:B$115=E30),0),IF(F30=100,3,IF(F30=150,5,IF(F30=200,7,IF(F30=250,9,IF(F30=300,11,0))))))","v":{"$error":"#N/A"}},{"$f":"INDEX(A$91:L$115,MATCH(1,(A$91:A$115=D30)*(B$91:B$115=E30),0),IF(F30=100,4,IF(F30=150,6,IF(F30=200,8,IF(F30=250,10,IF(F30=300,12,0))))))","v":{"$error":"#N/A"}},{"$f":"INDEX(A$118:L$142,MATCH(1,(A$118:A$142=D30)*(B$118:B$142=E30),0),IF(F30=100,3,IF(F30=150,5,IF(F30=200,7,IF(F30=250,9,IF(F30=300,11,0))))))","v":{"$error":"#N/A"}},{"$f":"INDEX(A$118:L$142,MATCH(1,(A$118:A$142=D30)*(B$118:B$142=E30),0),IF(F30=100,4,IF(F30=150,6,IF(F30=200,8,IF(F30=250,10,IF(F30=300,12,0))))))","v":{"$error":"#N/A"}},{"$f":"INDEX(N$37:Y$61,MATCH(1,(N$37:N$61=D30)*(O$37:O$61=E30),0),IF(F30=100,3,IF(F30=150,5,IF(F30=200,7,IF(F30=250,9,IF(F30=300,11,0))))))","v":{"$error":"#N/A"}},{"$f":"INDEX(N$37:Y$61,MATCH(1,(N$37:N$61=D30)*(O$37:O$61=E30),0),IF(F30=100,4,IF(F30=150,6,IF(F30=200,8,IF(F30=250,10,IF(F30=300,12,0))))))","v":{"$error":"#N/A"}},{"$f":"INDEX(N$64:Y$88,MATCH(1,(N$64:N$88=D30)*(O$64:O$88=E30),0),IF(F30=100,3,IF(F30=150,5,IF(F30=200,7,IF(F30=250,9,IF(F30=300,11,0))))))","v":{"$error":"#N/A"}},{"$f":"INDEX(N$64:Y$88,MATCH(1,(N$64:N$88=D30)*(O$64:O$88=E30),0),IF(F30=100,4,IF(F30=150,6,IF(F30=200,8,IF(F30=250,10,IF(F30=300,12,0))))))","v":{"$error":"#N/A"}},{"$f":"INDEX(N$91:Y$115,MATCH(1,(N$91:N$115=D30)*(O$91:O$115=E30),0),IF(F30=100,3,IF(F30=150,5,IF(F30=200,7,IF(F30=250,9,IF(F30=300,11,0))))))","v":{"$error":"#N/A"}},{"$f":"INDEX(N$91:Y$115,MATCH(1,(N$91:N$115=D30)*(O$91:O$115=E30),0),IF(F30=100,4,IF(F30=150,6,IF(F30=200,8,IF(F30=250,10,IF(F30=300,12,0))))))","v":{"$error":"#N/A"}},{"$f":"INDEX(N$118:Y$142,MATCH(1,(N$118:N$142=D30)*(O$118:O$142=E30),0),IF(F30=100,3,IF(F30=150,5,IF(F30=200,7,IF(F30=250,9,IF(F30=300,11,0))))))","v":{"$error":"#N/A"}},{"$f":"INDEX(N$118:Y$142,MATCH(1,(N$118:N$142=D30)*(O$118:O$142=E30),0),IF(F30=100,4,IF(F30=150,6,IF(F30=200,8,IF(F30=250,10,IF(F30=300,12,0))))))","v":{"$error":"#N/A"}}]
[{"$f":"'UFH Guide'!A31","v":"- "},null,{"$f":"'UFH Guide'!H31","v":0},{"$f":"'UFH Guide'!E31","v":0},{"$f":"'UFH Guide'!B31","v":0},{"$f":"'UFH Guide'!I31","v":0},{"$f":"'UFH Guide'!J31","v":0},0,0,{"$f":"INDEX(A$37:L$61,MATCH(1,(A$37:A$61=D31)*(B$37:B$61=E31),0),IF(F31=100,3,IF(F31=150,5,IF(F31=200,7,IF(F31=250,9,IF(F31=300,11,0))))))","v":{"$error":"#N/A"}},{"$f":"INDEX(A$37:L$61,MATCH(1,(A$37:A$61=D31)*(B$37:B$61=E31),0),IF(F31=100,4,IF(F31=150,6,IF(F31=200,8,IF(F31=250,10,IF(F31=300,12,0))))))","v":{"$error":"#N/A"}},{"$f":"INDEX(A$64:L$88,MATCH(1,(A$64:A$88=D31)*(B$64:B$88=E31),0),IF(F31=100,3,IF(F31=150,5,IF(F31=200,7,IF(F31=250,9,IF(F31=300,11,0))))))","v":{"$error":"#N/A"}},{"$f":"INDEX(A$64:L$88,MATCH(1,(A$64:A$88=D31)*(B$64:B$88=E31),0),IF(F31=100,4,IF(F31=150,6,IF(F31=200,8,IF(F31=250,10,IF(F31=300,12,0))))))","v":{"$error":"#N/A"}},{"$f":"INDEX(A$91:L$115,MATCH(1,(A$91:A$115=D31)*(B$91:B$115=E31),0),IF(F31=100,3,IF(F31=150,5,IF(F31=200,7,IF(F31=250,9,IF(F31=300,11,0))))))","v":{"$error":"#N/A"}},{"$f":"INDEX(A$91:L$115,MATCH(1,(A$91:A$115=D31)*(B$91:B$115=E31),0),IF(F31=100,4,IF(F31=150,6,IF(F31=200,8,IF(F31=250,10,IF(F31=300,12,0))))))","v":{"$error":"#N/A"}},{"$f":"INDEX(A$118:L$142,MATCH(1,(A$118:A$142=D31)*(B$118:B$142=E31),0),IF(F31=100,3,IF(F31=150,5,IF(F31=200,7,IF(F31=250,9,IF(F31=300,11,0))))))","v":{"$error":"#N/A"}},{"$f":"INDEX(A$118:L$142,MATCH(1,(A$118:A$142=D31)*(B$118:B$142=E31),0),IF(F31=100,4,IF(F31=150,6,IF(F31=200,8,IF(F31=250,10,IF(F31=300,12,0))))))","v":{"$error":"#N/A"}},{"$f":"INDEX(N$37:Y$61,MATCH(1,(N$37:N$61=D31)*(O$37:O$61=E31),0),IF(F31=100,3,IF(F31=150,5,IF(F31=200,7,IF(F31=250,9,IF(F31=300,11,0))))))","v":{"$error":"#N/A"}},{"$f":"INDEX(N$37:Y$61,MATCH(1,(N$37:N$61=D31)*(O$37:O$61=E31),0),IF(F31=100,4,IF(F31=150,6,IF(F31=200,8,IF(F31=250,10,IF(F31=300,12,0))))))","v":{"$error":"#N/A"}},{"$f":"INDEX(N$64:Y$88,MATCH(1,(N$64:N$88=D31)*(O$64:O$88=E31),0),IF(F31=100,3,IF(F31=150,5,IF(F31=200,7,IF(F31=250,9,IF(F31=300,11,0))))))","v":{"$error":"#N/A"}},{"$f":"INDEX(N$64:Y$88,MATCH(1,(N$64:N$88=D31)*(O$64:O$88=E31),0),IF(F31=100,4,IF(F31=150,6,IF(F31=200,8,IF(F31=250,10,IF(F31=300,12,0))))))","v":{"$error":"#N/A"}},{"$f":"INDEX(N$91:Y$115,MATCH(1,(N$91:N$115=D31)*(O$91:O$115=E31),0),IF(F31=100,3,IF(F31=150,5,IF(F31=200,7,IF(F31=250,9,IF(F31=300,11,0))))))","v":{"$error":"#N/A"}},{"$f":"INDEX(N$91:Y$115,MATCH(1,(N$91:N$115=D31)*(O$91:O$115=E31),0),IF(F31=100,4,IF(F31=150,6,IF(F31=200,8,IF(F31=250,10,IF(F31=300,12,0))))))","v":{"$error":"#N/A"}},{"$f":"INDEX(N$118:Y$142,MATCH(1,(N$118:N$142=D31)*(O$118:O$142=E31),0),IF(F31=100,3,IF(F31=150,5,IF(F31=200,7,IF(F31=250,9,IF(F31=300,11,0))))))","v":{"$error":"#N/A"}},{"$f":"INDEX(N$118:Y$142,MATCH(1,(N$118:N$142=D31)*(O$118:O$142=E31),0),IF(F31=100,4,IF(F31=150,6,IF(F31=200,8,IF(F31=250,10,IF(F31=300,12,0))))))","v":{"$error":"#N/A"}}]
[]
[]
["16mm",null,null,null,null,null,null,null,null,null,null,null,null,"20mm"]
[0,"W/(m2xK)",100,null,150,null,200,null,250,null,300,null,null,0,"W/(m2xK)",100,null,150,null,200,null,250,null,300]
["Flow temp ","Room temp","Output (W/m2)","surface temp","Output (W/m2)","surface temp","Output (W/m2)","surface temp","Output (W/m2)","surface temp","Output (W/m2)","surface temp",null,"Flow temp ","Room temp","Output (W/m2)","surface temp","Output (W/m2)","surface temp","Output (W/m2)","surface temp","Output (W/m2)","surface temp","Output (W/m2)","surface temp"]
[40,15,null,null,null,null,60.6,20.7,null,null,null,null,null,40,15,null,null,null,null,60.6,20.7]
[40,18,null,null,null,null,51.5,22.9,null,null,null,null,null,40,18,null,null,null,null,51.5,22.9]
[40,20,null,null,null,null,45.5,24.4,null,null,null,null,null,40,20,null,null,null,null,45.5,24.4]
[40,22,null,null,null,null,39.4,25.9,null,null,null,null,null,40,22,null,null,null,null,39.4,25.9]
[40,24,null,null,null,null,33.299999999999997,27.3,null,null,null,null,null,40,24,null,null,null,null,33.299999999999997,27.3]
[45,15,null,null,null,null,75.8,22,null,null,null,null,null,45,15,null,null,null,null,75.8,22]
[45,18,null,null,null,null,66.7,24.2,null,null,null,null,null,45,18,null,null,null,null,66.7,24.2]
[45,20,null,null,null,null,60.6,25.7,null,null,null,null,null,45,20,null,null,null,null,60.6,25.7]
[45,22,null,null,null,null,54.5,27.2,null,null,null,null,null,45,22,null,null,null,null,54.5,27.2]
[45,24,null,null,null,null,48.5,28.7,null,null,null,null,null,45,24,null,null,null,null,48.5,28.7]
[50,15,null,null,null,null,90.9,23.3,null,null,null,null,null,50,15,null,null,null,null,90.9,23.3]
[50,18,null,null,null,null,81.8,25.5,null,null,null,null,null,50,18,null,null,null,null,81.8,25.5]
[50,20,null,null,null,null,75.8,27,null,null,null,null,null,50,20,null,null,null,null,75.8,27]
[50,22,null,null,null,null,69.7,28.5,null,null,null,null,null,50,22,null,null,null,null,69.7,28.5]
[50,24,null,null,null,null,63.6,30,null,null,null,null,null,50,24,null,null,null,null,63.6,30]
[55,15,null,null,null,null,106.1,24.5,null,null,null,null,null,55,15,null,null,null,null,106.1,24.5]
[55,18,null,null,null,null,97,26.8,null,null,null,null,null,55,18,null,null,null,null,97,26.8]
[55,20,null,null,null,null,90.9,28.3,null,null,null,null,null,55,20,null,null,null,null,90.9,28.3]
[55,22,null,null,null,null,84.8,29.8,null,null,null,null,null,55,22,null,null,null,null,84.8,29.8]
[55,24,null,null,null,null,78.8,31.2,null,null,null,null,null,55,24,null,null,null,null,78.8,31.2]
[60,15,null,null,null,null,121.2,25.7,null,null,null,null,null,60,15,null,null,null,null,121.2,25.7]
[60,18,null,null,null,null,112.1,28,null,null,null,null,null,60,18,null,null,null,null,112.1,28]
[60,20,null,null,null,null,106.1,29.5,null,null,null,null,null,60,20,null,null,null,null,106.1,29.5]
[60,22,null,null,null,null,100,31,null,null,null,null,null,60,22,null,null,null,null,100,31]
[60,24,null,null,null,null,93.9,32.5,null,null,null,null,null,60,24,null,null,null,null,93.9,32.5]
[0.05,"W/(m2xK)",null,null,null,null,null,null,null,null,null,null,null,0.05,"W/(m2xK)"]
["Flow temp ","Room temp","Output (W/m2)","surface temp","Output (W/m2)","surface temp","Output (W/m2)","surface temp","Output (W/m2)","surface temp","Output (W/m2)","surface temp",null,"Flow temp ","Room temp","Output (W/m2)","surface temp","Output (W/m2)","surface temp","Output (W/m2)","surface temp","Output (W/m2)","surface temp","Output (W/m2)","surface temp"]
[40,15,null,null,null,null,0,0,null,null,null,null,null,40,15]
[40,18,null,null,null,null,0,0,null,null,null,null,null,40,18]
[40,20,null,null,null,null,0,0,null,null,null,null,null,40,20]
[40,22,null,null,null,null,0,0,null,null,null,null,null,40,22]
[40,24,null,null,null,null,0,0,null,null,null,null,null,40,24]
[45,15,null,null,null,null,0,0,null,null,null,null,null,45,15]
[45,18,null,null,null,null,0,0,null,null,null,null,null,45,18]
[45,20,null,null,null,null,0,0,null,null,null,null,null,45,20]
[45,22,null,null,null,null,0,0,null,null,null,null,null,45,22]
[45,24,null,null,null,null,0,0,null,null,null,null,null,45,24]
[50,15,null,null,null,null,0,0,null,null,null,null,null,50,15]
[50,18,null,null,null,null,0,0,null,null,null,null,null,50,18]
[50,20,null,null,null,null,0,0,null,null,null,null,null,50,20]
[50,22,null,null,null,null,0,0,null,null,null,null,null,50,22]
[50,24,null,null,null,null,0,0,null,null,null,null,null,50,24]
[55,15,null,null,null,null,0,0,null,null,null,null,null,55,15]
[55,18,null,null,null,null,0,0,null,null,null,null,null,55,18]
[55,20,null,null,null,null,0,0,null,null,null,null,null,55,20]
[55,22,null,null,null,null,0,0,null,null,null,null,null,55,22]
[55,24,null,null,null,null,0,0,null,null,null,null,null,55,24]
[60,15,null,null,null,null,0,0,null,null,null,null,null,60,15]
[60,18,null,null,null,null,0,0,null,null,null,null,null,60,18]
[60,20,null,null,null,null,0,0,null,null,null,null,null,60,20]
[60,22,null,null,null,null,0,0,null,null,null,null,null,60,22]
[60,24,null,null,null,null,0,0,null,null,null,null,null,60,24]
[0.1,"W/(m2xK)",null,null,null,null,0,0,null,null,null,null,null,0.1,"W/(m2xK)"]
["Flow temp ","Room temp","Output (W/m2)","surface temp","Output (W/m2)","surface temp","Output (W/m2)","surface temp","Output (W/m2)","surface temp","Output (W/m2)","surface temp",null,"Flow temp ","Room temp","Output (W/m2)","surface temp","Output (W/m2)","surface temp","Output (W/m2)","surface temp","Output (W/m2)","surface temp","Output (W/m2)","surface temp"]
[40,15,null,null,null,null,46.5,19.5,null,null,null,null,null,40,15,null,null,null,null,46.5,19.5]
[40,18,null,null,null,null,39.5,21.9,null,null,null,null,null,40,18,null,null,null,null,39.5,21.9]
[40,20,null,null,null,null,34.9,23.5,null,null,null,null,null,40,20,null,null,null,null,34.9,23.5]
[40,22,null,null,null,null,30.2,25,null,null,null,null,null,40,22,null,null,null,null,30.2,25]
[40,24,null,null,null,null,25.6,26.6,null,null,null,null,null,40,24,null,null,null,null,25.6,26.6]
[45,15,null,null,null,null,58.2,20.5,null,null,null,null,null,45,15,null,null,null,null,58.2,20.5]
[45,18,null,null,null,null,51.2,22.9,null,null,null,null,null,45,18,null,null,null,null,51.2,22.9]
[45,20,null,null,null,null,46.5,24.5,null,null,null,null,null,45,20,null,null,null,null,46.5,24.5]
[45,22,null,null,null,null,41.9,26.1,null,null,null,null,null,45,22,null,null,null,null,41.9,26.1]
[45,24,null,null,null,null,37.200000000000003,27.7,null,null,null,null,null,45,24,null,null,null,null,37.200000000000003,27.7]
[50,15,null,null,null,null,69.8,21.5,null,null,null,null,null,50,15,null,null,null,null,69.8,21.5]
[50,18,null,null,null,null,62.8,23.9,null,null,null,null,null,50,18,null,null,null,null,62.8,23.9]
[50,20,null,null,null,null,58.2,25.5,null,null,null,null,null,50,20,null,null,null,null,58.2,25.5]
[50,22,null,null,null,null,53.5,27.1,null,null,null,null,null,50,22,null,null,null,null,53.5,27.1]
[50,24,null,null,null,null,48.8,28.7,null,null,null,null,null,50,24,null,null,null,null,48.8,28.7]
[55,15,null,null,null,null,81.400000000000006,22.5,null,null,null,null,null,55,15,null,null,null,null,81.400000000000006,22.5]
[55,18,null,null,null,null,74.400000000000006,24.9,null,null,null,null,null,55,18,null,null,null,null,74.400000000000006,24.9]
[55,20,null,null,null,null,69.8,26.5,null,null,null,null,null,55,20,null,null,null,null,69.8,26.5]
[55,22,null,null,null,null,65.099999999999994,28.1,null,null,null,null,null,55,22,null,null,null,null,65.099999999999994,28.1]
[55,24,null,null,null,null,60.5,29.7,null,null,null,null,null,55,24,null,null,null,null,60.5,29.7]
[60,15,null,null,null,null,93,23.4,null,null,null,null,null,60,15,null,null,null,null,93,23.4]
[60,18,null,null,null,null,86.1,25.9,null,null,null,null,null,60,18,null,null,null,null,86.1,25.9]
[60,20,null,null,null,null,81.400000000000006,27.5,null,null,null,null,null,60,20,null,null,null,null,81.400000000000006,27.5]
[60,22,null,null,null,null,76.8,29.1,null,null,null,null,null,60,22,null,null,null,null,76.8,29.1]
[60,24,null,null,null,null,72.099999999999994,30.7,null,null,null,null,null,60,24,null,null,null,null,72.099999999999994,30.7]
[0.2,"W/(m2xK)",null,null,null,null,null,null,null,null,null,null,null,0.15,"W/(m2xK)"]
["Flow temp ","Room temp","Output (W/m2)","surface temp","Output (W/m2)","surface temp","Output (W/m2)","surface temp","Output (W/m2)","surface temp","Output (W/m2)","surface temp",null,"Flow temp ","Room temp","Output (W/m2)","surface temp","Output (W/m2)","surface temp","Output (W/m2)","surface temp","Output (W/m2)","surface temp","Output (W/m2)","surface temp"]
[40,15,null,null,null,null,37.700000000000003,18.7,null,null,null,null,null,40,15,null,null,null,null,37.700000000000003,18.7]
[40,18,null,null,null,null,32.1,21.2,null,null,null,null,null,40,18,null,null,null,null,32.1,21.2]
[40,20,null,null,null,null,28.3,22.9,null,null,null,null,null,40,20,null,null,null,null,28.3,22.9]
[40,22,null,null,null,null,24.5,24.5,null,null,null,null,null,40,22,null,null,null,null,24.5,24.5]
[40,24,null,null,null,null,20.8,26.2,null,null,null,null,null,40,24,null,null,null,null,20.8,26.2]
[45,15,null,null,null,null,47.2,19.5,null,null,null,null,null,45,15,null,null,null,null,47.2,19.5]
[45,18,null,null,null,null,41.5,22,null,null,null,null,null,45,18,null,null,null,null,41.5,22]
[45,20,null,null,null,null,37.700000000000003,23.7,null,null,null,null,null,45,20,null,null,null,null,37.700000000000003,23.7]
[45,22,null,null,null,null,34,25.4,null,null,null,null,null,45,22,null,null,null,null,34,25.4]
[45,24,null,null,null,null,30.2,27,null,null,null,null,null,45,24,null,null,null,null,30.2,27]
[50,15,null,null,null,null,56.6,20.399999999999999,null,null,null,null,null,50,15,null,null,null,null,56.6,20.399999999999999]
[50,18,null,null,null,null,50.9,22.9,null,null,null,null,null,50,18,null,null,null,null,50.9,22.9]
[50,20,null,null,null,null,47.2,24.5,null,null,null,null,null,50,20,null,null,null,null,47.2,24.5]
[50,22,null,null,null,null,43.4,26.2,null,null,null,null,null,50,22,null,null,null,null,43.4,26.2]
[50,24,null,null,null,null,39.6,27.9,null,null,null,null,null,50,24,null,null,null,null,39.6,27.9]
[55,15,null,null,null,null,66,21.2,null,null,null,null,null,55,15,null,null,null,null,66,21.2]
[55,18,null,null,null,null,60.4,23.7,null,null,null,null,null,55,18,null,null,null,null,60.4,23.7]
[55,20,null,null,null,null,56.6,25.4,null,null,null,null,null,55,20,null,null,null,null,56.6,25.4]
[55,22,null,null,null,null,52.8,27,null,null,null,null,null,55,22,null,null,null,null,52.8,27]
[55,24,null,null,null,null,49.1,28.7,null,null,null,null,null,55,24,null,null,null,null,49.1,28.7]
[60,15,null,null,null,null,68,21.3,null,null,null,null,null,60,15,null,null,null,null,68,21.3]
[60,18,null,null,null,null,62.9,23.9,null,null,null,null,null,60,18,null,null,null,null,62.9,23.9]
[60,20,null,null,null,null,59.5,25.6,null,null,null,null,null,60,20,null,null,null,null,59.5,25.6]
[60,22,null,null,null,null,56.1,27.3,null,null,null,null,null,60,22,null,null,null,null,56.1,27.3]
[60,24,null,null,null,null,52.7,29,null,null,null,null,null,60,24,null,null,null,null,52.7,29]

{"sheet":"UFH Guide","index":27,"n_rows":36,"n_cols":38,"rows_kept":36,"cut":false,"hidden":false,"merged":[]}
["Room","Room Temp (⁰C)","Heat Loss for room (Watts)","Floor Type","MWT @ DOT (°C)","UFH active area (m²)","Unheated area by UFH (m²)","Pipe diameter (mm)","Pipe Spacing (mm)","Floor covering (W/(m² x K))","Amount of pipe required in room (m)","UFH output (W/m²)","Average surface temp (°C)","Total output by UFH (W)","Difference (W)",null,null,null,null,null,null,null,null,null,null,null,null,null,null,null,"Floor type","flow temp","Pipe diameter","pipe spacing","pipe spacing (HEP)","floor covering","floor covering (suspended)","room temp"]
[{"$f":"'Design Details'!A87","v":"Living "},null,{"$f":"'Design Details'!B87","v":2055.8216000000002},null,null,{"$f":"IF(D2=\"Solid\",'Design Details'!G87,IF(D2=\"Suspended\",'Design Details'!G87*80%,0))","v":0},null,null,null,null,{"$f":"IF(I2=100,(F2-G2)*10,IF(I2=150,(F2-G2)*6.7,IF(I2=200,(F2-G2)*5,IF(I2=250,(F2-G2)*4,IF(I2=300,(F2-G2)*3.4,0)))))","v":0},{"$f":"IF(D2=\"Solid\",Solid!H2,Suspended!H2)","v":0},{"$f":"IF(D2=\"Solid\",Solid!I2,Suspended!I2)","v":0},{"$f":"(F2-G2)*L2","v":0},{"$f":"N2-C2","v":-2055.8216000000002},null,null,null,null,null,null,null,null,null,null,null,null,null,null,null,"Solid",35,16,100,200,0,0,15]
[{"$f":"'Design Details'!A88","v":"Studio "},null,{"$f":"'Design Details'!B88","v":1393.2480879999998},null,null,{"$f":"IF(D3=\"Solid\",'Design Details'!G88,IF(D3=\"Suspended\",'Design Details'!G88*80%,0))","v":0},null,null,null,null,{"$f":"IF(I3=100,(F3-G3)*10,IF(I3=150,(F3-G3)*6.7,IF(I3=200,(F3-G3)*5,IF(I3=250,(F3-G3)*4,IF(I3=300,(F3-G3)*3.4,0)))))","v":0},{"$f":"IF(D3=\"Solid\",Solid!H3,Suspended!H3)","v":0},{"$f":"IF(D3=\"Solid\",Solid!I3,Suspended!I3)","v":0},{"$f":"(F3-G3)*L3","v":0},{"$f":"N3-C3","v":-1393.2480879999998},null,null,null,null,null,null,null,null,null,null,null,null,null,null,null,"Suspended",40,20,150,null,0.05,0.1,18]
[{"$f":"'Design Details'!A89","v":"Sun room "},null,{"$f":"'Design Details'!B89","v":1242.9980860000001},null,null,{"$f":"IF(D4=\"Solid\",'Design Details'!G89,IF(D4=\"Suspended\",'Design Details'!G89*80%,0))","v":0},null,null,null,null,0,{"$f":"IF(D4=\"Solid\",Solid!H4,Suspended!H4)","v":0},{"$f":"IF(D4=\"Solid\",Solid!I4,Suspended!I4)","v":0},0,-1242.9980860000001,null,null,null,null,null,null,null,null,null,null,null,null,null,null,null,null,45,null,200,null,0.1,0.2,20]
[{"$f":"'Design Details'!A90","v":"Music room "},null,{"$f":"'Design Details'!B90","v":878.21873359999995},null,null,{"$f":"IF(D5=\"Solid\",'Design Details'!G90,IF(D5=\"Suspended\",'Design Details'!G90*80%,0))","v":0},null,null,null,null,0,{"$f":"IF(D5=\"Solid\",Solid!H5,Suspended!H5)","v":0},{"$f":"IF(D5=\"Solid\",Solid!I5,Suspended!I5)","v":0},0,-878.21873359999995,null,null,null,null,null,null,null,null,null,null,null,null,null,null,null,null,50,null,250,null,0.15,null,22]
[{"$f":"'Design Details'!A91","v":"Hall "},null,{"$f":"'Design Details'!B91","v":227.22712512000001},null,null,{"$f":"IF(D6=\"Solid\",'Design Details'!G91,IF(D6=\"Suspended\",'Design Details'!G91*80%,0))","v":0},null,null,null,null,0,{"$f":"IF(D6=\"Solid\",Solid!H6,Suspended!H6)","v":0},{"$f":"IF(D6=\"Solid\",Solid!I6,Suspended!I6)","v":0},0,-227.22712512000001,null,null,null,null,null,null,null,null,null,null,null,null,null,null,null,null,55,null,300,null,null,null,24]
[{"$f":"'Design Details'!A92","v":"Utility "},null,{"$f":"'Design Details'!B92","v":435.82518300000004},null,null,{"$f":"IF(D7=\"Solid\",'Design Details'!G92,IF(D7=\"Suspended\",'Design Details'!G92*80%,0))","v":0},null,null,null,null,0,{"$f":"IF(D7=\"Solid\",Solid!H7,Suspended!H7)","v":0},{"$f":"IF(D7=\"Solid\",Solid!I7,Suspended!I7)","v":0},0,-435.82518300000004,null,null,null,null,null,null,null,null,null,null,null,null,null,null,null,null,60]
[{"$f":"'Design Details'!A93","v":"WC "},null,{"$f":"'Design Details'!B93","v":86.44144},null,null,{"$f":"IF(D8=\"Solid\",'Design Details'!G93,IF(D8=\"Suspended\",'Design Details'!G93*80%,0))","v":0},null,null,null,null,0,{"$f":"IF(D8=\"Solid\",Solid!H8,Suspended!H8)","v":0},{"$f":"IF(D8=\"Solid\",Solid!I8,Suspended!I8)","v":0},0,-86.44144]
[{"$f":"'Design Details'!A94","v":"Kitchen "},null,{"$f":"'Design Details'!B94","v":1336.731544},null,null,{"$f":"IF(D9=\"Solid\",'Design Details'!G94,IF(D9=\"Suspended\",'Design Details'!G94*80%,0))","v":0},null,null,null,null,0,{"$f":"IF(D9=\"Solid\",Solid!H9,Suspended!H9)","v":0},{"$f":"IF(D9=\"Solid\",Solid!I9,Suspended!I9)","v":0},0,-1336.731544]
[{"$f":"'Design Details'!A95","v":"Bedroom 1"},null,{"$f":"'Design Details'!B95","v":545.95488},null,null,{"$f":"IF(D10=\"Solid\",'Design Details'!G95,IF(D10=\"Suspended\",'Design Details'!G95*80%,0))","v":0},null,null,null,null,0,{"$f":"IF(D10=\"Solid\",Solid!H10,Suspended!H10)","v":0},{"$f":"IF(D10=\"Solid\",Solid!I10,Suspended!I10)","v":0},0,-545.95488]
[{"$f":"'Design Details'!A96","v":"Bedroom 2"},null,{"$f":"'Design Details'!B96","v":485.41553759999994},null,null,{"$f":"IF(D11=\"Solid\",'Design Details'!G96,IF(D11=\"Suspended\",'Design Details'!G96*80%,0))","v":0},null,null,null,null,0,{"$f":"IF(D11=\"Solid\",Solid!H11,Suspended!H11)","v":0},{"$f":"IF(D11=\"Solid\",Solid!I11,Suspended!I11)","v":0},0,-485.41553759999994]
[{"$f":"'Design Details'!A97","v":"Bedroom 3"},null,{"$f":"'Design Details'!B97","v":849.67528531999994},null,null,{"$f":"IF(D12=\"Solid\",'Design Details'!G97,IF(D12=\"Suspended\",'Design Details'!G97*80%,0))","v":0},null,null,null,null,0,{"$f":"IF(D12=\"Solid\",Solid!H12,Suspended!H12)","v":0},{"$f":"IF(D12=\"Solid\",Solid!I12,Suspended!I12)","v":0},0,-849.67528531999994]
[{"$f":"'Design Details'!A98","v":"Bedroom 4"},null,{"$f":"'Design Details'!B98","v":547.09836280000002},null,null,{"$f":"IF(D13=\"Solid\",'Design Details'!G98,IF(D13=\"Suspended\",'Design Details'!G98*80%,0))","v":0},null,null,null,null,0,{"$f":"IF(D13=\"Solid\",Solid!H13,Suspended!H13)","v":0},{"$f":"IF(D13=\"Solid\",Solid!I13,Suspended!I13)","v":0},0,-547.09836280000002]
[{"$f":"'Design Details'!A99","v":"En-suite "},null,{"$f":"'Design Details'!B99","v":84.190939},null,null,{"$f":"IF(D14=\"Solid\",'Design Details'!G99,IF(D14=\"Suspended\",'Design Details'!G99*80%,0))","v":0},null,null,null,null,0,{"$f":"IF(D14=\"Solid\",Solid!H14,Suspended!H14)","v":0},{"$f":"IF(D14=\"Solid\",Solid!I14,Suspended!I14)","v":0},0,-84.190939]
[{"$f":"'Design Details'!A100","v":"Bath "},null,{"$f":"'Design Details'!B100","v":1064.4392088000002},null,null,{"$f":"IF(D15=\"Solid\",'Design Details'!G100,IF(D15=\"Suspended\",'Design Details'!G100*80%,0))","v":0},null,null,null,null,0,{"$f":"IF(D15=\"Solid\",Solid!H15,Suspended!H15)","v":0},{"$f":"IF(D15=\"Solid\",Solid!I15,Suspended!I15)","v":0},0,-1064.4392088000002]
[{"$f":"'Design Details'!A101","v":"Landing "},null,{"$f":"'Design Details'!B101","v":361.53011076000001},null,null,{"$f":"IF(D16=\"Solid\",'Design Details'!G101,IF(D16=\"Suspended\",'Design Details'!G101*80%,0))","v":0},null,null,null,null,0,{"$f":"IF(D16=\"Solid\",Solid!H16,Suspended!H16)","v":0},{"$f":"IF(D16=\"Solid\",Solid!I16,Suspended!I16)","v":0},0,-361.53011076000001]
[{"$f":"'Design Details'!A102","v":"- "},null,{"$f":"'Design Details'!B102","v":0},null,null,{"$f":"IF(D17=\"Solid\",'Design Details'!G102,IF(D17=\"Suspended\",'Design Details'!G102*80%,0))","v":0},null,null,null,null,0,{"$f":"IF(D17=\"Solid\",Solid!H17,Suspended!H17)","v":0},{"$f":"IF(D17=\"Solid\",Solid!I17,Suspended!I17)","v":0},0,0]
[{"$f":"'Design Details'!A103","v":"- "},null,{"$f":"'Design Details'!B103","v":0},null,null,{"$f":"IF(D18=\"Solid\",'Design Details'!G103,IF(D18=\"Suspended\",'Design Details'!G103*80%,0))","v":0},null,null,null,null,0,{"$f":"IF(D18=\"Solid\",Solid!H18,Suspended!H18)","v":0},{"$f":"IF(D18=\"Solid\",Solid!I18,Suspended!I18)","v":0},0,0]
[{"$f":"'Design Details'!A104","v":"- "},null,{"$f":"'Design Details'!B104","v":0},null,null,{"$f":"IF(D19=\"Solid\",'Design Details'!G104,IF(D19=\"Suspended\",'Design Details'!G104*80%,0))","v":0},null,null,null,null,0,{"$f":"IF(D19=\"Solid\",Solid!H19,Suspended!H19)","v":0},{"$f":"IF(D19=\"Solid\",Solid!I19,Suspended!I19)","v":0},0,0]
[{"$f":"'Design Details'!A105","v":"- "},null,{"$f":"'Design Details'!B105","v":0},null,null,{"$f":"IF(D20=\"Solid\",'Design Details'!G105,IF(D20=\"Suspended\",'Design Details'!G105*80%,0))","v":0},null,null,null,null,0,{"$f":"IF(D20=\"Solid\",Solid!H20,Suspended!H20)","v":0},{"$f":"IF(D20=\"Solid\",Solid!I20,Suspended!I20)","v":0},0,0]
[{"$f":"'Design Details'!A106","v":"- "},null,{"$f":"'Design Details'!B106","v":0},null,null,{"$f":"IF(D21=\"Solid\",'Design Details'!G106,IF(D21=\"Suspended\",'Design Details'!G106*80%,0))","v":0},null,null,null,null,0,{"$f":"IF(D21=\"Solid\",Solid!H21,Suspended!H21)","v":0},{"$f":"IF(D21=\"Solid\",Solid!I21,Suspended!I21)","v":0},0,0]
[{"$f":"'Design Details'!A107","v":"- "},null,{"$f":"'Design Details'!B107","v":0},null,null,{"$f":"IF(D22=\"Solid\",'Design Details'!G107,IF(D22=\"Suspended\",'Design Details'!G107*80%,0))","v":0},null,null,null,null,0,{"$f":"IF(D22=\"Solid\",Solid!H22,Suspended!H22)","v":0},{"$f":"IF(D22=\"Solid\",Solid!I22,Suspended!I22)","v":0},0,0]
[{"$f":"'Design Details'!A108","v":"- "},null,{"$f":"'Design Details'!B108","v":0},null,null,{"$f":"IF(D23=\"Solid\",'Design Details'!G108,IF(D23=\"Suspended\",'Design Details'!G108*80%,0))","v":0},null,null,null,null,0,{"$f":"IF(D23=\"Solid\",Solid!H23,Suspended!H23)","v":0},{"$f":"IF(D23=\"Solid\",Solid!I23,Suspended!I23)","v":0},0,0]
[{"$f":"'Design Details'!A109","v":"- "},null,{"$f":"'Design Details'!B109","v":0},null,null,{"$f":"IF(D24=\"Solid\",'Design Details'!G109,IF(D24=\"Suspended\",'Design Details'!G109*80%,0))","v":0},null,null,null,null,0,{"$f":"IF(D24=\"Solid\",Solid!H24,Suspended!H24)","v":0},{"$f":"IF(D24=\"Solid\",Solid!I24,Suspended!I24)","v":0},0,0]
[{"$f":"'Design Details'!A110","v":"- "},null,{"$f":"'Design Details'!B110","v":0},null,null,{"$f":"IF(D25=\"Solid\",'Design Details'!G110,IF(D25=\"Suspended\",'Design Details'!G110*80%,0))","v":0},null,null,null,null,0,{"$f":"IF(D25=\"Solid\",Solid!H25,Suspended!H25)","v":0},{"$f":"IF(D25=\"Solid\",Solid!I25,Suspended!I25)","v":0},0,0]
[{"$f":"'Design Details'!A111","v":"- "},null,{"$f":"'Design Details'!B111","v":0},null,null,{"$f":"IF(D26=\"Solid\",'Design Details'!G111,IF(D26=\"Suspended\",'Design Details'!G111*80%,0))","v":0},null,null,null,null,0,{"$f":"IF(D26=\"Solid\",Solid!H26,Suspended!H26)","v":0},{"$f":"IF(D26=\"Solid\",Solid!I26,Suspended!I26)","v":0},0,0]
[{"$f":"'Design Details'!A112","v":"- "},null,{"$f":"'Design Details'!B112","v":0},null,null,{"$f":"IF(D27=\"Solid\",'Design Details'!G112,IF(D27=\"Suspended\",'Design Details'!G112*80%,0))","v":0},null,null,null,null,0,{"$f":"IF(D27=\"Solid\",Solid!H27,Suspended!H27)","v":0},{"$f":"IF(D27=\"Solid\",Solid!I27,Suspended!I27)","v":0},0,0]
[{"$f":"'Design Details'!A113","v":"- "},null,{"$f":"'Design Details'!B113","v":0},null,null,{"$f":"IF(D28=\"Solid\",'Design Details'!G113,IF(D28=\"Suspended\",'Design Details'!G113*80%,0))","v":0},null,null,null,null,0,{"$f":"IF(D28=\"Solid\",Solid!H28,Suspended!H28)","v":0},{"$f":"IF(D28=\"Solid\",Solid!I28,Suspended!I28)","v":0},0,0]
[{"$f":"'Design Details'!A114","v":"- "},null,{"$f":"'Design Details'!B114","v":0},null,null,{"$f":"IF(D29=\"Solid\",'Design Details'!G114,IF(D29=\"Suspended\",'Design Details'!G114*80%,0))","v":0},null,null,null,null,0,{"$f":"IF(D29=\"Solid\",Solid!H29,Suspended!H29)","v":0},{"$f":"IF(D29=\"Solid\",Solid!I29,Suspended!I29)","v":0},0,0]
[{"$f":"'Design Details'!A115","v":"- "},null,{"$f":"'Design Details'!B115","v":0},null,null,{"$f":"IF(D30=\"Solid\",'Design Details'!G115,IF(D30=\"Suspended\",'Design Details'!G115*80%,0))","v":0},null,null,null,null,0,{"$f":"IF(D30=\"Solid\",Solid!H30,Suspended!H30)","v":0},{"$f":"IF(D30=\"Solid\",Solid!I30,Suspended!I30)","v":0},0,0]
[{"$f":"'Design Details'!A116","v":"- "},null,{"$f":"'Design Details'!B116","v":0},null,null,{"$f":"IF(D31=\"Solid\",'Design Details'!G116,IF(D31=\"Suspended\",'Design Details'!G116*80%,0))","v":0},null,null,null,null,0,{"$f":"IF(D31=\"Solid\",Solid!H31,Suspended!H31)","v":0},{"$f":"IF(D31=\"Solid\",Solid!I31,Suspended!I31)","v":0},0,0]
[]
[null,null,null,null,null,null,null,null,null,"Green Flag =","Within interior zone (max. 29°C) "]
[null,null,null,null,null,null,null,null,null,"Orange Flag =","Within bathroom zone (max. 33°C)"]
[null,null,null,null,null,null,null,null,null,"Red Flag =","Within peripheral zone (max. 35°C)"]
[null,null,null,null,null,null,null,null,null,"Stop sign =","Warning surface temp too high"]

{"sheet":"Graphs","index":28,"n_rows":52,"n_cols":9,"rows_kept":52,"cut":false,"hidden":false,"merged":[[0,0,0,8]]}
["Estimated Fuel Price Comparison Calculations"]
["Energy Requirement (heating)",null,null,null,{"$f":"'Design Details'!B26","v":22376.992539611521},"kWhr/yr"]
["Energy Requirement (hot water)",null,null,null,{"$f":"'Design Details'!F24","v":3820.6374999999998}]
["OIL"]
["Price of oil per litre",null,null,null,{"$f":"'Design Details'!F41","v":0.8}]
["kWhr per litre",null,null,null,10.27,"kWhr"]
["Boiler Efficiency of existing Oil Boiler",null,null,null,0.88,"% SEDBUK"]
["Efficiency of new Oil boiler",null,null,null,0.88,"% SEDBUK"]
[null,null,null,"existing",{"$f":"E7*E6","v":9.0375999999999994},"kW hrs per litre oil"]
[null,null,null,"new",{"$f":"E8*E6","v":9.0375999999999994},"kW hrs per litre oil"]
[null,null,null,"existing",{"$f":"E5/E9","v":8.851907586084802E-2},"£ per kWhr"]
[null,null,null,"new",{"$f":"E5/E10","v":8.851907586084802E-2},"£ per kWhr"]
["ELECTRICITY / HEAT PUMP"]
["Price of Unit of electricity",null,null,null,{"$f":"'Design Details'!F38","v":0.24}]
["SPF SH",null,null,null,{"$f":"'Design Details'!B33","v":3.83}]
["COP HW @ flow temp",null,null,null,{"$f":"'Design Details'!B34","v":3.83}]
["Energy Requirement  (SH)",null,null,null,{"$f":"IFERROR(E2/E15,0)","v":5842.5567988541834},"kWhrs annual demand (Inc hot water)"]
["Energy Requirement  (HW)",null,null,null,{"$f":"IFERROR(E3/E16,0)","v":997.55548302872057}]
["Cost Htg Pump (£)",null,null,null,{"$f":"'Design Details'!B41","v":49.562068721495073}]
["Cost Ground Pump (£)",null,null,null,{"$f":"'Design Details'!F37","v":0}]
["Cost Immersion (£)",null,null,null,{"$f":"'Design Details'!B39","v":32.658599999999993}]
["GAS (natural)"]
["Efficiency of proposed boiler (New)",null,null,null,0.9,"% SEDBUK"]
["Price of Gas per kWhr",null,null,null,{"$f":"'Design Details'!F39","v":7.0000000000000007E-2}]
["Energy Requirement ",null,null,null,{"$f":"(E2+E3)/E23","v":29108.47782179058},"kWhrs annual demand (Inc hot water)"]
["GAS LPG"]
["Price of LPG per litre",null,null,null,{"$f":"'Design Details'!F40","v":0.75},"Bulk purchase"]
["kWhr per litre",null,null,null,6.6,"Std Conversion"]
["Boiler Efficiency",null,null,null,0.9,"Assumed if very new"]
[null,null,null,null,{"$f":"E29*E28","v":5.9399999999999995},"kW hrs per litre lpg"]
[null,null,null,null,{"$f":"E27/E30","v":0.12626262626262627},"Pence per kWhr"]
["ELECTRIC BOILER"]
["Price of Unit of electricity",null,null,null,{"$f":"E14","v":0.24}]
["Energy Requirement",null,null,null,{"$f":"E2+E3","v":26197.630039611522},"kWhrs annual demand (Inc hot water)"]
["ANNUAL COSTS"]
["New Electric Boiler",null,null,null,{"$f":"$E$33*$E$34+$E$19","v":6336.9932782282604},"Electric"]
["New High Efficient Gas Boiler",null,null,null,{"$f":"$E$25*$E$24+$E$19","v":2087.1555162468362},"Gas"]
["Proposed Heat Pump",null,null,null,{"$f":"'Design Details'!B40","v":1776.8912544777081},"Heat Pump"]
["New High Efficient LPG Boiler",null,null,null,{"$f":"$E$31*($E$2+$E$3)+$E$19","v":3357.3436393795159},"LPG Gas"]
["New High Efficient Oil Boiler",null,null,null,{"$f":"($E$2+$E$3)*$E$11+$E$19","v":2368.5520695722985},"Oil"]
["CO2 EMISSIONS"]
["Electric",null,null,null,0.49399999999999999,"kg CO2/kWh",null,{"$f":"$E$34","v":26197.630039611522},"kWhrs"]
["Gas",null,null,null,0.185,"kg CO2/kWh",null,{"$f":"$E$25","v":29108.47782179058},"kWhrs"]
["Heat Pump",null,null,null,0.49399999999999999,"kg CO2/kWh",null,{"$f":"$E$17+$E$18","v":6840.1122818829044},"kWhrs"]
["LPG Gas",null,null,null,0.215,"kg CO2/kWh",null,{"$f":"($E$2+$E$3)/$E$29","v":29108.47782179058},"kWhrs"]
["Oil",null,null,null,0.247,"kg CO2/kWh",null,{"$f":"($E$2+$E$3)/$E$8","v":29770.034135922186},"kWhrs"]
[]
["New Electric Boiler",null,null,null,{"$f":"E42*H42","v":12941.629239568092},"CO₂","New Electric Boiler"]
["New High Efficient Gas Boiler",null,null,null,{"$f":"E43*H43","v":5385.0683970312575},"CO₂","New High Efficient Gas Boiler"]
["Proposed Heat Pump",null,null,null,{"$f":"E44*H44","v":3379.0154672501549},"CO₂","Proposed Heat Pump"]
["New High Efficient LPG Boiler",null,null,null,{"$f":"E45*H45","v":6258.3227316849743},"CO₂","New High Efficient LPG Boiler"]
["New High Efficient Oil Boiler",null,null,null,{"$f":"E46*H46","v":7353.1984315727796},"CO₂","New High Efficient Oil Boiler"]

{"sheet":"Compliance Certificate v1.2","index":29,"n_rows":115,"n_cols":4,"rows_kept":115,"cut":false,"hidden":false,"merged":[[1,1,1,3],[4,1,4,3],[2,1,2,3]]}
[]
[null,"MCS Compliance Certificate"]
[null,"Heat Pump"]
[]
[]
[]
[null,"NOTE: All fields require a value so please use N/A or 0 where question is not applicable."]
[null,"1. GENERAL INFORMATION"]
[null,1.1000000000000001,"Name of owner",{"$f":"'Design Details'!B4","v":"Louise Martin"}]
[null,1.2,"Address of installation:"]
[null,null,"Line 1",{"$f":"'Design Details'!B5","v":"Tyn Cae"}]
[null,null,"Line 2",{"$f":"'Design Details'!B6","v":"Paradwys"}]
[null,null,"Line 3",{"$f":"'Design Details'!B7","v":"Bodorgan"}]
[null,null,"Line 4",{"$f":"'Design Details'!B8","v":0}]
[null,null,"Postcode",{"$f":"'Design Details'!B9","v":"LL62 5PE"}]
[null,1.3,"Address of owner (if different to address of installation otherwise enter N/A):"]
[null,null,"Line 1"]
[null,null,"Line 2"]
[null,null,"Line 3"]
[null,null,"Line 4"]
[null,null,"Postcode"]
[null,"2. PURPOSE OF INSTALLATION"]
[null,2.1,"Does the installation provide:"]
[null,null,"i. Space heating","Yes"]
[null,null,"ii. Domestic hot water","Yes"]
[null,null,"iii. Other (please state)"]
[null,2.2000000000000002,"Is the installation designed for intermittent or continuous heating?","Intermittent"]
[null,2.2999999999999998,"Are the heating services to the building bivalent/multivalent?"]
[null,"3. REGULATIONS AND APPROVALS"]
[null,3.1,"i. Have all regulations been met and approvals obtained (including planning approval as required)?","Yes"]
[null,null,"ii. If an air source heat pump installed in England, does the installation comply with MCS 020 where permitted development is required? "]
[null,"4. HEATING CALCULATIONS"]
[null,4.0999999999999996,"i. Has a heat loss calculation been carried out for every heated room?","Yes"]
[null,null,"ii. Heat loss calculator used (name and version)","MCS heat pump calculator v1.6"]
[null,null,"iii. Design external temperature (°C)",{"$f":"'Design Details'!B19","v":-3}]
[null,null,"iv. Design ground temperature (°C) (for solid floor losses only)",{"$f":"LOOKUP('Design Details'!B22,'Design Tables'!A5:C22,'Design Tables'!C5:C22)","v":10}]
[null,null,"v. Design internal temperatures (°C)",{"$f":"MAX('Design Details'!D87:D116)","v":22}]
[null,null,"vi. Total building heat loss in kW",{"$f":"'Design Details'!B24","v":11.594816123999999}]
[null,4.2,"If the installation has been designed for intermittent heating, what uplift factor has been applied to the building heat loss when sizing the:"]
[null,null,"i. Heat source"]
[null,null,"ii. Heat emitters",2.4]
[null,4.3,"i. Has the Domestic Hot Water (DHW) system been designed by considering the number and types of points of use and anticipated consumption within the property?","Yes"]
[null,null,"ii. Has the reheat time of the hot water storage vessel been estimated and agreed with the customer?","Yes"]
[null,4.4000000000000004,"Have the implications of the system design on the costs associated with providing space heating and domestic hot water to the building been explained in writing to the owner?","Yes"]
[null,"5. HEAT EMITTER DESIGN"]
[null,5.0999999999999996,"i. Lowest of the oversize factors or maximum pipe spacing (as appropriate) for the heat emitters that are to be used",2.4]
[null,null,"ii. What heat emitters are installed? \n(List all that apply using Heat Emitter Guide (HEG))",{"$f":"'Design Details'!F30","v":"Radiators"}]
[null,null,"iii. Floor covering (If underfloor heating)"]
[null,null,"iv. All Room heat losses in watts (W) (or w/m2 together with floor areas)"]
[null,null,"v. Has a blending valve been installed to reduce the water temperature in the heat emitters?","No"]
[null,null,"vi. Temperature (°C) of the water leaving the heat pump when supplying space heating at the design external temperature?",{"$f":"'Design Details'!F31","v":50}]
[null,null,"vii. What is the Temperature Star Rating for the whole heating system?",3]
[null,null,"viii. Has the customer been provided with a copy of the calculations carried out for the HEG? ","Yes"]
[null,"6. HOT WATER SYSTEM"]
[null,6.1,"i. Is hot water heating provided by the heat pump?","Yes"]
[null,null,"ii. Maximum flow temperature (°C) of the heat pump while providing hot water",{"$f":"'Design Details'!F33+5","v":55}]
[null,null,"iii. Percentage of hot water supplied by the heat pump, excluding the immersion heater",100]
[null,null,"iv. Volume of the cylinder in litres ",{"$f":"'Design Details'!F29","v":200}]
[null,null,"v. Note evidence for volume of cylinder selected","45 litres per person (rooms + 1) per day as minimum "]
[null,null,"vi. Is the cylinder including the heat exchanger designed to operate with a heat pump?","Yes"]
[null,"7. HEAT PUMP SELECTIONS"]
[null,7.1,"i. Manufacturer of the installed heat pump(s)",{"$f":"'Design Details'!B29","v":"Ideal"}]
[null,null,"ii. Model of the installed heat pump(s)",{"$f":"'Design Details'!B30","v":"Logic Air HP 290 14kw"}]
[null,null,"iii. MCS product certification number for the heat pump(s)"]
[null,null,"iv. Heat output from the heat pump(s) in kW (excluding heat from any supplementary heaters) at the design external and design flow temperatures",{"$f":"'Design Details'!B31","v":12.61}]
[null,null,"v. Does the heat pump provide a full or partial heating service?","Full"]
[null,null,"vi. If partial, what is the percentage of annual space heating requirements met by the heat pump (excluding supplementary heaters)?"]
[null,null,"vii. Does the heat pump provide full or partial hot water heating?","Full"]
[null,null,"viii. If partial, what is the percentage of annual hot water requirements met by the heat pump (excluding supplementary heaters)?"]
[null,"8. DESIGN OF GROUND HEAT EXCHANGER"]
[null,8.1,"i. Has the customer been provided with a completed copy of Table 3 from MIS 3005?"]
[null,null,"ii. Annual energy (kWh/yr) assumed for the ground heat exchanger design"]
[null,null,"iii. Confirm that: "]
[null,null,"a. the flow of thermal transfer fluid is turbulent in the ground heat exchanger active elements"]
[null,null,"b. the closed-loop ground collector system pumping power at the lowest operating temperature is less than 3% of the heat pump heating capacity"]
[null,null,"c. the method used is location specific taking account of UK average ground temperatures"]
[null,null,"d. the temperature of the thermal transfer fluid entering the heat pump been designed to be not less than 0°C at all times for 20 years"]
[null,null,"iv. Type of ground heat exchanger"]
[null,"9. SYSTEM PERFORMANCE CALCULATIONS AND ANNUAL ENERGY FIGURES"]
[null,9.1,"i. Annual space heating demand (kWh/yr)",{"$f":"'Design Details'!B26","v":22376.992539611521}]
[null,null,"ii. Annual water heating demand (kWh/yr)",{"$f":"'Design Details'!F24","v":3820.6374999999998}]
[null,null,"iii. Percentage of space heating and water heating demand provided by the heat pump (excluding auxiliary and immersion heaters)"]
[null,null,"iv. Annual electricity consumption of the heat pump (excluding auxiliary and immersion heaters) (kWh/yr)",{"$f":"'Design Details'!AS6+'Design Details'!AS7","v":7267.6360603237845}]
[null,null,"v. Annual electricity consumption of auxiliary and immersion heaters (kWh/yr)",{"$f":"'Design Details'!F25","v":136.07749999999999}]
[null,null,"vi. Annual energy consumption of other heat sources (kWh/yr)"]
[null,null,"vii. Product Seasonal Performance (SCOP/SPER/SPF) of the heat pump",{"$f":"'Design Details'!B33","v":3.83}]
[null,9.1999999999999993,"i. Is the installation intended for the domestic RHI?"]
[null,null,"ii. If EPC available, maximum qualifying renewable heat (kWh/yr) from the Energy Performance Certificate (EPC)"]
[null,"10. INSTALLATION"]
[null,10.1,"i. Does the installation conform to the design?"]
[null,null,"ii. Have all manufacturers’ instructions been followed including installation location and condensate drainage (as appropriate)?"]
[null,null,"iii. Where the requirements of MIS 3005 exceed those of the manufacturer, have the requirements of MIS 3005 been met?"]
[null,10.199999999999999,"If intended as a domestic RHI installation:"]
[null,null,"i. Does the installation conform to the MCS Domestic RHI Metering Guidance?"]
[null,null,"ii. What is the outcome of Procedure A in the MCS Domestic RHI Metering Guidance?"]
[null,null,"iii. Is the installation meter ready? "]
[null,null,"iv. If not meter ready, please state why."]
[null,10.3,"For ground source heat pumps:"]
[null,null,"i. Has the system been flushed, purged, filled and pressure tested according to MIS 3005?"]
[null,null,"ii. What make and type of antifreeze has been added to make up the thermal transfer fluid?"]
[null,null,"iii. Is the antifreeze mixed to at least -10 °C and has it been tested twice with a refractometer?"]
[null,null,"iv. Has the recommended biocide been added in the quantity specified?"]
[null,"11. COMMISSIONING AND HANDOVER"]
[null,11.1,"i. Explain how the controls have been set to ensure that the system operating temperature is no higher than TFSH at the design external temperature"]
[null,null,"ii. Record the control settings"]
[null,11.2,"i. Has the heat pump and other components of the system been commissioned according to the manufacturers' instructions and system design parameters?"]
[null,null,"ii. Has a label been attached to the system in accordance with MIS 3005?"]
[null,11.3,"i. Have you given the customer a handover pack?"]
[null,null,"ii. State the issue number of MIS 3005 used"]
[null,null,"iii. Have you informed the customer that they will receive an MCS installation certificate that they should keep with their handover pack?"]
[null,"12. CONFIRMATION"]
[null,12.1,"I confirm that I am authorised to complete this certificate on behalf of the MCS installation company named above and I confirm that:\n (i) the heating installation at the premises whose address is shown above has been designed and installed in accordance with MIS 3005;\n (ii) the design included a heat loss calculation for every room of the building that is heated by the installation;\n (iii) the installation conforms to the design;\n (iv) controls to ensure TFSH have been installed and set correctly.","Yes"]
[null,12.2,"Full name:","Matthew Warzytz"]
[null,12.3,"Job title:","Assessor"]
[null,12.4,"Date:"]

{"sheet":"CC v1.2 Guidance","index":30,"n_rows":100,"n_cols":4,"rows_kept":100,"cut":false,"hidden":false,"merged":[[26,2,27,2],[0,0,0,3],[7,3,10,3],[17,2,22,2],[23,2,25,2],[23,3,25,3],[30,2,36,2],[39,2,44,2],[39,3,44,3],[46,3,53,3],[55,2,62,2],[55,3,62,3],[90,3,91,3],[64,3,70,3],[71,3,72,3],[74,3,76,3],[77,2,80,2],[77,3,80,3],[83,3,86,3]]}
["The following page provides guidance on completion of the compliance certificate. This spreadsheet is designed for upload to the MCS Installation Database (MID).\nPLEASE NOTE that all cells shown in white on the compliance certificate require a value otherwise you will be unable  to upload the form to the MCS Installation Database. A value of N/A or 0 can be entered in fields which are not applicable."]
[]
["1. GENERAL INFORMATION",null,"RELEVANT SECTION MIS 3005","GUIDANCE"]
[1.1000000000000001,"Name of the owner",null,"Enter the name of the owner."]
[1.2,"Address of the installation",null,"Enter the address where the heating system is installed."]
[1.3,"Address of the owner",null,"Enter the address of the owner. If the owner address is the same as the installation address enter N/A in all fields. "]
["2. PURPOSE OF INSTALLATION"]
[2.1,"Does the installation provide:",null,"Confirm the purpose(s) of the installation. Select yes or no for 2.1i and 2.1ii. If there are any other purposes (question 2.1iii) then please list as appropriate or write N/A if not applicable. "]
[null,"i. Space heating"]
[null,"ii. Domestic hot water"]
[null,"iii. Other (please state)"]
[2.2000000000000002,"Is the installation designed for intermittent or continuous heating?",null,"Select 'intermittent' or 'continuous' as appropriate. \n\nIntermittent heating means that the heating system has the ability to provide all the space heating requirement on the design day within a period of no more than 16 hours, without use of supplementary heaters. Continuous heating means that the heating system has the ability to provide all the space heating requirement on the design day within a period of no more than 24 hours (but taking more than 16 hours), without use of supplementary heaters."]
[2.2999999999999998,"Are the heating services to the building bivalent/multivalent?",null,"Select 'bivalent', 'multivalent' or 'no' as appropriate. A 'bivalent' system is a heating system in which the heating services are supplied by two different heat sources. A 'multivalent' system is a heating system in which the heating services are supplied by three or more different heat sources. \n"]
["3. REGULATIONS AND APPROVALS"]
[3.1,"i. Have all regulations been met and approvals obtained (including planning approval as required)?",4.0999999999999996,"Confirm that all relevant regulations and approvals have been obtained."]
[null,"ii. If installed in England, does the installation comply with MCS 020 where permitted development is required (air source heat pumps only)? ","4.4.8","Confirm that the requirements of MCS 020 have been meet (air source heat pumps only). MCS 020 only applies to installations installed in England."]
["4. HEATING CALCULATIONS"]
[4.0999999999999996,"i. Has a heat loss calculation been carried out for every heated room?","4.2.1a, b, c\n","Confirm that a heat loss calculation has been carried out for every room that is to be heated."]
[null,"ii. Heat loss calculator used (name and version)",null,"Enter details of the heat loss calculator used including name and version number. Note that MIS 3005 compliant heat loss calculators must comply with BS EN12831 (UK National Annex)."]
[null,"iii. Design external temperature (°C)",null,"Enter the design external temperature used in the heat loss calculation. Refer to 4.2.1b and Table 2 in MIS 3005."]
[null,"iv. Design ground temperature (°C) (for solid floor losses only)",null,"If the building has a solid floor confirm the average design ground temperature. Refer to 4.2.1b,c MIS 3005. If the building does not have a solid floor enter N/A."]
[null,"v. Design internal temperature(s) (°C)",null,"Enter the design internal temperature(s) used in the heat loss calculation. The individual design temperature for each room to be heated must be listed. Refer to 4.2.1b,c MIS 3005. An example of how this should be completed - bedroom 1 - 21, bedroom 2 - 21, bathroom - 18."]
[null,"vi. Total building heat loss in kW",null,"Enter the total heat loss of the building in kW. NOTE see 70kW guidance paper as this may be an area of the property as opposed to the whole building."]
[4.2,"If the installation has been designed for intermittent heating, what uplift factor has been applied to the building heat loss when sizing the:","Notes on section 4.2.1- part d\n","If the installation has been designed for intermittent heating, state what uplift factor has been applied to the building heat loss to allow for intermittent heating when sizing the heat pump and emitters.\n\nThe uplift factor means the ratio between building heat loss used for sizing and the building heat loss as calculated for the design day. For example, if an additional allowance of 20% has been included for intermittent heating then the uplift factor is 1.2, and if the building heat loss calculated for the design day was 10kW the building heat loss used for sizing used for sizing is 12kW. Normally the same uplift factor would be used for both the heat generator and emitters. See 2.2 above for definition of intermittent heating."]
[null,"i. Heat source"]
[null,"ii. Heat emitters"]
[4.3,"i. Has the DHW system been designed by considering the number and types of points of use and anticipated consumption within the property?","4.2.3 – 4.2.5\n","If the installation is intended to provide water heating, assess requirements and estimate performance."]
[null,"ii. Has the reheat time of the hot water storage vessel been estimated and agreed with the customer?",null,"This question relates to clause 4.2.3 in MIS 3005. You are required to confirm that you have met this clause."]
[4.4000000000000004,"Have the implications of the system design on the costs associated with providing space heating and domestic hot water to the building been explained verbally and in writing to the customer?","4.2.6","Confirm that the cost implications have been explained both verbally and in writing to the customer."]
["5. HEAT EMITTER DESIGN "]
[5.0999999999999996,"i. Lowest of the oversize factors or pipe spacing (as appropriate) for the existing emitters that are to be used","4.2.10 – 4.2.12\n\nMCS021 Heat Emitter Guide for Domestic Heat Pumps","Refer to the MCS 021 Heat Emitter Guide. For radiators and convectors use the Temperature of the Space Heating Emitter Circuit (TSHEC) to look up the oversize factor. TSHEC is described as 'Heating circuit flow temperature' in the HEG. For underfloor heating use the TSHEC to look up the pipe spacing. \n\nWhen any existing heat emitters are to be re-used, the heat output from each of them under standard conditions must be determined. To do this refer to the document “Tables of Heat Emitter Outputs”.\n\nEstablish the oversize factors applicable to the emitters to be re-used, and select the lowest of them. Any newly installed emitters must be selected using the oversize factor applicable to the emitter installation as a whole.\n\nProduce trial emitter system design for chosen temperature. In conjunction with client, agree that the design is feasible and affordable; otherwise re-design at a higher trial temperature. Choose final TSHEC, based on the worst performing room, with client’s agreement (ensuring this temperature is suitable for the emitter type, and bearing in mind the influence on costs).\n\nIf radiators and convectors, the oversize factor should be entered as single figure up to two decimal places (i.e. 1.20). If underfloor heating the pipe spacing should be entered as a figure up to 3 digits.\n\n"]
[null,"ii. What heat emitters are installed? (list all that apply using HEG)",null,"Referring to the emitter types listed in the Heat Emitter Guide, list all heat emitters installed."]
[null,"iii. Floor covering (If underfloor heating)",null,"If underfloor heating is installed list type of floor covering(s) i.e. Wood, carpet"]
[null,"iv. Room heat losses in watts (W)  (or w/m2 together with floor areas)",null,"List heat losses for all rooms to be heated."]
[null,"v. Has a blending valve been installed to reduce the water temperature in the heat emitters?",null,"Confirm whether a blending valve has been installed to reduce the temperature of water leaving the heat pump to the final chosen TSHEC."]
[null,"vi. Temperature (°C) of the water leaving the heat pump when supplying space heating at the design external temperature?",null,"Use the Heat Emitter Guide to look up the TSHEC and temperature star rating corresponding to the oversize factor applicable to the emitter installation as a whole. If there is no exact correspondence choose the 5°C temperature step higher and the number of stars lower."]
[null,"vii. Temperature Star Rating for the whole heating system",null,"Use the Heat Emitter Guide to look up TSHEC and temperature star rating corresponding to the oversize factor applicable to the emitter installation as a whole. If there is no exact correspondence choose the 5°C temperature step higher and the number of stars lower.\n\nNOTE (a): The Temperature Star Rating must be determined by the temperature (TFSH) of the water leaving the heat pump when supplying space heating at peak design conditions (i.e., at the lowest external design temperature)\nNOTE (b): If a blending valve has been installed, TFSH may NOT be the same as the temperature at which the emitters have been designed to operate (TSHEC).\nNOTE (c): The Temperature Star Rating should be recorded as follows:\n“6-star” when TFSH = 35°C or lower; “5-star” when TFSH = 36-40°C; “4-star” when TFSH = 41-45°C; “3-star” when TFSH = 46-50°C; “2-star” when TFSH = 51-55°C; “1-star” when TFSH = 56-60°C; “None” when TFSH > 60°C.\n"]
[null,"viii. Has the customer been provided with a copy of the calculations carried out for the Heat Emitter Guide? ",null,"Confirm that a copy of the calculations carried out for the HEG including justification of the Temperature Star Rating and if possible methods for improvement."]
["6. HOT WATER SYSTEM"]
[6.1,"i. Is hot water provided by the heat pump?","4.2.3 – 4.2.7\n4.2.6\n","Confirm the hot water needs of the building and select a hot water storage vessel of adequate volume and suitable heat exchanger according to the heat pump manufacturers’ and / or cylinder manufacturers’/suppliers’ recommendations.\n\nConfirm whether hot water service is to be provided by the heat pump (fully / partly / not at all) excluding any immersion heater, and whether or not an immersion heater is to be fitted.\n"]
[null,"ii. Maximum flow temperature (°C) of the heat pump while providing hot water"]
[null,"iii. Percentage of hot water supplied by the heat pump excluding the immersion heater"]
[null,"iv. Volume of the cylinder in litres"]
[null,"v. Note evidence for volume of cylinder selected"]
[null,"vi. Is the cylinder including the heat exchanger designed to operate with a heat pump?"]
["7. HEAT PUMP SELECTION "]
[7.1,"i. Manufacturer of the installed heat pump","MIS 3005 4.0\n4.2.1c,d, e, 4.2.2\n","Confirm whether the heat pump is to provide the FULL heating service or only PARTIAL heating service.\n\nThe FULL heating service means that the heat pump will supply at least as much heat as the building heat loss under design conditions, taking account of external temperature and the flow temperature to heat emitters. The heat output from the heat pump must not include heat supplied from any supplementary heaters. The manufacturer’s performance data must be consulted to confirm performance under these conditions.\n\nIf the heat pump provides a PARTIAL heating service the multiple heat sources must be integrated under a single control system and the proportion of the annual heat requirement from the heat pump alone must be calculated. Select a heat pump of suitable size from the MCS approved list.\n"]
[null,"ii. Model of the installed heat pump"]
[null,"iii. MCS product certification number of the heat pump"]
[null,"iv. Heat output from the heat pump in kW (excluding heat from any supplementary heaters) at the design external and design flow temperatures","4.2.1.c"]
[null,"v. Does the heat pump provide a full or partial heating service?","4.2.2"]
[null,"vi. If partial, what is the percentage (%) of annual space heating requirements met by the heat pump (excluding supplementary heaters)?","Appendix E, Box [102 / 101]"]
[null,"vii. Does the heat pump provide full or partial water heating?"]
[null,"viii. If partial, what is the percentage (%) of annual hot water requirements met by the heat pump (excluding supplementary heaters)?","Appendix E, Box [202 / 201]"]
["8. DESIGN OF GROUND HEAT EXCHANGER "]
[8.1,"i. Has the customer been provided with a completed copy of Table 3 from MIS 3005?","4.2.16 – 4.2.23\n","Record the design of the ground heat exchanger, if a Ground Source Heat Pump has been fitted. If this section is not applicable then please select N/A."]
[null,"ii. Annual energy (kWh/y) assumed for the ground heat exchanger design"]
[null,"iii. Confirm that: "]
[null,"a. the flow of thermal transfer fluid is turbulent in the ground heat exchanger active elements"]
[null,"b. the closed-loop ground collector system pumping power at the lowest operating temperature is less than 3% of the heat pump heating capacity"]
[null,"c. the method used is location specific taking account of UK average ground temperatures"]
[null,"d. the temperature of the thermal transfer fluid entering the heat pump been designed to be not less than 0°C at all times for 20 years"]
[null,"iv. Type of ground heat exchanger"]
["9. SYSTEM PERFORMANCE CALCULATIONS AND ANNUAL ENERGY FIGURES"]
[9.1,"i. Annual space heating demand (kWh/yr)","Appendix E, Box [101]","Enter your calculations relating to system performance and annual energy figures. \n\nMIS 3005 requires that you calculate the annual space heating demand and water heating demand, taking into account customer requirements, using a design worksheet and any suitable method. Determine the percentage of the annual space and water heating demand that will be supplied by the heat pump (excluding any auxiliary heaters and immersion heater), the electricity consumed by the heat pump (excluding auxiliary/immersion heaters), the electricity consumed by the auxiliary/immersion heaters, the fuel consumed by other heat sources, and the product seasonal performance (SCOP/SPER/SPF) for the heat pump (combined space and water heating performance including the auxiliary/immersion heaters)."]
[null,"ii. Annual water heating demand (kWh/yr)","Appendix E, Box [201]"]
[null,"iii. Percentage of space heating and water heating demand provided by the heat pump (excluding auxiliary and immersion heaters)","Appendix E, Box [301]"]
[null,"iv. Annual electricity consumption of the heat pump (excluding auxiliary and immersion heaters) (kWh/yr)","Appendix E, Box [303]"]
[null,"v. Annual electricity consumption of auxiliary and immersion heaters (kWh/yr)","Appendix E, Box [304]"]
[null,"vi. Annual energy consumption of other heat sources (kWh/yr)","Appendix E, Box [305]"]
[null,"vii. Product Seasonal Performance (SCOP/SPER/SPF) of the heat pump","Appendix E, Box [306]"]
[9.1999999999999993,"i. Is the installation intended for the domestic RHI?",null,"Confirm whether the installation is intended for the domestic RHI.\n\nIf it is intended that the installation should qualify for RHI payments, find the annual space and water heating demand shown on the Energy Performance Certificate (EPC), calculate the amount of qualifying heat supplied by the heat pump, find the product seasonal performance (SCOP/SPER/SPF) as required for RHI purposes, and calculate the qualifying renewable heat. Record the value calculated."]
[null,"ii. If EPC available, maximum qualifying renewable heat (kWh/yr) from the Energy Performance Certificate?","Appendix E, Box [507]"]
["10. INSTALLATION"]
[10.1,"i. Does the installation conform to the design?",null,"Confirm that the heat emitters and heat pump have been installed in accordance with the design."]
[null,"ii. Have all manufacturers’ instructions been followed including installation location and condensate drainage (as appropriate)?"]
[null,"iii. Where the requirements of MIS 3005 exceed those of the manufacturer, have the requirements of MIS 3005 been met?"]
[10.199999999999999,"If intended as domestic RHI installation:","4.2.8 and MCS Domestic RHI Metering Guidance","Confirm that client has been made aware of any metering needed to qualify for RHI payments and, if required by client, the installation conforms fully to the MCS Domestic RHI Metering Guidance"]
[null,"i. Does the installation conform to the MCS Domestic RHI Metering Guidance?"]
[null,"ii. What is the outcome of Procedure A in the MCS Domestic RHI Metering Guidance?"]
[null,"iii. Is the installation meter ready? If not, please state why."]
[null,"iv. If not meter ready, please state why."]
[10.3,"For ground source heat pumps:"]
[null,"i. Has the system been flushed, purged, filled and pressure tested according to MIS 3005 v4.0 section 4.5.5 a) to d)?"," 4.5.5 a) to d)","Confirm that the requirements of MIS 3005 have been met in full. If the system is not a ground source heat pump then "]
[null,"ii. What make and type of antifreeze has been added to make up the thermal transfer fluid?","4.5.5 e)"]
[null,"iii. Is the antifreeze mixed to at least -10 °C and has it been tested twice with a refractometer?","4.5.5 g)"]
[null,"iv. Has the recommended biocide been added in the quantity specified?","4.5.5 f)"]
["11. COMMISSIONING AND HANDOVER"]
[11.1,"i. Explain how the controls have been set to ensure that the system operating temperature is no higher than TFSH at the design external temperature",null,"Explain what temperature limiting controls have been installed and how controls have been set to ensure that the system operating temperature is no higher than TFSH at the design external temperature.\n\nTFSH is the temperature of the water leaving the heat pump when supplying space heating."]
[null,"ii. Record the control settings",null,"Record what controls are used to limit operating temperature to be no higher than TFSH at the design external temperature. Record the control settings for the system as designed and initially commissioned."]
[11.2,"i. Has the heat pump and other components of the system been commissioned according to the manufacturers' instructions and system design parameters?",null,"Commission the installation. \n(i) Confirm that the heat pump and other components of the system have been commissioned according to the manufacturers’ instructions and the system design parameters;\n(ii) Attach a label, close to the heat pump, to show the water temperature at which the system has been designed to operate (TFSH) and the required control settings to achieve it.\n"]
[null,"ii. Has a label been attached to the system in accordance with MIS 3005?","4.5.2"]
[11.3,"i. Have you given the customer a handover pack?","4.6.1\n","Provide and hand over the document pack."]
[null,"ii. State the issue number of MIS 3005 used",null,"Record the issue number of MIS 3005"]
[null,"iii. Have you informed the customer that they will receive an MCS installation certificate that they should keep with their handover pack?"]
["12. CONFIRMATION"]
[12.1,"Declaration",null,"Select Yes or No. Answer should = No if any of (i), (ii), (iii), (iv) = No"]
[12.2,"Full name:",null,"State full name of person completing the compliance certificate."]
[12.3,"Job title:",null,"State job title of person completing the compliance certificate."]
[12.4,"Date:",null,"State the date that the compliance certificate was completed.."]

{"sheet":"Compliance Certificate v2.0","index":31,"n_rows":46,"n_cols":4,"rows_kept":46,"cut":false,"hidden":false,"merged":[[1,1,1,3],[2,1,2,3]]}
[]
[null,"MCS Compliance Certificate"]
[null,"Heat Pump"]
[null,"NOTE: All fields require a value so please use N/A or 0 where question is not applicable."]
[null,1,"GENERAL INFORMATION"]
[null,1.1000000000000001,"Name of owner"]
[null,1.2,"Adress of installation"]
[null,null,"Line 1"]
[null,null,"Line 2"]
[null,null,"Line 3"]
[null,null,"Line 4"]
[null,null,"Postcode"]
[null,1.3,"Adress of owner (if different to address of installation otherwise enter N/A)"]
[null,null,"Line 1"]
[null,null,"Line 2"]
[null,null,"Line 3"]
[null,null,"Line 4"]
[null,null,"Postcode"]
[null,2,"DESIGN INFORMATION"]
[null,null,"i) Intermittent or Continuous heating?"]
[null,null,"ii) Design External Temperature  (°C)"]
[null,null,"iii) Total Building Heat Loss at Design Condition (kW)"]
[null,3,"HEAT EMITTER INFORMATION"]
[null,null,"i) What Heat Emitter types are installed?"]
[null,null,"ii) What is the temperature of water (°C) leaving the heat pump when supplying space heating at the design day condition?"]
[null,null,"iii) Has a copy of the room by room calculations and heat emitter selections been given to the client?"]
[null,4,"DOMESTIC HOT WATER "]
[null,null,"i) What is the maximum design water temperature (°C) leaving the heat pump when in hot water heating mode?",{"$f":"'Design Details'!F33+5","v":55}]
[null,null,"ii) Has the DHWS reheat time been estimated and agreed with the customer?"]
[null,5,"IF GROUND SOURCE HEAT PUMP"]
[null,null,"i) Type of ground heat exchanger: vertical/ horizontal/ slinky/ open loop\n(if horizontal indicate minimum depth (m); if vertical indicate maximum depth (m))"]
[null,null,"ii) Ground conductivity factor used"]
[null,6,"EPC"]
[null,null,"i) EPC Number"]
[null,null,"ii) EPC annual space heating (kWh/yr) "]
[null,null,"iii) EPC annual hot water demand figure (kWh/yr) "]
[null,7," I COMFIRM THAT:"]
[null,null,"i) I am authorised to complete this certificate on behalf of the MCS Contractor named below","Yes"]
[null,null,"ii) the customer will receive an MCS Installation Certificate within 10 working days of the installation commissioning date","Yes"]
[null,null,"iii) MIS 3005 scheme requirements have been met (state issue number of MIS 3005 used)",5]
[null,null,"iv) the installation complies with system design as per the contract agreement","Yes"]
[null,8,"MCS Contractor"]
[null,null,"i) Organisation Name:"]
[null,null,"ii) Full Name and Job Title:"]
[null,null,"iii) Date:"]
[null,null,"iv) Signature:"]

{"sheet":"CC v2.0 Guidance","index":32,"n_rows":34,"n_cols":4,"rows_kept":34,"cut":false,"hidden":false,"merged":[[0,0,0,3]]}
["The following page provides guidance on completion of the compliance certificate. This spreadsheet is designed for upload to the MCS Installation Database (MID).\nPLEASE NOTE that all cells shown in white on the compliance certificate require a value otherwise you will be unable to upload the form to the MCS Installation Database. A value of N/A or 0 can be entered in fields which are not applicable."]
[]
["1. GENERAL INFORMATION",null,"RELEVANT SECTION MIS 3005","GUIDANCE"]
[1.1000000000000001,"Name of the owner","n/a","Enter the name of the owner."]
[1.2,"Address of the installation","n/a","Enter the address where the heating system is installed."]
[1.3,"Address of the owner","n/a","Enter the address of the owner. If the owner address is the same as the installation address enter N/A in all fields. "]
["2. DESIGN INFORMATION"]
[null,"i. Intermittent or Continuous heating?","4.2.1 a","Select 'intermittent' or 'continuous' as appropriate. \n\nIntermittent heating means that the heating system has the ability to provide all the space heating requirement on the design day within a period of no more than 16 hours, without use of supplementary heaters. Continuous heating means that the heating system has the ability to provide all the space heating requirement on the design day within a period of no more than 24 hours (but taking more than 16 hours), without use of supplementary heaters."]
[null,"ii. Design External temperature (°C)","4.2.1 b, Table 2","Enter the design external temperature used in the heat loss calculation. Refer to 4.2.1b and Table 2 in MIS 3005."]
[null,"iii. Total Building Heat Loss at Design Condition (kW)","4.2.1a, b, c","Enter the total heat loss of the building in kW. NOTE see 70kW guidance paper as this may be an area of the property as opposed to the whole building."]
["3.HEAT EMITTER INFORMATION"]
[null,"i. What Heat Emitter types are installed?","4.2.12 – 4.2.14  MCS021 Heat Emitter Guide for Domestic Heat Pumps","Referring to the emitter types listed in the Heat Emitter Guide, list all heat emitters installed. Note, it is only necessary to list the types of heat emitter installed in the property. It is not necessary to list the type and number of emitters installed in each room. "]
[null,"ii. What is the temperature of water leaving the heat pump when supplying space heating at the design day condition?","4.2.1a, b, c","The maximum water temperature setting for water leaving the heat pump in heating mode in accordance with the design. This is likely to be less than the maximum the heat pump could achieve."]
[null,"iii. Has a copy of the room by room heat loss calculations and heat emitter selections been given to the client?","4.2.12 – 4.2.14  MCS021 Heat Emitter Guide for Domestic Heat Pumps","Confirm Yes or No."]
["4. DOMESTIC HOT WATER "]
[null,"i. What is the maximum design water temperature in (°C) leaving the heat pump when in hot water heating mode?","4.2.3-4.2.7 \n","The maximum water temperature setting for water leaving the heat pump when heating sanitary hot water. This should be as high as possible to maximise the stored temperature and reduce the need for direct electric immersion heaters to reduce bacterialogical multiplication."]
[null,"ii. Has the DHWS reheat time been estimated and agreed with the customer?","4.2.5","Select Yes or No."]
["5. IF GROUND SOURCE HEAT PUMPS"]
[null,"i. Type of ground heat exchanger: vertical/ horizontal/ slinky/ open loop (if horizontal, indicate minimum depth (m); if vertical, indicate maximum depth (m)","4.2.19, MCS 022","For GSHP installations, enter the type of ground heat exchanger used. For horizontal, also enter the minimum depth; for vertical, also enter the maximum depth e.g (horizontal, 2m).\nFor other heat pump installations, enter N/A."]
[null,"ii. Ground conductivity factor used","4.2.23, Appendix C, MCS 022","This is the figure used in the calculations to size the ground array and should ideally be established using eirher a geotechnologist, specific experience from  nearby projects or a site thermal test or combination thereof."]
["6. EPC","(IF APPLICABLE)"]
[null,"i. EPC Number",4.3,"Enter the EPC number if the premises is entitled to a domestic EPC, otherwise enter N/A."]
[null,"ii. EPC annual space heating / hot water demand figure (kWh/ry)",4.3,"This figure normally appears at the bottom left hand side of the document and is the sum of the services heated by  the heat pump e.g.  heating and hot water energy figure added together if the"]
["7. DECLARATIONS"]
["I confirm that: "]
[null,"i. I am authorised to complete the certificate on behalf of the MCS Contractor named below:","n/a","Select Yes or No"]
[null,"ii. The customer will receive an MCS Installation certificate within 10 working days of the installation commissioning date","n/a","Select Yes or No"]
[null,"iii. MIS 3005 scheme requirements have been met ","n/a","Select the Issue of MIS 3005 that has been used. This version of the Compliance Certificate (v2.0) should only be used in conjunction with Issue 5.0 of MIS 3005."]
[null,"iv. The installation complies with system design as per the contract agreement","n/a","Select Yes or No"]
["8. CONFIRMATION"]
[null,"i. Organisation Name","n/a","Enter organisation name of the MCS Contractor responsible for the installation."]
[null,"ii. Full Name and Job Title:","n/a","State full name and job title of the person completing the compliance certificate."]
[null,"iii. Date:","n/a","State the date that the compliance certificate was completed."]
[null,"iv. Signature","n/a","Insert the signature of the person completing the certificate."]

{"sheet":"16","index":33,"n_rows":60,"n_cols":24,"rows_kept":60,"cut":false,"hidden":false,"merged":[[2,1,2,2],[2,3,2,4],[0,0,0,2],[0,3,0,5],[0,9,0,10],[1,3,1,4],[3,0,3,1],[3,3,3,4],[4,0,4,1],[4,3,4,4],[5,0,5,1],[5,3,5,4],[57,11,57,13],[6,0,6,1],[18,11,18,13],[19,11,19,13],[53,11,53,13],[54,11,54,13],[55,11,55,13],[56,11,56,13],[30,11,30,13],[10,10,10,13],[9,10,9,13],[20,11,20,13],[21,11,21,13]]}
["Room Information",null,null,"Ventilation Heat Loss",null,null,"Fabric ","Heat Loss (W)"," Usage (kWh)","Additional heat loss",null,"Addition","Watts","kWh"]
["Room","-",null,"Air Changes a hour",null,{"$f":"'Design Details'!F102","v":0},"Floor",{"$f":"SUM(J20:J22)","v":0},{"$f":"SUM(K20:K22)","v":0},"Thermal Bridging (New Build >2006)",null,0,{"$f":"SUM(H$2:H$6)*L2","v":0},{"$f":"SUM(I$2:I$6)*L2","v":0},null,"3 edges (long single)","Level",null,null,null,null,null,null,1]
["Level",null,null,"Air Change Factor (W/m³K)",null,0.33,"Ext Wall",{"$f":"J27","v":0},{"$f":"K27","v":0},"Exposed location",null,0,{"$f":"SUM(H$2:H$6)*L3","v":0},{"$f":"SUM(I$2:I$6)*L3","v":0},null,"3 edges (short single)","Please Select Floor",{"$f":"IF($B$3=\"Ground floor\",\"Solid Floor (in contact with ground)\",IF($B$3=\"Single Storey\",\"Solid Floor (in contact with ground)\",\"n/a\"))","v":"n/a"},{"$f":"'Design Details'!B21","v":10},"unheated",0,0,0,2]
["Design Room Temp (°C)",null,{"$f":"'Design Details'!D102","v":0},"Total Volume (m³)",null,{"$f":"SUM(H10:H12,H14:H18)","v":0},"Roof",{"$f":"SUM(J32,J35)","v":0},{"$f":"SUM(K32,K35)","v":0},"High ceiling",null,0,{"$f":"SUM(H$2:H$6)*L4","v":0},{"$f":"SUM(I$2:I$6)*L4","v":0},null,"One edge","Ground floor",{"$f":"IF($B$3=\"Ground floor\",\"Suspended Floor\",IF($B$3=\"Single Storey\",\"Suspended Floor\",\"n/a\"))","v":"n/a"},null,16,0.1,0.2,2.5000000000000001E-2,3]
["Outside Design Temp (°C)",null,{"$f":"'Design Details'!B19","v":-3},"Heat loss (W)",null,{"$f":"F4*F3*C6*F2","v":0},"Glazing",{"$f":"SUM(J37:J43,J45:J48,J50:J53)","v":0},{"$f":"SUM(K37:K43,K45:K48,K50:K53)","v":0},"Intermittent heating",null,0,{"$f":"SUM(H$2:H$6)*L5","v":0},{"$f":"SUM(I$2:I$6)*L5","v":0},null,"Two adjacent","Mid-floor",null,null,18,null,null,0.05,4]
["Temp Difference (°C)",null,{"$f":"C4-C5","v":3},"Estimated Energy usage (kWh)",null,{"$f":"F4*F3*C7*24/1000","v":0},"Int./Party Wall",{"$f":"SUM(J55:J58,J60)","v":0},{"$f":"SUM(K60)","v":0},null,null,null,"Total Room Heat Loss (W)",{"$f":"SUM(F5,H2:H6,M2:M5)","v":0},null,"Two opposite","Single storey",null,null,21,null,null,7.4999999999999997E-2,5]
["Degree Days",null,{"$f":"'Design Details'!B20","v":2228},null,null,null,null,null,null,null,null,null,"Total Room Energy Usage (kWh)",{"$f":"SUM(F6,I2:I6,N2:N5)","v":0},null,null,"Upper floor",null,null,22,null,null,0.1,6]
[null,null,null,null,null,null,null,null,null,null,null,null,null,null,null,null,{"$f":"IF($B$3=\"Ground floor\",'Design Details'!B$45,IF($B$3=\"Mid-floor\",'Design Details'!B$55,IF($B$3=\"Upper floor\",'Design Details'!B$65,IF($B$3=\"Single Storey\",'Design Details'!B$75,0))))","v":0},null,null,null,null,null,null,7]
["Room Dimensions",null,null,null,null,null,null,null,null,null,null,null,null,null,null,null,null,null,null,null,null,null,null,8]
["Length (m)",null,"Width (m)",null,"Height (m)",null,"Volume (m³)",{"$f":"B10*D10*F10","v":0},null,null,null,null,null,null,null,null,null,null,null,null,null,null,null,9]
["Length (m)",null,"Width (m)",null,"Height (m)",null,"Volume (m³)",{"$f":"B11*D11*F11","v":0},null,null,null,null,null,null,null,null,null,null,null,null,null,null,null,10]
["Length (m)",null,"Width (m)",null,"Height (m)",null,"Volume (m³)",{"$f":"B12*D12*F12","v":0}]
["Awkward Room Dimensions"]
["Length (m)",null,"Width (m)",null,"Height (m)",null,"Volume (m³)",{"$f":"((F14*D14)/2)*B14","v":0},"Pitched"]
["Length (m)",null,"Width (m)",null,"Height (m)",null,"Volume (m³)",{"$f":"B15*D15*F15/2","v":0},"Single Pitch"]
["Length (m)",null,"Height (m)",null,"Depth (m)",null,"Volume (m³)",{"$f":"D16*F16*B16/2","v":0},"Dormer 1"]
["Length (m)",null,"Height (m)",null,"Depth (m)",null,"Volume (m³)",{"$f":"D17*F17*B17/2","v":0},"Dormer 2"]
["Length (m)",null,"Height (m)",null,"Depth (m)",null,"Volume (m³)",{"$f":"D18*F18*B18/2","v":0},"Dormer 3"]
["Floor",null,null,null,null,null,null,null,"Temp Difference","Heat Loss (W)","Usage (kWh)","Type of Ground Floor"]
["Length (m)",null,"Width (m)",null,"Area (m²)",{"$f":"B20*D20","v":0},"U Value (W/m²K)",{"$f":"IF(L22=\"\",Q8,'floor u values'!K17)","v":0},{"$f":"IF(B$3=\"Ground Floor\",IF(L20=\"Solid Floor (in contact with ground)\",C$4-S$3,C$4-C$5),IF(B$3=\"Single Storey\",IF(L20=\"Solid Floor (in contact with ground)\",C$4-S$3,C$4-C$5),0))","v":0},{"$f":"F20*H20*I20","v":0},{"$f":"IF($B$3=$Q$5,0,IF($B$3=$Q$7,0,F20*H20*$C$7*24/1000))","v":0}]
["Length (m)",null,"Width (m)",null,"Area (m²)",{"$f":"B21*D21","v":0},"U Value (W/m²K)",{"$f":"H20","v":0},{"$f":"IF(B$3=\"Ground Floor\",IF(L20=\"Solid Floor (in contact with ground)\",C$4-S$3,C$4-C$5),IF(B$3=\"Single Storey\",IF(L20=\"Solid Floor (in contact with ground)\",C$4-S$3,C$4-C$5),0))","v":0},{"$f":"F21*H21*I21","v":0},{"$f":"IF($B$3=$Q$5,0,IF($B$3=$Q$7,0,F21*H21*$C$7*24/1000))","v":0},"Exposed floor (external)"]
["Length (m)",null,"Width (m)",null,"Area (m²)",0,"U Value (W/m²K)",{"$f":"H20","v":0},{"$f":"IF(B$3=\"Ground Floor\",IF(L20=\"Solid Floor (in contact with ground)\",C$4-S$3,C$4-C$5),IF(B$3=\"Single Storey\",IF(L20=\"Solid Floor (in contact with ground)\",C$4-S$3,C$4-C$5),0))","v":0},{"$f":"F22*H22*I22","v":0},{"$f":"IF($B$3=$Q$5,0,IF($B$3=$Q$7,0,F22*H22*$C$7*24/1000))","v":0}]
["External Wall",null,null,null,null,null,null,null,null,null,null,{"$f":"IF(L22=\"Two opposite\",\"Between edges\",IF(L22=\"One edge\",\"Depth of room\",IF(L22=\"3 edges (short single)\",\"Short length\",IF(L22=\"3 edges (long single)\",\"Short length\",\"\"))))","v":""},null,{"$f":"IF(L22=\"3 edges (short single)\",\"Long length\",IF(L22=\"3 edges (long single)\",\"Long length\",\"\"))","v":""}]
["Length (m)",null,"Height (m)",null,"Area (m²)",0]
["Length (m)",null,"Height (m)",null,"Area (m²)",0]
["Length (m)",null,"Height (m)",null,"Area (m²)",0]
[null,null,null,"Total","Area (m²)",{"$f":"SUM(F24:F26)-SUM(F37:F43,F50:F53)","v":0},"U Value (W/m²K)",{"$f":"IF($B$3=\"Ground floor\",'Design Details'!B$48,IF($B$3=\"Mid-floor\",'Design Details'!B$58,IF($B$3=\"Upper floor\",'Design Details'!B$68,IF($B$3=\"Single Storey\",'Design Details'!B$78,0))))","v":0},{"$f":"$C$6","v":3},{"$f":"F27*H27*I27","v":0},{"$f":"F27*H27*$C$7*24/1000","v":0}]
["Roof"]
["Length (m)",null,"Width (m)",null,"Area (m²)",0]
["Length (m)",null,"Width (m)",null,"Area (m²)",0]
["Length (m)",null,"Width (m)",null,"Area (m²)",0]
[null,null,null,"Total","Area (m²)",{"$f":"SUM(F29:F31)-SUM(F45:F48)","v":0},"U Value (W/m²K)",{"$f":"IF($B$3=\"Ground floor\",'Design Details'!B$49,IF($B$3=\"Mid-floor\",'Design Details'!B$59,IF($B$3=\"Upper floor\",'Design Details'!B$69,IF($B$3=\"Single Storey\",'Design Details'!B$79,0))))","v":0},{"$f":"$C$6","v":3},0,{"$f":"IF($B$3=$Q$4,0,IF($B$3=$Q$5,0,F32*H32*$C$7*24/1000))","v":0}]
["Length (m)",null,"Pitch (m)",null,"Area (m²)",0,"Pitched"]
["Length (m)",null,"Pitch (m)",null,"Area (m²)",0,"Single Pitch"]
[null,null,null,"Total","Area (m²)",{"$f":"SUM(F33:F34)-SUM(F45:F48)","v":0},"U Value (W/m²K)",{"$f":"IF($B$3=\"Ground floor\",'Design Details'!B$50,IF($B$3=\"Mid-floor\",'Design Details'!B$60,IF($B$3=\"Upper floor\",'Design Details'!B$70,IF($B$3=\"Single Storey\",'Design Details'!B$80,0))))","v":0},3,0,{"$f":"IF($B$3=$Q$4,0,IF($B$3=$Q$5,0,F35*H35*$C$7*24/1000))","v":0}]
["Windows"]
["Width (m)",null,"Height (m)",null,"Area (m²)",0,"U Value (W/m²K)",{"$f":"IF($B$3=\"Ground floor\",'Design Details'!B$46,IF($B$3=\"Mid-floor\",'Design Details'!B$56,IF($B$3=\"Upper floor\",'Design Details'!B$66,IF($B$3=\"Single Storey\",'Design Details'!B$76,0))))","v":0},3,0,{"$f":"F37*H37*$C$7*24/1000","v":0}]
["Width (m)",null,"Height (m)",null,"Area (m²)",0,"U Value (W/m²K)",{"$f":"IF($B$3=\"Ground floor\",'Design Details'!B$46,IF($B$3=\"Mid-floor\",'Design Details'!B$56,IF($B$3=\"Upper floor\",'Design Details'!B$66,IF($B$3=\"Single Storey\",'Design Details'!B$76,0))))","v":0},3,0,0]
["Width (m)",null,"Height (m)",null,"Area (m²)",0,"U Value (W/m²K)",{"$f":"IF($B$3=\"Ground floor\",'Design Details'!B$46,IF($B$3=\"Mid-floor\",'Design Details'!B$56,IF($B$3=\"Upper floor\",'Design Details'!B$66,IF($B$3=\"Single Storey\",'Design Details'!B$76,0))))","v":0},3,0,0]
["Width (m)",null,"Height (m)",null,"Area (m²)",0,"U Value (W/m²K)",{"$f":"IF($B$3=\"Ground floor\",'Design Details'!B$46,IF($B$3=\"Mid-floor\",'Design Details'!B$56,IF($B$3=\"Upper floor\",'Design Details'!B$66,IF($B$3=\"Single Storey\",'Design Details'!B$76,0))))","v":0},3,0,0]
["Width (m)",null,"Height (m)",null,"Area (m²)",0,"U Value (W/m²K)",{"$f":"IF($B$3=\"Ground floor\",'Design Details'!B$46,IF($B$3=\"Mid-floor\",'Design Details'!B$56,IF($B$3=\"Upper floor\",'Design Details'!B$66,IF($B$3=\"Single Storey\",'Design Details'!B$76,0))))","v":0},3,0,0]
["Width (m)",null,"Height (m)",null,"Area (m²)",0,"U Value (W/m²K)",{"$f":"IF($B$3=\"Ground floor\",'Design Details'!B$46,IF($B$3=\"Mid-floor\",'Design Details'!B$56,IF($B$3=\"Upper floor\",'Design Details'!B$66,IF($B$3=\"Single Storey\",'Design Details'!B$76,0))))","v":0},3,0,0]
["Width (m)",null,"Height (m)",null,"Area (m²)",0,"U Value (W/m²K)",{"$f":"IF($B$3=\"Ground floor\",'Design Details'!B$46,IF($B$3=\"Mid-floor\",'Design Details'!B$56,IF($B$3=\"Upper floor\",'Design Details'!B$66,IF($B$3=\"Single Storey\",'Design Details'!B$76,0))))","v":0},3,0,0]
["Roof Glazing"]
["Width (m)",null,"Height (m)",null,"Area (m²)",0,"U Value (W/m²K)",{"$f":"IF($B$3=\"Ground floor\",'Design Details'!B$53,IF($B$3=\"Mid-floor\",'Design Details'!B$63,IF($B$3=\"Upper floor\",'Design Details'!B$73,IF($B$3=\"Single Storey\",'Design Details'!B$83,0))))","v":0},3,0,{"$f":"F45*H45*$C$7*24/1000","v":0}]
["Width (m)",null,"Height (m)",null,"Area (m²)",0,"U Value (W/m²K)",{"$f":"IF($B$3=\"Ground floor\",'Design Details'!B$53,IF($B$3=\"Mid-floor\",'Design Details'!B$63,IF($B$3=\"Upper floor\",'Design Details'!B$73,IF($B$3=\"Single Storey\",'Design Details'!B$83,0))))","v":0},3,0,{"$f":"F46*H46*$C$7*24/1000","v":0}]
["Width (m)",null,"Height (m)",null,"Area (m²)",0,"U Value (W/m²K)",{"$f":"IF($B$3=\"Ground floor\",'Design Details'!B$53,IF($B$3=\"Mid-floor\",'Design Details'!B$63,IF($B$3=\"Upper floor\",'Design Details'!B$73,IF($B$3=\"Single Storey\",'Design Details'!B$83,0))))","v":0},3,0,{"$f":"F47*H47*$C$7*24/1000","v":0}]
["Width (m)",null,"Height (m)",null,"Area (m²)",0,"U Value (W/m²K)",{"$f":"IF($B$3=\"Ground floor\",'Design Details'!B$53,IF($B$3=\"Mid-floor\",'Design Details'!B$63,IF($B$3=\"Upper floor\",'Design Details'!B$73,IF($B$3=\"Single Storey\",'Design Details'!B$83,0))))","v":0},3,0,{"$f":"F48*H48*$C$7*24/1000","v":0}]
["Doors"]
["Width (m)",null,"Height (m)",null,"Area (m²)",0,"U Value (W/m²K)",{"$f":"IF($B$3=\"Ground floor\",'Design Details'!B$47,IF($B$3=\"Mid-floor\",'Design Details'!B$57,IF($B$3=\"Upper floor\",'Design Details'!B$67,IF($B$3=\"Single Storey\",'Design Details'!B$77,0))))","v":0},3,0,{"$f":"F50*H50*$C$7*24/1000","v":0}]
["Width (m)",null,"Height (m)",null,"Area (m²)",0,"U Value (W/m²K)",{"$f":"IF($B$3=\"Ground floor\",'Design Details'!B$47,IF($B$3=\"Mid-floor\",'Design Details'!B$57,IF($B$3=\"Upper floor\",'Design Details'!B$67,IF($B$3=\"Single Storey\",'Design Details'!B$77,0))))","v":0},3,0,{"$f":"F51*H51*$C$7*24/1000","v":0}]
["Width (m)",null,"Height (m)",null,"Area (m²)",0,"U Value (W/m²K)",{"$f":"IF($B$3=\"Ground floor\",'Design Details'!B$47,IF($B$3=\"Mid-floor\",'Design Details'!B$57,IF($B$3=\"Upper floor\",'Design Details'!B$67,IF($B$3=\"Single Storey\",'Design Details'!B$77,0))))","v":0},3,0,{"$f":"F52*H52*$C$7*24/1000","v":0}]
["Width (m)",null,"Height (m)",null,"Area (m²)",0,"U Value (W/m²K)",{"$f":"IF($B$3=\"Ground floor\",'Design Details'!B$47,IF($B$3=\"Mid-floor\",'Design Details'!B$57,IF($B$3=\"Upper floor\",'Design Details'!B$67,IF($B$3=\"Single Storey\",'Design Details'!B$77,0))))","v":0},3,0,{"$f":"F53*H53*$C$7*24/1000","v":0}]
["Internal Walls",null,null,null,null,null,null,null,null,null,null,"Adjoining Room Temp (°C)"]
["Length (m)",null,"Height (m)",null,"Area (m²)",0,"U Value (W/m²K)",{"$f":"IF($B$3=\"Ground floor\",'Design Details'!B$51,IF($B$3=\"Mid-floor\",'Design Details'!B$61,IF($B$3=\"Upper floor\",'Design Details'!B$71,IF($B$3=\"Single Storey\",'Design Details'!B$81,0))))","v":0},{"$f":"IF(L55=\"\",0,IF(L55=\"unheated\",C$4-10,C$4-L55))","v":0},0]
["Length (m)",null,"Height (m)",null,"Area (m²)",0,"U Value (W/m²K)",{"$f":"IF($B$3=\"Ground floor\",'Design Details'!B$51,IF($B$3=\"Mid-floor\",'Design Details'!B$61,IF($B$3=\"Upper floor\",'Design Details'!B$71,IF($B$3=\"Single Storey\",'Design Details'!B$81,0))))","v":0},{"$f":"IF(L56=\"\",0,IF(L56=\"unheated\",C$4-10,C$4-L56))","v":0},0]
["Length (m)",null,"Height (m)",null,"Area (m²)",0,"U Value (W/m²K)",{"$f":"IF($B$3=\"Ground floor\",'Design Details'!B$51,IF($B$3=\"Mid-floor\",'Design Details'!B$61,IF($B$3=\"Upper floor\",'Design Details'!B$71,IF($B$3=\"Single Storey\",'Design Details'!B$81,0))))","v":0},{"$f":"IF(L57=\"\",0,IF(L57=\"unheated\",C$4-10,C$4-L57))","v":0},0]
["Length (m)",null,"Height (m)",null,"Area (m²)",0,"U Value (W/m²K)",{"$f":"IF($B$3=\"Ground floor\",'Design Details'!B$51,IF($B$3=\"Mid-floor\",'Design Details'!B$61,IF($B$3=\"Upper floor\",'Design Details'!B$71,IF($B$3=\"Single Storey\",'Design Details'!B$81,0))))","v":0},{"$f":"IF(L58=\"\",0,IF(L58=\"unheated\",C$4-10,C$4-L58))","v":0},0]
["Party Wall"]
["Length (m)",null,"Height (m)",null,"Area (m²)",0,"U Value (W/m²K)",{"$f":"IF($B$3=\"Ground floor\",'Design Details'!B$52,IF($B$3=\"Mid-floor\",'Design Details'!B$62,IF($B$3=\"Upper floor\",'Design Details'!B$72,IF($B$3=\"Single Storey\",'Design Details'!B$82,0))))","v":0},{"$f":"C4-10","v":-10},0,{"$f":"F60*H60*$C$7*24/1000","v":0}]

{"sheet":"17","index":34,"n_rows":60,"n_cols":24,"rows_kept":60,"cut":false,"hidden":false,"merged":[[2,1,2,2],[2,3,2,4],[0,0,0,2],[0,3,0,5],[0,9,0,10],[1,3,1,4],[3,0,3,1],[3,3,3,4],[4,0,4,1],[4,3,4,4],[5,0,5,1],[5,3,5,4],[57,11,57,13],[6,0,6,1],[18,11,18,13],[19,11,19,13],[53,11,53,13],[54,11,54,13],[55,11,55,13],[56,11,56,13],[30,11,30,13],[10,10,10,13],[9,10,9,13],[20,11,20,13],[21,11,21,13]]}
["Room Information",null,null,"Ventilation Heat Loss",null,null,"Fabric ","Heat Loss (W)"," Usage (kWh)","Additional heat loss",null,"Addition","Watts","kWh"]
["Room","-",null,"Air Changes a hour",null,{"$f":"'Design Details'!F103","v":0},"Floor",{"$f":"SUM(J20:J22)","v":0},{"$f":"SUM(K20:K22)","v":0},"Thermal Bridging (New Build >2006)",null,0,{"$f":"SUM(H$2:H$6)*L2","v":0},{"$f":"SUM(I$2:I$6)*L2","v":0},null,"3 edges (long single)","Level",null,null,null,null,null,null,1]
["Level",null,null,"Air Change Factor (W/m³K)",null,0.33,"Ext Wall",{"$f":"J27","v":0},{"$f":"K27","v":0},"Exposed location",null,0,{"$f":"SUM(H$2:H$6)*L3","v":0},{"$f":"SUM(I$2:I$6)*L3","v":0},null,"3 edges (short single)","Please Select Floor",{"$f":"IF($B$3=\"Ground floor\",\"Solid Floor (in contact with ground)\",IF($B$3=\"Single Storey\",\"Solid Floor (in contact with ground)\",\"n/a\"))","v":"n/a"},{"$f":"'Design Details'!B21","v":10},"unheated",0,0,0,2]
["Design Room Temp (°C)",null,{"$f":"'Design Details'!D103","v":0},"Total Volume (m³)",null,{"$f":"SUM(H10:H12,H14:H18)","v":0},"Roof",{"$f":"SUM(J32,J35)","v":0},{"$f":"SUM(K32,K35)","v":0},"High ceiling",null,0,{"$f":"SUM(H$2:H$6)*L4","v":0},{"$f":"SUM(I$2:I$6)*L4","v":0},null,"One edge","Ground floor",{"$f":"IF($B$3=\"Ground floor\",\"Suspended Floor\",IF($B$3=\"Single Storey\",\"Suspended Floor\",\"n/a\"))","v":"n/a"},null,16,0.1,0.2,2.5000000000000001E-2,3]
["Outside Design Temp (°C)",null,{"$f":"'Design Details'!B19","v":-3},"Heat loss (W)",null,{"$f":"F4*F3*C6*F2","v":0},"Glazing",{"$f":"SUM(J37:J43,J45:J48,J50:J53)","v":0},{"$f":"SUM(K37:K43,K45:K48,K50:K53)","v":0},"Intermittent heating",null,0,{"$f":"SUM(H$2:H$6)*L5","v":0},{"$f":"SUM(I$2:I$6)*L5","v":0},null,"Two adjacent","Mid-floor",null,null,18,null,null,0.05,4]
["Temp Difference (°C)",null,{"$f":"C4-C5","v":3},"Estimated Energy usage (kWh)",null,{"$f":"F4*F3*C7*24/1000","v":0},"Int./Party Wall",{"$f":"SUM(J55:J58,J60)","v":0},{"$f":"SUM(K60)","v":0},null,null,null,"Total Room Heat Loss (W)",{"$f":"SUM(F5,H2:H6,M2:M5)","v":0},null,"Two opposite","Single storey",null,null,21,null,null,7.4999999999999997E-2,5]
["Degree Days",null,{"$f":"'Design Details'!B20","v":2228},null,null,null,null,null,null,null,null,null,"Total Room Energy Usage (kWh)",{"$f":"SUM(F6,I2:I6,N2:N5)","v":0},null,null,"Upper floor",null,null,22,null,null,0.1,6]
[null,null,null,null,null,null,null,null,null,null,null,null,null,null,null,null,{"$f":"IF($B$3=\"Ground floor\",'Design Details'!B$45,IF($B$3=\"Mid-floor\",'Design Details'!B$55,IF($B$3=\"Upper floor\",'Design Details'!B$65,IF($B$3=\"Single Storey\",'Design Details'!B$75,0))))","v":0},null,null,null,null,null,null,7]
["Room Dimensions",null,null,null,null,null,null,null,null,null,null,null,null,null,null,null,null,null,null,null,null,null,null,8]
["Length (m)",null,"Width (m)",null,"Height (m)",null,"Volume (m³)",{"$f":"B10*D10*F10","v":0},null,null,null,null,null,null,null,null,null,null,null,null,null,null,null,9]
["Length (m)",null,"Width (m)",null,"Height (m)",null,"Volume (m³)",{"$f":"B11*D11*F11","v":0},null,null,null,null,null,null,null,null,null,null,null,null,null,null,null,10]
["Length (m)",null,"Width (m)",null,"Height (m)",null,"Volume (m³)",{"$f":"B12*D12*F12","v":0}]
["Awkward Room Dimensions"]
["Length (m)",null,"Width (m)",null,"Height (m)",null,"Volume (m³)",{"$f":"((F14*D14)/2)*B14","v":0},"Pitched"]
["Length (m)",null,"Width (m)",null,"Height (m)",null,"Volume (m³)",{"$f":"B15*D15*F15/2","v":0},"Single Pitch"]
["Length (m)",null,"Height (m)",null,"Depth (m)",null,"Volume (m³)",{"$f":"D16*F16*B16/2","v":0},"Dormer 1"]
["Length (m)",null,"Height (m)",null,"Depth (m)",null,"Volume (m³)",{"$f":"D17*F17*B17/2","v":0},"Dormer 2"]
["Length (m)",null,"Height (m)",null,"Depth (m)",null,"Volume (m³)",{"$f":"D18*F18*B18/2","v":0},"Dormer 3"]
["Floor",null,null,null,null,null,null,null,"Temp Difference","Heat Loss (W)","Usage (kWh)","Type of Ground Floor"]
["Length (m)",null,"Width (m)",null,"Area (m²)",{"$f":"B20*D20","v":0},"U Value (W/m²K)",{"$f":"IF(L22=\"\",Q8,'floor u values'!K18)","v":0},{"$f":"IF(B$3=\"Ground Floor\",IF(L20=\"Solid Floor (in contact with ground)\",C$4-S$3,C$4-C$5),IF(B$3=\"Single Storey\",IF(L20=\"Solid Floor (in contact with ground)\",C$4-S$3,C$4-C$5),0))","v":0},{"$f":"F20*H20*I20","v":0},{"$f":"IF($B$3=$Q$5,0,IF($B$3=$Q$7,0,F20*H20*$C$7*24/1000))","v":0}]
["Length (m)",null,"Width (m)",null,"Area (m²)",{"$f":"B21*D21","v":0},"U Value (W/m²K)",{"$f":"H20","v":0},{"$f":"IF(B$3=\"Ground Floor\",IF(L20=\"Solid Floor (in contact with ground)\",C$4-S$3,C$4-C$5),IF(B$3=\"Single Storey\",IF(L20=\"Solid Floor (in contact with ground)\",C$4-S$3,C$4-C$5),0))","v":0},{"$f":"F21*H21*I21","v":0},{"$f":"IF($B$3=$Q$5,0,IF($B$3=$Q$7,0,F21*H21*$C$7*24/1000))","v":0},"Exposed floor (external)"]
["Length (m)",null,"Width (m)",null,"Area (m²)",0,"U Value (W/m²K)",{"$f":"H20","v":0},{"$f":"IF(B$3=\"Ground Floor\",IF(L20=\"Solid Floor (in contact with ground)\",C$4-S$3,C$4-C$5),IF(B$3=\"Single Storey\",IF(L20=\"Solid Floor (in contact with ground)\",C$4-S$3,C$4-C$5),0))","v":0},{"$f":"F22*H22*I22","v":0},{"$f":"IF($B$3=$Q$5,0,IF($B$3=$Q$7,0,F22*H22*$C$7*24/1000))","v":0}]
["External Wall",null,null,null,null,null,null,null,null,null,null,{"$f":"IF(L22=\"Two opposite\",\"Between edges\",IF(L22=\"One edge\",\"Depth of room\",IF(L22=\"3 edges (short single)\",\"Short length\",IF(L22=\"3 edges (long single)\",\"Short length\",\"\"))))","v":""},null,{"$f":"IF(L22=\"3 edges (short single)\",\"Long length\",IF(L22=\"3 edges (long single)\",\"Long length\",\"\"))","v":""}]
["Length (m)",null,"Height (m)",null,"Area (m²)",0]
["Length (m)",null,"Height (m)",null,"Area (m²)",0]
["Length (m)",null,"Height (m)",null,"Area (m²)",0]
[null,null,null,"Total","Area (m²)",{"$f":"SUM(F24:F26)-SUM(F37:F43,F50:F53)","v":0},"U Value (W/m²K)",{"$f":"IF($B$3=\"Ground floor\",'Design Details'!B$48,IF($B$3=\"Mid-floor\",'Design Details'!B$58,IF($B$3=\"Upper floor\",'Design Details'!B$68,IF($B$3=\"Single Storey\",'Design Details'!B$78,0))))","v":0},{"$f":"$C$6","v":3},{"$f":"F27*H27*I27","v":0},{"$f":"F27*H27*$C$7*24/1000","v":0}]
["Roof"]
["Length (m)",null,"Width (m)",null,"Area (m²)",0]
["Length (m)",null,"Width (m)",null,"Area (m²)",0]
["Length (m)",null,"Width (m)",null,"Area (m²)",0]
[null,null,null,"Total","Area (m²)",{"$f":"SUM(F29:F31)-SUM(F45:F48)","v":0},"U Value (W/m²K)",{"$f":"IF($B$3=\"Ground floor\",'Design Details'!B$49,IF($B$3=\"Mid-floor\",'Design Details'!B$59,IF($B$3=\"Upper floor\",'Design Details'!B$69,IF($B$3=\"Single Storey\",'Design Details'!B$79,0))))","v":0},{"$f":"$C$6","v":3},0,{"$f":"IF($B$3=$Q$4,0,IF($B$3=$Q$5,0,F32*H32*$C$7*24/1000))","v":0}]
["Length (m)",null,"Pitch (m)",null,"Area (m²)",0,"Pitched"]
["Length (m)",null,"Pitch (m)",null,"Area (m²)",0,"Single Pitch"]
[null,null,null,"Total","Area (m²)",{"$f":"SUM(F33:F34)-SUM(F45:F48)","v":0},"U Value (W/m²K)",{"$f":"IF($B$3=\"Ground floor\",'Design Details'!B$50,IF($B$3=\"Mid-floor\",'Design Details'!B$60,IF($B$3=\"Upper floor\",'Design Details'!B$70,IF($B$3=\"Single Storey\",'Design Details'!B$80,0))))","v":0},3,0,{"$f":"IF($B$3=$Q$4,0,IF($B$3=$Q$5,0,F35*H35*$C$7*24/1000))","v":0}]
["Windows"]
["Width (m)",null,"Height (m)",null,"Area (m²)",0,"U Value (W/m²K)",{"$f":"IF($B$3=\"Ground floor\",'Design Details'!B$46,IF($B$3=\"Mid-floor\",'Design Details'!B$56,IF($B$3=\"Upper floor\",'Design Details'!B$66,IF($B$3=\"Single Storey\",'Design Details'!B$76,0))))","v":0},3,0,{"$f":"F37*H37*$C$7*24/1000","v":0}]
["Width (m)",null,"Height (m)",null,"Area (m²)",0,"U Value (W/m²K)",{"$f":"IF($B$3=\"Ground floor\",'Design Details'!B$46,IF($B$3=\"Mid-floor\",'Design Details'!B$56,IF($B$3=\"Upper floor\",'Design Details'!B$66,IF($B$3=\"Single Storey\",'Design Details'!B$76,0))))","v":0},3,0,0]
["Width (m)",null,"Height (m)",null,"Area (m²)",0,"U Value (W/m²K)",{"$f":"IF($B$3=\"Ground floor\",'Design Details'!B$46,IF($B$3=\"Mid-floor\",'Design Details'!B$56,IF($B$3=\"Upper floor\",'Design Details'!B$66,IF($B$3=\"Single Storey\",'Design Details'!B$76,0))))","v":0},3,0,0]
["Width (m)",null,"Height (m)",null,"Area (m²)",0,"U Value (W/m²K)",{"$f":"IF($B$3=\"Ground floor\",'Design Details'!B$46,IF($B$3=\"Mid-floor\",'Design Details'!B$56,IF($B$3=\"Upper floor\",'Design Details'!B$66,IF($B$3=\"Single Storey\",'Design Details'!B$76,0))))","v":0},3,0,0]
["Width (m)",null,"Height (m)",null,"Area (m²)",0,"U Value (W/m²K)",{"$f":"IF($B$3=\"Ground floor\",'Design Details'!B$46,IF($B$3=\"Mid-floor\",'Design Details'!B$56,IF($B$3=\"Upper floor\",'Design Details'!B$66,IF($B$3=\"Single Storey\",'Design Details'!B$76,0))))","v":0},3,0,0]
["Width (m)",null,"Height (m)",null,"Area (m²)",0,"U Value (W/m²K)",{"$f":"IF($B$3=\"Ground floor\",'Design Details'!B$46,IF($B$3=\"Mid-floor\",'Design Details'!B$56,IF($B$3=\"Upper floor\",'Design Details'!B$66,IF($B$3=\"Single Storey\",'Design Details'!B$76,0))))","v":0},3,0,0]
["Width (m)",null,"Height (m)",null,"Area (m²)",0,"U Value (W/m²K)",{"$f":"IF($B$3=\"Ground floor\",'Design Details'!B$46,IF($B$3=\"Mid-floor\",'Design Details'!B$56,IF($B$3=\"Upper floor\",'Design Details'!B$66,IF($B$3=\"Single Storey\",'Design Details'!B$76,0))))","v":0},3,0,0]
["Roof Glazing"]
["Width (m)",null,"Height (m)",null,"Area (m²)",0,"U Value (W/m²K)",{"$f":"IF($B$3=\"Ground floor\",'Design Details'!B$53,IF($B$3=\"Mid-floor\",'Design Details'!B$63,IF($B$3=\"Upper floor\",'Design Details'!B$73,IF($B$3=\"Single Storey\",'Design Details'!B$83,0))))","v":0},3,0,{"$f":"F45*H45*$C$7*24/1000","v":0}]
["Width (m)",null,"Height (m)",null,"Area (m²)",0,"U Value (W/m²K)",{"$f":"IF($B$3=\"Ground floor\",'Design Details'!B$53,IF($B$3=\"Mid-floor\",'Design Details'!B$63,IF($B$3=\"Upper floor\",'Design Details'!B$73,IF($B$3=\"Single Storey\",'Design Details'!B$83,0))))","v":0},3,0,{"$f":"F46*H46*$C$7*24/1000","v":0}]
["Width (m)",null,"Height (m)",null,"Area (m²)",0,"U Value (W/m²K)",{"$f":"IF($B$3=\"Ground floor\",'Design Details'!B$53,IF($B$3=\"Mid-floor\",'Design Details'!B$63,IF($B$3=\"Upper floor\",'Design Details'!B$73,IF($B$3=\"Single Storey\",'Design Details'!B$83,0))))","v":0},3,0,{"$f":"F47*H47*$C$7*24/1000","v":0}]
["Width (m)",null,"Height (m)",null,"Area (m²)",0,"U Value (W/m²K)",{"$f":"IF($B$3=\"Ground floor\",'Design Details'!B$53,IF($B$3=\"Mid-floor\",'Design Details'!B$63,IF($B$3=\"Upper floor\",'Design Details'!B$73,IF($B$3=\"Single Storey\",'Design Details'!B$83,0))))","v":0},3,0,{"$f":"F48*H48*$C$7*24/1000","v":0}]
["Doors"]
["Width (m)",null,"Height (m)",null,"Area (m²)",0,"U Value (W/m²K)",{"$f":"IF($B$3=\"Ground floor\",'Design Details'!B$47,IF($B$3=\"Mid-floor\",'Design Details'!B$57,IF($B$3=\"Upper floor\",'Design Details'!B$67,IF($B$3=\"Single Storey\",'Design Details'!B$77,0))))","v":0},3,0,{"$f":"F50*H50*$C$7*24/1000","v":0}]
["Width (m)",null,"Height (m)",null,"Area (m²)",0,"U Value (W/m²K)",{"$f":"IF($B$3=\"Ground floor\",'Design Details'!B$47,IF($B$3=\"Mid-floor\",'Design Details'!B$57,IF($B$3=\"Upper floor\",'Design Details'!B$67,IF($B$3=\"Single Storey\",'Design Details'!B$77,0))))","v":0},3,0,{"$f":"F51*H51*$C$7*24/1000","v":0}]
["Width (m)",null,"Height (m)",null,"Area (m²)",0,"U Value (W/m²K)",{"$f":"IF($B$3=\"Ground floor\",'Design Details'!B$47,IF($B$3=\"Mid-floor\",'Design Details'!B$57,IF($B$3=\"Upper floor\",'Design Details'!B$67,IF($B$3=\"Single Storey\",'Design Details'!B$77,0))))","v":0},3,0,{"$f":"F52*H52*$C$7*24/1000","v":0}]
["Width (m)",null,"Height (m)",null,"Area (m²)",0,"U Value (W/m²K)",{"$f":"IF($B$3=\"Ground floor\",'Design Details'!B$47,IF($B$3=\"Mid-floor\",'Design Details'!B$57,IF($B$3=\"Upper floor\",'Design Details'!B$67,IF($B$3=\"Single Storey\",'Design Details'!B$77,0))))","v":0},3,0,{"$f":"F53*H53*$C$7*24/1000","v":0}]
["Internal Walls",null,null,null,null,null,null,null,null,null,null,"Adjoining Room Temp (°C)"]
["Length (m)",null,"Height (m)",null,"Area (m²)",0,"U Value (W/m²K)",{"$f":"IF($B$3=\"Ground floor\",'Design Details'!B$51,IF($B$3=\"Mid-floor\",'Design Details'!B$61,IF($B$3=\"Upper floor\",'Design Details'!B$71,IF($B$3=\"Single Storey\",'Design Details'!B$81,0))))","v":0},{"$f":"IF(L55=\"\",0,IF(L55=\"unheated\",C$4-10,C$4-L55))","v":0},0]
["Length (m)",null,"Height (m)",null,"Area (m²)",0,"U Value (W/m²K)",{"$f":"IF($B$3=\"Ground floor\",'Design Details'!B$51,IF($B$3=\"Mid-floor\",'Design Details'!B$61,IF($B$3=\"Upper floor\",'Design Details'!B$71,IF($B$3=\"Single Storey\",'Design Details'!B$81,0))))","v":0},{"$f":"IF(L56=\"\",0,IF(L56=\"unheated\",C$4-10,C$4-L56))","v":0},0]
["Length (m)",null,"Height (m)",null,"Area (m²)",0,"U Value (W/m²K)",{"$f":"IF($B$3=\"Ground floor\",'Design Details'!B$51,IF($B$3=\"Mid-floor\",'Design Details'!B$61,IF($B$3=\"Upper floor\",'Design Details'!B$71,IF($B$3=\"Single Storey\",'Design Details'!B$81,0))))","v":0},{"$f":"IF(L57=\"\",0,IF(L57=\"unheated\",C$4-10,C$4-L57))","v":0},0]
["Length (m)",null,"Height (m)",null,"Area (m²)",0,"U Value (W/m²K)",{"$f":"IF($B$3=\"Ground floor\",'Design Details'!B$51,IF($B$3=\"Mid-floor\",'Design Details'!B$61,IF($B$3=\"Upper floor\",'Design Details'!B$71,IF($B$3=\"Single Storey\",'Design Details'!B$81,0))))","v":0},{"$f":"IF(L58=\"\",0,IF(L58=\"unheated\",C$4-10,C$4-L58))","v":0},0]
["Party Wall"]
["Length (m)",null,"Height (m)",null,"Area (m²)",0,"U Value (W/m²K)",{"$f":"IF($B$3=\"Ground floor\",'Design Details'!B$52,IF($B$3=\"Mid-floor\",'Design Details'!B$62,IF($B$3=\"Upper floor\",'Design Details'!B$72,IF($B$3=\"Single Storey\",'Design Details'!B$82,0))))","v":0},{"$f":"C4-10","v":-10},0,{"$f":"F60*H60*$C$7*24/1000","v":0}]

{"sheet":"18","index":35,"n_rows":60,"n_cols":24,"rows_kept":60,"cut":false,"hidden":false,"merged":[[2,1,2,2],[2,3,2,4],[0,0,0,2],[0,3,0,5],[0,9,0,10],[1,3,1,4],[3,0,3,1],[3,3,3,4],[4,0,4,1],[4,3,4,4],[5,0,5,1],[5,3,5,4],[57,11,57,13],[6,0,6,1],[18,11,18,13],[19,11,19,13],[53,11,53,13],[54,11,54,13],[55,11,55,13],[56,11,56,13],[30,11,30,13],[10,10,10,13],[9,10,9,13],[20,11,20,13],[21,11,21,13]]}
["Room Information",null,null,"Ventilation Heat Loss",null,null,"Fabric ","Heat Loss (W)"," Usage (kWh)","Additional heat loss",null,"Addition","Watts","kWh"]
["Room","-",null,"Air Changes a hour",null,{"$f":"'Design Details'!F104","v":0},"Floor",{"$f":"SUM(J20:J22)","v":0},{"$f":"SUM(K20:K22)","v":0},"Thermal Bridging (New Build >2006)",null,0,{"$f":"SUM(H$2:H$6)*L2","v":0},{"$f":"SUM(I$2:I$6)*L2","v":0},null,"3 edges (long single)","Level",null,null,null,null,null,null,1]
["Level",null,null,"Air Change Factor (W/m³K)",null,0.33,"Ext Wall",{"$f":"J27","v":0},{"$f":"K27","v":0},"Exposed location",null,0,{"$f":"SUM(H$2:H$6)*L3","v":0},{"$f":"SUM(I$2:I$6)*L3","v":0},null,"3 edges (short single)","Please Select Floor",{"$f":"IF($B$3=\"Ground floor\",\"Solid Floor (in contact with ground)\",IF($B$3=\"Single Storey\",\"Solid Floor (in contact with ground)\",\"n/a\"))","v":"n/a"},{"$f":"'Design Details'!B21","v":10},"unheated",0,0,0,2]
["Design Room Temp (°C)",null,{"$f":"'Design Details'!D104","v":0},"Total Volume (m³)",null,{"$f":"SUM(H10:H12,H14:H18)","v":0},"Roof",{"$f":"SUM(J32,J35)","v":0},{"$f":"SUM(K32,K35)","v":0},"High ceiling",null,0,{"$f":"SUM(H$2:H$6)*L4","v":0},{"$f":"SUM(I$2:I$6)*L4","v":0},null,"One edge","Ground floor",{"$f":"IF($B$3=\"Ground floor\",\"Suspended Floor\",IF($B$3=\"Single Storey\",\"Suspended Floor\",\"n/a\"))","v":"n/a"},null,16,0.1,0.2,2.5000000000000001E-2,3]
["Outside Design Temp (°C)",null,{"$f":"'Design Details'!B19","v":-3},"Heat loss (W)",null,{"$f":"F4*F3*C6*F2","v":0},"Glazing",{"$f":"SUM(J37:J43,J45:J48,J50:J53)","v":0},{"$f":"SUM(K37:K43,K45:K48,K50:K53)","v":0},"Intermittent heating",null,0,{"$f":"SUM(H$2:H$6)*L5","v":0},{"$f":"SUM(I$2:I$6)*L5","v":0},null,"Two adjacent","Mid-floor",null,null,18,null,null,0.05,4]
["Temp Difference (°C)",null,{"$f":"C4-C5","v":3},"Estimated Energy usage (kWh)",null,{"$f":"F4*F3*C7*24/1000","v":0},"Int./Party Wall",{"$f":"SUM(J55:J58,J60)","v":0},{"$f":"SUM(K60)","v":0},null,null,null,"Total Room Heat Loss (W)",{"$f":"SUM(F5,H2:H6,M2:M5)","v":0},null,"Two opposite","Single storey",null,null,21,null,null,7.4999999999999997E-2,5]
["Degree Days",null,{"$f":"'Design Details'!B20","v":2228},null,null,null,null,null,null,null,null,null,"Total Room Energy Usage (kWh)",{"$f":"SUM(F6,I2:I6,N2:N5)","v":0},null,null,"Upper floor",null,null,22,null,null,0.1,6]
[null,null,null,null,null,null,null,null,null,null,null,null,null,null,null,null,{"$f":"IF($B$3=\"Ground floor\",'Design Details'!B$45,IF($B$3=\"Mid-floor\",'Design Details'!B$55,IF($B$3=\"Upper floor\",'Design Details'!B$65,IF($B$3=\"Single Storey\",'Design Details'!B$75,0))))","v":0},null,null,null,null,null,null,7]
["Room Dimensions",null,null,null,null,null,null,null,null,null,null,null,null,null,null,null,null,null,null,null,null,null,null,8]
["Length (m)",null,"Width (m)",null,"Height (m)",null,"Volume (m³)",{"$f":"B10*D10*F10","v":0},null,null,null,null,null,null,null,null,null,null,null,null,null,null,null,9]
["Length (m)",null,"Width (m)",null,"Height (m)",null,"Volume (m³)",{"$f":"B11*D11*F11","v":0},null,null,null,null,null,null,null,null,null,null,null,null,null,null,null,10]
["Length (m)",null,"Width (m)",null,"Height (m)",null,"Volume (m³)",{"$f":"B12*D12*F12","v":0}]
["Awkward Room Dimensions"]
["Length (m)",null,"Width (m)",null,"Height (m)",null,"Volume (m³)",{"$f":"((F14*D14)/2)*B14","v":0},"Pitched"]
["Length (m)",null,"Width (m)",null,"Height (m)",null,"Volume (m³)",{"$f":"B15*D15*F15/2","v":0},"Single Pitch"]
["Length (m)",null,"Height (m)",null,"Depth (m)",null,"Volume (m³)",{"$f":"D16*F16*B16/2","v":0},"Dormer 1"]
["Length (m)",null,"Height (m)",null,"Depth (m)",null,"Volume (m³)",{"$f":"D17*F17*B17/2","v":0},"Dormer 2"]
["Length (m)",null,"Height (m)",null,"Depth (m)",null,"Volume (m³)",{"$f":"D18*F18*B18/2","v":0},"Dormer 3"]
["Floor",null,null,null,null,null,null,null,"Temp Difference","Heat Loss (W)","Usage (kWh)","Type of Ground Floor"]
["Length (m)",null,"Width (m)",null,"Area (m²)",{"$f":"B20*D20","v":0},"U Value (W/m²K)",{"$f":"IF(L22=\"\",Q8,'floor u values'!K19)","v":0},{"$f":"IF(B$3=\"Ground Floor\",IF(L20=\"Solid Floor (in contact with ground)\",C$4-S$3,C$4-C$5),IF(B$3=\"Single Storey\",IF(L20=\"Solid Floor (in contact with ground)\",C$4-S$3,C$4-C$5),0))","v":0},{"$f":"F20*H20*I20","v":0},{"$f":"IF($B$3=$Q$5,0,IF($B$3=$Q$7,0,F20*H20*$C$7*24/1000))","v":0}]
["Length (m)",null,"Width (m)",null,"Area (m²)",{"$f":"B21*D21","v":0},"U Value (W/m²K)",{"$f":"H20","v":0},{"$f":"IF(B$3=\"Ground Floor\",IF(L20=\"Solid Floor (in contact with ground)\",C$4-S$3,C$4-C$5),IF(B$3=\"Single Storey\",IF(L20=\"Solid Floor (in contact with ground)\",C$4-S$3,C$4-C$5),0))","v":0},{"$f":"F21*H21*I21","v":0},{"$f":"IF($B$3=$Q$5,0,IF($B$3=$Q$7,0,F21*H21*$C$7*24/1000))","v":0},"Exposed floor (external)"]
["Length (m)",null,"Width (m)",null,"Area (m²)",0,"U Value (W/m²K)",{"$f":"H20","v":0},{"$f":"IF(B$3=\"Ground Floor\",IF(L20=\"Solid Floor (in contact with ground)\",C$4-S$3,C$4-C$5),IF(B$3=\"Single Storey\",IF(L20=\"Solid Floor (in contact with ground)\",C$4-S$3,C$4-C$5),0))","v":0},{"$f":"F22*H22*I22","v":0},{"$f":"IF($B$3=$Q$5,0,IF($B$3=$Q$7,0,F22*H22*$C$7*24/1000))","v":0}]
["External Wall",null,null,null,null,null,null,null,null,null,null,{"$f":"IF(L22=\"Two opposite\",\"Between edges\",IF(L22=\"One edge\",\"Depth of room\",IF(L22=\"3 edges (short single)\",\"Short length\",IF(L22=\"3 edges (long single)\",\"Short length\",\"\"))))","v":""},null,{"$f":"IF(L22=\"3 edges (short single)\",\"Long length\",IF(L22=\"3 edges (long single)\",\"Long length\",\"\"))","v":""}]
["Length (m)",null,"Height (m)",null,"Area (m²)",0]
["Length (m)",null,"Height (m)",null,"Area (m²)",0]
["Length (m)",null,"Height (m)",null,"Area (m²)",0]
[null,null,null,"Total","Area (m²)",{"$f":"SUM(F24:F26)-SUM(F37:F43,F50:F53)","v":0},"U Value (W/m²K)",{"$f":"IF($B$3=\"Ground floor\",'Design Details'!B$48,IF($B$3=\"Mid-floor\",'Design Details'!B$58,IF($B$3=\"Upper floor\",'Design Details'!B$68,IF($B$3=\"Single Storey\",'Design Details'!B$78,0))))","v":0},{"$f":"$C$6","v":3},{"$f":"F27*H27*I27","v":0},{"$f":"F27*H27*$C$7*24/1000","v":0}]
["Roof"]
["Length (m)",null,"Width (m)",null,"Area (m²)",0]
["Length (m)",null,"Width (m)",null,"Area (m²)",0]
["Length (m)",null,"Width (m)",null,"Area (m²)",0]
[null,null,null,"Total","Area (m²)",{"$f":"SUM(F29:F31)-SUM(F45:F48)","v":0},"U Value (W/m²K)",{"$f":"IF($B$3=\"Ground floor\",'Design Details'!B$49,IF($B$3=\"Mid-floor\",'Design Details'!B$59,IF($B$3=\"Upper floor\",'Design Details'!B$69,IF($B$3=\"Single Storey\",'Design Details'!B$79,0))))","v":0},{"$f":"$C$6","v":3},0,{"$f":"IF($B$3=$Q$4,0,IF($B$3=$Q$5,0,F32*H32*$C$7*24/1000))","v":0}]
["Length (m)",null,"Pitch (m)",null,"Area (m²)",0,"Pitched"]
["Length (m)",null,"Pitch (m)",null,"Area (m²)",0,"Single Pitch"]
[null,null,null,"Total","Area (m²)",{"$f":"SUM(F33:F34)-SUM(F45:F48)","v":0},"U Value (W/m²K)",{"$f":"IF($B$3=\"Ground floor\",'Design Details'!B$50,IF($B$3=\"Mid-floor\",'Design Details'!B$60,IF($B$3=\"Upper floor\",'Design Details'!B$70,IF($B$3=\"Single Storey\",'Design Details'!B$80,0))))","v":0},3,0,{"$f":"IF($B$3=$Q$4,0,IF($B$3=$Q$5,0,F35*H35*$C$7*24/1000))","v":0}]
["Windows"]
["Width (m)",null,"Height (m)",null,"Area (m²)",0,"U Value (W/m²K)",{"$f":"IF($B$3=\"Ground floor\",'Design Details'!B$46,IF($B$3=\"Mid-floor\",'Design Details'!B$56,IF($B$3=\"Upper floor\",'Design Details'!B$66,IF($B$3=\"Single Storey\",'Design Details'!B$76,0))))","v":0},3,0,{"$f":"F37*H37*$C$7*24/1000","v":0}]
["Width (m)",null,"Height (m)",null,"Area (m²)",0,"U Value (W/m²K)",{"$f":"IF($B$3=\"Ground floor\",'Design Details'!B$46,IF($B$3=\"Mid-floor\",'Design Details'!B$56,IF($B$3=\"Upper floor\",'Design Details'!B$66,IF($B$3=\"Single Storey\",'Design Details'!B$76,0))))","v":0},3,0,0]
["Width (m)",null,"Height (m)",null,"Area (m²)",0,"U Value (W/m²K)",{"$f":"IF($B$3=\"Ground floor\",'Design Details'!B$46,IF($B$3=\"Mid-floor\",'Design Details'!B$56,IF($B$3=\"Upper floor\",'Design Details'!B$66,IF($B$3=\"Single Storey\",'Design Details'!B$76,0))))","v":0},3,0,0]
["Width (m)",null,"Height (m)",null,"Area (m²)",0,"U Value (W/m²K)",{"$f":"IF($B$3=\"Ground floor\",'Design Details'!B$46,IF($B$3=\"Mid-floor\",'Design Details'!B$56,IF($B$3=\"Upper floor\",'Design Details'!B$66,IF($B$3=\"Single Storey\",'Design Details'!B$76,0))))","v":0},3,0,0]
["Width (m)",null,"Height (m)",null,"Area (m²)",0,"U Value (W/m²K)",{"$f":"IF($B$3=\"Ground floor\",'Design Details'!B$46,IF($B$3=\"Mid-floor\",'Design Details'!B$56,IF($B$3=\"Upper floor\",'Design Details'!B$66,IF($B$3=\"Single Storey\",'Design Details'!B$76,0))))","v":0},3,0,0]
["Width (m)",null,"Height (m)",null,"Area (m²)",0,"U Value (W/m²K)",{"$f":"IF($B$3=\"Ground floor\",'Design Details'!B$46,IF($B$3=\"Mid-floor\",'Design Details'!B$56,IF($B$3=\"Upper floor\",'Design Details'!B$66,IF($B$3=\"Single Storey\",'Design Details'!B$76,0))))","v":0},3,0,0]
["Width (m)",null,"Height (m)",null,"Area (m²)",0,"U Value (W/m²K)",{"$f":"IF($B$3=\"Ground floor\",'Design Details'!B$46,IF($B$3=\"Mid-floor\",'Design Details'!B$56,IF($B$3=\"Upper floor\",'Design Details'!B$66,IF($B$3=\"Single Storey\",'Design Details'!B$76,0))))","v":0},3,0,0]
["Roof Glazing"]
["Width (m)",null,"Height (m)",null,"Area (m²)",0,"U Value (W/m²K)",{"$f":"IF($B$3=\"Ground floor\",'Design Details'!B$53,IF($B$3=\"Mid-floor\",'Design Details'!B$63,IF($B$3=\"Upper floor\",'Design Details'!B$73,IF($B$3=\"Single Storey\",'Design Details'!B$83,0))))","v":0},3,0,{"$f":"F45*H45*$C$7*24/1000","v":0}]
["Width (m)",null,"Height (m)",null,"Area (m²)",0,"U Value (W/m²K)",{"$f":"IF($B$3=\"Ground floor\",'Design Details'!B$53,IF($B$3=\"Mid-floor\",'Design Details'!B$63,IF($B$3=\"Upper floor\",'Design Details'!B$73,IF($B$3=\"Single Storey\",'Design Details'!B$83,0))))","v":0},3,0,{"$f":"F46*H46*$C$7*24/1000","v":0}]
["Width (m)",null,"Height (m)",null,"Area (m²)",0,"U Value (W/m²K)",{"$f":"IF($B$3=\"Ground floor\",'Design Details'!B$53,IF($B$3=\"Mid-floor\",'Design Details'!B$63,IF($B$3=\"Upper floor\",'Design Details'!B$73,IF($B$3=\"Single Storey\",'Design Details'!B$83,0))))","v":0},3,0,{"$f":"F47*H47*$C$7*24/1000","v":0}]
["Width (m)",null,"Height (m)",null,"Area (m²)",0,"U Value (W/m²K)",{"$f":"IF($B$3=\"Ground floor\",'Design Details'!B$53,IF($B$3=\"Mid-floor\",'Design Details'!B$63,IF($B$3=\"Upper floor\",'Design Details'!B$73,IF($B$3=\"Single Storey\",'Design Details'!B$83,0))))","v":0},3,0,{"$f":"F48*H48*$C$7*24/1000","v":0}]
["Doors"]
["Width (m)",null,"Height (m)",null,"Area (m²)",0,"U Value (W/m²K)",{"$f":"IF($B$3=\"Ground floor\",'Design Details'!B$47,IF($B$3=\"Mid-floor\",'Design Details'!B$57,IF($B$3=\"Upper floor\",'Design Details'!B$67,IF($B$3=\"Single Storey\",'Design Details'!B$77,0))))","v":0},3,0,{"$f":"F50*H50*$C$7*24/1000","v":0}]
["Width (m)",null,"Height (m)",null,"Area (m²)",0,"U Value (W/m²K)",{"$f":"IF($B$3=\"Ground floor\",'Design Details'!B$47,IF($B$3=\"Mid-floor\",'Design Details'!B$57,IF($B$3=\"Upper floor\",'Design Details'!B$67,IF($B$3=\"Single Storey\",'Design Details'!B$77,0))))","v":0},3,0,{"$f":"F51*H51*$C$7*24/1000","v":0}]
["Width (m)",null,"Height (m)",null,"Area (m²)",0,"U Value (W/m²K)",{"$f":"IF($B$3=\"Ground floor\",'Design Details'!B$47,IF($B$3=\"Mid-floor\",'Design Details'!B$57,IF($B$3=\"Upper floor\",'Design Details'!B$67,IF($B$3=\"Single Storey\",'Design Details'!B$77,0))))","v":0},3,0,{"$f":"F52*H52*$C$7*24/1000","v":0}]
["Width (m)",null,"Height (m)",null,"Area (m²)",0,"U Value (W/m²K)",{"$f":"IF($B$3=\"Ground floor\",'Design Details'!B$47,IF($B$3=\"Mid-floor\",'Design Details'!B$57,IF($B$3=\"Upper floor\",'Design Details'!B$67,IF($B$3=\"Single Storey\",'Design Details'!B$77,0))))","v":0},3,0,{"$f":"F53*H53*$C$7*24/1000","v":0}]
["Internal Walls",null,null,null,null,null,null,null,null,null,null,"Adjoining Room Temp (°C)"]
["Length (m)",null,"Height (m)",null,"Area (m²)",0,"U Value (W/m²K)",{"$f":"IF($B$3=\"Ground floor\",'Design Details'!B$51,IF($B$3=\"Mid-floor\",'Design Details'!B$61,IF($B$3=\"Upper floor\",'Design Details'!B$71,IF($B$3=\"Single Storey\",'Design Details'!B$81,0))))","v":0},{"$f":"IF(L55=\"\",0,IF(L55=\"unheated\",C$4-10,C$4-L55))","v":0},0]
["Length (m)",null,"Height (m)",null,"Area (m²)",0,"U Value (W/m²K)",{"$f":"IF($B$3=\"Ground floor\",'Design Details'!B$51,IF($B$3=\"Mid-floor\",'Design Details'!B$61,IF($B$3=\"Upper floor\",'Design Details'!B$71,IF($B$3=\"Single Storey\",'Design Details'!B$81,0))))","v":0},{"$f":"IF(L56=\"\",0,IF(L56=\"unheated\",C$4-10,C$4-L56))","v":0},0]
["Length (m)",null,"Height (m)",null,"Area (m²)",0,"U Value (W/m²K)",{"$f":"IF($B$3=\"Ground floor\",'Design Details'!B$51,IF($B$3=\"Mid-floor\",'Design Details'!B$61,IF($B$3=\"Upper floor\",'Design Details'!B$71,IF($B$3=\"Single Storey\",'Design Details'!B$81,0))))","v":0},{"$f":"IF(L57=\"\",0,IF(L57=\"unheated\",C$4-10,C$4-L57))","v":0},0]
["Length (m)",null,"Height (m)",null,"Area (m²)",0,"U Value (W/m²K)",{"$f":"IF($B$3=\"Ground floor\",'Design Details'!B$51,IF($B$3=\"Mid-floor\",'Design Details'!B$61,IF($B$3=\"Upper floor\",'Design Details'!B$71,IF($B$3=\"Single Storey\",'Design Details'!B$81,0))))","v":0},{"$f":"IF(L58=\"\",0,IF(L58=\"unheated\",C$4-10,C$4-L58))","v":0},0]
["Party Wall"]
["Length (m)",null,"Height (m)",null,"Area (m²)",0,"U Value (W/m²K)",{"$f":"IF($B$3=\"Ground floor\",'Design Details'!B$52,IF($B$3=\"Mid-floor\",'Design Details'!B$62,IF($B$3=\"Upper floor\",'Design Details'!B$72,IF($B$3=\"Single Storey\",'Design Details'!B$82,0))))","v":0},{"$f":"C4-10","v":-10},0,{"$f":"F60*H60*$C$7*24/1000","v":0}]

{"sheet":"19","index":36,"n_rows":60,"n_cols":24,"rows_kept":60,"cut":false,"hidden":false,"merged":[[2,1,2,2],[2,3,2,4],[0,0,0,2],[0,3,0,5],[0,9,0,10],[1,3,1,4],[3,0,3,1],[3,3,3,4],[4,0,4,1],[4,3,4,4],[5,0,5,1],[5,3,5,4],[57,11,57,13],[6,0,6,1],[18,11,18,13],[19,11,19,13],[53,11,53,13],[54,11,54,13],[55,11,55,13],[56,11,56,13],[30,11,30,13],[10,10,10,13],[9,10,9,13],[20,11,20,13],[21,11,21,13]]}
["Room Information",null,null,"Ventilation Heat Loss",null,null,"Fabric ","Heat Loss (W)"," Usage (kWh)","Additional heat loss",null,"Addition","Watts","kWh"]
["Room","-",null,"Air Changes a hour",null,{"$f":"'Design Details'!F105","v":0},"Floor",{"$f":"SUM(J20:J22)","v":0},{"$f":"SUM(K20:K22)","v":0},"Thermal Bridging (New Build >2006)",null,0,{"$f":"SUM(H$2:H$6)*L2","v":0},{"$f":"SUM(I$2:I$6)*L2","v":0},null,"3 edges (long single)","Level",null,null,null,null,null,null,1]
["Level",null,null,"Air Change Factor (W/m³K)",null,0.33,"Ext Wall",{"$f":"J27","v":0},{"$f":"K27","v":0},"Exposed location",null,0,{"$f":"SUM(H$2:H$6)*L3","v":0},{"$f":"SUM(I$2:I$6)*L3","v":0},null,"3 edges (short single)","Please Select Floor",{"$f":"IF($B$3=\"Ground floor\",\"Solid Floor (in contact with ground)\",IF($B$3=\"Single Storey\",\"Solid Floor (in contact with ground)\",\"n/a\"))","v":"n/a"},{"$f":"'Design Details'!B21","v":10},"unheated",0,0,0,2]
["Design Room Temp (°C)",null,{"$f":"'Design Details'!D105","v":0},"Total Volume (m³)",null,{"$f":"SUM(H10:H12,H14:H18)","v":0},"Roof",{"$f":"SUM(J32,J35)","v":0},{"$f":"SUM(K32,K35)","v":0},"High ceiling",null,0,{"$f":"SUM(H$2:H$6)*L4","v":0},{"$f":"SUM(I$2:I$6)*L4","v":0},null,"One edge","Ground floor",{"$f":"IF($B$3=\"Ground floor\",\"Suspended Floor\",IF($B$3=\"Single Storey\",\"Suspended Floor\",\"n/a\"))","v":"n/a"},null,16,0.1,0.2,2.5000000000000001E-2,3]
["Outside Design Temp (°C)",null,{"$f":"'Design Details'!B19","v":-3},"Heat loss (W)",null,{"$f":"F4*F3*C6*F2","v":0},"Glazing",{"$f":"SUM(J37:J43,J45:J48,J50:J53)","v":0},{"$f":"SUM(K37:K43,K45:K48,K50:K53)","v":0},"Intermittent heating",null,0,{"$f":"SUM(H$2:H$6)*L5","v":0},{"$f":"SUM(I$2:I$6)*L5","v":0},null,"Two adjacent","Mid-floor",null,null,18,null,null,0.05,4]
["Temp Difference (°C)",null,{"$f":"C4-C5","v":3},"Estimated Energy usage (kWh)",null,{"$f":"F4*F3*C7*24/1000","v":0},"Int./Party Wall",{"$f":"SUM(J55:J58,J60)","v":0},{"$f":"SUM(K60)","v":0},null,null,null,"Total Room Heat Loss (W)",{"$f":"SUM(F5,H2:H6,M2:M5)","v":0},null,"Two opposite","Single storey",null,null,21,null,null,7.4999999999999997E-2,5]
["Degree Days",null,{"$f":"'Design Details'!B20","v":2228},null,null,null,null,null,null,null,null,null,"Total Room Energy Usage (kWh)",{"$f":"SUM(F6,I2:I6,N2:N5)","v":0},null,null,"Upper floor",null,null,22,null,null,0.1,6]
[null,null,null,null,null,null,null,null,null,null,null,null,null,null,null,null,{"$f":"IF($B$3=\"Ground floor\",'Design Details'!B$45,IF($B$3=\"Mid-floor\",'Design Details'!B$55,IF($B$3=\"Upper floor\",'Design Details'!B$65,IF($B$3=\"Single Storey\",'Design Details'!B$75,0))))","v":0},null,null,null,null,null,null,7]
["Room Dimensions",null,null,null,null,null,null,null,null,null,null,null,null,null,null,null,null,null,null,null,null,null,null,8]
["Length (m)",null,"Width (m)",null,"Height (m)",null,"Volume (m³)",{"$f":"B10*D10*F10","v":0},null,null,null,null,null,null,null,null,null,null,null,null,null,null,null,9]
["Length (m)",null,"Width (m)",null,"Height (m)",null,"Volume (m³)",{"$f":"B11*D11*F11","v":0},null,null,null,null,null,null,null,null,null,null,null,null,null,null,null,10]
["Length (m)",null,"Width (m)",null,"Height (m)",null,"Volume (m³)",{"$f":"B12*D12*F12","v":0}]
["Awkward Room Dimensions"]
["Length (m)",null,"Width (m)",null,"Height (m)",null,"Volume (m³)",{"$f":"((F14*D14)/2)*B14","v":0},"Pitched"]
["Length (m)",null,"Width (m)",null,"Height (m)",null,"Volume (m³)",{"$f":"B15*D15*F15/2","v":0},"Single Pitch"]
["Length (m)",null,"Height (m)",null,"Depth (m)",null,"Volume (m³)",{"$f":"D16*F16*B16/2","v":0},"Dormer 1"]
["Length (m)",null,"Height (m)",null,"Depth (m)",null,"Volume (m³)",{"$f":"D17*F17*B17/2","v":0},"Dormer 2"]
["Length (m)",null,"Height (m)",null,"Depth (m)",null,"Volume (m³)",{"$f":"D18*F18*B18/2","v":0},"Dormer 3"]
["Floor",null,null,null,null,null,null,null,"Temp Difference","Heat Loss (W)","Usage (kWh)","Type of Ground Floor"]
["Length (m)",null,"Width (m)",null,"Area (m²)",{"$f":"B20*D20","v":0},"U Value (W/m²K)",{"$f":"IF(L22=\"\",Q8,'floor u values'!K20)","v":0},{"$f":"IF(B$3=\"Ground Floor\",IF(L20=\"Solid Floor (in contact with ground)\",C$4-S$3,C$4-C$5),IF(B$3=\"Single Storey\",IF(L20=\"Solid Floor (in contact with ground)\",C$4-S$3,C$4-C$5),0))","v":0},{"$f":"F20*H20*I20","v":0},{"$f":"IF($B$3=$Q$5,0,IF($B$3=$Q$7,0,F20*H20*$C$7*24/1000))","v":0},"n/a"]
["Length (m)",null,"Width (m)",null,"Area (m²)",{"$f":"B21*D21","v":0},"U Value (W/m²K)",{"$f":"H20","v":0},{"$f":"IF(B$3=\"Ground Floor\",IF(L20=\"Solid Floor (in contact with ground)\",C$4-S$3,C$4-C$5),IF(B$3=\"Single Storey\",IF(L20=\"Solid Floor (in contact with ground)\",C$4-S$3,C$4-C$5),0))","v":0},{"$f":"F21*H21*I21","v":0},{"$f":"IF($B$3=$Q$5,0,IF($B$3=$Q$7,0,F21*H21*$C$7*24/1000))","v":0},"Exposed floor (external)"]
["Length (m)",null,"Width (m)",null,"Area (m²)",0,"U Value (W/m²K)",{"$f":"H20","v":0},{"$f":"IF(B$3=\"Ground Floor\",IF(L20=\"Solid Floor (in contact with ground)\",C$4-S$3,C$4-C$5),IF(B$3=\"Single Storey\",IF(L20=\"Solid Floor (in contact with ground)\",C$4-S$3,C$4-C$5),0))","v":0},{"$f":"F22*H22*I22","v":0},{"$f":"IF($B$3=$Q$5,0,IF($B$3=$Q$7,0,F22*H22*$C$7*24/1000))","v":0}]
["External Wall",null,null,null,null,null,null,null,null,null,null,{"$f":"IF(L22=\"Two opposite\",\"Between edges\",IF(L22=\"One edge\",\"Depth of room\",IF(L22=\"3 edges (short single)\",\"Short length\",IF(L22=\"3 edges (long single)\",\"Short length\",\"\"))))","v":""},null,{"$f":"IF(L22=\"3 edges (short single)\",\"Long length\",IF(L22=\"3 edges (long single)\",\"Long length\",\"\"))","v":""}]
["Length (m)",null,"Height (m)",null,"Area (m²)",0]
["Length (m)",null,"Height (m)",null,"Area (m²)",0]
["Length (m)",null,"Height (m)",null,"Area (m²)",0]
[null,null,null,"Total","Area (m²)",{"$f":"SUM(F24:F26)-SUM(F37:F43,F50:F53)","v":0},"U Value (W/m²K)",{"$f":"IF($B$3=\"Ground floor\",'Design Details'!B$48,IF($B$3=\"Mid-floor\",'Design Details'!B$58,IF($B$3=\"Upper floor\",'Design Details'!B$68,IF($B$3=\"Single Storey\",'Design Details'!B$78,0))))","v":0},{"$f":"$C$6","v":3},{"$f":"F27*H27*I27","v":0},{"$f":"F27*H27*$C$7*24/1000","v":0}]
["Roof"]
["Length (m)",null,"Width (m)",null,"Area (m²)",0]
["Length (m)",null,"Width (m)",null,"Area (m²)",0]
["Length (m)",null,"Width (m)",null,"Area (m²)",0]
[null,null,null,"Total","Area (m²)",{"$f":"SUM(F29:F31)-SUM(F45:F48)","v":0},"U Value (W/m²K)",{"$f":"IF($B$3=\"Ground floor\",'Design Details'!B$49,IF($B$3=\"Mid-floor\",'Design Details'!B$59,IF($B$3=\"Upper floor\",'Design Details'!B$69,IF($B$3=\"Single Storey\",'Design Details'!B$79,0))))","v":0},{"$f":"$C$6","v":3},0,{"$f":"IF($B$3=$Q$4,0,IF($B$3=$Q$5,0,F32*H32*$C$7*24/1000))","v":0}]
["Length (m)",null,"Pitch (m)",null,"Area (m²)",0,"Pitched"]
["Length (m)",null,"Pitch (m)",null,"Area (m²)",0,"Single Pitch"]
[null,null,null,"Total","Area (m²)",{"$f":"SUM(F33:F34)-SUM(F45:F48)","v":0},"U Value (W/m²K)",{"$f":"IF($B$3=\"Ground floor\",'Design Details'!B$50,IF($B$3=\"Mid-floor\",'Design Details'!B$60,IF($B$3=\"Upper floor\",'Design Details'!B$70,IF($B$3=\"Single Storey\",'Design Details'!B$80,0))))","v":0},3,0,{"$f":"IF($B$3=$Q$4,0,IF($B$3=$Q$5,0,F35*H35*$C$7*24/1000))","v":0}]
["Windows"]
["Width (m)",null,"Height (m)",null,"Area (m²)",0,"U Value (W/m²K)",{"$f":"IF($B$3=\"Ground floor\",'Design Details'!B$46,IF($B$3=\"Mid-floor\",'Design Details'!B$56,IF($B$3=\"Upper floor\",'Design Details'!B$66,IF($B$3=\"Single Storey\",'Design Details'!B$76,0))))","v":0},3,0,{"$f":"F37*H37*$C$7*24/1000","v":0}]
["Width (m)",null,"Height (m)",null,"Area (m²)",0,"U Value (W/m²K)",{"$f":"IF($B$3=\"Ground floor\",'Design Details'!B$46,IF($B$3=\"Mid-floor\",'Design Details'!B$56,IF($B$3=\"Upper floor\",'Design Details'!B$66,IF($B$3=\"Single Storey\",'Design Details'!B$76,0))))","v":0},3,0,0]
["Width (m)",null,"Height (m)",null,"Area (m²)",0,"U Value (W/m²K)",{"$f":"IF($B$3=\"Ground floor\",'Design Details'!B$46,IF($B$3=\"Mid-floor\",'Design Details'!B$56,IF($B$3=\"Upper floor\",'Design Details'!B$66,IF($B$3=\"Single Storey\",'Design Details'!B$76,0))))","v":0},3,0,0]
["Width (m)",null,"Height (m)",null,"Area (m²)",0,"U Value (W/m²K)",{"$f":"IF($B$3=\"Ground floor\",'Design Details'!B$46,IF($B$3=\"Mid-floor\",'Design Details'!B$56,IF($B$3=\"Upper floor\",'Design Details'!B$66,IF($B$3=\"Single Storey\",'Design Details'!B$76,0))))","v":0},3,0,0]
["Width (m)",null,"Height (m)",null,"Area (m²)",0,"U Value (W/m²K)",{"$f":"IF($B$3=\"Ground floor\",'Design Details'!B$46,IF($B$3=\"Mid-floor\",'Design Details'!B$56,IF($B$3=\"Upper floor\",'Design Details'!B$66,IF($B$3=\"Single Storey\",'Design Details'!B$76,0))))","v":0},3,0,0]
["Width (m)",null,"Height (m)",null,"Area (m²)",0,"U Value (W/m²K)",{"$f":"IF($B$3=\"Ground floor\",'Design Details'!B$46,IF($B$3=\"Mid-floor\",'Design Details'!B$56,IF($B$3=\"Upper floor\",'Design Details'!B$66,IF($B$3=\"Single Storey\",'Design Details'!B$76,0))))","v":0},3,0,0]
["Width (m)",null,"Height (m)",null,"Area (m²)",0,"U Value (W/m²K)",{"$f":"IF($B$3=\"Ground floor\",'Design Details'!B$46,IF($B$3=\"Mid-floor\",'Design Details'!B$56,IF($B$3=\"Upper floor\",'Design Details'!B$66,IF($B$3=\"Single Storey\",'Design Details'!B$76,0))))","v":0},3,0,0]
["Roof Glazing"]
["Width (m)",null,"Height (m)",null,"Area (m²)",0,"U Value (W/m²K)",{"$f":"IF($B$3=\"Ground floor\",'Design Details'!B$53,IF($B$3=\"Mid-floor\",'Design Details'!B$63,IF($B$3=\"Upper floor\",'Design Details'!B$73,IF($B$3=\"Single Storey\",'Design Details'!B$83,0))))","v":0},3,0,{"$f":"F45*H45*$C$7*24/1000","v":0}]
["Width (m)",null,"Height (m)",null,"Area (m²)",0,"U Value (W/m²K)",{"$f":"IF($B$3=\"Ground floor\",'Design Details'!B$53,IF($B$3=\"Mid-floor\",'Design Details'!B$63,IF($B$3=\"Upper floor\",'Design Details'!B$73,IF($B$3=\"Single Storey\",'Design Details'!B$83,0))))","v":0},3,0,{"$f":"F46*H46*$C$7*24/1000","v":0}]
["Width (m)",null,"Height (m)",null,"Area (m²)",0,"U Value (W/m²K)",{"$f":"IF($B$3=\"Ground floor\",'Design Details'!B$53,IF($B$3=\"Mid-floor\",'Design Details'!B$63,IF($B$3=\"Upper floor\",'Design Details'!B$73,IF($B$3=\"Single Storey\",'Design Details'!B$83,0))))","v":0},3,0,{"$f":"F47*H47*$C$7*24/1000","v":0}]
["Width (m)",null,"Height (m)",null,"Area (m²)",0,"U Value (W/m²K)",{"$f":"IF($B$3=\"Ground floor\",'Design Details'!B$53,IF($B$3=\"Mid-floor\",'Design Details'!B$63,IF($B$3=\"Upper floor\",'Design Details'!B$73,IF($B$3=\"Single Storey\",'Design Details'!B$83,0))))","v":0},3,0,{"$f":"F48*H48*$C$7*24/1000","v":0}]
["Doors"]
["Width (m)",null,"Height (m)",null,"Area (m²)",0,"U Value (W/m²K)",{"$f":"IF($B$3=\"Ground floor\",'Design Details'!B$47,IF($B$3=\"Mid-floor\",'Design Details'!B$57,IF($B$3=\"Upper floor\",'Design Details'!B$67,IF($B$3=\"Single Storey\",'Design Details'!B$77,0))))","v":0},3,0,{"$f":"F50*H50*$C$7*24/1000","v":0}]
["Width (m)",null,"Height (m)",null,"Area (m²)",0,"U Value (W/m²K)",{"$f":"IF($B$3=\"Ground floor\",'Design Details'!B$47,IF($B$3=\"Mid-floor\",'Design Details'!B$57,IF($B$3=\"Upper floor\",'Design Details'!B$67,IF($B$3=\"Single Storey\",'Design Details'!B$77,0))))","v":0},3,0,{"$f":"F51*H51*$C$7*24/1000","v":0}]
["Width (m)",null,"Height (m)",null,"Area (m²)",0,"U Value (W/m²K)",{"$f":"IF($B$3=\"Ground floor\",'Design Details'!B$47,IF($B$3=\"Mid-floor\",'Design Details'!B$57,IF($B$3=\"Upper floor\",'Design Details'!B$67,IF($B$3=\"Single Storey\",'Design Details'!B$77,0))))","v":0},3,0,{"$f":"F52*H52*$C$7*24/1000","v":0}]
["Width (m)",null,"Height (m)",null,"Area (m²)",0,"U Value (W/m²K)",{"$f":"IF($B$3=\"Ground floor\",'Design Details'!B$47,IF($B$3=\"Mid-floor\",'Design Details'!B$57,IF($B$3=\"Upper floor\",'Design Details'!B$67,IF($B$3=\"Single Storey\",'Design Details'!B$77,0))))","v":0},3,0,{"$f":"F53*H53*$C$7*24/1000","v":0}]
["Internal Walls",null,null,null,null,null,null,null,null,null,null,"Adjoining Room Temp (°C)"]
["Length (m)",null,"Height (m)",null,"Area (m²)",0,"U Value (W/m²K)",{"$f":"IF($B$3=\"Ground floor\",'Design Details'!B$51,IF($B$3=\"Mid-floor\",'Design Details'!B$61,IF($B$3=\"Upper floor\",'Design Details'!B$71,IF($B$3=\"Single Storey\",'Design Details'!B$81,0))))","v":0},{"$f":"IF(L55=\"\",0,IF(L55=\"unheated\",C$4-10,C$4-L55))","v":0},0]
["Length (m)",null,"Height (m)",null,"Area (m²)",0,"U Value (W/m²K)",{"$f":"IF($B$3=\"Ground floor\",'Design Details'!B$51,IF($B$3=\"Mid-floor\",'Design Details'!B$61,IF($B$3=\"Upper floor\",'Design Details'!B$71,IF($B$3=\"Single Storey\",'Design Details'!B$81,0))))","v":0},{"$f":"IF(L56=\"\",0,IF(L56=\"unheated\",C$4-10,C$4-L56))","v":0},0]
["Length (m)",null,"Height (m)",null,"Area (m²)",0,"U Value (W/m²K)",{"$f":"IF($B$3=\"Ground floor\",'Design Details'!B$51,IF($B$3=\"Mid-floor\",'Design Details'!B$61,IF($B$3=\"Upper floor\",'Design Details'!B$71,IF($B$3=\"Single Storey\",'Design Details'!B$81,0))))","v":0},{"$f":"IF(L57=\"\",0,IF(L57=\"unheated\",C$4-10,C$4-L57))","v":0},0]
["Length (m)",null,"Height (m)",null,"Area (m²)",0,"U Value (W/m²K)",{"$f":"IF($B$3=\"Ground floor\",'Design Details'!B$51,IF($B$3=\"Mid-floor\",'Design Details'!B$61,IF($B$3=\"Upper floor\",'Design Details'!B$71,IF($B$3=\"Single Storey\",'Design Details'!B$81,0))))","v":0},{"$f":"IF(L58=\"\",0,IF(L58=\"unheated\",C$4-10,C$4-L58))","v":0},0]
["Party Wall"]
["Length (m)",null,"Height (m)",null,"Area (m²)",0,"U Value (W/m²K)",{"$f":"IF($B$3=\"Ground floor\",'Design Details'!B$52,IF($B$3=\"Mid-floor\",'Design Details'!B$62,IF($B$3=\"Upper floor\",'Design Details'!B$72,IF($B$3=\"Single Storey\",'Design Details'!B$82,0))))","v":0},{"$f":"C4-10","v":-10},0,{"$f":"F60*H60*$C$7*24/1000","v":0}]

{"sheet":"20","index":37,"n_rows":60,"n_cols":24,"rows_kept":60,"cut":false,"hidden":false,"merged":[[2,1,2,2],[2,3,2,4],[0,0,0,2],[0,3,0,5],[0,9,0,10],[1,3,1,4],[3,0,3,1],[3,3,3,4],[4,0,4,1],[4,3,4,4],[5,0,5,1],[5,3,5,4],[57,11,57,13],[6,0,6,1],[18,11,18,13],[19,11,19,13],[53,11,53,13],[54,11,54,13],[55,11,55,13],[56,11,56,13],[30,11,30,13],[10,10,10,13],[9,10,9,13],[20,11,20,13],[21,11,21,13]]}
["Room Information",null,null,"Ventilation Heat Loss",null,null,"Fabric ","Heat Loss (W)"," Usage (kWh)","Additional heat loss",null,"Addition","Watts","kWh"]
["Room","-",null,"Air Changes a hour",null,{"$f":"'Design Details'!F106","v":0},"Floor",{"$f":"SUM(J20:J22)","v":0},{"$f":"SUM(K20:K22)","v":0},"Thermal Bridging (New Build >2006)",null,0,{"$f":"SUM(H$2:H$6)*L2","v":0},{"$f":"SUM(I$2:I$6)*L2","v":0},null,"3 edges (long single)","Level",null,null,null,null,null,null,1]
["Level",null,null,"Air Change Factor (W/m³K)",null,0.33,"Ext Wall",{"$f":"J27","v":0},{"$f":"K27","v":0},"Exposed location",null,0,{"$f":"SUM(H$2:H$6)*L3","v":0},{"$f":"SUM(I$2:I$6)*L3","v":0},null,"3 edges (short single)","Please Select Floor",{"$f":"IF($B$3=\"Ground floor\",\"Solid Floor (in contact with ground)\",IF($B$3=\"Single Storey\",\"Solid Floor (in contact with ground)\",\"n/a\"))","v":"n/a"},{"$f":"'Design Details'!B21","v":10},"unheated",0,0,0,2]
["Design Room Temp (°C)",null,{"$f":"'Design Details'!D106","v":0},"Total Volume (m³)",null,{"$f":"SUM(H10:H12,H14:H18)","v":0},"Roof",{"$f":"SUM(J32,J35)","v":0},{"$f":"SUM(K32,K35)","v":0},"High ceiling",null,0,{"$f":"SUM(H$2:H$6)*L4","v":0},{"$f":"SUM(I$2:I$6)*L4","v":0},null,"One edge","Ground floor",{"$f":"IF($B$3=\"Ground floor\",\"Suspended Floor\",IF($B$3=\"Single Storey\",\"Suspended Floor\",\"n/a\"))","v":"n/a"},null,16,0.1,0.2,2.5000000000000001E-2,3]
["Outside Design Temp (°C)",null,{"$f":"'Design Details'!B19","v":-3},"Heat loss (W)",null,{"$f":"F4*F3*C6*F2","v":0},"Glazing",{"$f":"SUM(J37:J43,J45:J48,J50:J53)","v":0},{"$f":"SUM(K37:K43,K45:K48,K50:K53)","v":0},"Intermittent heating",null,0,{"$f":"SUM(H$2:H$6)*L5","v":0},{"$f":"SUM(I$2:I$6)*L5","v":0},null,"Two adjacent","Mid-floor",null,null,18,null,null,0.05,4]
["Temp Difference (°C)",null,{"$f":"C4-C5","v":3},"Estimated Energy usage (kWh)",null,{"$f":"F4*F3*C7*24/1000","v":0},"Int./Party Wall",{"$f":"SUM(J55:J58,J60)","v":0},{"$f":"SUM(K60)","v":0},null,null,null,"Total Room Heat Loss (W)",{"$f":"SUM(F5,H2:H6,M2:M5)","v":0},null,"Two opposite","Single storey",null,null,21,null,null,7.4999999999999997E-2,5]
["Degree Days",null,{"$f":"'Design Details'!B20","v":2228},null,null,null,null,null,null,null,null,null,"Total Room Energy Usage (kWh)",{"$f":"SUM(F6,I2:I6,N2:N5)","v":0},null,null,"Upper floor",null,null,22,null,null,0.1,6]
[null,null,null,null,null,null,null,null,null,null,null,null,null,null,null,null,{"$f":"IF($B$3=\"Ground floor\",'Design Details'!B$45,IF($B$3=\"Mid-floor\",'Design Details'!B$55,IF($B$3=\"Upper floor\",'Design Details'!B$65,IF($B$3=\"Single Storey\",'Design Details'!B$75,0))))","v":0},null,null,null,null,null,null,7]
["Room Dimensions",null,null,null,null,null,null,null,null,null,null,null,null,null,null,null,null,null,null,null,null,null,null,8]
["Length (m)",null,"Width (m)",null,"Height (m)",null,"Volume (m³)",{"$f":"B10*D10*F10","v":0},null,null,null,null,null,null,null,null,null,null,null,null,null,null,null,9]
["Length (m)",null,"Width (m)",null,"Height (m)",null,"Volume (m³)",{"$f":"B11*D11*F11","v":0},null,null,null,null,null,null,null,null,null,null,null,null,null,null,null,10]
["Length (m)",null,"Width (m)",null,"Height (m)",null,"Volume (m³)",{"$f":"B12*D12*F12","v":0}]
["Awkward Room Dimensions"]
["Length (m)",null,"Width (m)",null,"Height (m)",null,"Volume (m³)",{"$f":"((F14*D14)/2)*B14","v":0},"Pitched"]
["Length (m)",null,"Width (m)",null,"Height (m)",null,"Volume (m³)",{"$f":"B15*D15*F15/2","v":0},"Single Pitch"]
["Length (m)",null,"Height (m)",null,"Depth (m)",null,"Volume (m³)",{"$f":"D16*F16*B16/2","v":0},"Dormer 1"]
["Length (m)",null,"Height (m)",null,"Depth (m)",null,"Volume (m³)",{"$f":"D17*F17*B17/2","v":0},"Dormer 2"]
["Length (m)",null,"Height (m)",null,"Depth (m)",null,"Volume (m³)",{"$f":"D18*F18*B18/2","v":0},"Dormer 3"]
["Floor",null,null,null,null,null,null,null,"Temp Difference","Heat Loss (W)","Usage (kWh)","Type of Ground Floor"]
["Length (m)",null,"Width (m)",null,"Area (m²)",{"$f":"B20*D20","v":0},"U Value (W/m²K)",{"$f":"IF(L22=\"\",Q8,'floor u values'!K21)","v":0},{"$f":"IF(B$3=\"Ground Floor\",IF(L20=\"Solid Floor (in contact with ground)\",C$4-S$3,C$4-C$5),IF(B$3=\"Single Storey\",IF(L20=\"Solid Floor (in contact with ground)\",C$4-S$3,C$4-C$5),0))","v":0},{"$f":"F20*H20*I20","v":0},{"$f":"IF($B$3=$Q$5,0,IF($B$3=$Q$7,0,F20*H20*$C$7*24/1000))","v":0}]
["Length (m)",null,"Width (m)",null,"Area (m²)",{"$f":"B21*D21","v":0},"U Value (W/m²K)",{"$f":"H20","v":0},{"$f":"IF(B$3=\"Ground Floor\",IF(L20=\"Solid Floor (in contact with ground)\",C$4-S$3,C$4-C$5),IF(B$3=\"Single Storey\",IF(L20=\"Solid Floor (in contact with ground)\",C$4-S$3,C$4-C$5),0))","v":0},{"$f":"F21*H21*I21","v":0},{"$f":"IF($B$3=$Q$5,0,IF($B$3=$Q$7,0,F21*H21*$C$7*24/1000))","v":0},"Exposed floor (external)"]
["Length (m)",null,"Width (m)",null,"Area (m²)",0,"U Value (W/m²K)",{"$f":"H20","v":0},{"$f":"IF(B$3=\"Ground Floor\",IF(L20=\"Solid Floor (in contact with ground)\",C$4-S$3,C$4-C$5),IF(B$3=\"Single Storey\",IF(L20=\"Solid Floor (in contact with ground)\",C$4-S$3,C$4-C$5),0))","v":0},{"$f":"F22*H22*I22","v":0},{"$f":"IF($B$3=$Q$5,0,IF($B$3=$Q$7,0,F22*H22*$C$7*24/1000))","v":0}]
["External Wall",null,null,null,null,null,null,null,null,null,null,{"$f":"IF(L22=\"Two opposite\",\"Between edges\",IF(L22=\"One edge\",\"Depth of room\",IF(L22=\"3 edges (short single)\",\"Short length\",IF(L22=\"3 edges (long single)\",\"Short length\",\"\"))))","v":""},null,{"$f":"IF(L22=\"3 edges (short single)\",\"Long length\",IF(L22=\"3 edges (long single)\",\"Long length\",\"\"))","v":""}]
["Length (m)",null,"Height (m)",null,"Area (m²)",0]
["Length (m)",null,"Height (m)",null,"Area (m²)",0]
["Length (m)",null,"Height (m)",null,"Area (m²)",0]
[null,null,null,"Total","Area (m²)",{"$f":"SUM(F24:F26)-SUM(F37:F43,F50:F53)","v":0},"U Value (W/m²K)",{"$f":"IF($B$3=\"Ground floor\",'Design Details'!B$48,IF($B$3=\"Mid-floor\",'Design Details'!B$58,IF($B$3=\"Upper floor\",'Design Details'!B$68,IF($B$3=\"Single Storey\",'Design Details'!B$78,0))))","v":0},{"$f":"$C$6","v":3},{"$f":"F27*H27*I27","v":0},{"$f":"F27*H27*$C$7*24/1000","v":0}]
["Roof"]
["Length (m)",null,"Width (m)",null,"Area (m²)",0]
["Length (m)",null,"Width (m)",null,"Area (m²)",0]
["Length (m)",null,"Width (m)",null,"Area (m²)",0]
[null,null,null,"Total","Area (m²)",{"$f":"SUM(F29:F31)-SUM(F45:F48)","v":0},"U Value (W/m²K)",{"$f":"IF($B$3=\"Ground floor\",'Design Details'!B$49,IF($B$3=\"Mid-floor\",'Design Details'!B$59,IF($B$3=\"Upper floor\",'Design Details'!B$69,IF($B$3=\"Single Storey\",'Design Details'!B$79,0))))","v":0},{"$f":"$C$6","v":3},0,{"$f":"IF($B$3=$Q$4,0,IF($B$3=$Q$5,0,F32*H32*$C$7*24/1000))","v":0}]
["Length (m)",null,"Pitch (m)",null,"Area (m²)",0,"Pitched"]
["Length (m)",null,"Pitch (m)",null,"Area (m²)",0,"Single Pitch"]
[null,null,null,"Total","Area (m²)",{"$f":"SUM(F33:F34)-SUM(F45:F48)","v":0},"U Value (W/m²K)",{"$f":"IF($B$3=\"Ground floor\",'Design Details'!B$50,IF($B$3=\"Mid-floor\",'Design Details'!B$60,IF($B$3=\"Upper floor\",'Design Details'!B$70,IF($B$3=\"Single Storey\",'Design Details'!B$80,0))))","v":0},3,0,{"$f":"IF($B$3=$Q$4,0,IF($B$3=$Q$5,0,F35*H35*$C$7*24/1000))","v":0}]
["Windows"]
["Width (m)",null,"Height (m)",null,"Area (m²)",0,"U Value (W/m²K)",{"$f":"IF($B$3=\"Ground floor\",'Design Details'!B$46,IF($B$3=\"Mid-floor\",'Design Details'!B$56,IF($B$3=\"Upper floor\",'Design Details'!B$66,IF($B$3=\"Single Storey\",'Design Details'!B$76,0))))","v":0},3,0,{"$f":"F37*H37*$C$7*24/1000","v":0}]
["Width (m)",null,"Height (m)",null,"Area (m²)",0,"U Value (W/m²K)",{"$f":"IF($B$3=\"Ground floor\",'Design Details'!B$46,IF($B$3=\"Mid-floor\",'Design Details'!B$56,IF($B$3=\"Upper floor\",'Design Details'!B$66,IF($B$3=\"Single Storey\",'Design Details'!B$76,0))))","v":0},3,0,0]
["Width (m)",null,"Height (m)",null,"Area (m²)",0,"U Value (W/m²K)",{"$f":"IF($B$3=\"Ground floor\",'Design Details'!B$46,IF($B$3=\"Mid-floor\",'Design Details'!B$56,IF($B$3=\"Upper floor\",'Design Details'!B$66,IF($B$3=\"Single Storey\",'Design Details'!B$76,0))))","v":0},3,0,0]
["Width (m)",null,"Height (m)",null,"Area (m²)",0,"U Value (W/m²K)",{"$f":"IF($B$3=\"Ground floor\",'Design Details'!B$46,IF($B$3=\"Mid-floor\",'Design Details'!B$56,IF($B$3=\"Upper floor\",'Design Details'!B$66,IF($B$3=\"Single Storey\",'Design Details'!B$76,0))))","v":0},3,0,0]
["Width (m)",null,"Height (m)",null,"Area (m²)",0,"U Value (W/m²K)",{"$f":"IF($B$3=\"Ground floor\",'Design Details'!B$46,IF($B$3=\"Mid-floor\",'Design Details'!B$56,IF($B$3=\"Upper floor\",'Design Details'!B$66,IF($B$3=\"Single Storey\",'Design Details'!B$76,0))))","v":0},3,0,0]
["Width (m)",null,"Height (m)",null,"Area (m²)",0,"U Value (W/m²K)",{"$f":"IF($B$3=\"Ground floor\",'Design Details'!B$46,IF($B$3=\"Mid-floor\",'Design Details'!B$56,IF($B$3=\"Upper floor\",'Design Details'!B$66,IF($B$3=\"Single Storey\",'Design Details'!B$76,0))))","v":0},3,0,0]
["Width (m)",null,"Height (m)",null,"Area (m²)",0,"U Value (W/m²K)",{"$f":"IF($B$3=\"Ground floor\",'Design Details'!B$46,IF($B$3=\"Mid-floor\",'Design Details'!B$56,IF($B$3=\"Upper floor\",'Design Details'!B$66,IF($B$3=\"Single Storey\",'Design Details'!B$76,0))))","v":0},3,0,0]
["Roof Glazing"]
["Width (m)",null,"Height (m)",null,"Area (m²)",0,"U Value (W/m²K)",{"$f":"IF($B$3=\"Ground floor\",'Design Details'!B$53,IF($B$3=\"Mid-floor\",'Design Details'!B$63,IF($B$3=\"Upper floor\",'Design Details'!B$73,IF($B$3=\"Single Storey\",'Design Details'!B$83,0))))","v":0},3,0,{"$f":"F45*H45*$C$7*24/1000","v":0}]
["Width (m)",null,"Height (m)",null,"Area (m²)",0,"U Value (W/m²K)",{"$f":"IF($B$3=\"Ground floor\",'Design Details'!B$53,IF($B$3=\"Mid-floor\",'Design Details'!B$63,IF($B$3=\"Upper floor\",'Design Details'!B$73,IF($B$3=\"Single Storey\",'Design Details'!B$83,0))))","v":0},3,0,{"$f":"F46*H46*$C$7*24/1000","v":0}]
["Width (m)",null,"Height (m)",null,"Area (m²)",0,"U Value (W/m²K)",{"$f":"IF($B$3=\"Ground floor\",'Design Details'!B$53,IF($B$3=\"Mid-floor\",'Design Details'!B$63,IF($B$3=\"Upper floor\",'Design Details'!B$73,IF($B$3=\"Single Storey\",'Design Details'!B$83,0))))","v":0},3,0,{"$f":"F47*H47*$C$7*24/1000","v":0}]
["Width (m)",null,"Height (m)",null,"Area (m²)",0,"U Value (W/m²K)",{"$f":"IF($B$3=\"Ground floor\",'Design Details'!B$53,IF($B$3=\"Mid-floor\",'Design Details'!B$63,IF($B$3=\"Upper floor\",'Design Details'!B$73,IF($B$3=\"Single Storey\",'Design Details'!B$83,0))))","v":0},3,0,{"$f":"F48*H48*$C$7*24/1000","v":0}]
["Doors"]
["Width (m)",null,"Height (m)",null,"Area (m²)",0,"U Value (W/m²K)",{"$f":"IF($B$3=\"Ground floor\",'Design Details'!B$47,IF($B$3=\"Mid-floor\",'Design Details'!B$57,IF($B$3=\"Upper floor\",'Design Details'!B$67,IF($B$3=\"Single Storey\",'Design Details'!B$77,0))))","v":0},3,0,{"$f":"F50*H50*$C$7*24/1000","v":0}]
["Width (m)",null,"Height (m)",null,"Area (m²)",0,"U Value (W/m²K)",{"$f":"IF($B$3=\"Ground floor\",'Design Details'!B$47,IF($B$3=\"Mid-floor\",'Design Details'!B$57,IF($B$3=\"Upper floor\",'Design Details'!B$67,IF($B$3=\"Single Storey\",'Design Details'!B$77,0))))","v":0},3,0,{"$f":"F51*H51*$C$7*24/1000","v":0}]
["Width (m)",null,"Height (m)",null,"Area (m²)",0,"U Value (W/m²K)",{"$f":"IF($B$3=\"Ground floor\",'Design Details'!B$47,IF($B$3=\"Mid-floor\",'Design Details'!B$57,IF($B$3=\"Upper floor\",'Design Details'!B$67,IF($B$3=\"Single Storey\",'Design Details'!B$77,0))))","v":0},3,0,{"$f":"F52*H52*$C$7*24/1000","v":0}]
["Width (m)",null,"Height (m)",null,"Area (m²)",0,"U Value (W/m²K)",{"$f":"IF($B$3=\"Ground floor\",'Design Details'!B$47,IF($B$3=\"Mid-floor\",'Design Details'!B$57,IF($B$3=\"Upper floor\",'Design Details'!B$67,IF($B$3=\"Single Storey\",'Design Details'!B$77,0))))","v":0},3,0,{"$f":"F53*H53*$C$7*24/1000","v":0}]
["Internal Walls",null,null,null,null,null,null,null,null,null,null,"Adjoining Room Temp (°C)"]
["Length (m)",null,"Height (m)",null,"Area (m²)",0,"U Value (W/m²K)",{"$f":"IF($B$3=\"Ground floor\",'Design Details'!B$51,IF($B$3=\"Mid-floor\",'Design Details'!B$61,IF($B$3=\"Upper floor\",'Design Details'!B$71,IF($B$3=\"Single Storey\",'Design Details'!B$81,0))))","v":0},{"$f":"IF(L55=\"\",0,IF(L55=\"unheated\",C$4-10,C$4-L55))","v":0},0]
["Length (m)",null,"Height (m)",null,"Area (m²)",0,"U Value (W/m²K)",{"$f":"IF($B$3=\"Ground floor\",'Design Details'!B$51,IF($B$3=\"Mid-floor\",'Design Details'!B$61,IF($B$3=\"Upper floor\",'Design Details'!B$71,IF($B$3=\"Single Storey\",'Design Details'!B$81,0))))","v":0},{"$f":"IF(L56=\"\",0,IF(L56=\"unheated\",C$4-10,C$4-L56))","v":0},0]
["Length (m)",null,"Height (m)",null,"Area (m²)",0,"U Value (W/m²K)",{"$f":"IF($B$3=\"Ground floor\",'Design Details'!B$51,IF($B$3=\"Mid-floor\",'Design Details'!B$61,IF($B$3=\"Upper floor\",'Design Details'!B$71,IF($B$3=\"Single Storey\",'Design Details'!B$81,0))))","v":0},{"$f":"IF(L57=\"\",0,IF(L57=\"unheated\",C$4-10,C$4-L57))","v":0},0]
["Length (m)",null,"Height (m)",null,"Area (m²)",0,"U Value (W/m²K)",{"$f":"IF($B$3=\"Ground floor\",'Design Details'!B$51,IF($B$3=\"Mid-floor\",'Design Details'!B$61,IF($B$3=\"Upper floor\",'Design Details'!B$71,IF($B$3=\"Single Storey\",'Design Details'!B$81,0))))","v":0},{"$f":"IF(L58=\"\",0,IF(L58=\"unheated\",C$4-10,C$4-L58))","v":0},0]
["Party Wall"]
["Length (m)",null,"Height (m)",null,"Area (m²)",0,"U Value (W/m²K)",{"$f":"IF($B$3=\"Ground floor\",'Design Details'!B$52,IF($B$3=\"Mid-floor\",'Design Details'!B$62,IF($B$3=\"Upper floor\",'Design Details'!B$72,IF($B$3=\"Single Storey\",'Design Details'!B$82,0))))","v":0},{"$f":"C4-10","v":-10},0,{"$f":"F60*H60*$C$7*24/1000","v":0}]

{"sheet":"21","index":38,"n_rows":60,"n_cols":24,"rows_kept":60,"cut":false,"hidden":false,"merged":[[2,1,2,2],[2,3,2,4],[0,0,0,2],[0,3,0,5],[0,9,0,10],[1,3,1,4],[3,0,3,1],[3,3,3,4],[4,0,4,1],[4,3,4,4],[5,0,5,1],[5,3,5,4],[57,11,57,13],[6,0,6,1],[18,11,18,13],[19,11,19,13],[53,11,53,13],[54,11,54,13],[55,11,55,13],[56,11,56,13],[30,11,30,13],[10,10,10,13],[9,10,9,13],[20,11,20,13],[21,11,21,13]]}
["Room Information",null,null,"Ventilation Heat Loss",null,null,"Fabric ","Heat Loss (W)"," Usage (kWh)","Additional heat loss",null,"Addition","Watts","kWh"]
["Room","-",null,"Air Changes a hour",null,{"$f":"'Design Details'!F107","v":0},"Floor",{"$f":"SUM(J20:J22)","v":0},{"$f":"SUM(K20:K22)","v":0},"Thermal Bridging (New Build >2006)",null,0,{"$f":"SUM(H$2:H$6)*L2","v":0},{"$f":"SUM(I$2:I$6)*L2","v":0},null,"3 edges (long single)","Level",null,null,null,null,null,null,1]
["Level",null,null,"Air Change Factor (W/m³K)",null,0.33,"Ext Wall",{"$f":"J27","v":0},{"$f":"K27","v":0},"Exposed location",null,0,{"$f":"SUM(H$2:H$6)*L3","v":0},{"$f":"SUM(I$2:I$6)*L3","v":0},null,"3 edges (short single)","Please Select Floor",{"$f":"IF($B$3=\"Ground floor\",\"Solid Floor (in contact with ground)\",IF($B$3=\"Single Storey\",\"Solid Floor (in contact with ground)\",\"n/a\"))","v":"n/a"},{"$f":"'Design Details'!B21","v":10},"unheated",0,0,0,2]
["Design Room Temp (°C)",null,{"$f":"'Design Details'!D107","v":0},"Total Volume (m³)",null,{"$f":"SUM(H10:H12,H14:H18)","v":0},"Roof",{"$f":"SUM(J32,J35)","v":0},{"$f":"SUM(K32,K35)","v":0},"High ceiling",null,0,{"$f":"SUM(H$2:H$6)*L4","v":0},{"$f":"SUM(I$2:I$6)*L4","v":0},null,"One edge","Ground floor",{"$f":"IF($B$3=\"Ground floor\",\"Suspended Floor\",IF($B$3=\"Single Storey\",\"Suspended Floor\",\"n/a\"))","v":"n/a"},null,16,0.1,0.2,2.5000000000000001E-2,3]
["Outside Design Temp (°C)",null,{"$f":"'Design Details'!B19","v":-3},"Heat loss (W)",null,{"$f":"F4*F3*C6*F2","v":0},"Glazing",{"$f":"SUM(J37:J43,J45:J48,J50:J53)","v":0},{"$f":"SUM(K37:K43,K45:K48,K50:K53)","v":0},"Intermittent heating",null,0,{"$f":"SUM(H$2:H$6)*L5","v":0},{"$f":"SUM(I$2:I$6)*L5","v":0},null,"Two adjacent","Mid-floor",null,null,18,null,null,0.05,4]
["Temp Difference (°C)",null,{"$f":"C4-C5","v":3},"Estimated Energy usage (kWh)",null,{"$f":"F4*F3*C7*24/1000","v":0},"Int./Party Wall",{"$f":"SUM(J55:J58,J60)","v":0},{"$f":"SUM(K60)","v":0},null,null,null,"Total Room Heat Loss (W)",{"$f":"SUM(F5,H2:H6,M2:M5)","v":0},null,"Two opposite","Single storey",null,null,21,null,null,7.4999999999999997E-2,5]
["Degree Days",null,{"$f":"'Design Details'!B20","v":2228},null,null,null,null,null,null,null,null,null,"Total Room Energy Usage (kWh)",{"$f":"SUM(F6,I2:I6,N2:N5)","v":0},null,null,"Upper floor",null,null,22,null,null,0.1,6]
[null,null,null,null,null,null,null,null,null,null,null,null,null,null,null,null,{"$f":"IF($B$3=\"Ground floor\",'Design Details'!B$45,IF($B$3=\"Mid-floor\",'Design Details'!B$55,IF($B$3=\"Upper floor\",'Design Details'!B$65,IF($B$3=\"Single Storey\",'Design Details'!B$75,0))))","v":0},null,null,null,null,null,null,7]
["Room Dimensions",null,null,null,null,null,null,null,null,null,null,null,null,null,null,null,null,null,null,null,null,null,null,8]
["Length (m)",null,"Width (m)",null,"Height (m)",null,"Volume (m³)",{"$f":"B10*D10*F10","v":0},null,null,null,null,null,null,null,null,null,null,null,null,null,null,null,9]
["Length (m)",null,"Width (m)",null,"Height (m)",null,"Volume (m³)",{"$f":"B11*D11*F11","v":0},null,null,null,null,null,null,null,null,null,null,null,null,null,null,null,10]
["Length (m)",null,"Width (m)",null,"Height (m)",null,"Volume (m³)",{"$f":"B12*D12*F12","v":0}]
["Awkward Room Dimensions"]
["Length (m)",null,"Width (m)",null,"Height (m)",null,"Volume (m³)",{"$f":"((F14*D14)/2)*B14","v":0},"Pitched"]
["Length (m)",null,"Width (m)",null,"Height (m)",null,"Volume (m³)",{"$f":"B15*D15*F15/2","v":0},"Single Pitch"]
["Length (m)",null,"Height (m)",null,"Depth (m)",null,"Volume (m³)",{"$f":"D16*F16*B16/2","v":0},"Dormer 1"]
["Length (m)",null,"Height (m)",null,"Depth (m)",null,"Volume (m³)",{"$f":"D17*F17*B17/2","v":0},"Dormer 2"]
["Length (m)",null,"Height (m)",null,"Depth (m)",null,"Volume (m³)",{"$f":"D18*F18*B18/2","v":0},"Dormer 3"]
["Floor",null,null,null,null,null,null,null,"Temp Difference","Heat Loss (W)","Usage (kWh)","Type of Ground Floor"]
["Length (m)",null,"Width (m)",null,"Area (m²)",{"$f":"B20*D20","v":0},"U Value (W/m²K)",{"$f":"IF(L22=\"\",Q8,'floor u values'!K22)","v":0},{"$f":"IF(B$3=\"Ground Floor\",IF(L20=\"Solid Floor (in contact with ground)\",C$4-S$3,C$4-C$5),IF(B$3=\"Single Storey\",IF(L20=\"Solid Floor (in contact with ground)\",C$4-S$3,C$4-C$5),0))","v":0},{"$f":"F20*H20*I20","v":0},{"$f":"IF($B$3=$Q$5,0,IF($B$3=$Q$7,0,F20*H20*$C$7*24/1000))","v":0}]
["Length (m)",null,"Width (m)",null,"Area (m²)",{"$f":"B21*D21","v":0},"U Value (W/m²K)",{"$f":"H20","v":0},{"$f":"IF(B$3=\"Ground Floor\",IF(L20=\"Solid Floor (in contact with ground)\",C$4-S$3,C$4-C$5),IF(B$3=\"Single Storey\",IF(L20=\"Solid Floor (in contact with ground)\",C$4-S$3,C$4-C$5),0))","v":0},{"$f":"F21*H21*I21","v":0},{"$f":"IF($B$3=$Q$5,0,IF($B$3=$Q$7,0,F21*H21*$C$7*24/1000))","v":0},"Exposed floor (external)"]
["Length (m)",null,"Width (m)",null,"Area (m²)",0,"U Value (W/m²K)",{"$f":"H20","v":0},{"$f":"IF(B$3=\"Ground Floor\",IF(L20=\"Solid Floor (in contact with ground)\",C$4-S$3,C$4-C$5),IF(B$3=\"Single Storey\",IF(L20=\"Solid Floor (in contact with ground)\",C$4-S$3,C$4-C$5),0))","v":0},{"$f":"F22*H22*I22","v":0},{"$f":"IF($B$3=$Q$5,0,IF($B$3=$Q$7,0,F22*H22*$C$7*24/1000))","v":0}]
["External Wall",null,null,null,null,null,null,null,null,null,null,{"$f":"IF(L22=\"Two opposite\",\"Between edges\",IF(L22=\"One edge\",\"Depth of room\",IF(L22=\"3 edges (short single)\",\"Short length\",IF(L22=\"3 edges (long single)\",\"Short length\",\"\"))))","v":""},null,{"$f":"IF(L22=\"3 edges (short single)\",\"Long length\",IF(L22=\"3 edges (long single)\",\"Long length\",\"\"))","v":""}]
["Length (m)",null,"Height (m)",null,"Area (m²)",0]
["Length (m)",null,"Height (m)",null,"Area (m²)",0]
["Length (m)",null,"Height (m)",null,"Area (m²)",0]
[null,null,null,"Total","Area (m²)",{"$f":"SUM(F24:F26)-SUM(F37:F43,F50:F53)","v":0},"U Value (W/m²K)",{"$f":"IF($B$3=\"Ground floor\",'Design Details'!B$48,IF($B$3=\"Mid-floor\",'Design Details'!B$58,IF($B$3=\"Upper floor\",'Design Details'!B$68,IF($B$3=\"Single Storey\",'Design Details'!B$78,0))))","v":0},{"$f":"$C$6","v":3},{"$f":"F27*H27*I27","v":0},{"$f":"F27*H27*$C$7*24/1000","v":0}]
["Roof"]
["Length (m)",null,"Width (m)",null,"Area (m²)",0]
["Length (m)",null,"Width (m)",null,"Area (m²)",0]
["Length (m)",null,"Width (m)",null,"Area (m²)",0]
[null,null,null,"Total","Area (m²)",{"$f":"SUM(F29:F31)-SUM(F45:F48)","v":0},"U Value (W/m²K)",{"$f":"IF($B$3=\"Ground floor\",'Design Details'!B$49,IF($B$3=\"Mid-floor\",'Design Details'!B$59,IF($B$3=\"Upper floor\",'Design Details'!B$69,IF($B$3=\"Single Storey\",'Design Details'!B$79,0))))","v":0},{"$f":"$C$6","v":3},0,{"$f":"IF($B$3=$Q$4,0,IF($B$3=$Q$5,0,F32*H32*$C$7*24/1000))","v":0}]
["Length (m)",null,"Pitch (m)",null,"Area (m²)",0,"Pitched"]
["Length (m)",null,"Pitch (m)",null,"Area (m²)",0,"Single Pitch"]
[null,null,null,"Total","Area (m²)",{"$f":"SUM(F33:F34)-SUM(F45:F48)","v":0},"U Value (W/m²K)",{"$f":"IF($B$3=\"Ground floor\",'Design Details'!B$50,IF($B$3=\"Mid-floor\",'Design Details'!B$60,IF($B$3=\"Upper floor\",'Design Details'!B$70,IF($B$3=\"Single Storey\",'Design Details'!B$80,0))))","v":0},3,0,{"$f":"IF($B$3=$Q$4,0,IF($B$3=$Q$5,0,F35*H35*$C$7*24/1000))","v":0}]
["Windows"]
["Width (m)",null,"Height (m)",null,"Area (m²)",0,"U Value (W/m²K)",{"$f":"IF($B$3=\"Ground floor\",'Design Details'!B$46,IF($B$3=\"Mid-floor\",'Design Details'!B$56,IF($B$3=\"Upper floor\",'Design Details'!B$66,IF($B$3=\"Single Storey\",'Design Details'!B$76,0))))","v":0},3,0,{"$f":"F37*H37*$C$7*24/1000","v":0}]
["Width (m)",null,"Height (m)",null,"Area (m²)",0,"U Value (W/m²K)",{"$f":"IF($B$3=\"Ground floor\",'Design Details'!B$46,IF($B$3=\"Mid-floor\",'Design Details'!B$56,IF($B$3=\"Upper floor\",'Design Details'!B$66,IF($B$3=\"Single Storey\",'Design Details'!B$76,0))))","v":0},3,0,0]
["Width (m)",null,"Height (m)",null,"Area (m²)",0,"U Value (W/m²K)",{"$f":"IF($B$3=\"Ground floor\",'Design Details'!B$46,IF($B$3=\"Mid-floor\",'Design Details'!B$56,IF($B$3=\"Upper floor\",'Design Details'!B$66,IF($B$3=\"Single Storey\",'Design Details'!B$76,0))))","v":0},3,0,0]
["Width (m)",null,"Height (m)",null,"Area (m²)",0,"U Value (W/m²K)",{"$f":"IF($B$3=\"Ground floor\",'Design Details'!B$46,IF($B$3=\"Mid-floor\",'Design Details'!B$56,IF($B$3=\"Upper floor\",'Design Details'!B$66,IF($B$3=\"Single Storey\",'Design Details'!B$76,0))))","v":0},3,0,0]
["Width (m)",null,"Height (m)",null,"Area (m²)",0,"U Value (W/m²K)",{"$f":"IF($B$3=\"Ground floor\",'Design Details'!B$46,IF($B$3=\"Mid-floor\",'Design Details'!B$56,IF($B$3=\"Upper floor\",'Design Details'!B$66,IF($B$3=\"Single Storey\",'Design Details'!B$76,0))))","v":0},3,0,0]
["Width (m)",null,"Height (m)",null,"Area (m²)",0,"U Value (W/m²K)",{"$f":"IF($B$3=\"Ground floor\",'Design Details'!B$46,IF($B$3=\"Mid-floor\",'Design Details'!B$56,IF($B$3=\"Upper floor\",'Design Details'!B$66,IF($B$3=\"Single Storey\",'Design Details'!B$76,0))))","v":0},3,0,0]
["Width (m)",null,"Height (m)",null,"Area (m²)",0,"U Value (W/m²K)",{"$f":"IF($B$3=\"Ground floor\",'Design Details'!B$46,IF($B$3=\"Mid-floor\",'Design Details'!B$56,IF($B$3=\"Upper floor\",'Design Details'!B$66,IF($B$3=\"Single Storey\",'Design Details'!B$76,0))))","v":0},3,0,0]
["Roof Glazing"]
["Width (m)",null,"Height (m)",null,"Area (m²)",0,"U Value (W/m²K)",{"$f":"IF($B$3=\"Ground floor\",'Design Details'!B$53,IF($B$3=\"Mid-floor\",'Design Details'!B$63,IF($B$3=\"Upper floor\",'Design Details'!B$73,IF($B$3=\"Single Storey\",'Design Details'!B$83,0))))","v":0},3,0,{"$f":"F45*H45*$C$7*24/1000","v":0}]
["Width (m)",null,"Height (m)",null,"Area (m²)",0,"U Value (W/m²K)",{"$f":"IF($B$3=\"Ground floor\",'Design Details'!B$53,IF($B$3=\"Mid-floor\",'Design Details'!B$63,IF($B$3=\"Upper floor\",'Design Details'!B$73,IF($B$3=\"Single Storey\",'Design Details'!B$83,0))))","v":0},3,0,{"$f":"F46*H46*$C$7*24/1000","v":0}]
["Width (m)",null,"Height (m)",null,"Area (m²)",0,"U Value (W/m²K)",{"$f":"IF($B$3=\"Ground floor\",'Design Details'!B$53,IF($B$3=\"Mid-floor\",'Design Details'!B$63,IF($B$3=\"Upper floor\",'Design Details'!B$73,IF($B$3=\"Single Storey\",'Design Details'!B$83,0))))","v":0},3,0,{"$f":"F47*H47*$C$7*24/1000","v":0}]
["Width (m)",null,"Height (m)",null,"Area (m²)",0,"U Value (W/m²K)",{"$f":"IF($B$3=\"Ground floor\",'Design Details'!B$53,IF($B$3=\"Mid-floor\",'Design Details'!B$63,IF($B$3=\"Upper floor\",'Design Details'!B$73,IF($B$3=\"Single Storey\",'Design Details'!B$83,0))))","v":0},3,0,{"$f":"F48*H48*$C$7*24/1000","v":0}]
["Doors"]
["Width (m)",null,"Height (m)",null,"Area (m²)",0,"U Value (W/m²K)",{"$f":"IF($B$3=\"Ground floor\",'Design Details'!B$47,IF($B$3=\"Mid-floor\",'Design Details'!B$57,IF($B$3=\"Upper floor\",'Design Details'!B$67,IF($B$3=\"Single Storey\",'Design Details'!B$77,0))))","v":0},3,0,{"$f":"F50*H50*$C$7*24/1000","v":0}]
["Width (m)",null,"Height (m)",null,"Area (m²)",0,"U Value (W/m²K)",{"$f":"IF($B$3=\"Ground floor\",'Design Details'!B$47,IF($B$3=\"Mid-floor\",'Design Details'!B$57,IF($B$3=\"Upper floor\",'Design Details'!B$67,IF($B$3=\"Single Storey\",'Design Details'!B$77,0))))","v":0},3,0,{"$f":"F51*H51*$C$7*24/1000","v":0}]
["Width (m)",null,"Height (m)",null,"Area (m²)",0,"U Value (W/m²K)",{"$f":"IF($B$3=\"Ground floor\",'Design Details'!B$47,IF($B$3=\"Mid-floor\",'Design Details'!B$57,IF($B$3=\"Upper floor\",'Design Details'!B$67,IF($B$3=\"Single Storey\",'Design Details'!B$77,0))))","v":0},3,0,{"$f":"F52*H52*$C$7*24/1000","v":0}]
["Width (m)",null,"Height (m)",null,"Area (m²)",0,"U Value (W/m²K)",{"$f":"IF($B$3=\"Ground floor\",'Design Details'!B$47,IF($B$3=\"Mid-floor\",'Design Details'!B$57,IF($B$3=\"Upper floor\",'Design Details'!B$67,IF($B$3=\"Single Storey\",'Design Details'!B$77,0))))","v":0},3,0,{"$f":"F53*H53*$C$7*24/1000","v":0}]
["Internal Walls",null,null,null,null,null,null,null,null,null,null,"Adjoining Room Temp (°C)"]
["Length (m)",null,"Height (m)",null,"Area (m²)",0,"U Value (W/m²K)",{"$f":"IF($B$3=\"Ground floor\",'Design Details'!B$51,IF($B$3=\"Mid-floor\",'Design Details'!B$61,IF($B$3=\"Upper floor\",'Design Details'!B$71,IF($B$3=\"Single Storey\",'Design Details'!B$81,0))))","v":0},{"$f":"IF(L55=\"\",0,IF(L55=\"unheated\",C$4-10,C$4-L55))","v":0},0]
["Length (m)",null,"Height (m)",null,"Area (m²)",0,"U Value (W/m²K)",{"$f":"IF($B$3=\"Ground floor\",'Design Details'!B$51,IF($B$3=\"Mid-floor\",'Design Details'!B$61,IF($B$3=\"Upper floor\",'Design Details'!B$71,IF($B$3=\"Single Storey\",'Design Details'!B$81,0))))","v":0},{"$f":"IF(L56=\"\",0,IF(L56=\"unheated\",C$4-10,C$4-L56))","v":0},0]
["Length (m)",null,"Height (m)",null,"Area (m²)",0,"U Value (W/m²K)",{"$f":"IF($B$3=\"Ground floor\",'Design Details'!B$51,IF($B$3=\"Mid-floor\",'Design Details'!B$61,IF($B$3=\"Upper floor\",'Design Details'!B$71,IF($B$3=\"Single Storey\",'Design Details'!B$81,0))))","v":0},{"$f":"IF(L57=\"\",0,IF(L57=\"unheated\",C$4-10,C$4-L57))","v":0},0]
["Length (m)",null,"Height (m)",null,"Area (m²)",0,"U Value (W/m²K)",{"$f":"IF($B$3=\"Ground floor\",'Design Details'!B$51,IF($B$3=\"Mid-floor\",'Design Details'!B$61,IF($B$3=\"Upper floor\",'Design Details'!B$71,IF($B$3=\"Single Storey\",'Design Details'!B$81,0))))","v":0},{"$f":"IF(L58=\"\",0,IF(L58=\"unheated\",C$4-10,C$4-L58))","v":0},0]
["Party Wall"]
["Length (m)",null,"Height (m)",null,"Area (m²)",0,"U Value (W/m²K)",{"$f":"IF($B$3=\"Ground floor\",'Design Details'!B$52,IF($B$3=\"Mid-floor\",'Design Details'!B$62,IF($B$3=\"Upper floor\",'Design Details'!B$72,IF($B$3=\"Single Storey\",'Design Details'!B$82,0))))","v":0},{"$f":"C4-10","v":-10},0,{"$f":"F60*H60*$C$7*24/1000","v":0}]

{"sheet":"22","index":39,"n_rows":60,"n_cols":24,"rows_kept":60,"cut":false,"hidden":false,"merged":[[2,1,2,2],[2,3,2,4],[0,0,0,2],[0,3,0,5],[0,9,0,10],[1,3,1,4],[3,0,3,1],[3,3,3,4],[4,0,4,1],[4,3,4,4],[5,0,5,1],[5,3,5,4],[57,11,57,13],[6,0,6,1],[18,11,18,13],[19,11,19,13],[53,11,53,13],[54,11,54,13],[55,11,55,13],[56,11,56,13],[30,11,30,13],[10,10,10,13],[9,10,9,13],[20,11,20,13],[21,11,21,13]]}
["Room Information",null,null,"Ventilation Heat Loss",null,null,"Fabric ","Heat Loss (W)"," Usage (kWh)","Additional heat loss",null,"Addition","Watts","kWh"]
["Room","-",null,"Air Changes a hour",null,{"$f":"'Design Details'!F108","v":0},"Floor",{"$f":"SUM(J20:J22)","v":0},{"$f":"SUM(K20:K22)","v":0},"Thermal Bridging (New Build >2006)",null,0,{"$f":"SUM(H$2:H$6)*L2","v":0},{"$f":"SUM(I$2:I$6)*L2","v":0},null,"3 edges (long single)","Level",null,null,null,null,null,null,1]
["Level",null,null,"Air Change Factor (W/m³K)",null,0.33,"Ext Wall",{"$f":"J27","v":0},{"$f":"K27","v":0},"Exposed location",null,0,{"$f":"SUM(H$2:H$6)*L3","v":0},{"$f":"SUM(I$2:I$6)*L3","v":0},null,"3 edges (short single)","Please Select Floor",{"$f":"IF($B$3=\"Ground floor\",\"Solid Floor (in contact with ground)\",IF($B$3=\"Single Storey\",\"Solid Floor (in contact with ground)\",\"n/a\"))","v":"n/a"},{"$f":"'Design Details'!B21","v":10},"unheated",0,0,0,2]
["Design Room Temp (°C)",null,{"$f":"'Design Details'!D108","v":0},"Total Volume (m³)",null,{"$f":"SUM(H10:H12,H14:H18)","v":0},"Roof",{"$f":"SUM(J32,J35)","v":0},{"$f":"SUM(K32,K35)","v":0},"High ceiling",null,0,{"$f":"SUM(H$2:H$6)*L4","v":0},{"$f":"SUM(I$2:I$6)*L4","v":0},null,"One edge","Ground floor",{"$f":"IF($B$3=\"Ground floor\",\"Suspended Floor\",IF($B$3=\"Single Storey\",\"Suspended Floor\",\"n/a\"))","v":"n/a"},null,16,0.1,0.2,2.5000000000000001E-2,3]
["Outside Design Temp (°C)",null,{"$f":"'Design Details'!B19","v":-3},"Heat loss (W)",null,{"$f":"F4*F3*C6*F2","v":0},"Glazing",{"$f":"SUM(J37:J43,J45:J48,J50:J53)","v":0},{"$f":"SUM(K37:K43,K45:K48,K50:K53)","v":0},"Intermittent heating",null,0,{"$f":"SUM(H$2:H$6)*L5","v":0},{"$f":"SUM(I$2:I$6)*L5","v":0},null,"Two adjacent","Mid-floor",null,null,18,null,null,0.05,4]
["Temp Difference (°C)",null,{"$f":"C4-C5","v":3},"Estimated Energy usage (kWh)",null,{"$f":"F4*F3*C7*24/1000","v":0},"Int./Party Wall",{"$f":"SUM(J55:J58,J60)","v":0},{"$f":"SUM(K60)","v":0},null,null,null,"Total Room Heat Loss (W)",{"$f":"SUM(F5,H2:H6,M2:M5)","v":0},null,"Two opposite","Single storey",null,null,21,null,null,7.4999999999999997E-2,5]
["Degree Days",null,{"$f":"'Design Details'!B20","v":2228},null,null,null,null,null,null,null,null,null,"Total Room Energy Usage (kWh)",{"$f":"SUM(F6,I2:I6,N2:N5)","v":0},null,null,"Upper floor",null,null,22,null,null,0.1,6]
[null,null,null,null,null,null,null,null,null,null,null,null,null,null,null,null,{"$f":"IF($B$3=\"Ground floor\",'Design Details'!B$45,IF($B$3=\"Mid-floor\",'Design Details'!B$55,IF($B$3=\"Upper floor\",'Design Details'!B$65,IF($B$3=\"Single Storey\",'Design Details'!B$75,0))))","v":0},null,null,null,null,null,null,7]
["Room Dimensions",null,null,null,null,null,null,null,null,null,null,null,null,null,null,null,null,null,null,null,null,null,null,8]
["Length (m)",null,"Width (m)",null,"Height (m)",null,"Volume (m³)",{"$f":"B10*D10*F10","v":0},null,null,null,null,null,null,null,null,null,null,null,null,null,null,null,9]
["Length (m)",null,"Width (m)",null,"Height (m)",null,"Volume (m³)",{"$f":"B11*D11*F11","v":0},null,null,null,null,null,null,null,null,null,null,null,null,null,null,null,10]
["Length (m)",null,"Width (m)",null,"Height (m)",null,"Volume (m³)",{"$f":"B12*D12*F12","v":0}]
["Awkward Room Dimensions"]
["Length (m)",null,"Width (m)",null,"Height (m)",null,"Volume (m³)",{"$f":"((F14*D14)/2)*B14","v":0},"Pitched"]
["Length (m)",null,"Width (m)",null,"Height (m)",null,"Volume (m³)",{"$f":"B15*D15*F15/2","v":0},"Single Pitch"]
["Length (m)",null,"Height (m)",null,"Depth (m)",null,"Volume (m³)",{"$f":"D16*F16*B16/2","v":0},"Dormer 1"]
["Length (m)",null,"Height (m)",null,"Depth (m)",null,"Volume (m³)",{"$f":"D17*F17*B17/2","v":0},"Dormer 2"]
["Length (m)",null,"Height (m)",null,"Depth (m)",null,"Volume (m³)",{"$f":"D18*F18*B18/2","v":0},"Dormer 3"]
["Floor",null,null,null,null,null,null,null,"Temp Difference","Heat Loss (W)","Usage (kWh)","Type of Ground Floor"]
["Length (m)",null,"Width (m)",null,"Area (m²)",{"$f":"B20*D20","v":0},"U Value (W/m²K)",{"$f":"IF(L22=\"\",Q8,'floor u values'!K23)","v":0},{"$f":"IF(B$3=\"Ground Floor\",IF(L20=\"Solid Floor (in contact with ground)\",C$4-S$3,C$4-C$5),IF(B$3=\"Single Storey\",IF(L20=\"Solid Floor (in contact with ground)\",C$4-S$3,C$4-C$5),0))","v":0},{"$f":"F20*H20*I20","v":0},{"$f":"IF($B$3=$Q$5,0,IF($B$3=$Q$7,0,F20*H20*$C$7*24/1000))","v":0}]
["Length (m)",null,"Width (m)",null,"Area (m²)",{"$f":"B21*D21","v":0},"U Value (W/m²K)",{"$f":"H20","v":0},{"$f":"IF(B$3=\"Ground Floor\",IF(L20=\"Solid Floor (in contact with ground)\",C$4-S$3,C$4-C$5),IF(B$3=\"Single Storey\",IF(L20=\"Solid Floor (in contact with ground)\",C$4-S$3,C$4-C$5),0))","v":0},{"$f":"F21*H21*I21","v":0},{"$f":"IF($B$3=$Q$5,0,IF($B$3=$Q$7,0,F21*H21*$C$7*24/1000))","v":0},"Exposed floor (external)"]
["Length (m)",null,"Width (m)",null,"Area (m²)",0,"U Value (W/m²K)",{"$f":"H20","v":0},{"$f":"IF(B$3=\"Ground Floor\",IF(L20=\"Solid Floor (in contact with ground)\",C$4-S$3,C$4-C$5),IF(B$3=\"Single Storey\",IF(L20=\"Solid Floor (in contact with ground)\",C$4-S$3,C$4-C$5),0))","v":0},{"$f":"F22*H22*I22","v":0},{"$f":"IF($B$3=$Q$5,0,IF($B$3=$Q$7,0,F22*H22*$C$7*24/1000))","v":0}]
["External Wall",null,null,null,null,null,null,null,null,null,null,{"$f":"IF(L22=\"Two opposite\",\"Between edges\",IF(L22=\"One edge\",\"Depth of room\",IF(L22=\"3 edges (short single)\",\"Short length\",IF(L22=\"3 edges (long single)\",\"Short length\",\"\"))))","v":""},null,{"$f":"IF(L22=\"3 edges (short single)\",\"Long length\",IF(L22=\"3 edges (long single)\",\"Long length\",\"\"))","v":""}]
["Length (m)",null,"Height (m)",null,"Area (m²)",0]
["Length (m)",null,"Height (m)",null,"Area (m²)",0]
["Length (m)",null,"Height (m)",null,"Area (m²)",0]
[null,null,null,"Total","Area (m²)",{"$f":"SUM(F24:F26)-SUM(F37:F43,F50:F53)","v":0},"U Value (W/m²K)",{"$f":"IF($B$3=\"Ground floor\",'Design Details'!B$48,IF($B$3=\"Mid-floor\",'Design Details'!B$58,IF($B$3=\"Upper floor\",'Design Details'!B$68,IF($B$3=\"Single Storey\",'Design Details'!B$78,0))))","v":0},{"$f":"$C$6","v":3},{"$f":"F27*H27*I27","v":0},{"$f":"F27*H27*$C$7*24/1000","v":0}]
["Roof"]
["Length (m)",null,"Width (m)",null,"Area (m²)",0]
["Length (m)",null,"Width (m)",null,"Area (m²)",0]
["Length (m)",null,"Width (m)",null,"Area (m²)",0]
[null,null,null,"Total","Area (m²)",{"$f":"SUM(F29:F31)-SUM(F45:F48)","v":0},"U Value (W/m²K)",{"$f":"IF($B$3=\"Ground floor\",'Design Details'!B$49,IF($B$3=\"Mid-floor\",'Design Details'!B$59,IF($B$3=\"Upper floor\",'Design Details'!B$69,IF($B$3=\"Single Storey\",'Design Details'!B$79,0))))","v":0},{"$f":"$C$6","v":3},0,{"$f":"IF($B$3=$Q$4,0,IF($B$3=$Q$5,0,F32*H32*$C$7*24/1000))","v":0}]
["Length (m)",null,"Pitch (m)",null,"Area (m²)",0,"Pitched"]
["Length (m)",null,"Pitch (m)",null,"Area (m²)",0,"Single Pitch"]
[null,null,null,"Total","Area (m²)",{"$f":"SUM(F33:F34)-SUM(F45:F48)","v":0},"U Value (W/m²K)",{"$f":"IF($B$3=\"Ground floor\",'Design Details'!B$50,IF($B$3=\"Mid-floor\",'Design Details'!B$60,IF($B$3=\"Upper floor\",'Design Details'!B$70,IF($B$3=\"Single Storey\",'Design Details'!B$80,0))))","v":0},3,0,{"$f":"IF($B$3=$Q$4,0,IF($B$3=$Q$5,0,F35*H35*$C$7*24/1000))","v":0}]
["Windows"]
["Width (m)",null,"Height (m)",null,"Area (m²)",0,"U Value (W/m²K)",{"$f":"IF($B$3=\"Ground floor\",'Design Details'!B$46,IF($B$3=\"Mid-floor\",'Design Details'!B$56,IF($B$3=\"Upper floor\",'Design Details'!B$66,IF($B$3=\"Single Storey\",'Design Details'!B$76,0))))","v":0},3,0,{"$f":"F37*H37*$C$7*24/1000","v":0}]
["Width (m)",null,"Height (m)",null,"Area (m²)",0,"U Value (W/m²K)",{"$f":"IF($B$3=\"Ground floor\",'Design Details'!B$46,IF($B$3=\"Mid-floor\",'Design Details'!B$56,IF($B$3=\"Upper floor\",'Design Details'!B$66,IF($B$3=\"Single Storey\",'Design Details'!B$76,0))))","v":0},3,0,0]
["Width (m)",null,"Height (m)",null,"Area (m²)",0,"U Value (W/m²K)",{"$f":"IF($B$3=\"Ground floor\",'Design Details'!B$46,IF($B$3=\"Mid-floor\",'Design Details'!B$56,IF($B$3=\"Upper floor\",'Design Details'!B$66,IF($B$3=\"Single Storey\",'Design Details'!B$76,0))))","v":0},3,0,0]
["Width (m)",null,"Height (m)",null,"Area (m²)",0,"U Value (W/m²K)",{"$f":"IF($B$3=\"Ground floor\",'Design Details'!B$46,IF($B$3=\"Mid-floor\",'Design Details'!B$56,IF($B$3=\"Upper floor\",'Design Details'!B$66,IF($B$3=\"Single Storey\",'Design Details'!B$76,0))))","v":0},3,0,0]
["Width (m)",null,"Height (m)",null,"Area (m²)",0,"U Value (W/m²K)",{"$f":"IF($B$3=\"Ground floor\",'Design Details'!B$46,IF($B$3=\"Mid-floor\",'Design Details'!B$56,IF($B$3=\"Upper floor\",'Design Details'!B$66,IF($B$3=\"Single Storey\",'Design Details'!B$76,0))))","v":0},3,0,0]
["Width (m)",null,"Height (m)",null,"Area (m²)",0,"U Value (W/m²K)",{"$f":"IF($B$3=\"Ground floor\",'Design Details'!B$46,IF($B$3=\"Mid-floor\",'Design Details'!B$56,IF($B$3=\"Upper floor\",'Design Details'!B$66,IF($B$3=\"Single Storey\",'Design Details'!B$76,0))))","v":0},3,0,0]
["Width (m)",null,"Height (m)",null,"Area (m²)",0,"U Value (W/m²K)",{"$f":"IF($B$3=\"Ground floor\",'Design Details'!B$46,IF($B$3=\"Mid-floor\",'Design Details'!B$56,IF($B$3=\"Upper floor\",'Design Details'!B$66,IF($B$3=\"Single Storey\",'Design Details'!B$76,0))))","v":0},3,0,0]
["Roof Glazing"]
["Width (m)",null,"Height (m)",null,"Area (m²)",0,"U Value (W/m²K)",{"$f":"IF($B$3=\"Ground floor\",'Design Details'!B$53,IF($B$3=\"Mid-floor\",'Design Details'!B$63,IF($B$3=\"Upper floor\",'Design Details'!B$73,IF($B$3=\"Single Storey\",'Design Details'!B$83,0))))","v":0},3,0,{"$f":"F45*H45*$C$7*24/1000","v":0}]
["Width (m)",null,"Height (m)",null,"Area (m²)",0,"U Value (W/m²K)",{"$f":"IF($B$3=\"Ground floor\",'Design Details'!B$53,IF($B$3=\"Mid-floor\",'Design Details'!B$63,IF($B$3=\"Upper floor\",'Design Details'!B$73,IF($B$3=\"Single Storey\",'Design Details'!B$83,0))))","v":0},3,0,{"$f":"F46*H46*$C$7*24/1000","v":0}]
["Width (m)",null,"Height (m)",null,"Area (m²)",0,"U Value (W/m²K)",{"$f":"IF($B$3=\"Ground floor\",'Design Details'!B$53,IF($B$3=\"Mid-floor\",'Design Details'!B$63,IF($B$3=\"Upper floor\",'Design Details'!B$73,IF($B$3=\"Single Storey\",'Design Details'!B$83,0))))","v":0},3,0,{"$f":"F47*H47*$C$7*24/1000","v":0}]
["Width (m)",null,"Height (m)",null,"Area (m²)",0,"U Value (W/m²K)",{"$f":"IF($B$3=\"Ground floor\",'Design Details'!B$53,IF($B$3=\"Mid-floor\",'Design Details'!B$63,IF($B$3=\"Upper floor\",'Design Details'!B$73,IF($B$3=\"Single Storey\",'Design Details'!B$83,0))))","v":0},3,0,{"$f":"F48*H48*$C$7*24/1000","v":0}]
["Doors"]
["Width (m)",null,"Height (m)",null,"Area (m²)",0,"U Value (W/m²K)",{"$f":"IF($B$3=\"Ground floor\",'Design Details'!B$47,IF($B$3=\"Mid-floor\",'Design Details'!B$57,IF($B$3=\"Upper floor\",'Design Details'!B$67,IF($B$3=\"Single Storey\",'Design Details'!B$77,0))))","v":0},3,0,{"$f":"F50*H50*$C$7*24/1000","v":0}]
["Width (m)",null,"Height (m)",null,"Area (m²)",0,"U Value (W/m²K)",{"$f":"IF($B$3=\"Ground floor\",'Design Details'!B$47,IF($B$3=\"Mid-floor\",'Design Details'!B$57,IF($B$3=\"Upper floor\",'Design Details'!B$67,IF($B$3=\"Single Storey\",'Design Details'!B$77,0))))","v":0},3,0,{"$f":"F51*H51*$C$7*24/1000","v":0}]
["Width (m)",null,"Height (m)",null,"Area (m²)",0,"U Value (W/m²K)",{"$f":"IF($B$3=\"Ground floor\",'Design Details'!B$47,IF($B$3=\"Mid-floor\",'Design Details'!B$57,IF($B$3=\"Upper floor\",'Design Details'!B$67,IF($B$3=\"Single Storey\",'Design Details'!B$77,0))))","v":0},3,0,{"$f":"F52*H52*$C$7*24/1000","v":0}]
["Width (m)",null,"Height (m)",null,"Area (m²)",0,"U Value (W/m²K)",{"$f":"IF($B$3=\"Ground floor\",'Design Details'!B$47,IF($B$3=\"Mid-floor\",'Design Details'!B$57,IF($B$3=\"Upper floor\",'Design Details'!B$67,IF($B$3=\"Single Storey\",'Design Details'!B$77,0))))","v":0},3,0,{"$f":"F53*H53*$C$7*24/1000","v":0}]
["Internal Walls",null,null,null,null,null,null,null,null,null,null,"Adjoining Room Temp (°C)"]
["Length (m)",null,"Height (m)",null,"Area (m²)",0,"U Value (W/m²K)",{"$f":"IF($B$3=\"Ground floor\",'Design Details'!B$51,IF($B$3=\"Mid-floor\",'Design Details'!B$61,IF($B$3=\"Upper floor\",'Design Details'!B$71,IF($B$3=\"Single Storey\",'Design Details'!B$81,0))))","v":0},{"$f":"IF(L55=\"\",0,IF(L55=\"unheated\",C$4-10,C$4-L55))","v":0},0]
["Length (m)",null,"Height (m)",null,"Area (m²)",0,"U Value (W/m²K)",{"$f":"IF($B$3=\"Ground floor\",'Design Details'!B$51,IF($B$3=\"Mid-floor\",'Design Details'!B$61,IF($B$3=\"Upper floor\",'Design Details'!B$71,IF($B$3=\"Single Storey\",'Design Details'!B$81,0))))","v":0},{"$f":"IF(L56=\"\",0,IF(L56=\"unheated\",C$4-10,C$4-L56))","v":0},0]
["Length (m)",null,"Height (m)",null,"Area (m²)",0,"U Value (W/m²K)",{"$f":"IF($B$3=\"Ground floor\",'Design Details'!B$51,IF($B$3=\"Mid-floor\",'Design Details'!B$61,IF($B$3=\"Upper floor\",'Design Details'!B$71,IF($B$3=\"Single Storey\",'Design Details'!B$81,0))))","v":0},{"$f":"IF(L57=\"\",0,IF(L57=\"unheated\",C$4-10,C$4-L57))","v":0},0]
["Length (m)",null,"Height (m)",null,"Area (m²)",0,"U Value (W/m²K)",{"$f":"IF($B$3=\"Ground floor\",'Design Details'!B$51,IF($B$3=\"Mid-floor\",'Design Details'!B$61,IF($B$3=\"Upper floor\",'Design Details'!B$71,IF($B$3=\"Single Storey\",'Design Details'!B$81,0))))","v":0},{"$f":"IF(L58=\"\",0,IF(L58=\"unheated\",C$4-10,C$4-L58))","v":0},0]
["Party Wall"]
["Length (m)",null,"Height (m)",null,"Area (m²)",0,"U Value (W/m²K)",{"$f":"IF($B$3=\"Ground floor\",'Design Details'!B$52,IF($B$3=\"Mid-floor\",'Design Details'!B$62,IF($B$3=\"Upper floor\",'Design Details'!B$72,IF($B$3=\"Single Storey\",'Design Details'!B$82,0))))","v":0},{"$f":"C4-10","v":-10},0,{"$f":"F60*H60*$C$7*24/1000","v":0}]

{"sheet":"23","index":40,"n_rows":60,"n_cols":24,"rows_kept":60,"cut":false,"hidden":false,"merged":[[2,1,2,2],[2,3,2,4],[0,0,0,2],[0,3,0,5],[0,9,0,10],[1,3,1,4],[3,0,3,1],[3,3,3,4],[4,0,4,1],[4,3,4,4],[5,0,5,1],[5,3,5,4],[57,11,57,13],[6,0,6,1],[18,11,18,13],[19,11,19,13],[53,11,53,13],[54,11,54,13],[55,11,55,13],[56,11,56,13],[30,11,30,13],[10,10,10,13],[9,10,9,13],[20,11,20,13],[21,11,21,13]]}
["Room Information",null,null,"Ventilation Heat Loss",null,null,"Fabric ","Heat Loss (W)"," Usage (kWh)","Additional heat loss",null,"Addition","Watts","kWh"]
["Room","-",null,"Air Changes a hour",null,{"$f":"'Design Details'!F109","v":0},"Floor",{"$f":"SUM(J20:J22)","v":0},{"$f":"SUM(K20:K22)","v":0},"Thermal Bridging (New Build >2006)",null,0,{"$f":"SUM(H$2:H$6)*L2","v":0},{"$f":"SUM(I$2:I$6)*L2","v":0},null,"3 edges (long single)","Level",null,null,null,null,null,null,1]
["Level",null,null,"Air Change Factor (W/m³K)",null,0.33,"Ext Wall",{"$f":"J27","v":0},{"$f":"K27","v":0},"Exposed location",null,0,{"$f":"SUM(H$2:H$6)*L3","v":0},{"$f":"SUM(I$2:I$6)*L3","v":0},null,"3 edges (short single)","Please Select Floor",{"$f":"IF($B$3=\"Ground floor\",\"Solid Floor (in contact with ground)\",IF($B$3=\"Single Storey\",\"Solid Floor (in contact with ground)\",\"n/a\"))","v":"n/a"},{"$f":"'Design Details'!B21","v":10},"unheated",0,0,0,2]
["Design Room Temp (°C)",null,{"$f":"'Design Details'!D109","v":0},"Total Volume (m³)",null,{"$f":"SUM(H10:H12,H14:H18)","v":0},"Roof",{"$f":"SUM(J32,J35)","v":0},{"$f":"SUM(K32,K35)","v":0},"High ceiling",null,0,{"$f":"SUM(H$2:H$6)*L4","v":0},{"$f":"SUM(I$2:I$6)*L4","v":0},null,"One edge","Ground floor",{"$f":"IF($B$3=\"Ground floor\",\"Suspended Floor\",IF($B$3=\"Single Storey\",\"Suspended Floor\",\"n/a\"))","v":"n/a"},null,16,0.1,0.2,2.5000000000000001E-2,3]
["Outside Design Temp (°C)",null,{"$f":"'Design Details'!B19","v":-3},"Heat loss (W)",null,{"$f":"F4*F3*C6*F2","v":0},"Glazing",{"$f":"SUM(J37:J43,J45:J48,J50:J53)","v":0},{"$f":"SUM(K37:K43,K45:K48,K50:K53)","v":0},"Intermittent heating",null,0,{"$f":"SUM(H$2:H$6)*L5","v":0},{"$f":"SUM(I$2:I$6)*L5","v":0},null,"Two adjacent","Mid-floor",null,null,18,null,null,0.05,4]
["Temp Difference (°C)",null,{"$f":"C4-C5","v":3},"Estimated Energy usage (kWh)",null,{"$f":"F4*F3*C7*24/1000","v":0},"Int./Party Wall",{"$f":"SUM(J55:J58,J60)","v":0},{"$f":"SUM(K60)","v":0},null,null,null,"Total Room Heat Loss (W)",{"$f":"SUM(F5,H2:H6,M2:M5)","v":0},null,"Two opposite","Single storey",null,null,21,null,null,7.4999999999999997E-2,5]
["Degree Days",null,{"$f":"'Design Details'!B20","v":2228},null,null,null,null,null,null,null,null,null,"Total Room Energy Usage (kWh)",{"$f":"SUM(F6,I2:I6,N2:N5)","v":0},null,null,"Upper floor",null,null,22,null,null,0.1,6]
[null,null,null,null,null,null,null,null,null,null,null,null,null,null,null,null,{"$f":"IF($B$3=\"Ground floor\",'Design Details'!B$45,IF($B$3=\"Mid-floor\",'Design Details'!B$55,IF($B$3=\"Upper floor\",'Design Details'!B$65,IF($B$3=\"Single Storey\",'Design Details'!B$75,0))))","v":0},null,null,null,null,null,null,7]
["Room Dimensions",null,null,null,null,null,null,null,null,null,null,null,null,null,null,null,null,null,null,null,null,null,null,8]
["Length (m)",null,"Width (m)",null,"Height (m)",null,"Volume (m³)",{"$f":"B10*D10*F10","v":0},null,null,null,null,null,null,null,null,null,null,null,null,null,null,null,9]
["Length (m)",null,"Width (m)",null,"Height (m)",null,"Volume (m³)",{"$f":"B11*D11*F11","v":0},null,null,null,null,null,null,null,null,null,null,null,null,null,null,null,10]
["Length (m)",null,"Width (m)",null,"Height (m)",null,"Volume (m³)",{"$f":"B12*D12*F12","v":0}]
["Awkward Room Dimensions"]
["Length (m)",null,"Width (m)",null,"Height (m)",null,"Volume (m³)",{"$f":"((F14*D14)/2)*B14","v":0},"Pitched"]
["Length (m)",null,"Width (m)",null,"Height (m)",null,"Volume (m³)",{"$f":"B15*D15*F15/2","v":0},"Single Pitch"]
["Length (m)",null,"Height (m)",null,"Depth (m)",null,"Volume (m³)",{"$f":"D16*F16*B16/2","v":0},"Dormer 1"]
["Length (m)",null,"Height (m)",null,"Depth (m)",null,"Volume (m³)",{"$f":"D17*F17*B17/2","v":0},"Dormer 2"]
["Length (m)",null,"Height (m)",null,"Depth (m)",null,"Volume (m³)",{"$f":"D18*F18*B18/2","v":0},"Dormer 3"]
["Floor",null,null,null,null,null,null,null,"Temp Difference","Heat Loss (W)","Usage (kWh)","Type of Ground Floor"]
["Length (m)",null,"Width (m)",null,"Area (m²)",{"$f":"B20*D20","v":0},"U Value (W/m²K)",{"$f":"IF(L22=\"\",Q8,'floor u values'!K24)","v":0},{"$f":"IF(B$3=\"Ground Floor\",IF(L20=\"Solid Floor (in contact with ground)\",C$4-S$3,C$4-C$5),IF(B$3=\"Single Storey\",IF(L20=\"Solid Floor (in contact with ground)\",C$4-S$3,C$4-C$5),0))","v":0},{"$f":"F20*H20*I20","v":0},{"$f":"IF($B$3=$Q$5,0,IF($B$3=$Q$7,0,F20*H20*$C$7*24/1000))","v":0}]
["Length (m)",null,"Width (m)",null,"Area (m²)",{"$f":"B21*D21","v":0},"U Value (W/m²K)",{"$f":"H20","v":0},{"$f":"IF(B$3=\"Ground Floor\",IF(L20=\"Solid Floor (in contact with ground)\",C$4-S$3,C$4-C$5),IF(B$3=\"Single Storey\",IF(L20=\"Solid Floor (in contact with ground)\",C$4-S$3,C$4-C$5),0))","v":0},{"$f":"F21*H21*I21","v":0},{"$f":"IF($B$3=$Q$5,0,IF($B$3=$Q$7,0,F21*H21*$C$7*24/1000))","v":0},"Exposed floor (external)"]
["Length (m)",null,"Width (m)",null,"Area (m²)",0,"U Value (W/m²K)",{"$f":"H20","v":0},{"$f":"IF(B$3=\"Ground Floor\",IF(L20=\"Solid Floor (in contact with ground)\",C$4-S$3,C$4-C$5),IF(B$3=\"Single Storey\",IF(L20=\"Solid Floor (in contact with ground)\",C$4-S$3,C$4-C$5),0))","v":0},{"$f":"F22*H22*I22","v":0},{"$f":"IF($B$3=$Q$5,0,IF($B$3=$Q$7,0,F22*H22*$C$7*24/1000))","v":0}]
["External Wall",null,null,null,null,null,null,null,null,null,null,{"$f":"IF(L22=\"Two opposite\",\"Between edges\",IF(L22=\"One edge\",\"Depth of room\",IF(L22=\"3 edges (short single)\",\"Short length\",IF(L22=\"3 edges (long single)\",\"Short length\",\"\"))))","v":""},null,{"$f":"IF(L22=\"3 edges (short single)\",\"Long length\",IF(L22=\"3 edges (long single)\",\"Long length\",\"\"))","v":""}]
["Length (m)",null,"Height (m)",null,"Area (m²)",0]
["Length (m)",null,"Height (m)",null,"Area (m²)",0]
["Length (m)",null,"Height (m)",null,"Area (m²)",0]
[null,null,null,"Total","Area (m²)",{"$f":"SUM(F24:F26)-SUM(F37:F43,F50:F53)","v":0},"U Value (W/m²K)",{"$f":"IF($B$3=\"Ground floor\",'Design Details'!B$48,IF($B$3=\"Mid-floor\",'Design Details'!B$58,IF($B$3=\"Upper floor\",'Design Details'!B$68,IF($B$3=\"Single Storey\",'Design Details'!B$78,0))))","v":0},{"$f":"$C$6","v":3},{"$f":"F27*H27*I27","v":0},{"$f":"F27*H27*$C$7*24/1000","v":0}]
["Roof"]
["Length (m)",null,"Width (m)",null,"Area (m²)",0]
["Length (m)",null,"Width (m)",null,"Area (m²)",0]
["Length (m)",null,"Width (m)",null,"Area (m²)",0]
[null,null,null,"Total","Area (m²)",{"$f":"SUM(F29:F31)-SUM(F45:F48)","v":0},"U Value (W/m²K)",{"$f":"IF($B$3=\"Ground floor\",'Design Details'!B$49,IF($B$3=\"Mid-floor\",'Design Details'!B$59,IF($B$3=\"Upper floor\",'Design Details'!B$69,IF($B$3=\"Single Storey\",'Design Details'!B$79,0))))","v":0},{"$f":"$C$6","v":3},0,{"$f":"IF($B$3=$Q$4,0,IF($B$3=$Q$5,0,F32*H32*$C$7*24/1000))","v":0}]
["Length (m)",null,"Pitch (m)",null,"Area (m²)",0,"Pitched"]
["Length (m)",null,"Pitch (m)",null,"Area (m²)",0,"Single Pitch"]
[null,null,null,"Total","Area (m²)",{"$f":"SUM(F33:F34)-SUM(F45:F48)","v":0},"U Value (W/m²K)",{"$f":"IF($B$3=\"Ground floor\",'Design Details'!B$50,IF($B$3=\"Mid-floor\",'Design Details'!B$60,IF($B$3=\"Upper floor\",'Design Details'!B$70,IF($B$3=\"Single Storey\",'Design Details'!B$80,0))))","v":0},3,0,{"$f":"IF($B$3=$Q$4,0,IF($B$3=$Q$5,0,F35*H35*$C$7*24/1000))","v":0}]
["Windows"]
["Width (m)",null,"Height (m)",null,"Area (m²)",0,"U Value (W/m²K)",{"$f":"IF($B$3=\"Ground floor\",'Design Details'!B$46,IF($B$3=\"Mid-floor\",'Design Details'!B$56,IF($B$3=\"Upper floor\",'Design Details'!B$66,IF($B$3=\"Single Storey\",'Design Details'!B$76,0))))","v":0},3,0,{"$f":"F37*H37*$C$7*24/1000","v":0}]
["Width (m)",null,"Height (m)",null,"Area (m²)",0,"U Value (W/m²K)",{"$f":"IF($B$3=\"Ground floor\",'Design Details'!B$46,IF($B$3=\"Mid-floor\",'Design Details'!B$56,IF($B$3=\"Upper floor\",'Design Details'!B$66,IF($B$3=\"Single Storey\",'Design Details'!B$76,0))))","v":0},3,0,0]
["Width (m)",null,"Height (m)",null,"Area (m²)",0,"U Value (W/m²K)",{"$f":"IF($B$3=\"Ground floor\",'Design Details'!B$46,IF($B$3=\"Mid-floor\",'Design Details'!B$56,IF($B$3=\"Upper floor\",'Design Details'!B$66,IF($B$3=\"Single Storey\",'Design Details'!B$76,0))))","v":0},3,0,0]
["Width (m)",null,"Height (m)",null,"Area (m²)",0,"U Value (W/m²K)",{"$f":"IF($B$3=\"Ground floor\",'Design Details'!B$46,IF($B$3=\"Mid-floor\",'Design Details'!B$56,IF($B$3=\"Upper floor\",'Design Details'!B$66,IF($B$3=\"Single Storey\",'Design Details'!B$76,0))))","v":0},3,0,0]
["Width (m)",null,"Height (m)",null,"Area (m²)",0,"U Value (W/m²K)",{"$f":"IF($B$3=\"Ground floor\",'Design Details'!B$46,IF($B$3=\"Mid-floor\",'Design Details'!B$56,IF($B$3=\"Upper floor\",'Design Details'!B$66,IF($B$3=\"Single Storey\",'Design Details'!B$76,0))))","v":0},3,0,0]
["Width (m)",null,"Height (m)",null,"Area (m²)",0,"U Value (W/m²K)",{"$f":"IF($B$3=\"Ground floor\",'Design Details'!B$46,IF($B$3=\"Mid-floor\",'Design Details'!B$56,IF($B$3=\"Upper floor\",'Design Details'!B$66,IF($B$3=\"Single Storey\",'Design Details'!B$76,0))))","v":0},3,0,0]
["Width (m)",null,"Height (m)",null,"Area (m²)",0,"U Value (W/m²K)",{"$f":"IF($B$3=\"Ground floor\",'Design Details'!B$46,IF($B$3=\"Mid-floor\",'Design Details'!B$56,IF($B$3=\"Upper floor\",'Design Details'!B$66,IF($B$3=\"Single Storey\",'Design Details'!B$76,0))))","v":0},3,0,0]
["Roof Glazing"]
["Width (m)",null,"Height (m)",null,"Area (m²)",0,"U Value (W/m²K)",{"$f":"IF($B$3=\"Ground floor\",'Design Details'!B$53,IF($B$3=\"Mid-floor\",'Design Details'!B$63,IF($B$3=\"Upper floor\",'Design Details'!B$73,IF($B$3=\"Single Storey\",'Design Details'!B$83,0))))","v":0},3,0,{"$f":"F45*H45*$C$7*24/1000","v":0}]
["Width (m)",null,"Height (m)",null,"Area (m²)",0,"U Value (W/m²K)",{"$f":"IF($B$3=\"Ground floor\",'Design Details'!B$53,IF($B$3=\"Mid-floor\",'Design Details'!B$63,IF($B$3=\"Upper floor\",'Design Details'!B$73,IF($B$3=\"Single Storey\",'Design Details'!B$83,0))))","v":0},3,0,{"$f":"F46*H46*$C$7*24/1000","v":0}]
["Width (m)",null,"Height (m)",null,"Area (m²)",0,"U Value (W/m²K)",{"$f":"IF($B$3=\"Ground floor\",'Design Details'!B$53,IF($B$3=\"Mid-floor\",'Design Details'!B$63,IF($B$3=\"Upper floor\",'Design Details'!B$73,IF($B$3=\"Single Storey\",'Design Details'!B$83,0))))","v":0},3,0,{"$f":"F47*H47*$C$7*24/1000","v":0}]
["Width (m)",null,"Height (m)",null,"Area (m²)",0,"U Value (W/m²K)",{"$f":"IF($B$3=\"Ground floor\",'Design Details'!B$53,IF($B$3=\"Mid-floor\",'Design Details'!B$63,IF($B$3=\"Upper floor\",'Design Details'!B$73,IF($B$3=\"Single Storey\",'Design Details'!B$83,0))))","v":0},3,0,{"$f":"F48*H48*$C$7*24/1000","v":0}]
["Doors"]
["Width (m)",null,"Height (m)",null,"Area (m²)",0,"U Value (W/m²K)",{"$f":"IF($B$3=\"Ground floor\",'Design Details'!B$47,IF($B$3=\"Mid-floor\",'Design Details'!B$57,IF($B$3=\"Upper floor\",'Design Details'!B$67,IF($B$3=\"Single Storey\",'Design Details'!B$77,0))))","v":0},3,0,{"$f":"F50*H50*$C$7*24/1000","v":0}]
["Width (m)",null,"Height (m)",null,"Area (m²)",0,"U Value (W/m²K)",{"$f":"IF($B$3=\"Ground floor\",'Design Details'!B$47,IF($B$3=\"Mid-floor\",'Design Details'!B$57,IF($B$3=\"Upper floor\",'Design Details'!B$67,IF($B$3=\"Single Storey\",'Design Details'!B$77,0))))","v":0},3,0,{"$f":"F51*H51*$C$7*24/1000","v":0}]
["Width (m)",null,"Height (m)",null,"Area (m²)",0,"U Value (W/m²K)",{"$f":"IF($B$3=\"Ground floor\",'Design Details'!B$47,IF($B$3=\"Mid-floor\",'Design Details'!B$57,IF($B$3=\"Upper floor\",'Design Details'!B$67,IF($B$3=\"Single Storey\",'Design Details'!B$77,0))))","v":0},3,0,{"$f":"F52*H52*$C$7*24/1000","v":0}]
["Width (m)",null,"Height (m)",null,"Area (m²)",0,"U Value (W/m²K)",{"$f":"IF($B$3=\"Ground floor\",'Design Details'!B$47,IF($B$3=\"Mid-floor\",'Design Details'!B$57,IF($B$3=\"Upper floor\",'Design Details'!B$67,IF($B$3=\"Single Storey\",'Design Details'!B$77,0))))","v":0},3,0,{"$f":"F53*H53*$C$7*24/1000","v":0}]
["Internal Walls",null,null,null,null,null,null,null,null,null,null,"Adjoining Room Temp (°C)"]
["Length (m)",null,"Height (m)",null,"Area (m²)",0,"U Value (W/m²K)",{"$f":"IF($B$3=\"Ground floor\",'Design Details'!B$51,IF($B$3=\"Mid-floor\",'Design Details'!B$61,IF($B$3=\"Upper floor\",'Design Details'!B$71,IF($B$3=\"Single Storey\",'Design Details'!B$81,0))))","v":0},{"$f":"IF(L55=\"\",0,IF(L55=\"unheated\",C$4-10,C$4-L55))","v":0},0]
["Length (m)",null,"Height (m)",null,"Area (m²)",0,"U Value (W/m²K)",{"$f":"IF($B$3=\"Ground floor\",'Design Details'!B$51,IF($B$3=\"Mid-floor\",'Design Details'!B$61,IF($B$3=\"Upper floor\",'Design Details'!B$71,IF($B$3=\"Single Storey\",'Design Details'!B$81,0))))","v":0},{"$f":"IF(L56=\"\",0,IF(L56=\"unheated\",C$4-10,C$4-L56))","v":0},0]
["Length (m)",null,"Height (m)",null,"Area (m²)",0,"U Value (W/m²K)",{"$f":"IF($B$3=\"Ground floor\",'Design Details'!B$51,IF($B$3=\"Mid-floor\",'Design Details'!B$61,IF($B$3=\"Upper floor\",'Design Details'!B$71,IF($B$3=\"Single Storey\",'Design Details'!B$81,0))))","v":0},{"$f":"IF(L57=\"\",0,IF(L57=\"unheated\",C$4-10,C$4-L57))","v":0},0]
["Length (m)",null,"Height (m)",null,"Area (m²)",0,"U Value (W/m²K)",{"$f":"IF($B$3=\"Ground floor\",'Design Details'!B$51,IF($B$3=\"Mid-floor\",'Design Details'!B$61,IF($B$3=\"Upper floor\",'Design Details'!B$71,IF($B$3=\"Single Storey\",'Design Details'!B$81,0))))","v":0},{"$f":"IF(L58=\"\",0,IF(L58=\"unheated\",C$4-10,C$4-L58))","v":0},0]
["Party Wall"]
["Length (m)",null,"Height (m)",null,"Area (m²)",0,"U Value (W/m²K)",{"$f":"IF($B$3=\"Ground floor\",'Design Details'!B$52,IF($B$3=\"Mid-floor\",'Design Details'!B$62,IF($B$3=\"Upper floor\",'Design Details'!B$72,IF($B$3=\"Single Storey\",'Design Details'!B$82,0))))","v":0},{"$f":"C4-10","v":-10},0,{"$f":"F60*H60*$C$7*24/1000","v":0}]

{"sheet":"24","index":41,"n_rows":60,"n_cols":24,"rows_kept":60,"cut":false,"hidden":false,"merged":[[2,1,2,2],[2,3,2,4],[0,0,0,2],[0,3,0,5],[0,9,0,10],[1,3,1,4],[3,0,3,1],[3,3,3,4],[4,0,4,1],[4,3,4,4],[5,0,5,1],[5,3,5,4],[57,11,57,13],[6,0,6,1],[18,11,18,13],[19,11,19,13],[53,11,53,13],[54,11,54,13],[55,11,55,13],[56,11,56,13],[30,11,30,13],[10,10,10,13],[9,10,9,13],[20,11,20,13],[21,11,21,13]]}
["Room Information",null,null,"Ventilation Heat Loss",null,null,"Fabric ","Heat Loss (W)"," Usage (kWh)","Additional heat loss",null,"Addition","Watts","kWh"]
["Room","-",null,"Air Changes a hour",null,{"$f":"'Design Details'!F110","v":0},"Floor",{"$f":"SUM(J20:J22)","v":0},{"$f":"SUM(K20:K22)","v":0},"Thermal Bridging (New Build >2006)",null,0,{"$f":"SUM(H$2:H$6)*L2","v":0},{"$f":"SUM(I$2:I$6)*L2","v":0},null,"3 edges (long single)","Level",null,null,null,null,null,null,1]
["Level",null,null,"Air Change Factor (W/m³K)",null,0.33,"Ext Wall",{"$f":"J27","v":0},{"$f":"K27","v":0},"Exposed location",null,0,{"$f":"SUM(H$2:H$6)*L3","v":0},{"$f":"SUM(I$2:I$6)*L3","v":0},null,"3 edges (short single)","Please Select Floor",{"$f":"IF($B$3=\"Ground floor\",\"Solid Floor (in contact with ground)\",IF($B$3=\"Single Storey\",\"Solid Floor (in contact with ground)\",\"n/a\"))","v":"n/a"},{"$f":"'Design Details'!B21","v":10},"unheated",0,0,0,2]
["Design Room Temp (°C)",null,{"$f":"'Design Details'!D110","v":0},"Total Volume (m³)",null,{"$f":"SUM(H10:H12,H14:H18)","v":0},"Roof",{"$f":"SUM(J32,J35)","v":0},{"$f":"SUM(K32,K35)","v":0},"High ceiling",null,0,{"$f":"SUM(H$2:H$6)*L4","v":0},{"$f":"SUM(I$2:I$6)*L4","v":0},null,"One edge","Ground floor",{"$f":"IF($B$3=\"Ground floor\",\"Suspended Floor\",IF($B$3=\"Single Storey\",\"Suspended Floor\",\"n/a\"))","v":"n/a"},null,16,0.1,0.2,2.5000000000000001E-2,3]
["Outside Design Temp (°C)",null,{"$f":"'Design Details'!B19","v":-3},"Heat loss (W)",null,{"$f":"F4*F3*C6*F2","v":0},"Glazing",{"$f":"SUM(J37:J43,J45:J48,J50:J53)","v":0},{"$f":"SUM(K37:K43,K45:K48,K50:K53)","v":0},"Intermittent heating",null,0,{"$f":"SUM(H$2:H$6)*L5","v":0},{"$f":"SUM(I$2:I$6)*L5","v":0},null,"Two adjacent","Mid-floor",null,null,18,null,null,0.05,4]
["Temp Difference (°C)",null,{"$f":"C4-C5","v":3},"Estimated Energy usage (kWh)",null,{"$f":"F4*F3*C7*24/1000","v":0},"Int./Party Wall",{"$f":"SUM(J55:J58,J60)","v":0},{"$f":"SUM(K60)","v":0},null,null,null,"Total Room Heat Loss (W)",{"$f":"SUM(F5,H2:H6,M2:M5)","v":0},null,"Two opposite","Single storey",null,null,21,null,null,7.4999999999999997E-2,5]
["Degree Days",null,{"$f":"'Design Details'!B20","v":2228},null,null,null,null,null,null,null,null,null,"Total Room Energy Usage (kWh)",{"$f":"SUM(F6,I2:I6,N2:N5)","v":0},null,null,"Upper floor",null,null,22,null,null,0.1,6]
[null,null,null,null,null,null,null,null,null,null,null,null,null,null,null,null,{"$f":"IF($B$3=\"Ground floor\",'Design Details'!B$45,IF($B$3=\"Mid-floor\",'Design Details'!B$55,IF($B$3=\"Upper floor\",'Design Details'!B$65,IF($B$3=\"Single Storey\",'Design Details'!B$75,0))))","v":0},null,null,null,null,null,null,7]
["Room Dimensions",null,null,null,null,null,null,null,null,null,null,null,null,null,null,null,null,null,null,null,null,null,null,8]
["Length (m)",null,"Width (m)",null,"Height (m)",null,"Volume (m³)",{"$f":"B10*D10*F10","v":0},null,null,null,null,null,null,null,null,null,null,null,null,null,null,null,9]
["Length (m)",null,"Width (m)",null,"Height (m)",null,"Volume (m³)",{"$f":"B11*D11*F11","v":0},null,null,null,null,null,null,null,null,null,null,null,null,null,null,null,10]
["Length (m)",null,"Width (m)",null,"Height (m)",null,"Volume (m³)",{"$f":"B12*D12*F12","v":0}]
["Awkward Room Dimensions"]
["Length (m)",null,"Width (m)",null,"Height (m)",null,"Volume (m³)",{"$f":"((F14*D14)/2)*B14","v":0},"Pitched"]
["Length (m)",null,"Width (m)",null,"Height (m)",null,"Volume (m³)",{"$f":"B15*D15*F15/2","v":0},"Single Pitch"]
["Length (m)",null,"Height (m)",null,"Depth (m)",null,"Volume (m³)",{"$f":"D16*F16*B16/2","v":0},"Dormer 1"]
["Length (m)",null,"Height (m)",null,"Depth (m)",null,"Volume (m³)",{"$f":"D17*F17*B17/2","v":0},"Dormer 2"]
["Length (m)",null,"Height (m)",null,"Depth (m)",null,"Volume (m³)",{"$f":"D18*F18*B18/2","v":0},"Dormer 3"]
["Floor",null,null,null,null,null,null,null,"Temp Difference","Heat Loss (W)","Usage (kWh)","Type of Ground Floor"]
["Length (m)",null,"Width (m)",null,"Area (m²)",{"$f":"B20*D20","v":0},"U Value (W/m²K)",{"$f":"IF(L22=\"\",Q8,'floor u values'!K25)","v":0},{"$f":"IF(B$3=\"Ground Floor\",IF(L20=\"Solid Floor (in contact with ground)\",C$4-S$3,C$4-C$5),IF(B$3=\"Single Storey\",IF(L20=\"Solid Floor (in contact with ground)\",C$4-S$3,C$4-C$5),0))","v":0},{"$f":"F20*H20*I20","v":0},{"$f":"IF($B$3=$Q$5,0,IF($B$3=$Q$7,0,F20*H20*$C$7*24/1000))","v":0}]
["Length (m)",null,"Width (m)",null,"Area (m²)",{"$f":"B21*D21","v":0},"U Value (W/m²K)",{"$f":"H20","v":0},{"$f":"IF(B$3=\"Ground Floor\",IF(L20=\"Solid Floor (in contact with ground)\",C$4-S$3,C$4-C$5),IF(B$3=\"Single Storey\",IF(L20=\"Solid Floor (in contact with ground)\",C$4-S$3,C$4-C$5),0))","v":0},{"$f":"F21*H21*I21","v":0},{"$f":"IF($B$3=$Q$5,0,IF($B$3=$Q$7,0,F21*H21*$C$7*24/1000))","v":0},"Exposed floor (external)"]
["Length (m)",null,"Width (m)",null,"Area (m²)",0,"U Value (W/m²K)",{"$f":"H20","v":0},{"$f":"IF(B$3=\"Ground Floor\",IF(L20=\"Solid Floor (in contact with ground)\",C$4-S$3,C$4-C$5),IF(B$3=\"Single Storey\",IF(L20=\"Solid Floor (in contact with ground)\",C$4-S$3,C$4-C$5),0))","v":0},{"$f":"F22*H22*I22","v":0},{"$f":"IF($B$3=$Q$5,0,IF($B$3=$Q$7,0,F22*H22*$C$7*24/1000))","v":0}]
["External Wall",null,null,null,null,null,null,null,null,null,null,{"$f":"IF(L22=\"Two opposite\",\"Between edges\",IF(L22=\"One edge\",\"Depth of room\",IF(L22=\"3 edges (short single)\",\"Short length\",IF(L22=\"3 edges (long single)\",\"Short length\",\"\"))))","v":""},null,{"$f":"IF(L22=\"3 edges (short single)\",\"Long length\",IF(L22=\"3 edges (long single)\",\"Long length\",\"\"))","v":""}]
["Length (m)",null,"Height (m)",null,"Area (m²)",0]
["Length (m)",null,"Height (m)",null,"Area (m²)",0]
["Length (m)",null,"Height (m)",null,"Area (m²)",0]
[null,null,null,"Total","Area (m²)",{"$f":"SUM(F24:F26)-SUM(F37:F43,F50:F53)","v":0},"U Value (W/m²K)",{"$f":"IF($B$3=\"Ground floor\",'Design Details'!B$48,IF($B$3=\"Mid-floor\",'Design Details'!B$58,IF($B$3=\"Upper floor\",'Design Details'!B$68,IF($B$3=\"Single Storey\",'Design Details'!B$78,0))))","v":0},{"$f":"$C$6","v":3},{"$f":"F27*H27*I27","v":0},{"$f":"F27*H27*$C$7*24/1000","v":0}]
["Roof"]
["Length (m)",null,"Width (m)",null,"Area (m²)",0]
["Length (m)",null,"Width (m)",null,"Area (m²)",0]
["Length (m)",null,"Width (m)",null,"Area (m²)",0]
[null,null,null,"Total","Area (m²)",{"$f":"SUM(F29:F31)-SUM(F45:F48)","v":0},"U Value (W/m²K)",{"$f":"IF($B$3=\"Ground floor\",'Design Details'!B$49,IF($B$3=\"Mid-floor\",'Design Details'!B$59,IF($B$3=\"Upper floor\",'Design Details'!B$69,IF($B$3=\"Single Storey\",'Design Details'!B$79,0))))","v":0},{"$f":"$C$6","v":3},0,{"$f":"IF($B$3=$Q$4,0,IF($B$3=$Q$5,0,F32*H32*$C$7*24/1000))","v":0}]
["Length (m)",null,"Pitch (m)",null,"Area (m²)",0,"Pitched"]
["Length (m)",null,"Pitch (m)",null,"Area (m²)",0,"Single Pitch"]
[null,null,null,"Total","Area (m²)",{"$f":"SUM(F33:F34)-SUM(F45:F48)","v":0},"U Value (W/m²K)",{"$f":"IF($B$3=\"Ground floor\",'Design Details'!B$50,IF($B$3=\"Mid-floor\",'Design Details'!B$60,IF($B$3=\"Upper floor\",'Design Details'!B$70,IF($B$3=\"Single Storey\",'Design Details'!B$80,0))))","v":0},3,0,{"$f":"IF($B$3=$Q$4,0,IF($B$3=$Q$5,0,F35*H35*$C$7*24/1000))","v":0}]
["Windows"]
["Width (m)",null,"Height (m)",null,"Area (m²)",0,"U Value (W/m²K)",{"$f":"IF($B$3=\"Ground floor\",'Design Details'!B$46,IF($B$3=\"Mid-floor\",'Design Details'!B$56,IF($B$3=\"Upper floor\",'Design Details'!B$66,IF($B$3=\"Single Storey\",'Design Details'!B$76,0))))","v":0},3,0,{"$f":"F37*H37*$C$7*24/1000","v":0}]
["Width (m)",null,"Height (m)",null,"Area (m²)",0,"U Value (W/m²K)",{"$f":"IF($B$3=\"Ground floor\",'Design Details'!B$46,IF($B$3=\"Mid-floor\",'Design Details'!B$56,IF($B$3=\"Upper floor\",'Design Details'!B$66,IF($B$3=\"Single Storey\",'Design Details'!B$76,0))))","v":0},3,0,0]
["Width (m)",null,"Height (m)",null,"Area (m²)",0,"U Value (W/m²K)",{"$f":"IF($B$3=\"Ground floor\",'Design Details'!B$46,IF($B$3=\"Mid-floor\",'Design Details'!B$56,IF($B$3=\"Upper floor\",'Design Details'!B$66,IF($B$3=\"Single Storey\",'Design Details'!B$76,0))))","v":0},3,0,0]
["Width (m)",null,"Height (m)",null,"Area (m²)",0,"U Value (W/m²K)",{"$f":"IF($B$3=\"Ground floor\",'Design Details'!B$46,IF($B$3=\"Mid-floor\",'Design Details'!B$56,IF($B$3=\"Upper floor\",'Design Details'!B$66,IF($B$3=\"Single Storey\",'Design Details'!B$76,0))))","v":0},3,0,0]
["Width (m)",null,"Height (m)",null,"Area (m²)",0,"U Value (W/m²K)",{"$f":"IF($B$3=\"Ground floor\",'Design Details'!B$46,IF($B$3=\"Mid-floor\",'Design Details'!B$56,IF($B$3=\"Upper floor\",'Design Details'!B$66,IF($B$3=\"Single Storey\",'Design Details'!B$76,0))))","v":0},3,0,0]
["Width (m)",null,"Height (m)",null,"Area (m²)",0,"U Value (W/m²K)",{"$f":"IF($B$3=\"Ground floor\",'Design Details'!B$46,IF($B$3=\"Mid-floor\",'Design Details'!B$56,IF($B$3=\"Upper floor\",'Design Details'!B$66,IF($B$3=\"Single Storey\",'Design Details'!B$76,0))))","v":0},3,0,0]
["Width (m)",null,"Height (m)",null,"Area (m²)",0,"U Value (W/m²K)",{"$f":"IF($B$3=\"Ground floor\",'Design Details'!B$46,IF($B$3=\"Mid-floor\",'Design Details'!B$56,IF($B$3=\"Upper floor\",'Design Details'!B$66,IF($B$3=\"Single Storey\",'Design Details'!B$76,0))))","v":0},3,0,0]
["Roof Glazing"]
["Width (m)",null,"Height (m)",null,"Area (m²)",0,"U Value (W/m²K)",{"$f":"IF($B$3=\"Ground floor\",'Design Details'!B$53,IF($B$3=\"Mid-floor\",'Design Details'!B$63,IF($B$3=\"Upper floor\",'Design Details'!B$73,IF($B$3=\"Single Storey\",'Design Details'!B$83,0))))","v":0},3,0,{"$f":"F45*H45*$C$7*24/1000","v":0}]
["Width (m)",null,"Height (m)",null,"Area (m²)",0,"U Value (W/m²K)",{"$f":"IF($B$3=\"Ground floor\",'Design Details'!B$53,IF($B$3=\"Mid-floor\",'Design Details'!B$63,IF($B$3=\"Upper floor\",'Design Details'!B$73,IF($B$3=\"Single Storey\",'Design Details'!B$83,0))))","v":0},3,0,{"$f":"F46*H46*$C$7*24/1000","v":0}]
["Width (m)",null,"Height (m)",null,"Area (m²)",0,"U Value (W/m²K)",{"$f":"IF($B$3=\"Ground floor\",'Design Details'!B$53,IF($B$3=\"Mid-floor\",'Design Details'!B$63,IF($B$3=\"Upper floor\",'Design Details'!B$73,IF($B$3=\"Single Storey\",'Design Details'!B$83,0))))","v":0},3,0,{"$f":"F47*H47*$C$7*24/1000","v":0}]
["Width (m)",null,"Height (m)",null,"Area (m²)",0,"U Value (W/m²K)",{"$f":"IF($B$3=\"Ground floor\",'Design Details'!B$53,IF($B$3=\"Mid-floor\",'Design Details'!B$63,IF($B$3=\"Upper floor\",'Design Details'!B$73,IF($B$3=\"Single Storey\",'Design Details'!B$83,0))))","v":0},3,0,{"$f":"F48*H48*$C$7*24/1000","v":0}]
["Doors"]
["Width (m)",null,"Height (m)",null,"Area (m²)",0,"U Value (W/m²K)",{"$f":"IF($B$3=\"Ground floor\",'Design Details'!B$47,IF($B$3=\"Mid-floor\",'Design Details'!B$57,IF($B$3=\"Upper floor\",'Design Details'!B$67,IF($B$3=\"Single Storey\",'Design Details'!B$77,0))))","v":0},3,0,{"$f":"F50*H50*$C$7*24/1000","v":0}]
["Width (m)",null,"Height (m)",null,"Area (m²)",0,"U Value (W/m²K)",{"$f":"IF($B$3=\"Ground floor\",'Design Details'!B$47,IF($B$3=\"Mid-floor\",'Design Details'!B$57,IF($B$3=\"Upper floor\",'Design Details'!B$67,IF($B$3=\"Single Storey\",'Design Details'!B$77,0))))","v":0},3,0,{"$f":"F51*H51*$C$7*24/1000","v":0}]
["Width (m)",null,"Height (m)",null,"Area (m²)",0,"U Value (W/m²K)",{"$f":"IF($B$3=\"Ground floor\",'Design Details'!B$47,IF($B$3=\"Mid-floor\",'Design Details'!B$57,IF($B$3=\"Upper floor\",'Design Details'!B$67,IF($B$3=\"Single Storey\",'Design Details'!B$77,0))))","v":0},3,0,{"$f":"F52*H52*$C$7*24/1000","v":0}]
["Width (m)",null,"Height (m)",null,"Area (m²)",0,"U Value (W/m²K)",{"$f":"IF($B$3=\"Ground floor\",'Design Details'!B$47,IF($B$3=\"Mid-floor\",'Design Details'!B$57,IF($B$3=\"Upper floor\",'Design Details'!B$67,IF($B$3=\"Single Storey\",'Design Details'!B$77,0))))","v":0},3,0,{"$f":"F53*H53*$C$7*24/1000","v":0}]
["Internal Walls",null,null,null,null,null,null,null,null,null,null,"Adjoining Room Temp (°C)"]
["Length (m)",null,"Height (m)",null,"Area (m²)",0,"U Value (W/m²K)",{"$f":"IF($B$3=\"Ground floor\",'Design Details'!B$51,IF($B$3=\"Mid-floor\",'Design Details'!B$61,IF($B$3=\"Upper floor\",'Design Details'!B$71,IF($B$3=\"Single Storey\",'Design Details'!B$81,0))))","v":0},{"$f":"IF(L55=\"\",0,IF(L55=\"unheated\",C$4-10,C$4-L55))","v":0},0]
["Length (m)",null,"Height (m)",null,"Area (m²)",0,"U Value (W/m²K)",{"$f":"IF($B$3=\"Ground floor\",'Design Details'!B$51,IF($B$3=\"Mid-floor\",'Design Details'!B$61,IF($B$3=\"Upper floor\",'Design Details'!B$71,IF($B$3=\"Single Storey\",'Design Details'!B$81,0))))","v":0},{"$f":"IF(L56=\"\",0,IF(L56=\"unheated\",C$4-10,C$4-L56))","v":0},0]
["Length (m)",null,"Height (m)",null,"Area (m²)",0,"U Value (W/m²K)",{"$f":"IF($B$3=\"Ground floor\",'Design Details'!B$51,IF($B$3=\"Mid-floor\",'Design Details'!B$61,IF($B$3=\"Upper floor\",'Design Details'!B$71,IF($B$3=\"Single Storey\",'Design Details'!B$81,0))))","v":0},{"$f":"IF(L57=\"\",0,IF(L57=\"unheated\",C$4-10,C$4-L57))","v":0},0]
["Length (m)",null,"Height (m)",null,"Area (m²)",0,"U Value (W/m²K)",{"$f":"IF($B$3=\"Ground floor\",'Design Details'!B$51,IF($B$3=\"Mid-floor\",'Design Details'!B$61,IF($B$3=\"Upper floor\",'Design Details'!B$71,IF($B$3=\"Single Storey\",'Design Details'!B$81,0))))","v":0},{"$f":"IF(L58=\"\",0,IF(L58=\"unheated\",C$4-10,C$4-L58))","v":0},0]
["Party Wall"]
["Length (m)",null,"Height (m)",null,"Area (m²)",0,"U Value (W/m²K)",{"$f":"IF($B$3=\"Ground floor\",'Design Details'!B$52,IF($B$3=\"Mid-floor\",'Design Details'!B$62,IF($B$3=\"Upper floor\",'Design Details'!B$72,IF($B$3=\"Single Storey\",'Design Details'!B$82,0))))","v":0},{"$f":"C4-10","v":-10},0,{"$f":"F60*H60*$C$7*24/1000","v":0}]

{"sheet":"25","index":42,"n_rows":60,"n_cols":24,"rows_kept":60,"cut":false,"hidden":false,"merged":[[2,1,2,2],[2,3,2,4],[0,0,0,2],[0,3,0,5],[0,9,0,10],[1,3,1,4],[3,0,3,1],[3,3,3,4],[4,0,4,1],[4,3,4,4],[5,0,5,1],[5,3,5,4],[57,11,57,13],[6,0,6,1],[18,11,18,13],[19,11,19,13],[53,11,53,13],[54,11,54,13],[55,11,55,13],[56,11,56,13],[30,11,30,13],[10,10,10,13],[9,10,9,13],[20,11,20,13],[21,11,21,13]]}
["Room Information",null,null,"Ventilation Heat Loss",null,null,"Fabric ","Heat Loss (W)"," Usage (kWh)","Additional heat loss",null,"Addition","Watts","kWh"]
["Room","-",null,"Air Changes a hour",null,{"$f":"'Design Details'!F111","v":0},"Floor",{"$f":"SUM(J20:J22)","v":0},{"$f":"SUM(K20:K22)","v":0},"Thermal Bridging (New Build >2006)",null,0,{"$f":"SUM(H$2:H$6)*L2","v":0},{"$f":"SUM(I$2:I$6)*L2","v":0},null,"3 edges (long single)","Level",null,null,null,null,null,null,1]
["Level",null,null,"Air Change Factor (W/m³K)",null,0.33,"Ext Wall",{"$f":"J27","v":0},{"$f":"K27","v":0},"Exposed location",null,0,{"$f":"SUM(H$2:H$6)*L3","v":0},{"$f":"SUM(I$2:I$6)*L3","v":0},null,"3 edges (short single)","Please Select Floor",{"$f":"IF($B$3=\"Ground floor\",\"Solid Floor (in contact with ground)\",IF($B$3=\"Single Storey\",\"Solid Floor (in contact with ground)\",\"n/a\"))","v":"n/a"},{"$f":"'Design Details'!B21","v":10},"unheated",0,0,0,2]
["Design Room Temp (°C)",null,{"$f":"'Design Details'!D111","v":0},"Total Volume (m³)",null,{"$f":"SUM(H10:H12,H14:H18)","v":0},"Roof",{"$f":"SUM(J32,J35)","v":0},{"$f":"SUM(K32,K35)","v":0},"High ceiling",null,0,{"$f":"SUM(H$2:H$6)*L4","v":0},{"$f":"SUM(I$2:I$6)*L4","v":0},null,"One edge","Ground floor",{"$f":"IF($B$3=\"Ground floor\",\"Suspended Floor\",IF($B$3=\"Single Storey\",\"Suspended Floor\",\"n/a\"))","v":"n/a"},null,16,0.1,0.2,2.5000000000000001E-2,3]
["Outside Design Temp (°C)",null,{"$f":"'Design Details'!B19","v":-3},"Heat loss (W)",null,{"$f":"F4*F3*C6*F2","v":0},"Glazing",{"$f":"SUM(J37:J43,J45:J48,J50:J53)","v":0},{"$f":"SUM(K37:K43,K45:K48,K50:K53)","v":0},"Intermittent heating",null,0,{"$f":"SUM(H$2:H$6)*L5","v":0},{"$f":"SUM(I$2:I$6)*L5","v":0},null,"Two adjacent","Mid-floor",null,null,18,null,null,0.05,4]
["Temp Difference (°C)",null,{"$f":"C4-C5","v":3},"Estimated Energy usage (kWh)",null,{"$f":"F4*F3*C7*24/1000","v":0},"Int./Party Wall",{"$f":"SUM(J55:J58,J60)","v":0},{"$f":"SUM(K60)","v":0},null,null,null,"Total Room Heat Loss (W)",{"$f":"SUM(F5,H2:H6,M2:M5)","v":0},null,"Two opposite","Single storey",null,null,21,null,null,7.4999999999999997E-2,5]
["Degree Days",null,{"$f":"'Design Details'!B20","v":2228},null,null,null,null,null,null,null,null,null,"Total Room Energy Usage (kWh)",{"$f":"SUM(F6,I2:I6,N2:N5)","v":0},null,null,"Upper floor",null,null,22,null,null,0.1,6]
[null,null,null,null,null,null,null,null,null,null,null,null,null,null,null,null,{"$f":"IF($B$3=\"Ground floor\",'Design Details'!B$45,IF($B$3=\"Mid-floor\",'Design Details'!B$55,IF($B$3=\"Upper floor\",'Design Details'!B$65,IF($B$3=\"Single Storey\",'Design Details'!B$75,0))))","v":0},null,null,null,null,null,null,7]
["Room Dimensions",null,null,null,null,null,null,null,null,null,null,null,null,null,null,null,null,null,null,null,null,null,null,8]
["Length (m)",null,"Width (m)",null,"Height (m)",null,"Volume (m³)",{"$f":"B10*D10*F10","v":0},null,null,null,null,null,null,null,null,null,null,null,null,null,null,null,9]
["Length (m)",null,"Width (m)",null,"Height (m)",null,"Volume (m³)",{"$f":"B11*D11*F11","v":0},null,null,null,null,null,null,null,null,null,null,null,null,null,null,null,10]
["Length (m)",null,"Width (m)",null,"Height (m)",null,"Volume (m³)",{"$f":"B12*D12*F12","v":0}]
["Awkward Room Dimensions"]
["Length (m)",null,"Width (m)",null,"Height (m)",null,"Volume (m³)",{"$f":"((F14*D14)/2)*B14","v":0},"Pitched"]
["Length (m)",null,"Width (m)",null,"Height (m)",null,"Volume (m³)",{"$f":"B15*D15*F15/2","v":0},"Single Pitch"]
["Length (m)",null,"Height (m)",null,"Depth (m)",null,"Volume (m³)",{"$f":"D16*F16*B16/2","v":0},"Dormer 1"]
["Length (m)",null,"Height (m)",null,"Depth (m)",null,"Volume (m³)",{"$f":"D17*F17*B17/2","v":0},"Dormer 2"]
["Length (m)",null,"Height (m)",null,"Depth (m)",null,"Volume (m³)",{"$f":"D18*F18*B18/2","v":0},"Dormer 3"]
["Floor",null,null,null,null,null,null,null,"Temp Difference","Heat Loss (W)","Usage (kWh)","Type of Ground Floor"]
["Length (m)",null,"Width (m)",null,"Area (m²)",{"$f":"B20*D20","v":0},"U Value (W/m²K)",{"$f":"IF(L22=\"\",Q8,'floor u values'!K26)","v":0},{"$f":"IF(B$3=\"Ground Floor\",IF(L20=\"Solid Floor (in contact with ground)\",C$4-S$3,C$4-C$5),IF(B$3=\"Single Storey\",IF(L20=\"Solid Floor (in contact with ground)\",C$4-S$3,C$4-C$5),0))","v":0},{"$f":"F20*H20*I20","v":0},{"$f":"IF($B$3=$Q$5,0,IF($B$3=$Q$7,0,F20*H20*$C$7*24/1000))","v":0}]
["Length (m)",null,"Width (m)",null,"Area (m²)",{"$f":"B21*D21","v":0},"U Value (W/m²K)",{"$f":"H20","v":0},{"$f":"IF(B$3=\"Ground Floor\",IF(L20=\"Solid Floor (in contact with ground)\",C$4-S$3,C$4-C$5),IF(B$3=\"Single Storey\",IF(L20=\"Solid Floor (in contact with ground)\",C$4-S$3,C$4-C$5),0))","v":0},{"$f":"F21*H21*I21","v":0},{"$f":"IF($B$3=$Q$5,0,IF($B$3=$Q$7,0,F21*H21*$C$7*24/1000))","v":0},"Exposed floor (external)"]
["Length (m)",null,"Width (m)",null,"Area (m²)",0,"U Value (W/m²K)",{"$f":"H20","v":0},{"$f":"IF(B$3=\"Ground Floor\",IF(L20=\"Solid Floor (in contact with ground)\",C$4-S$3,C$4-C$5),IF(B$3=\"Single Storey\",IF(L20=\"Solid Floor (in contact with ground)\",C$4-S$3,C$4-C$5),0))","v":0},{"$f":"F22*H22*I22","v":0},{"$f":"IF($B$3=$Q$5,0,IF($B$3=$Q$7,0,F22*H22*$C$7*24/1000))","v":0}]
["External Wall",null,null,null,null,null,null,null,null,null,null,{"$f":"IF(L22=\"Two opposite\",\"Between edges\",IF(L22=\"One edge\",\"Depth of room\",IF(L22=\"3 edges (short single)\",\"Short length\",IF(L22=\"3 edges (long single)\",\"Short length\",\"\"))))","v":""},null,{"$f":"IF(L22=\"3 edges (short single)\",\"Long length\",IF(L22=\"3 edges (long single)\",\"Long length\",\"\"))","v":""}]
["Length (m)",null,"Height (m)",null,"Area (m²)",0]
["Length (m)",null,"Height (m)",null,"Area (m²)",0]
["Length (m)",null,"Height (m)",null,"Area (m²)",0]
[null,null,null,"Total","Area (m²)",{"$f":"SUM(F24:F26)-SUM(F37:F43,F50:F53)","v":0},"U Value (W/m²K)",{"$f":"IF($B$3=\"Ground floor\",'Design Details'!B$48,IF($B$3=\"Mid-floor\",'Design Details'!B$58,IF($B$3=\"Upper floor\",'Design Details'!B$68,IF($B$3=\"Single Storey\",'Design Details'!B$78,0))))","v":0},{"$f":"$C$6","v":3},{"$f":"F27*H27*I27","v":0},{"$f":"F27*H27*$C$7*24/1000","v":0}]
["Roof"]
["Length (m)",null,"Width (m)",null,"Area (m²)",0]
["Length (m)",null,"Width (m)",null,"Area (m²)",0]
["Length (m)",null,"Width (m)",null,"Area (m²)",0]
[null,null,null,"Total","Area (m²)",{"$f":"SUM(F29:F31)-SUM(F45:F48)","v":0},"U Value (W/m²K)",{"$f":"IF($B$3=\"Ground floor\",'Design Details'!B$49,IF($B$3=\"Mid-floor\",'Design Details'!B$59,IF($B$3=\"Upper floor\",'Design Details'!B$69,IF($B$3=\"Single Storey\",'Design Details'!B$79,0))))","v":0},{"$f":"$C$6","v":3},0,{"$f":"IF($B$3=$Q$4,0,IF($B$3=$Q$5,0,F32*H32*$C$7*24/1000))","v":0}]
["Length (m)",null,"Pitch (m)",null,"Area (m²)",0,"Pitched"]
["Length (m)",null,"Pitch (m)",null,"Area (m²)",0,"Single Pitch"]
[null,null,null,"Total","Area (m²)",{"$f":"SUM(F33:F34)-SUM(F45:F48)","v":0},"U Value (W/m²K)",{"$f":"IF($B$3=\"Ground floor\",'Design Details'!B$50,IF($B$3=\"Mid-floor\",'Design Details'!B$60,IF($B$3=\"Upper floor\",'Design Details'!B$70,IF($B$3=\"Single Storey\",'Design Details'!B$80,0))))","v":0},3,0,{"$f":"IF($B$3=$Q$4,0,IF($B$3=$Q$5,0,F35*H35*$C$7*24/1000))","v":0}]
["Windows"]
["Width (m)",null,"Height (m)",null,"Area (m²)",0,"U Value (W/m²K)",{"$f":"IF($B$3=\"Ground floor\",'Design Details'!B$46,IF($B$3=\"Mid-floor\",'Design Details'!B$56,IF($B$3=\"Upper floor\",'Design Details'!B$66,IF($B$3=\"Single Storey\",'Design Details'!B$76,0))))","v":0},3,0,{"$f":"F37*H37*$C$7*24/1000","v":0}]
["Width (m)",null,"Height (m)",null,"Area (m²)",0,"U Value (W/m²K)",{"$f":"IF($B$3=\"Ground floor\",'Design Details'!B$46,IF($B$3=\"Mid-floor\",'Design Details'!B$56,IF($B$3=\"Upper floor\",'Design Details'!B$66,IF($B$3=\"Single Storey\",'Design Details'!B$76,0))))","v":0},3,0,0]
["Width (m)",null,"Height (m)",null,"Area (m²)",0,"U Value (W/m²K)",{"$f":"IF($B$3=\"Ground floor\",'Design Details'!B$46,IF($B$3=\"Mid-floor\",'Design Details'!B$56,IF($B$3=\"Upper floor\",'Design Details'!B$66,IF($B$3=\"Single Storey\",'Design Details'!B$76,0))))","v":0},3,0,0]
["Width (m)",null,"Height (m)",null,"Area (m²)",0,"U Value (W/m²K)",{"$f":"IF($B$3=\"Ground floor\",'Design Details'!B$46,IF($B$3=\"Mid-floor\",'Design Details'!B$56,IF($B$3=\"Upper floor\",'Design Details'!B$66,IF($B$3=\"Single Storey\",'Design Details'!B$76,0))))","v":0},3,0,0]
["Width (m)",null,"Height (m)",null,"Area (m²)",0,"U Value (W/m²K)",{"$f":"IF($B$3=\"Ground floor\",'Design Details'!B$46,IF($B$3=\"Mid-floor\",'Design Details'!B$56,IF($B$3=\"Upper floor\",'Design Details'!B$66,IF($B$3=\"Single Storey\",'Design Details'!B$76,0))))","v":0},3,0,0]
["Width (m)",null,"Height (m)",null,"Area (m²)",0,"U Value (W/m²K)",{"$f":"IF($B$3=\"Ground floor\",'Design Details'!B$46,IF($B$3=\"Mid-floor\",'Design Details'!B$56,IF($B$3=\"Upper floor\",'Design Details'!B$66,IF($B$3=\"Single Storey\",'Design Details'!B$76,0))))","v":0},3,0,0]
["Width (m)",null,"Height (m)",null,"Area (m²)",0,"U Value (W/m²K)",{"$f":"IF($B$3=\"Ground floor\",'Design Details'!B$46,IF($B$3=\"Mid-floor\",'Design Details'!B$56,IF($B$3=\"Upper floor\",'Design Details'!B$66,IF($B$3=\"Single Storey\",'Design Details'!B$76,0))))","v":0},3,0,0]
["Roof Glazing"]
["Width (m)",null,"Height (m)",null,"Area (m²)",0,"U Value (W/m²K)",{"$f":"IF($B$3=\"Ground floor\",'Design Details'!B$53,IF($B$3=\"Mid-floor\",'Design Details'!B$63,IF($B$3=\"Upper floor\",'Design Details'!B$73,IF($B$3=\"Single Storey\",'Design Details'!B$83,0))))","v":0},3,0,{"$f":"F45*H45*$C$7*24/1000","v":0}]
["Width (m)",null,"Height (m)",null,"Area (m²)",0,"U Value (W/m²K)",{"$f":"IF($B$3=\"Ground floor\",'Design Details'!B$53,IF($B$3=\"Mid-floor\",'Design Details'!B$63,IF($B$3=\"Upper floor\",'Design Details'!B$73,IF($B$3=\"Single Storey\",'Design Details'!B$83,0))))","v":0},3,0,{"$f":"F46*H46*$C$7*24/1000","v":0}]
["Width (m)",null,"Height (m)",null,"Area (m²)",0,"U Value (W/m²K)",{"$f":"IF($B$3=\"Ground floor\",'Design Details'!B$53,IF($B$3=\"Mid-floor\",'Design Details'!B$63,IF($B$3=\"Upper floor\",'Design Details'!B$73,IF($B$3=\"Single Storey\",'Design Details'!B$83,0))))","v":0},3,0,{"$f":"F47*H47*$C$7*24/1000","v":0}]
["Width (m)",null,"Height (m)",null,"Area (m²)",0,"U Value (W/m²K)",{"$f":"IF($B$3=\"Ground floor\",'Design Details'!B$53,IF($B$3=\"Mid-floor\",'Design Details'!B$63,IF($B$3=\"Upper floor\",'Design Details'!B$73,IF($B$3=\"Single Storey\",'Design Details'!B$83,0))))","v":0},3,0,{"$f":"F48*H48*$C$7*24/1000","v":0}]
["Doors"]
["Width (m)",null,"Height (m)",null,"Area (m²)",0,"U Value (W/m²K)",{"$f":"IF($B$3=\"Ground floor\",'Design Details'!B$47,IF($B$3=\"Mid-floor\",'Design Details'!B$57,IF($B$3=\"Upper floor\",'Design Details'!B$67,IF($B$3=\"Single Storey\",'Design Details'!B$77,0))))","v":0},3,0,{"$f":"F50*H50*$C$7*24/1000","v":0}]
["Width (m)",null,"Height (m)",null,"Area (m²)",0,"U Value (W/m²K)",{"$f":"IF($B$3=\"Ground floor\",'Design Details'!B$47,IF($B$3=\"Mid-floor\",'Design Details'!B$57,IF($B$3=\"Upper floor\",'Design Details'!B$67,IF($B$3=\"Single Storey\",'Design Details'!B$77,0))))","v":0},3,0,{"$f":"F51*H51*$C$7*24/1000","v":0}]
["Width (m)",null,"Height (m)",null,"Area (m²)",0,"U Value (W/m²K)",{"$f":"IF($B$3=\"Ground floor\",'Design Details'!B$47,IF($B$3=\"Mid-floor\",'Design Details'!B$57,IF($B$3=\"Upper floor\",'Design Details'!B$67,IF($B$3=\"Single Storey\",'Design Details'!B$77,0))))","v":0},3,0,{"$f":"F52*H52*$C$7*24/1000","v":0}]
["Width (m)",null,"Height (m)",null,"Area (m²)",0,"U Value (W/m²K)",{"$f":"IF($B$3=\"Ground floor\",'Design Details'!B$47,IF($B$3=\"Mid-floor\",'Design Details'!B$57,IF($B$3=\"Upper floor\",'Design Details'!B$67,IF($B$3=\"Single Storey\",'Design Details'!B$77,0))))","v":0},3,0,{"$f":"F53*H53*$C$7*24/1000","v":0}]
["Internal Walls",null,null,null,null,null,null,null,null,null,null,"Adjoining Room Temp (°C)"]
["Length (m)",null,"Height (m)",null,"Area (m²)",0,"U Value (W/m²K)",{"$f":"IF($B$3=\"Ground floor\",'Design Details'!B$51,IF($B$3=\"Mid-floor\",'Design Details'!B$61,IF($B$3=\"Upper floor\",'Design Details'!B$71,IF($B$3=\"Single Storey\",'Design Details'!B$81,0))))","v":0},{"$f":"IF(L55=\"\",0,IF(L55=\"unheated\",C$4-10,C$4-L55))","v":0},0]
["Length (m)",null,"Height (m)",null,"Area (m²)",0,"U Value (W/m²K)",{"$f":"IF($B$3=\"Ground floor\",'Design Details'!B$51,IF($B$3=\"Mid-floor\",'Design Details'!B$61,IF($B$3=\"Upper floor\",'Design Details'!B$71,IF($B$3=\"Single Storey\",'Design Details'!B$81,0))))","v":0},{"$f":"IF(L56=\"\",0,IF(L56=\"unheated\",C$4-10,C$4-L56))","v":0},0]
["Length (m)",null,"Height (m)",null,"Area (m²)",0,"U Value (W/m²K)",{"$f":"IF($B$3=\"Ground floor\",'Design Details'!B$51,IF($B$3=\"Mid-floor\",'Design Details'!B$61,IF($B$3=\"Upper floor\",'Design Details'!B$71,IF($B$3=\"Single Storey\",'Design Details'!B$81,0))))","v":0},{"$f":"IF(L57=\"\",0,IF(L57=\"unheated\",C$4-10,C$4-L57))","v":0},0]
["Length (m)",null,"Height (m)",null,"Area (m²)",0,"U Value (W/m²K)",{"$f":"IF($B$3=\"Ground floor\",'Design Details'!B$51,IF($B$3=\"Mid-floor\",'Design Details'!B$61,IF($B$3=\"Upper floor\",'Design Details'!B$71,IF($B$3=\"Single Storey\",'Design Details'!B$81,0))))","v":0},{"$f":"IF(L58=\"\",0,IF(L58=\"unheated\",C$4-10,C$4-L58))","v":0},0]
["Party Wall"]
["Length (m)",null,"Height (m)",null,"Area (m²)",0,"U Value (W/m²K)",{"$f":"IF($B$3=\"Ground floor\",'Design Details'!B$52,IF($B$3=\"Mid-floor\",'Design Details'!B$62,IF($B$3=\"Upper floor\",'Design Details'!B$72,IF($B$3=\"Single Storey\",'Design Details'!B$82,0))))","v":0},{"$f":"C4-10","v":-10},0,{"$f":"F60*H60*$C$7*24/1000","v":0}]

{"sheet":"26","index":43,"n_rows":60,"n_cols":24,"rows_kept":60,"cut":false,"hidden":false,"merged":[[2,1,2,2],[2,3,2,4],[0,0,0,2],[0,3,0,5],[0,9,0,10],[1,3,1,4],[3,0,3,1],[3,3,3,4],[4,0,4,1],[4,3,4,4],[5,0,5,1],[5,3,5,4],[57,11,57,13],[6,0,6,1],[18,11,18,13],[19,11,19,13],[53,11,53,13],[54,11,54,13],[55,11,55,13],[56,11,56,13],[30,11,30,13],[10,10,10,13],[9,10,9,13],[20,11,20,13],[21,11,21,13]]}
["Room Information",null,null,"Ventilation Heat Loss",null,null,"Fabric ","Heat Loss (W)"," Usage (kWh)","Additional heat loss",null,"Addition","Watts","kWh"]
["Room","-",null,"Air Changes a hour",null,{"$f":"'Design Details'!F112","v":0},"Floor",{"$f":"SUM(J20:J22)","v":0},{"$f":"SUM(K20:K22)","v":0},"Thermal Bridging (New Build >2006)",null,0,{"$f":"SUM(H$2:H$6)*L2","v":0},{"$f":"SUM(I$2:I$6)*L2","v":0},null,"3 edges (long single)","Level",null,null,null,null,null,null,1]
["Level",null,null,"Air Change Factor (W/m³K)",null,0.33,"Ext Wall",{"$f":"J27","v":0},{"$f":"K27","v":0},"Exposed location",null,0,{"$f":"SUM(H$2:H$6)*L3","v":0},{"$f":"SUM(I$2:I$6)*L3","v":0},null,"3 edges (short single)","Please Select Floor",{"$f":"IF($B$3=\"Ground floor\",\"Solid Floor (in contact with ground)\",IF($B$3=\"Single Storey\",\"Solid Floor (in contact with ground)\",\"n/a\"))","v":"n/a"},{"$f":"'Design Details'!B21","v":10},"unheated",0,0,0,2]
["Design Room Temp (°C)",null,{"$f":"'Design Details'!D112","v":0},"Total Volume (m³)",null,{"$f":"SUM(H10:H12,H14:H18)","v":0},"Roof",{"$f":"SUM(J32,J35)","v":0},{"$f":"SUM(K32,K35)","v":0},"High ceiling",null,0,{"$f":"SUM(H$2:H$6)*L4","v":0},{"$f":"SUM(I$2:I$6)*L4","v":0},null,"One edge","Ground floor",{"$f":"IF($B$3=\"Ground floor\",\"Suspended Floor\",IF($B$3=\"Single Storey\",\"Suspended Floor\",\"n/a\"))","v":"n/a"},null,16,0.1,0.2,2.5000000000000001E-2,3]
["Outside Design Temp (°C)",null,{"$f":"'Design Details'!B19","v":-3},"Heat loss (W)",null,{"$f":"F4*F3*C6*F2","v":0},"Glazing",{"$f":"SUM(J37:J43,J45:J48,J50:J53)","v":0},{"$f":"SUM(K37:K43,K45:K48,K50:K53)","v":0},"Intermittent heating",null,0,{"$f":"SUM(H$2:H$6)*L5","v":0},{"$f":"SUM(I$2:I$6)*L5","v":0},null,"Two adjacent","Mid-floor",null,null,18,null,null,0.05,4]
["Temp Difference (°C)",null,{"$f":"C4-C5","v":3},"Estimated Energy usage (kWh)",null,{"$f":"F4*F3*C7*24/1000","v":0},"Int./Party Wall",{"$f":"SUM(J55:J58,J60)","v":0},{"$f":"SUM(K60)","v":0},null,null,null,"Total Room Heat Loss (W)",{"$f":"SUM(F5,H2:H6,M2:M5)","v":0},null,"Two opposite","Single storey",null,null,21,null,null,7.4999999999999997E-2,5]
["Degree Days",null,{"$f":"'Design Details'!B20","v":2228},null,null,null,null,null,null,null,null,null,"Total Room Energy Usage (kWh)",{"$f":"SUM(F6,I2:I6,N2:N5)","v":0},null,null,"Upper floor",null,null,22,null,null,0.1,6]
[null,null,null,null,null,null,null,null,null,null,null,null,null,null,null,null,{"$f":"IF($B$3=\"Ground floor\",'Design Details'!B$45,IF($B$3=\"Mid-floor\",'Design Details'!B$55,IF($B$3=\"Upper floor\",'Design Details'!B$65,IF($B$3=\"Single Storey\",'Design Details'!B$75,0))))","v":0},null,null,null,null,null,null,7]
["Room Dimensions",null,null,null,null,null,null,null,null,null,null,null,null,null,null,null,null,null,null,null,null,null,null,8]
["Length (m)",null,"Width (m)",null,"Height (m)",null,"Volume (m³)",{"$f":"B10*D10*F10","v":0},null,null,null,null,null,null,null,null,null,null,null,null,null,null,null,9]
["Length (m)",null,"Width (m)",null,"Height (m)",null,"Volume (m³)",{"$f":"B11*D11*F11","v":0},null,null,null,null,null,null,null,null,null,null,null,null,null,null,null,10]
["Length (m)",null,"Width (m)",null,"Height (m)",null,"Volume (m³)",{"$f":"B12*D12*F12","v":0}]
["Awkward Room Dimensions"]
["Length (m)",null,"Width (m)",null,"Height (m)",null,"Volume (m³)",{"$f":"((F14*D14)/2)*B14","v":0},"Pitched"]
["Length (m)",null,"Width (m)",null,"Height (m)",null,"Volume (m³)",{"$f":"B15*D15*F15/2","v":0},"Single Pitch"]
["Length (m)",null,"Height (m)",null,"Depth (m)",null,"Volume (m³)",{"$f":"D16*F16*B16/2","v":0},"Dormer 1"]
["Length (m)",null,"Height (m)",null,"Depth (m)",null,"Volume (m³)",{"$f":"D17*F17*B17/2","v":0},"Dormer 2"]
["Length (m)",null,"Height (m)",null,"Depth (m)",null,"Volume (m³)",{"$f":"D18*F18*B18/2","v":0},"Dormer 3"]
["Floor",null,null,null,null,null,null,null,"Temp Difference","Heat Loss (W)","Usage (kWh)","Type of Ground Floor"]
["Length (m)",null,"Width (m)",null,"Area (m²)",{"$f":"B20*D20","v":0},"U Value (W/m²K)",{"$f":"IF(L22=\"\",Q8,'floor u values'!K27)","v":0},{"$f":"IF(B$3=\"Ground Floor\",IF(L20=\"Solid Floor (in contact with ground)\",C$4-S$3,C$4-C$5),IF(B$3=\"Single Storey\",IF(L20=\"Solid Floor (in contact with ground)\",C$4-S$3,C$4-C$5),0))","v":0},{"$f":"F20*H20*I20","v":0},{"$f":"IF($B$3=$Q$5,0,IF($B$3=$Q$7,0,F20*H20*$C$7*24/1000))","v":0}]
["Length (m)",null,"Width (m)",null,"Area (m²)",{"$f":"B21*D21","v":0},"U Value (W/m²K)",{"$f":"H20","v":0},{"$f":"IF(B$3=\"Ground Floor\",IF(L20=\"Solid Floor (in contact with ground)\",C$4-S$3,C$4-C$5),IF(B$3=\"Single Storey\",IF(L20=\"Solid Floor (in contact with ground)\",C$4-S$3,C$4-C$5),0))","v":0},{"$f":"F21*H21*I21","v":0},{"$f":"IF($B$3=$Q$5,0,IF($B$3=$Q$7,0,F21*H21*$C$7*24/1000))","v":0},"Exposed floor (external)"]
["Length (m)",null,"Width (m)",null,"Area (m²)",0,"U Value (W/m²K)",{"$f":"H20","v":0},{"$f":"IF(B$3=\"Ground Floor\",IF(L20=\"Solid Floor (in contact with ground)\",C$4-S$3,C$4-C$5),IF(B$3=\"Single Storey\",IF(L20=\"Solid Floor (in contact with ground)\",C$4-S$3,C$4-C$5),0))","v":0},{"$f":"F22*H22*I22","v":0},{"$f":"IF($B$3=$Q$5,0,IF($B$3=$Q$7,0,F22*H22*$C$7*24/1000))","v":0}]
["External Wall",null,null,null,null,null,null,null,null,null,null,{"$f":"IF(L22=\"Two opposite\",\"Between edges\",IF(L22=\"One edge\",\"Depth of room\",IF(L22=\"3 edges (short single)\",\"Short length\",IF(L22=\"3 edges (long single)\",\"Short length\",\"\"))))","v":""},null,{"$f":"IF(L22=\"3 edges (short single)\",\"Long length\",IF(L22=\"3 edges (long single)\",\"Long length\",\"\"))","v":""}]
["Length (m)",null,"Height (m)",null,"Area (m²)",0]
["Length (m)",null,"Height (m)",null,"Area (m²)",0]
["Length (m)",null,"Height (m)",null,"Area (m²)",0]
[null,null,null,"Total","Area (m²)",{"$f":"SUM(F24:F26)-SUM(F37:F43,F50:F53)","v":0},"U Value (W/m²K)",{"$f":"IF($B$3=\"Ground floor\",'Design Details'!B$48,IF($B$3=\"Mid-floor\",'Design Details'!B$58,IF($B$3=\"Upper floor\",'Design Details'!B$68,IF($B$3=\"Single Storey\",'Design Details'!B$78,0))))","v":0},{"$f":"$C$6","v":3},{"$f":"F27*H27*I27","v":0},{"$f":"F27*H27*$C$7*24/1000","v":0}]
["Roof"]
["Length (m)",null,"Width (m)",null,"Area (m²)",0]
["Length (m)",null,"Width (m)",null,"Area (m²)",0]
["Length (m)",null,"Width (m)",null,"Area (m²)",0]
[null,null,null,"Total","Area (m²)",{"$f":"SUM(F29:F31)-SUM(F45:F48)","v":0},"U Value (W/m²K)",{"$f":"IF($B$3=\"Ground floor\",'Design Details'!B$49,IF($B$3=\"Mid-floor\",'Design Details'!B$59,IF($B$3=\"Upper floor\",'Design Details'!B$69,IF($B$3=\"Single Storey\",'Design Details'!B$79,0))))","v":0},{"$f":"$C$6","v":3},0,{"$f":"IF($B$3=$Q$4,0,IF($B$3=$Q$5,0,F32*H32*$C$7*24/1000))","v":0}]
["Length (m)",null,"Pitch (m)",null,"Area (m²)",0,"Pitched"]
["Length (m)",null,"Pitch (m)",null,"Area (m²)",0,"Single Pitch"]
[null,null,null,"Total","Area (m²)",{"$f":"SUM(F33:F34)-SUM(F45:F48)","v":0},"U Value (W/m²K)",{"$f":"IF($B$3=\"Ground floor\",'Design Details'!B$50,IF($B$3=\"Mid-floor\",'Design Details'!B$60,IF($B$3=\"Upper floor\",'Design Details'!B$70,IF($B$3=\"Single Storey\",'Design Details'!B$80,0))))","v":0},3,0,{"$f":"IF($B$3=$Q$4,0,IF($B$3=$Q$5,0,F35*H35*$C$7*24/1000))","v":0}]
["Windows"]
["Width (m)",null,"Height (m)",null,"Area (m²)",0,"U Value (W/m²K)",{"$f":"IF($B$3=\"Ground floor\",'Design Details'!B$46,IF($B$3=\"Mid-floor\",'Design Details'!B$56,IF($B$3=\"Upper floor\",'Design Details'!B$66,IF($B$3=\"Single Storey\",'Design Details'!B$76,0))))","v":0},3,0,{"$f":"F37*H37*$C$7*24/1000","v":0}]
["Width (m)",null,"Height (m)",null,"Area (m²)",0,"U Value (W/m²K)",{"$f":"IF($B$3=\"Ground floor\",'Design Details'!B$46,IF($B$3=\"Mid-floor\",'Design Details'!B$56,IF($B$3=\"Upper floor\",'Design Details'!B$66,IF($B$3=\"Single Storey\",'Design Details'!B$76,0))))","v":0},3,0,0]
["Width (m)",null,"Height (m)",null,"Area (m²)",0,"U Value (W/m²K)",{"$f":"IF($B$3=\"Ground floor\",'Design Details'!B$46,IF($B$3=\"Mid-floor\",'Design Details'!B$56,IF($B$3=\"Upper floor\",'Design Details'!B$66,IF($B$3=\"Single Storey\",'Design Details'!B$76,0))))","v":0},3,0,0]
["Width (m)",null,"Height (m)",null,"Area (m²)",0,"U Value (W/m²K)",{"$f":"IF($B$3=\"Ground floor\",'Design Details'!B$46,IF($B$3=\"Mid-floor\",'Design Details'!B$56,IF($B$3=\"Upper floor\",'Design Details'!B$66,IF($B$3=\"Single Storey\",'Design Details'!B$76,0))))","v":0},3,0,0]
["Width (m)",null,"Height (m)",null,"Area (m²)",0,"U Value (W/m²K)",{"$f":"IF($B$3=\"Ground floor\",'Design Details'!B$46,IF($B$3=\"Mid-floor\",'Design Details'!B$56,IF($B$3=\"Upper floor\",'Design Details'!B$66,IF($B$3=\"Single Storey\",'Design Details'!B$76,0))))","v":0},3,0,0]
["Width (m)",null,"Height (m)",null,"Area (m²)",0,"U Value (W/m²K)",{"$f":"IF($B$3=\"Ground floor\",'Design Details'!B$46,IF($B$3=\"Mid-floor\",'Design Details'!B$56,IF($B$3=\"Upper floor\",'Design Details'!B$66,IF($B$3=\"Single Storey\",'Design Details'!B$76,0))))","v":0},3,0,0]
["Width (m)",null,"Height (m)",null,"Area (m²)",0,"U Value (W/m²K)",{"$f":"IF($B$3=\"Ground floor\",'Design Details'!B$46,IF($B$3=\"Mid-floor\",'Design Details'!B$56,IF($B$3=\"Upper floor\",'Design Details'!B$66,IF($B$3=\"Single Storey\",'Design Details'!B$76,0))))","v":0},3,0,0]
["Roof Glazing"]
["Width (m)",null,"Height (m)",null,"Area (m²)",0,"U Value (W/m²K)",{"$f":"IF($B$3=\"Ground floor\",'Design Details'!B$53,IF($B$3=\"Mid-floor\",'Design Details'!B$63,IF($B$3=\"Upper floor\",'Design Details'!B$73,IF($B$3=\"Single Storey\",'Design Details'!B$83,0))))","v":0},3,0,{"$f":"F45*H45*$C$7*24/1000","v":0}]
["Width (m)",null,"Height (m)",null,"Area (m²)",0,"U Value (W/m²K)",{"$f":"IF($B$3=\"Ground floor\",'Design Details'!B$53,IF($B$3=\"Mid-floor\",'Design Details'!B$63,IF($B$3=\"Upper floor\",'Design Details'!B$73,IF($B$3=\"Single Storey\",'Design Details'!B$83,0))))","v":0},3,0,{"$f":"F46*H46*$C$7*24/1000","v":0}]
["Width (m)",null,"Height (m)",null,"Area (m²)",0,"U Value (W/m²K)",{"$f":"IF($B$3=\"Ground floor\",'Design Details'!B$53,IF($B$3=\"Mid-floor\",'Design Details'!B$63,IF($B$3=\"Upper floor\",'Design Details'!B$73,IF($B$3=\"Single Storey\",'Design Details'!B$83,0))))","v":0},3,0,{"$f":"F47*H47*$C$7*24/1000","v":0}]
["Width (m)",null,"Height (m)",null,"Area (m²)",0,"U Value (W/m²K)",{"$f":"IF($B$3=\"Ground floor\",'Design Details'!B$53,IF($B$3=\"Mid-floor\",'Design Details'!B$63,IF($B$3=\"Upper floor\",'Design Details'!B$73,IF($B$3=\"Single Storey\",'Design Details'!B$83,0))))","v":0},3,0,{"$f":"F48*H48*$C$7*24/1000","v":0}]
["Doors"]
["Width (m)",null,"Height (m)",null,"Area (m²)",0,"U Value (W/m²K)",{"$f":"IF($B$3=\"Ground floor\",'Design Details'!B$47,IF($B$3=\"Mid-floor\",'Design Details'!B$57,IF($B$3=\"Upper floor\",'Design Details'!B$67,IF($B$3=\"Single Storey\",'Design Details'!B$77,0))))","v":0},3,0,{"$f":"F50*H50*$C$7*24/1000","v":0}]
["Width (m)",null,"Height (m)",null,"Area (m²)",0,"U Value (W/m²K)",{"$f":"IF($B$3=\"Ground floor\",'Design Details'!B$47,IF($B$3=\"Mid-floor\",'Design Details'!B$57,IF($B$3=\"Upper floor\",'Design Details'!B$67,IF($B$3=\"Single Storey\",'Design Details'!B$77,0))))","v":0},3,0,{"$f":"F51*H51*$C$7*24/1000","v":0}]
["Width (m)",null,"Height (m)",null,"Area (m²)",0,"U Value (W/m²K)",{"$f":"IF($B$3=\"Ground floor\",'Design Details'!B$47,IF($B$3=\"Mid-floor\",'Design Details'!B$57,IF($B$3=\"Upper floor\",'Design Details'!B$67,IF($B$3=\"Single Storey\",'Design Details'!B$77,0))))","v":0},3,0,{"$f":"F52*H52*$C$7*24/1000","v":0}]
["Width (m)",null,"Height (m)",null,"Area (m²)",0,"U Value (W/m²K)",{"$f":"IF($B$3=\"Ground floor\",'Design Details'!B$47,IF($B$3=\"Mid-floor\",'Design Details'!B$57,IF($B$3=\"Upper floor\",'Design Details'!B$67,IF($B$3=\"Single Storey\",'Design Details'!B$77,0))))","v":0},3,0,{"$f":"F53*H53*$C$7*24/1000","v":0}]
["Internal Walls",null,null,null,null,null,null,null,null,null,null,"Adjoining Room Temp (°C)"]
["Length (m)",null,"Height (m)",null,"Area (m²)",0,"U Value (W/m²K)",{"$f":"IF($B$3=\"Ground floor\",'Design Details'!B$51,IF($B$3=\"Mid-floor\",'Design Details'!B$61,IF($B$3=\"Upper floor\",'Design Details'!B$71,IF($B$3=\"Single Storey\",'Design Details'!B$81,0))))","v":0},{"$f":"IF(L55=\"\",0,IF(L55=\"unheated\",C$4-10,C$4-L55))","v":0},0]
["Length (m)",null,"Height (m)",null,"Area (m²)",0,"U Value (W/m²K)",{"$f":"IF($B$3=\"Ground floor\",'Design Details'!B$51,IF($B$3=\"Mid-floor\",'Design Details'!B$61,IF($B$3=\"Upper floor\",'Design Details'!B$71,IF($B$3=\"Single Storey\",'Design Details'!B$81,0))))","v":0},{"$f":"IF(L56=\"\",0,IF(L56=\"unheated\",C$4-10,C$4-L56))","v":0},0]
["Length (m)",null,"Height (m)",null,"Area (m²)",0,"U Value (W/m²K)",{"$f":"IF($B$3=\"Ground floor\",'Design Details'!B$51,IF($B$3=\"Mid-floor\",'Design Details'!B$61,IF($B$3=\"Upper floor\",'Design Details'!B$71,IF($B$3=\"Single Storey\",'Design Details'!B$81,0))))","v":0},{"$f":"IF(L57=\"\",0,IF(L57=\"unheated\",C$4-10,C$4-L57))","v":0},0]
["Length (m)",null,"Height (m)",null,"Area (m²)",0,"U Value (W/m²K)",{"$f":"IF($B$3=\"Ground floor\",'Design Details'!B$51,IF($B$3=\"Mid-floor\",'Design Details'!B$61,IF($B$3=\"Upper floor\",'Design Details'!B$71,IF($B$3=\"Single Storey\",'Design Details'!B$81,0))))","v":0},{"$f":"IF(L58=\"\",0,IF(L58=\"unheated\",C$4-10,C$4-L58))","v":0},0]
["Party Wall"]
["Length (m)",null,"Height (m)",null,"Area (m²)",0,"U Value (W/m²K)",{"$f":"IF($B$3=\"Ground floor\",'Design Details'!B$52,IF($B$3=\"Mid-floor\",'Design Details'!B$62,IF($B$3=\"Upper floor\",'Design Details'!B$72,IF($B$3=\"Single Storey\",'Design Details'!B$82,0))))","v":0},{"$f":"C4-10","v":-10},0,{"$f":"F60*H60*$C$7*24/1000","v":0}]

{"sheet":"27","index":44,"n_rows":60,"n_cols":24,"rows_kept":60,"cut":false,"hidden":false,"merged":[[2,1,2,2],[2,3,2,4],[0,0,0,2],[0,3,0,5],[0,9,0,10],[1,3,1,4],[3,0,3,1],[3,3,3,4],[4,0,4,1],[4,3,4,4],[5,0,5,1],[5,3,5,4],[57,11,57,13],[6,0,6,1],[18,11,18,13],[19,11,19,13],[53,11,53,13],[54,11,54,13],[55,11,55,13],[56,11,56,13],[30,11,30,13],[10,10,10,13],[9,10,9,13],[20,11,20,13],[21,11,21,13]]}
["Room Information",null,null,"Ventilation Heat Loss",null,null,"Fabric ","Heat Loss (W)"," Usage (kWh)","Additional heat loss",null,"Addition","Watts","kWh"]
["Room","-",null,"Air Changes a hour",null,{"$f":"'Design Details'!F113","v":0},"Floor",{"$f":"SUM(J20:J22)","v":0},{"$f":"SUM(K20:K22)","v":0},"Thermal Bridging (New Build >2006)",null,0,{"$f":"SUM(H$2:H$6)*L2","v":0},{"$f":"SUM(I$2:I$6)*L2","v":0},null,"3 edges (long single)","Level",null,null,null,null,null,null,1]
["Level",null,null,"Air Change Factor (W/m³K)",null,0.33,"Ext Wall",{"$f":"J27","v":0},{"$f":"K27","v":0},"Exposed location",null,0,{"$f":"SUM(H$2:H$6)*L3","v":0},{"$f":"SUM(I$2:I$6)*L3","v":0},null,"3 edges (short single)","Please Select Floor",{"$f":"IF($B$3=\"Ground floor\",\"Solid Floor (in contact with ground)\",IF($B$3=\"Single Storey\",\"Solid Floor (in contact with ground)\",\"n/a\"))","v":"n/a"},{"$f":"'Design Details'!B21","v":10},"unheated",0,0,0,2]
["Design Room Temp (°C)",null,{"$f":"'Design Details'!D113","v":0},"Total Volume (m³)",null,{"$f":"SUM(H10:H12,H14:H18)","v":0},"Roof",{"$f":"SUM(J32,J35)","v":0},{"$f":"SUM(K32,K35)","v":0},"High ceiling",null,0,{"$f":"SUM(H$2:H$6)*L4","v":0},{"$f":"SUM(I$2:I$6)*L4","v":0},null,"One edge","Ground floor",{"$f":"IF($B$3=\"Ground floor\",\"Suspended Floor\",IF($B$3=\"Single Storey\",\"Suspended Floor\",\"n/a\"))","v":"n/a"},null,16,0.1,0.2,2.5000000000000001E-2,3]
["Outside Design Temp (°C)",null,{"$f":"'Design Details'!B19","v":-3},"Heat loss (W)",null,{"$f":"F4*F3*C6*F2","v":0},"Glazing",{"$f":"SUM(J37:J43,J45:J48,J50:J53)","v":0},{"$f":"SUM(K37:K43,K45:K48,K50:K53)","v":0},"Intermittent heating",null,0,{"$f":"SUM(H$2:H$6)*L5","v":0},{"$f":"SUM(I$2:I$6)*L5","v":0},null,"Two adjacent","Mid-floor",null,null,18,null,null,0.05,4]
["Temp Difference (°C)",null,{"$f":"C4-C5","v":3},"Estimated Energy usage (kWh)",null,{"$f":"F4*F3*C7*24/1000","v":0},"Int./Party Wall",{"$f":"SUM(J55:J58,J60)","v":0},{"$f":"SUM(K60)","v":0},null,null,null,"Total Room Heat Loss (W)",{"$f":"SUM(F5,H2:H6,M2:M5)","v":0},null,"Two opposite","Single storey",null,null,21,null,null,7.4999999999999997E-2,5]
["Degree Days",null,{"$f":"'Design Details'!B20","v":2228},null,null,null,null,null,null,null,null,null,"Total Room Energy Usage (kWh)",{"$f":"SUM(F6,I2:I6,N2:N5)","v":0},null,null,"Upper floor",null,null,22,null,null,0.1,6]
[null,null,null,null,null,null,null,null,null,null,null,null,null,null,null,null,{"$f":"IF($B$3=\"Ground floor\",'Design Details'!B$45,IF($B$3=\"Mid-floor\",'Design Details'!B$55,IF($B$3=\"Upper floor\",'Design Details'!B$65,IF($B$3=\"Single Storey\",'Design Details'!B$75,0))))","v":0},null,null,null,null,null,null,7]
["Room Dimensions",null,null,null,null,null,null,null,null,null,null,null,null,null,null,null,null,null,null,null,null,null,null,8]
["Length (m)",null,"Width (m)",null,"Height (m)",null,"Volume (m³)",{"$f":"B10*D10*F10","v":0},null,null,null,null,null,null,null,null,null,null,null,null,null,null,null,9]
["Length (m)",null,"Width (m)",null,"Height (m)",null,"Volume (m³)",{"$f":"B11*D11*F11","v":0},null,null,null,null,null,null,null,null,null,null,null,null,null,null,null,10]
["Length (m)",null,"Width (m)",null,"Height (m)",null,"Volume (m³)",{"$f":"B12*D12*F12","v":0}]
["Awkward Room Dimensions"]
["Length (m)",null,"Width (m)",null,"Height (m)",null,"Volume (m³)",{"$f":"((F14*D14)/2)*B14","v":0},"Pitched"]
["Length (m)",null,"Width (m)",null,"Height (m)",null,"Volume (m³)",{"$f":"B15*D15*F15/2","v":0},"Single Pitch"]
["Length (m)",null,"Height (m)",null,"Depth (m)",null,"Volume (m³)",{"$f":"D16*F16*B16/2","v":0},"Dormer 1"]
["Length (m)",null,"Height (m)",null,"Depth (m)",null,"Volume (m³)",{"$f":"D17*F17*B17/2","v":0},"Dormer 2"]
["Length (m)",null,"Height (m)",null,"Depth (m)",null,"Volume (m³)",{"$f":"D18*F18*B18/2","v":0},"Dormer 3"]
["Floor",null,null,null,null,null,null,null,"Temp Difference","Heat Loss (W)","Usage (kWh)","Type of Ground Floor"]
["Length (m)",null,"Width (m)",null,"Area (m²)",{"$f":"B20*D20","v":0},"U Value (W/m²K)",{"$f":"IF(L22=\"\",Q8,'floor u values'!K28)","v":0},{"$f":"IF(B$3=\"Ground Floor\",IF(L20=\"Solid Floor (in contact with ground)\",C$4-S$3,C$4-C$5),IF(B$3=\"Single Storey\",IF(L20=\"Solid Floor (in contact with ground)\",C$4-S$3,C$4-C$5),0))","v":0},{"$f":"F20*H20*I20","v":0},{"$f":"IF($B$3=$Q$5,0,IF($B$3=$Q$7,0,F20*H20*$C$7*24/1000))","v":0}]
["Length (m)",null,"Width (m)",null,"Area (m²)",{"$f":"B21*D21","v":0},"U Value (W/m²K)",{"$f":"H20","v":0},{"$f":"IF(B$3=\"Ground Floor\",IF(L20=\"Solid Floor (in contact with ground)\",C$4-S$3,C$4-C$5),IF(B$3=\"Single Storey\",IF(L20=\"Solid Floor (in contact with ground)\",C$4-S$3,C$4-C$5),0))","v":0},{"$f":"F21*H21*I21","v":0},{"$f":"IF($B$3=$Q$5,0,IF($B$3=$Q$7,0,F21*H21*$C$7*24/1000))","v":0},"Exposed floor (external)"]
["Length (m)",null,"Width (m)",null,"Area (m²)",0,"U Value (W/m²K)",{"$f":"H20","v":0},{"$f":"IF(B$3=\"Ground Floor\",IF(L20=\"Solid Floor (in contact with ground)\",C$4-S$3,C$4-C$5),IF(B$3=\"Single Storey\",IF(L20=\"Solid Floor (in contact with ground)\",C$4-S$3,C$4-C$5),0))","v":0},{"$f":"F22*H22*I22","v":0},{"$f":"IF($B$3=$Q$5,0,IF($B$3=$Q$7,0,F22*H22*$C$7*24/1000))","v":0}]
["External Wall",null,null,null,null,null,null,null,null,null,null,{"$f":"IF(L22=\"Two opposite\",\"Between edges\",IF(L22=\"One edge\",\"Depth of room\",IF(L22=\"3 edges (short single)\",\"Short length\",IF(L22=\"3 edges (long single)\",\"Short length\",\"\"))))","v":""},null,{"$f":"IF(L22=\"3 edges (short single)\",\"Long length\",IF(L22=\"3 edges (long single)\",\"Long length\",\"\"))","v":""}]
["Length (m)",null,"Height (m)",null,"Area (m²)",0]
["Length (m)",null,"Height (m)",null,"Area (m²)",0]
["Length (m)",null,"Height (m)",null,"Area (m²)",0]
[null,null,null,"Total","Area (m²)",{"$f":"SUM(F24:F26)-SUM(F37:F43,F50:F53)","v":0},"U Value (W/m²K)",{"$f":"IF($B$3=\"Ground floor\",'Design Details'!B$48,IF($B$3=\"Mid-floor\",'Design Details'!B$58,IF($B$3=\"Upper floor\",'Design Details'!B$68,IF($B$3=\"Single Storey\",'Design Details'!B$78,0))))","v":0},{"$f":"$C$6","v":3},{"$f":"F27*H27*I27","v":0},{"$f":"F27*H27*$C$7*24/1000","v":0}]
["Roof"]
["Length (m)",null,"Width (m)",null,"Area (m²)",0]
["Length (m)",null,"Width (m)",null,"Area (m²)",0]
["Length (m)",null,"Width (m)",null,"Area (m²)",0]
[null,null,null,"Total","Area (m²)",{"$f":"SUM(F29:F31)-SUM(F45:F48)","v":0},"U Value (W/m²K)",{"$f":"IF($B$3=\"Ground floor\",'Design Details'!B$49,IF($B$3=\"Mid-floor\",'Design Details'!B$59,IF($B$3=\"Upper floor\",'Design Details'!B$69,IF($B$3=\"Single Storey\",'Design Details'!B$79,0))))","v":0},{"$f":"$C$6","v":3},0,{"$f":"IF($B$3=$Q$4,0,IF($B$3=$Q$5,0,F32*H32*$C$7*24/1000))","v":0}]
["Length (m)",null,"Pitch (m)",null,"Area (m²)",0,"Pitched"]
["Length (m)",null,"Pitch (m)",null,"Area (m²)",0,"Single Pitch"]
[null,null,null,"Total","Area (m²)",{"$f":"SUM(F33:F34)-SUM(F45:F48)","v":0},"U Value (W/m²K)",{"$f":"IF($B$3=\"Ground floor\",'Design Details'!B$50,IF($B$3=\"Mid-floor\",'Design Details'!B$60,IF($B$3=\"Upper floor\",'Design Details'!B$70,IF($B$3=\"Single Storey\",'Design Details'!B$80,0))))","v":0},3,0,{"$f":"IF($B$3=$Q$4,0,IF($B$3=$Q$5,0,F35*H35*$C$7*24/1000))","v":0}]
["Windows"]
["Width (m)",null,"Height (m)",null,"Area (m²)",0,"U Value (W/m²K)",{"$f":"IF($B$3=\"Ground floor\",'Design Details'!B$46,IF($B$3=\"Mid-floor\",'Design Details'!B$56,IF($B$3=\"Upper floor\",'Design Details'!B$66,IF($B$3=\"Single Storey\",'Design Details'!B$76,0))))","v":0},3,0,{"$f":"F37*H37*$C$7*24/1000","v":0}]
["Width (m)",null,"Height (m)",null,"Area (m²)",0,"U Value (W/m²K)",{"$f":"IF($B$3=\"Ground floor\",'Design Details'!B$46,IF($B$3=\"Mid-floor\",'Design Details'!B$56,IF($B$3=\"Upper floor\",'Design Details'!B$66,IF($B$3=\"Single Storey\",'Design Details'!B$76,0))))","v":0},3,0,0]
["Width (m)",null,"Height (m)",null,"Area (m²)",0,"U Value (W/m²K)",{"$f":"IF($B$3=\"Ground floor\",'Design Details'!B$46,IF($B$3=\"Mid-floor\",'Design Details'!B$56,IF($B$3=\"Upper floor\",'Design Details'!B$66,IF($B$3=\"Single Storey\",'Design Details'!B$76,0))))","v":0},3,0,0]
["Width (m)",null,"Height (m)",null,"Area (m²)",0,"U Value (W/m²K)",{"$f":"IF($B$3=\"Ground floor\",'Design Details'!B$46,IF($B$3=\"Mid-floor\",'Design Details'!B$56,IF($B$3=\"Upper floor\",'Design Details'!B$66,IF($B$3=\"Single Storey\",'Design Details'!B$76,0))))","v":0},3,0,0]
["Width (m)",null,"Height (m)",null,"Area (m²)",0,"U Value (W/m²K)",{"$f":"IF($B$3=\"Ground floor\",'Design Details'!B$46,IF($B$3=\"Mid-floor\",'Design Details'!B$56,IF($B$3=\"Upper floor\",'Design Details'!B$66,IF($B$3=\"Single Storey\",'Design Details'!B$76,0))))","v":0},3,0,0]
["Width (m)",null,"Height (m)",null,"Area (m²)",0,"U Value (W/m²K)",{"$f":"IF($B$3=\"Ground floor\",'Design Details'!B$46,IF($B$3=\"Mid-floor\",'Design Details'!B$56,IF($B$3=\"Upper floor\",'Design Details'!B$66,IF($B$3=\"Single Storey\",'Design Details'!B$76,0))))","v":0},3,0,0]
["Width (m)",null,"Height (m)",null,"Area (m²)",0,"U Value (W/m²K)",{"$f":"IF($B$3=\"Ground floor\",'Design Details'!B$46,IF($B$3=\"Mid-floor\",'Design Details'!B$56,IF($B$3=\"Upper floor\",'Design Details'!B$66,IF($B$3=\"Single Storey\",'Design Details'!B$76,0))))","v":0},3,0,0]
["Roof Glazing"]
["Width (m)",null,"Height (m)",null,"Area (m²)",0,"U Value (W/m²K)",{"$f":"IF($B$3=\"Ground floor\",'Design Details'!B$53,IF($B$3=\"Mid-floor\",'Design Details'!B$63,IF($B$3=\"Upper floor\",'Design Details'!B$73,IF($B$3=\"Single Storey\",'Design Details'!B$83,0))))","v":0},3,0,{"$f":"F45*H45*$C$7*24/1000","v":0}]
["Width (m)",null,"Height (m)",null,"Area (m²)",0,"U Value (W/m²K)",{"$f":"IF($B$3=\"Ground floor\",'Design Details'!B$53,IF($B$3=\"Mid-floor\",'Design Details'!B$63,IF($B$3=\"Upper floor\",'Design Details'!B$73,IF($B$3=\"Single Storey\",'Design Details'!B$83,0))))","v":0},3,0,{"$f":"F46*H46*$C$7*24/1000","v":0}]
["Width (m)",null,"Height (m)",null,"Area (m²)",0,"U Value (W/m²K)",{"$f":"IF($B$3=\"Ground floor\",'Design Details'!B$53,IF($B$3=\"Mid-floor\",'Design Details'!B$63,IF($B$3=\"Upper floor\",'Design Details'!B$73,IF($B$3=\"Single Storey\",'Design Details'!B$83,0))))","v":0},3,0,{"$f":"F47*H47*$C$7*24/1000","v":0}]
["Width (m)",null,"Height (m)",null,"Area (m²)",0,"U Value (W/m²K)",{"$f":"IF($B$3=\"Ground floor\",'Design Details'!B$53,IF($B$3=\"Mid-floor\",'Design Details'!B$63,IF($B$3=\"Upper floor\",'Design Details'!B$73,IF($B$3=\"Single Storey\",'Design Details'!B$83,0))))","v":0},3,0,{"$f":"F48*H48*$C$7*24/1000","v":0}]
["Doors"]
["Width (m)",null,"Height (m)",null,"Area (m²)",0,"U Value (W/m²K)",{"$f":"IF($B$3=\"Ground floor\",'Design Details'!B$47,IF($B$3=\"Mid-floor\",'Design Details'!B$57,IF($B$3=\"Upper floor\",'Design Details'!B$67,IF($B$3=\"Single Storey\",'Design Details'!B$77,0))))","v":0},3,0,{"$f":"F50*H50*$C$7*24/1000","v":0}]
["Width (m)",null,"Height (m)",null,"Area (m²)",0,"U Value (W/m²K)",{"$f":"IF($B$3=\"Ground floor\",'Design Details'!B$47,IF($B$3=\"Mid-floor\",'Design Details'!B$57,IF($B$3=\"Upper floor\",'Design Details'!B$67,IF($B$3=\"Single Storey\",'Design Details'!B$77,0))))","v":0},3,0,{"$f":"F51*H51*$C$7*24/1000","v":0}]
["Width (m)",null,"Height (m)",null,"Area (m²)",0,"U Value (W/m²K)",{"$f":"IF($B$3=\"Ground floor\",'Design Details'!B$47,IF($B$3=\"Mid-floor\",'Design Details'!B$57,IF($B$3=\"Upper floor\",'Design Details'!B$67,IF($B$3=\"Single Storey\",'Design Details'!B$77,0))))","v":0},3,0,{"$f":"F52*H52*$C$7*24/1000","v":0}]
["Width (m)",null,"Height (m)",null,"Area (m²)",0,"U Value (W/m²K)",{"$f":"IF($B$3=\"Ground floor\",'Design Details'!B$47,IF($B$3=\"Mid-floor\",'Design Details'!B$57,IF($B$3=\"Upper floor\",'Design Details'!B$67,IF($B$3=\"Single Storey\",'Design Details'!B$77,0))))","v":0},3,0,{"$f":"F53*H53*$C$7*24/1000","v":0}]
["Internal Walls",null,null,null,null,null,null,null,null,null,null,"Adjoining Room Temp (°C)"]
["Length (m)",null,"Height (m)",null,"Area (m²)",0,"U Value (W/m²K)",{"$f":"IF($B$3=\"Ground floor\",'Design Details'!B$51,IF($B$3=\"Mid-floor\",'Design Details'!B$61,IF($B$3=\"Upper floor\",'Design Details'!B$71,IF($B$3=\"Single Storey\",'Design Details'!B$81,0))))","v":0},{"$f":"IF(L55=\"\",0,IF(L55=\"unheated\",C$4-10,C$4-L55))","v":0},0]
["Length (m)",null,"Height (m)",null,"Area (m²)",0,"U Value (W/m²K)",{"$f":"IF($B$3=\"Ground floor\",'Design Details'!B$51,IF($B$3=\"Mid-floor\",'Design Details'!B$61,IF($B$3=\"Upper floor\",'Design Details'!B$71,IF($B$3=\"Single Storey\",'Design Details'!B$81,0))))","v":0},{"$f":"IF(L56=\"\",0,IF(L56=\"unheated\",C$4-10,C$4-L56))","v":0},0]
["Length (m)",null,"Height (m)",null,"Area (m²)",0,"U Value (W/m²K)",{"$f":"IF($B$3=\"Ground floor\",'Design Details'!B$51,IF($B$3=\"Mid-floor\",'Design Details'!B$61,IF($B$3=\"Upper floor\",'Design Details'!B$71,IF($B$3=\"Single Storey\",'Design Details'!B$81,0))))","v":0},{"$f":"IF(L57=\"\",0,IF(L57=\"unheated\",C$4-10,C$4-L57))","v":0},0]
["Length (m)",null,"Height (m)",null,"Area (m²)",0,"U Value (W/m²K)",{"$f":"IF($B$3=\"Ground floor\",'Design Details'!B$51,IF($B$3=\"Mid-floor\",'Design Details'!B$61,IF($B$3=\"Upper floor\",'Design Details'!B$71,IF($B$3=\"Single Storey\",'Design Details'!B$81,0))))","v":0},{"$f":"IF(L58=\"\",0,IF(L58=\"unheated\",C$4-10,C$4-L58))","v":0},0]
["Party Wall"]
["Length (m)",null,"Height (m)",null,"Area (m²)",0,"U Value (W/m²K)",{"$f":"IF($B$3=\"Ground floor\",'Design Details'!B$52,IF($B$3=\"Mid-floor\",'Design Details'!B$62,IF($B$3=\"Upper floor\",'Design Details'!B$72,IF($B$3=\"Single Storey\",'Design Details'!B$82,0))))","v":0},{"$f":"C4-10","v":-10},0,{"$f":"F60*H60*$C$7*24/1000","v":0}]

{"sheet":"28","index":45,"n_rows":60,"n_cols":24,"rows_kept":60,"cut":false,"hidden":false,"merged":[[2,1,2,2],[2,3,2,4],[0,0,0,2],[0,3,0,5],[0,9,0,10],[1,3,1,4],[3,0,3,1],[3,3,3,4],[4,0,4,1],[4,3,4,4],[5,0,5,1],[5,3,5,4],[57,11,57,13],[6,0,6,1],[18,11,18,13],[19,11,19,13],[53,11,53,13],[54,11,54,13],[55,11,55,13],[56,11,56,13],[30,11,30,13],[10,10,10,13],[9,10,9,13],[20,11,20,13],[21,11,21,13]]}
["Room Information",null,null,"Ventilation Heat Loss",null,null,"Fabric ","Heat Loss (W)"," Usage (kWh)","Additional heat loss",null,"Addition","Watts","kWh"]
["Room","-",null,"Air Changes a hour",null,{"$f":"'Design Details'!F114","v":0},"Floor",{"$f":"SUM(J20:J22)","v":0},{"$f":"SUM(K20:K22)","v":0},"Thermal Bridging (New Build >2006)",null,0,{"$f":"SUM(H$2:H$6)*L2","v":0},{"$f":"SUM(I$2:I$6)*L2","v":0},null,"3 edges (long single)","Level",null,null,null,null,null,null,1]
["Level",null,null,"Air Change Factor (W/m³K)",null,0.33,"Ext Wall",{"$f":"J27","v":0},{"$f":"K27","v":0},"Exposed location",null,0,{"$f":"SUM(H$2:H$6)*L3","v":0},{"$f":"SUM(I$2:I$6)*L3","v":0},null,"3 edges (short single)","Please Select Floor",{"$f":"IF($B$3=\"Ground floor\",\"Solid Floor (in contact with ground)\",IF($B$3=\"Single Storey\",\"Solid Floor (in contact with ground)\",\"n/a\"))","v":"n/a"},{"$f":"'Design Details'!B21","v":10},"unheated",0,0,0,2]
["Design Room Temp (°C)",null,{"$f":"'Design Details'!D114","v":0},"Total Volume (m³)",null,{"$f":"SUM(H10:H12,H14:H18)","v":0},"Roof",{"$f":"SUM(J32,J35)","v":0},{"$f":"SUM(K32,K35)","v":0},"High ceiling",null,0,{"$f":"SUM(H$2:H$6)*L4","v":0},{"$f":"SUM(I$2:I$6)*L4","v":0},null,"One edge","Ground floor",{"$f":"IF($B$3=\"Ground floor\",\"Suspended Floor\",IF($B$3=\"Single Storey\",\"Suspended Floor\",\"n/a\"))","v":"n/a"},null,16,0.1,0.2,2.5000000000000001E-2,3]
["Outside Design Temp (°C)",null,{"$f":"'Design Details'!B19","v":-3},"Heat loss (W)",null,{"$f":"F4*F3*C6*F2","v":0},"Glazing",{"$f":"SUM(J37:J43,J45:J48,J50:J53)","v":0},{"$f":"SUM(K37:K43,K45:K48,K50:K53)","v":0},"Intermittent heating",null,0,{"$f":"SUM(H$2:H$6)*L5","v":0},{"$f":"SUM(I$2:I$6)*L5","v":0},null,"Two adjacent","Mid-floor",null,null,18,null,null,0.05,4]
["Temp Difference (°C)",null,{"$f":"C4-C5","v":3},"Estimated Energy usage (kWh)",null,{"$f":"F4*F3*C7*24/1000","v":0},"Int./Party Wall",{"$f":"SUM(J55:J58,J60)","v":0},{"$f":"SUM(K60)","v":0},null,null,null,"Total Room Heat Loss (W)",{"$f":"SUM(F5,H2:H6,M2:M5)","v":0},null,"Two opposite","Single storey",null,null,21,null,null,7.4999999999999997E-2,5]
["Degree Days",null,{"$f":"'Design Details'!B20","v":2228},null,null,null,null,null,null,null,null,null,"Total Room Energy Usage (kWh)",{"$f":"SUM(F6,I2:I6,N2:N5)","v":0},null,null,"Upper floor",null,null,22,null,null,0.1,6]
[null,null,null,null,null,null,null,null,null,null,null,null,null,null,null,null,{"$f":"IF($B$3=\"Ground floor\",'Design Details'!B$45,IF($B$3=\"Mid-floor\",'Design Details'!B$55,IF($B$3=\"Upper floor\",'Design Details'!B$65,IF($B$3=\"Single Storey\",'Design Details'!B$75,0))))","v":0},null,null,null,null,null,null,7]
["Room Dimensions",null,null,null,null,null,null,null,null,null,null,null,null,null,null,null,null,null,null,null,null,null,null,8]
["Length (m)",null,"Width (m)",null,"Height (m)",null,"Volume (m³)",{"$f":"B10*D10*F10","v":0},null,null,null,null,null,null,null,null,null,null,null,null,null,null,null,9]
["Length (m)",null,"Width (m)",null,"Height (m)",null,"Volume (m³)",{"$f":"B11*D11*F11","v":0},null,null,null,null,null,null,null,null,null,null,null,null,null,null,null,10]
["Length (m)",null,"Width (m)",null,"Height (m)",null,"Volume (m³)",{"$f":"B12*D12*F12","v":0}]
["Awkward Room Dimensions"]
["Length (m)",null,"Width (m)",null,"Height (m)",null,"Volume (m³)",{"$f":"((F14*D14)/2)*B14","v":0},"Pitched"]
["Length (m)",null,"Width (m)",null,"Height (m)",null,"Volume (m³)",{"$f":"B15*D15*F15/2","v":0},"Single Pitch"]
["Length (m)",null,"Height (m)",null,"Depth (m)",null,"Volume (m³)",{"$f":"D16*F16*B16/2","v":0},"Dormer 1"]
["Length (m)",null,"Height (m)",null,"Depth (m)",null,"Volume (m³)",{"$f":"D17*F17*B17/2","v":0},"Dormer 2"]
["Length (m)",null,"Height (m)",null,"Depth (m)",null,"Volume (m³)",{"$f":"D18*F18*B18/2","v":0},"Dormer 3"]
["Floor",null,null,null,null,null,null,null,"Temp Difference","Heat Loss (W)","Usage (kWh)","Type of Ground Floor"]
["Length (m)",null,"Width (m)",null,"Area (m²)",{"$f":"B20*D20","v":0},"U Value (W/m²K)",{"$f":"IF(L22=\"\",Q8,'floor u values'!K29)","v":0},{"$f":"IF(B$3=\"Ground Floor\",IF(L20=\"Solid Floor (in contact with ground)\",C$4-S$3,C$4-C$5),IF(B$3=\"Single Storey\",IF(L20=\"Solid Floor (in contact with ground)\",C$4-S$3,C$4-C$5),0))","v":0},{"$f":"F20*H20*I20","v":0},{"$f":"IF($B$3=$Q$5,0,IF($B$3=$Q$7,0,F20*H20*$C$7*24/1000))","v":0}]
["Length (m)",null,"Width (m)",null,"Area (m²)",{"$f":"B21*D21","v":0},"U Value (W/m²K)",{"$f":"H20","v":0},{"$f":"IF(B$3=\"Ground Floor\",IF(L20=\"Solid Floor (in contact with ground)\",C$4-S$3,C$4-C$5),IF(B$3=\"Single Storey\",IF(L20=\"Solid Floor (in contact with ground)\",C$4-S$3,C$4-C$5),0))","v":0},{"$f":"F21*H21*I21","v":0},{"$f":"IF($B$3=$Q$5,0,IF($B$3=$Q$7,0,F21*H21*$C$7*24/1000))","v":0},"Exposed floor (external)"]
["Length (m)",null,"Width (m)",null,"Area (m²)",0,"U Value (W/m²K)",{"$f":"H20","v":0},{"$f":"IF(B$3=\"Ground Floor\",IF(L20=\"Solid Floor (in contact with ground)\",C$4-S$3,C$4-C$5),IF(B$3=\"Single Storey\",IF(L20=\"Solid Floor (in contact with ground)\",C$4-S$3,C$4-C$5),0))","v":0},{"$f":"F22*H22*I22","v":0},{"$f":"IF($B$3=$Q$5,0,IF($B$3=$Q$7,0,F22*H22*$C$7*24/1000))","v":0}]
["External Wall",null,null,null,null,null,null,null,null,null,null,{"$f":"IF(L22=\"Two opposite\",\"Between edges\",IF(L22=\"One edge\",\"Depth of room\",IF(L22=\"3 edges (short single)\",\"Short length\",IF(L22=\"3 edges (long single)\",\"Short length\",\"\"))))","v":""},null,{"$f":"IF(L22=\"3 edges (short single)\",\"Long length\",IF(L22=\"3 edges (long single)\",\"Long length\",\"\"))","v":""}]
["Length (m)",null,"Height (m)",null,"Area (m²)",0]
["Length (m)",null,"Height (m)",null,"Area (m²)",0]
["Length (m)",null,"Height (m)",null,"Area (m²)",0]
[null,null,null,"Total","Area (m²)",{"$f":"SUM(F24:F26)-SUM(F37:F43,F50:F53)","v":0},"U Value (W/m²K)",{"$f":"IF($B$3=\"Ground floor\",'Design Details'!B$48,IF($B$3=\"Mid-floor\",'Design Details'!B$58,IF($B$3=\"Upper floor\",'Design Details'!B$68,IF($B$3=\"Single Storey\",'Design Details'!B$78,0))))","v":0},{"$f":"$C$6","v":3},{"$f":"F27*H27*I27","v":0},{"$f":"F27*H27*$C$7*24/1000","v":0}]
["Roof"]
["Length (m)",null,"Width (m)",null,"Area (m²)",0]
["Length (m)",null,"Width (m)",null,"Area (m²)",0]
["Length (m)",null,"Width (m)",null,"Area (m²)",0]
[null,null,null,"Total","Area (m²)",{"$f":"SUM(F29:F31)-SUM(F45:F48)","v":0},"U Value (W/m²K)",{"$f":"IF($B$3=\"Ground floor\",'Design Details'!B$49,IF($B$3=\"Mid-floor\",'Design Details'!B$59,IF($B$3=\"Upper floor\",'Design Details'!B$69,IF($B$3=\"Single Storey\",'Design Details'!B$79,0))))","v":0},{"$f":"$C$6","v":3},0,{"$f":"IF($B$3=$Q$4,0,IF($B$3=$Q$5,0,F32*H32*$C$7*24/1000))","v":0}]
["Length (m)",null,"Pitch (m)",null,"Area (m²)",0,"Pitched"]
["Length (m)",null,"Pitch (m)",null,"Area (m²)",0,"Single Pitch"]
[null,null,null,"Total","Area (m²)",{"$f":"SUM(F33:F34)-SUM(F45:F48)","v":0},"U Value (W/m²K)",{"$f":"IF($B$3=\"Ground floor\",'Design Details'!B$50,IF($B$3=\"Mid-floor\",'Design Details'!B$60,IF($B$3=\"Upper floor\",'Design Details'!B$70,IF($B$3=\"Single Storey\",'Design Details'!B$80,0))))","v":0},3,0,{"$f":"IF($B$3=$Q$4,0,IF($B$3=$Q$5,0,F35*H35*$C$7*24/1000))","v":0}]
["Windows"]
["Width (m)",null,"Height (m)",null,"Area (m²)",0,"U Value (W/m²K)",{"$f":"IF($B$3=\"Ground floor\",'Design Details'!B$46,IF($B$3=\"Mid-floor\",'Design Details'!B$56,IF($B$3=\"Upper floor\",'Design Details'!B$66,IF($B$3=\"Single Storey\",'Design Details'!B$76,0))))","v":0},3,0,{"$f":"F37*H37*$C$7*24/1000","v":0}]
["Width (m)",null,"Height (m)",null,"Area (m²)",0,"U Value (W/m²K)",{"$f":"IF($B$3=\"Ground floor\",'Design Details'!B$46,IF($B$3=\"Mid-floor\",'Design Details'!B$56,IF($B$3=\"Upper floor\",'Design Details'!B$66,IF($B$3=\"Single Storey\",'Design Details'!B$76,0))))","v":0},3,0,0]
["Width (m)",null,"Height (m)",null,"Area (m²)",0,"U Value (W/m²K)",{"$f":"IF($B$3=\"Ground floor\",'Design Details'!B$46,IF($B$3=\"Mid-floor\",'Design Details'!B$56,IF($B$3=\"Upper floor\",'Design Details'!B$66,IF($B$3=\"Single Storey\",'Design Details'!B$76,0))))","v":0},3,0,0]
["Width (m)",null,"Height (m)",null,"Area (m²)",0,"U Value (W/m²K)",{"$f":"IF($B$3=\"Ground floor\",'Design Details'!B$46,IF($B$3=\"Mid-floor\",'Design Details'!B$56,IF($B$3=\"Upper floor\",'Design Details'!B$66,IF($B$3=\"Single Storey\",'Design Details'!B$76,0))))","v":0},3,0,0]
["Width (m)",null,"Height (m)",null,"Area (m²)",0,"U Value (W/m²K)",{"$f":"IF($B$3=\"Ground floor\",'Design Details'!B$46,IF($B$3=\"Mid-floor\",'Design Details'!B$56,IF($B$3=\"Upper floor\",'Design Details'!B$66,IF($B$3=\"Single Storey\",'Design Details'!B$76,0))))","v":0},3,0,0]
["Width (m)",null,"Height (m)",null,"Area (m²)",0,"U Value (W/m²K)",{"$f":"IF($B$3=\"Ground floor\",'Design Details'!B$46,IF($B$3=\"Mid-floor\",'Design Details'!B$56,IF($B$3=\"Upper floor\",'Design Details'!B$66,IF($B$3=\"Single Storey\",'Design Details'!B$76,0))))","v":0},3,0,0]
["Width (m)",null,"Height (m)",null,"Area (m²)",0,"U Value (W/m²K)",{"$f":"IF($B$3=\"Ground floor\",'Design Details'!B$46,IF($B$3=\"Mid-floor\",'Design Details'!B$56,IF($B$3=\"Upper floor\",'Design Details'!B$66,IF($B$3=\"Single Storey\",'Design Details'!B$76,0))))","v":0},3,0,0]
["Roof Glazing"]
["Width (m)",null,"Height (m)",null,"Area (m²)",0,"U Value (W/m²K)",{"$f":"IF($B$3=\"Ground floor\",'Design Details'!B$53,IF($B$3=\"Mid-floor\",'Design Details'!B$63,IF($B$3=\"Upper floor\",'Design Details'!B$73,IF($B$3=\"Single Storey\",'Design Details'!B$83,0))))","v":0},3,0,{"$f":"F45*H45*$C$7*24/1000","v":0}]
["Width (m)",null,"Height (m)",null,"Area (m²)",0,"U Value (W/m²K)",{"$f":"IF($B$3=\"Ground floor\",'Design Details'!B$53,IF($B$3=\"Mid-floor\",'Design Details'!B$63,IF($B$3=\"Upper floor\",'Design Details'!B$73,IF($B$3=\"Single Storey\",'Design Details'!B$83,0))))","v":0},3,0,{"$f":"F46*H46*$C$7*24/1000","v":0}]
["Width (m)",null,"Height (m)",null,"Area (m²)",0,"U Value (W/m²K)",{"$f":"IF($B$3=\"Ground floor\",'Design Details'!B$53,IF($B$3=\"Mid-floor\",'Design Details'!B$63,IF($B$3=\"Upper floor\",'Design Details'!B$73,IF($B$3=\"Single Storey\",'Design Details'!B$83,0))))","v":0},3,0,{"$f":"F47*H47*$C$7*24/1000","v":0}]
["Width (m)",null,"Height (m)",null,"Area (m²)",0,"U Value (W/m²K)",{"$f":"IF($B$3=\"Ground floor\",'Design Details'!B$53,IF($B$3=\"Mid-floor\",'Design Details'!B$63,IF($B$3=\"Upper floor\",'Design Details'!B$73,IF($B$3=\"Single Storey\",'Design Details'!B$83,0))))","v":0},3,0,{"$f":"F48*H48*$C$7*24/1000","v":0}]
["Doors"]
["Width (m)",null,"Height (m)",null,"Area (m²)",0,"U Value (W/m²K)",{"$f":"IF($B$3=\"Ground floor\",'Design Details'!B$47,IF($B$3=\"Mid-floor\",'Design Details'!B$57,IF($B$3=\"Upper floor\",'Design Details'!B$67,IF($B$3=\"Single Storey\",'Design Details'!B$77,0))))","v":0},3,0,{"$f":"F50*H50*$C$7*24/1000","v":0}]
["Width (m)",null,"Height (m)",null,"Area (m²)",0,"U Value (W/m²K)",{"$f":"IF($B$3=\"Ground floor\",'Design Details'!B$47,IF($B$3=\"Mid-floor\",'Design Details'!B$57,IF($B$3=\"Upper floor\",'Design Details'!B$67,IF($B$3=\"Single Storey\",'Design Details'!B$77,0))))","v":0},3,0,{"$f":"F51*H51*$C$7*24/1000","v":0}]
["Width (m)",null,"Height (m)",null,"Area (m²)",0,"U Value (W/m²K)",{"$f":"IF($B$3=\"Ground floor\",'Design Details'!B$47,IF($B$3=\"Mid-floor\",'Design Details'!B$57,IF($B$3=\"Upper floor\",'Design Details'!B$67,IF($B$3=\"Single Storey\",'Design Details'!B$77,0))))","v":0},3,0,{"$f":"F52*H52*$C$7*24/1000","v":0}]
["Width (m)",null,"Height (m)",null,"Area (m²)",0,"U Value (W/m²K)",{"$f":"IF($B$3=\"Ground floor\",'Design Details'!B$47,IF($B$3=\"Mid-floor\",'Design Details'!B$57,IF($B$3=\"Upper floor\",'Design Details'!B$67,IF($B$3=\"Single Storey\",'Design Details'!B$77,0))))","v":0},3,0,{"$f":"F53*H53*$C$7*24/1000","v":0}]
["Internal Walls",null,null,null,null,null,null,null,null,null,null,"Adjoining Room Temp (°C)"]
["Length (m)",null,"Height (m)",null,"Area (m²)",0,"U Value (W/m²K)",{"$f":"IF($B$3=\"Ground floor\",'Design Details'!B$51,IF($B$3=\"Mid-floor\",'Design Details'!B$61,IF($B$3=\"Upper floor\",'Design Details'!B$71,IF($B$3=\"Single Storey\",'Design Details'!B$81,0))))","v":0},{"$f":"IF(L55=\"\",0,IF(L55=\"unheated\",C$4-10,C$4-L55))","v":0},0]
["Length (m)",null,"Height (m)",null,"Area (m²)",0,"U Value (W/m²K)",{"$f":"IF($B$3=\"Ground floor\",'Design Details'!B$51,IF($B$3=\"Mid-floor\",'Design Details'!B$61,IF($B$3=\"Upper floor\",'Design Details'!B$71,IF($B$3=\"Single Storey\",'Design Details'!B$81,0))))","v":0},{"$f":"IF(L56=\"\",0,IF(L56=\"unheated\",C$4-10,C$4-L56))","v":0},0]
["Length (m)",null,"Height (m)",null,"Area (m²)",0,"U Value (W/m²K)",{"$f":"IF($B$3=\"Ground floor\",'Design Details'!B$51,IF($B$3=\"Mid-floor\",'Design Details'!B$61,IF($B$3=\"Upper floor\",'Design Details'!B$71,IF($B$3=\"Single Storey\",'Design Details'!B$81,0))))","v":0},{"$f":"IF(L57=\"\",0,IF(L57=\"unheated\",C$4-10,C$4-L57))","v":0},0]
["Length (m)",null,"Height (m)",null,"Area (m²)",0,"U Value (W/m²K)",{"$f":"IF($B$3=\"Ground floor\",'Design Details'!B$51,IF($B$3=\"Mid-floor\",'Design Details'!B$61,IF($B$3=\"Upper floor\",'Design Details'!B$71,IF($B$3=\"Single Storey\",'Design Details'!B$81,0))))","v":0},{"$f":"IF(L58=\"\",0,IF(L58=\"unheated\",C$4-10,C$4-L58))","v":0},0]
["Party Wall"]
["Length (m)",null,"Height (m)",null,"Area (m²)",0,"U Value (W/m²K)",{"$f":"IF($B$3=\"Ground floor\",'Design Details'!B$52,IF($B$3=\"Mid-floor\",'Design Details'!B$62,IF($B$3=\"Upper floor\",'Design Details'!B$72,IF($B$3=\"Single Storey\",'Design Details'!B$82,0))))","v":0},{"$f":"C4-10","v":-10},0,{"$f":"F60*H60*$C$7*24/1000","v":0}]

{"sheet":"29","index":46,"n_rows":60,"n_cols":24,"rows_kept":60,"cut":false,"hidden":false,"merged":[[2,1,2,2],[2,3,2,4],[0,0,0,2],[0,3,0,5],[0,9,0,10],[1,3,1,4],[3,0,3,1],[3,3,3,4],[4,0,4,1],[4,3,4,4],[5,0,5,1],[5,3,5,4],[57,11,57,13],[6,0,6,1],[18,11,18,13],[19,11,19,13],[53,11,53,13],[54,11,54,13],[55,11,55,13],[56,11,56,13],[30,11,30,13],[10,10,10,13],[9,10,9,13],[20,11,20,13],[21,11,21,13]]}
["Room Information",null,null,"Ventilation Heat Loss",null,null,"Fabric ","Heat Loss (W)"," Usage (kWh)","Additional heat loss",null,"Addition","Watts","kWh"]
["Room","-",null,"Air Changes a hour",null,{"$f":"'Design Details'!F115","v":0},"Floor",{"$f":"SUM(J20:J22)","v":0},{"$f":"SUM(K20:K22)","v":0},"Thermal Bridging (New Build >2006)",null,0,{"$f":"SUM(H$2:H$6)*L2","v":0},{"$f":"SUM(I$2:I$6)*L2","v":0},null,"3 edges (long single)","Level",null,null,null,null,null,null,1]
["Level",null,null,"Air Change Factor (W/m³K)",null,0.33,"Ext Wall",{"$f":"J27","v":0},{"$f":"K27","v":0},"Exposed location",null,0,{"$f":"SUM(H$2:H$6)*L3","v":0},{"$f":"SUM(I$2:I$6)*L3","v":0},null,"3 edges (short single)","Please Select Floor",{"$f":"IF($B$3=\"Ground floor\",\"Solid Floor (in contact with ground)\",IF($B$3=\"Single Storey\",\"Solid Floor (in contact with ground)\",\"n/a\"))","v":"n/a"},{"$f":"'Design Details'!B21","v":10},"unheated",0,0,0,2]
["Design Room Temp (°C)",null,{"$f":"'Design Details'!D115","v":0},"Total Volume (m³)",null,{"$f":"SUM(H10:H12,H14:H18)","v":0},"Roof",{"$f":"SUM(J32,J35)","v":0},{"$f":"SUM(K32,K35)","v":0},"High ceiling",null,0,{"$f":"SUM(H$2:H$6)*L4","v":0},{"$f":"SUM(I$2:I$6)*L4","v":0},null,"One edge","Ground floor",{"$f":"IF($B$3=\"Ground floor\",\"Suspended Floor\",IF($B$3=\"Single Storey\",\"Suspended Floor\",\"n/a\"))","v":"n/a"},null,16,0.1,0.2,2.5000000000000001E-2,3]
["Outside Design Temp (°C)",null,{"$f":"'Design Details'!B19","v":-3},"Heat loss (W)",null,{"$f":"F4*F3*C6*F2","v":0},"Glazing",{"$f":"SUM(J37:J43,J45:J48,J50:J53)","v":0},{"$f":"SUM(K37:K43,K45:K48,K50:K53)","v":0},"Intermittent heating",null,0,{"$f":"SUM(H$2:H$6)*L5","v":0},{"$f":"SUM(I$2:I$6)*L5","v":0},null,"Two adjacent","Mid-floor",null,null,18,null,null,0.05,4]
["Temp Difference (°C)",null,{"$f":"C4-C5","v":3},"Estimated Energy usage (kWh)",null,{"$f":"F4*F3*C7*24/1000","v":0},"Int./Party Wall",{"$f":"SUM(J55:J58,J60)","v":0},{"$f":"SUM(K60)","v":0},null,null,null,"Total Room Heat Loss (W)",{"$f":"SUM(F5,H2:H6,M2:M5)","v":0},null,"Two opposite","Single storey",null,null,21,null,null,7.4999999999999997E-2,5]
["Degree Days",null,{"$f":"'Design Details'!B20","v":2228},null,null,null,null,null,null,null,null,null,"Total Room Energy Usage (kWh)",{"$f":"SUM(F6,I2:I6,N2:N5)","v":0},null,null,"Upper floor",null,null,22,null,null,0.1,6]
[null,null,null,null,null,null,null,null,null,null,null,null,null,null,null,null,{"$f":"IF($B$3=\"Ground floor\",'Design Details'!B$45,IF($B$3=\"Mid-floor\",'Design Details'!B$55,IF($B$3=\"Upper floor\",'Design Details'!B$65,IF($B$3=\"Single Storey\",'Design Details'!B$75,0))))","v":0},null,null,null,null,null,null,7]
["Room Dimensions",null,null,null,null,null,null,null,null,null,null,null,null,null,null,null,null,null,null,null,null,null,null,8]
["Length (m)",null,"Width (m)",null,"Height (m)",null,"Volume (m³)",{"$f":"B10*D10*F10","v":0},null,null,null,null,null,null,null,null,null,null,null,null,null,null,null,9]
["Length (m)",null,"Width (m)",null,"Height (m)",null,"Volume (m³)",{"$f":"B11*D11*F11","v":0},null,null,null,null,null,null,null,null,null,null,null,null,null,null,null,10]
["Length (m)",null,"Width (m)",null,"Height (m)",null,"Volume (m³)",{"$f":"B12*D12*F12","v":0}]
["Awkward Room Dimensions"]
["Length (m)",null,"Width (m)",null,"Height (m)",null,"Volume (m³)",{"$f":"((F14*D14)/2)*B14","v":0},"Pitched"]
["Length (m)",null,"Width (m)",null,"Height (m)",null,"Volume (m³)",{"$f":"B15*D15*F15/2","v":0},"Single Pitch"]
["Length (m)",null,"Height (m)",null,"Depth (m)",null,"Volume (m³)",{"$f":"D16*F16*B16/2","v":0},"Dormer 1"]
["Length (m)",null,"Height (m)",null,"Depth (m)",null,"Volume (m³)",{"$f":"D17*F17*B17/2","v":0},"Dormer 2"]
["Length (m)",null,"Height (m)",null,"Depth (m)",null,"Volume (m³)",{"$f":"D18*F18*B18/2","v":0},"Dormer 3"]
["Floor",null,null,null,null,null,null,null,"Temp Difference","Heat Loss (W)","Usage (kWh)","Type of Ground Floor"]
["Length (m)",null,"Width (m)",null,"Area (m²)",{"$f":"B20*D20","v":0},"U Value (W/m²K)",{"$f":"IF(L22=\"\",Q8,'floor u values'!K30)","v":0},{"$f":"IF(B$3=\"Ground Floor\",IF(L20=\"Solid Floor (in contact with ground)\",C$4-S$3,C$4-C$5),IF(B$3=\"Single Storey\",IF(L20=\"Solid Floor (in contact with ground)\",C$4-S$3,C$4-C$5),0))","v":0},{"$f":"F20*H20*I20","v":0},{"$f":"IF($B$3=$Q$5,0,IF($B$3=$Q$7,0,F20*H20*$C$7*24/1000))","v":0}]
["Length (m)",null,"Width (m)",null,"Area (m²)",{"$f":"B21*D21","v":0},"U Value (W/m²K)",{"$f":"H20","v":0},{"$f":"IF(B$3=\"Ground Floor\",IF(L20=\"Solid Floor (in contact with ground)\",C$4-S$3,C$4-C$5),IF(B$3=\"Single Storey\",IF(L20=\"Solid Floor (in contact with ground)\",C$4-S$3,C$4-C$5),0))","v":0},{"$f":"F21*H21*I21","v":0},{"$f":"IF($B$3=$Q$5,0,IF($B$3=$Q$7,0,F21*H21*$C$7*24/1000))","v":0},"Exposed floor (external)"]
["Length (m)",null,"Width (m)",null,"Area (m²)",0,"U Value (W/m²K)",{"$f":"H20","v":0},{"$f":"IF(B$3=\"Ground Floor\",IF(L20=\"Solid Floor (in contact with ground)\",C$4-S$3,C$4-C$5),IF(B$3=\"Single Storey\",IF(L20=\"Solid Floor (in contact with ground)\",C$4-S$3,C$4-C$5),0))","v":0},{"$f":"F22*H22*I22","v":0},{"$f":"IF($B$3=$Q$5,0,IF($B$3=$Q$7,0,F22*H22*$C$7*24/1000))","v":0}]
["External Wall",null,null,null,null,null,null,null,null,null,null,{"$f":"IF(L22=\"Two opposite\",\"Between edges\",IF(L22=\"One edge\",\"Depth of room\",IF(L22=\"3 edges (short single)\",\"Short length\",IF(L22=\"3 edges (long single)\",\"Short length\",\"\"))))","v":""},null,{"$f":"IF(L22=\"3 edges (short single)\",\"Long length\",IF(L22=\"3 edges (long single)\",\"Long length\",\"\"))","v":""}]
["Length (m)",null,"Height (m)",null,"Area (m²)",0]
["Length (m)",null,"Height (m)",null,"Area (m²)",0]
["Length (m)",null,"Height (m)",null,"Area (m²)",0]
[null,null,null,"Total","Area (m²)",{"$f":"SUM(F24:F26)-SUM(F37:F43,F50:F53)","v":0},"U Value (W/m²K)",{"$f":"IF($B$3=\"Ground floor\",'Design Details'!B$48,IF($B$3=\"Mid-floor\",'Design Details'!B$58,IF($B$3=\"Upper floor\",'Design Details'!B$68,IF($B$3=\"Single Storey\",'Design Details'!B$78,0))))","v":0},{"$f":"$C$6","v":3},{"$f":"F27*H27*I27","v":0},{"$f":"F27*H27*$C$7*24/1000","v":0}]
["Roof"]
["Length (m)",null,"Width (m)",null,"Area (m²)",0]
["Length (m)",null,"Width (m)",null,"Area (m²)",0]
["Length (m)",null,"Width (m)",null,"Area (m²)",0]
[null,null,null,"Total","Area (m²)",{"$f":"SUM(F29:F31)-SUM(F45:F48)","v":0},"U Value (W/m²K)",{"$f":"IF($B$3=\"Ground floor\",'Design Details'!B$49,IF($B$3=\"Mid-floor\",'Design Details'!B$59,IF($B$3=\"Upper floor\",'Design Details'!B$69,IF($B$3=\"Single Storey\",'Design Details'!B$79,0))))","v":0},{"$f":"$C$6","v":3},0,{"$f":"IF($B$3=$Q$4,0,IF($B$3=$Q$5,0,F32*H32*$C$7*24/1000))","v":0}]
["Length (m)",null,"Pitch (m)",null,"Area (m²)",0,"Pitched"]
["Length (m)",null,"Pitch (m)",null,"Area (m²)",0,"Single Pitch"]
[null,null,null,"Total","Area (m²)",{"$f":"SUM(F33:F34)-SUM(F45:F48)","v":0},"U Value (W/m²K)",{"$f":"IF($B$3=\"Ground floor\",'Design Details'!B$50,IF($B$3=\"Mid-floor\",'Design Details'!B$60,IF($B$3=\"Upper floor\",'Design Details'!B$70,IF($B$3=\"Single Storey\",'Design Details'!B$80,0))))","v":0},3,0,{"$f":"IF($B$3=$Q$4,0,IF($B$3=$Q$5,0,F35*H35*$C$7*24/1000))","v":0}]
["Windows"]
["Width (m)",null,"Height (m)",null,"Area (m²)",0,"U Value (W/m²K)",{"$f":"IF($B$3=\"Ground floor\",'Design Details'!B$46,IF($B$3=\"Mid-floor\",'Design Details'!B$56,IF($B$3=\"Upper floor\",'Design Details'!B$66,IF($B$3=\"Single Storey\",'Design Details'!B$76,0))))","v":0},3,0,{"$f":"F37*H37*$C$7*24/1000","v":0}]
["Width (m)",null,"Height (m)",null,"Area (m²)",0,"U Value (W/m²K)",{"$f":"IF($B$3=\"Ground floor\",'Design Details'!B$46,IF($B$3=\"Mid-floor\",'Design Details'!B$56,IF($B$3=\"Upper floor\",'Design Details'!B$66,IF($B$3=\"Single Storey\",'Design Details'!B$76,0))))","v":0},3,0,0]
["Width (m)",null,"Height (m)",null,"Area (m²)",0,"U Value (W/m²K)",{"$f":"IF($B$3=\"Ground floor\",'Design Details'!B$46,IF($B$3=\"Mid-floor\",'Design Details'!B$56,IF($B$3=\"Upper floor\",'Design Details'!B$66,IF($B$3=\"Single Storey\",'Design Details'!B$76,0))))","v":0},3,0,0]
["Width (m)",null,"Height (m)",null,"Area (m²)",0,"U Value (W/m²K)",{"$f":"IF($B$3=\"Ground floor\",'Design Details'!B$46,IF($B$3=\"Mid-floor\",'Design Details'!B$56,IF($B$3=\"Upper floor\",'Design Details'!B$66,IF($B$3=\"Single Storey\",'Design Details'!B$76,0))))","v":0},3,0,0]
["Width (m)",null,"Height (m)",null,"Area (m²)",0,"U Value (W/m²K)",{"$f":"IF($B$3=\"Ground floor\",'Design Details'!B$46,IF($B$3=\"Mid-floor\",'Design Details'!B$56,IF($B$3=\"Upper floor\",'Design Details'!B$66,IF($B$3=\"Single Storey\",'Design Details'!B$76,0))))","v":0},3,0,0]
["Width (m)",null,"Height (m)",null,"Area (m²)",0,"U Value (W/m²K)",{"$f":"IF($B$3=\"Ground floor\",'Design Details'!B$46,IF($B$3=\"Mid-floor\",'Design Details'!B$56,IF($B$3=\"Upper floor\",'Design Details'!B$66,IF($B$3=\"Single Storey\",'Design Details'!B$76,0))))","v":0},3,0,0]
["Width (m)",null,"Height (m)",null,"Area (m²)",0,"U Value (W/m²K)",{"$f":"IF($B$3=\"Ground floor\",'Design Details'!B$46,IF($B$3=\"Mid-floor\",'Design Details'!B$56,IF($B$3=\"Upper floor\",'Design Details'!B$66,IF($B$3=\"Single Storey\",'Design Details'!B$76,0))))","v":0},3,0,0]
["Roof Glazing"]
["Width (m)",null,"Height (m)",null,"Area (m²)",0,"U Value (W/m²K)",{"$f":"IF($B$3=\"Ground floor\",'Design Details'!B$53,IF($B$3=\"Mid-floor\",'Design Details'!B$63,IF($B$3=\"Upper floor\",'Design Details'!B$73,IF($B$3=\"Single Storey\",'Design Details'!B$83,0))))","v":0},3,0,{"$f":"F45*H45*$C$7*24/1000","v":0}]
["Width (m)",null,"Height (m)",null,"Area (m²)",0,"U Value (W/m²K)",{"$f":"IF($B$3=\"Ground floor\",'Design Details'!B$53,IF($B$3=\"Mid-floor\",'Design Details'!B$63,IF($B$3=\"Upper floor\",'Design Details'!B$73,IF($B$3=\"Single Storey\",'Design Details'!B$83,0))))","v":0},3,0,{"$f":"F46*H46*$C$7*24/1000","v":0}]
["Width (m)",null,"Height (m)",null,"Area (m²)",0,"U Value (W/m²K)",{"$f":"IF($B$3=\"Ground floor\",'Design Details'!B$53,IF($B$3=\"Mid-floor\",'Design Details'!B$63,IF($B$3=\"Upper floor\",'Design Details'!B$73,IF($B$3=\"Single Storey\",'Design Details'!B$83,0))))","v":0},3,0,{"$f":"F47*H47*$C$7*24/1000","v":0}]
["Width (m)",null,"Height (m)",null,"Area (m²)",0,"U Value (W/m²K)",{"$f":"IF($B$3=\"Ground floor\",'Design Details'!B$53,IF($B$3=\"Mid-floor\",'Design Details'!B$63,IF($B$3=\"Upper floor\",'Design Details'!B$73,IF($B$3=\"Single Storey\",'Design Details'!B$83,0))))","v":0},3,0,{"$f":"F48*H48*$C$7*24/1000","v":0}]
["Doors"]
["Width (m)",null,"Height (m)",null,"Area (m²)",0,"U Value (W/m²K)",{"$f":"IF($B$3=\"Ground floor\",'Design Details'!B$47,IF($B$3=\"Mid-floor\",'Design Details'!B$57,IF($B$3=\"Upper floor\",'Design Details'!B$67,IF($B$3=\"Single Storey\",'Design Details'!B$77,0))))","v":0},3,0,{"$f":"F50*H50*$C$7*24/1000","v":0}]
["Width (m)",null,"Height (m)",null,"Area (m²)",0,"U Value (W/m²K)",{"$f":"IF($B$3=\"Ground floor\",'Design Details'!B$47,IF($B$3=\"Mid-floor\",'Design Details'!B$57,IF($B$3=\"Upper floor\",'Design Details'!B$67,IF($B$3=\"Single Storey\",'Design Details'!B$77,0))))","v":0},3,0,{"$f":"F51*H51*$C$7*24/1000","v":0}]
["Width (m)",null,"Height (m)",null,"Area (m²)",0,"U Value (W/m²K)",{"$f":"IF($B$3=\"Ground floor\",'Design Details'!B$47,IF($B$3=\"Mid-floor\",'Design Details'!B$57,IF($B$3=\"Upper floor\",'Design Details'!B$67,IF($B$3=\"Single Storey\",'Design Details'!B$77,0))))","v":0},3,0,{"$f":"F52*H52*$C$7*24/1000","v":0}]
["Width (m)",null,"Height (m)",null,"Area (m²)",0,"U Value (W/m²K)",{"$f":"IF($B$3=\"Ground floor\",'Design Details'!B$47,IF($B$3=\"Mid-floor\",'Design Details'!B$57,IF($B$3=\"Upper floor\",'Design Details'!B$67,IF($B$3=\"Single Storey\",'Design Details'!B$77,0))))","v":0},3,0,{"$f":"F53*H53*$C$7*24/1000","v":0}]
["Internal Walls",null,null,null,null,null,null,null,null,null,null,"Adjoining Room Temp (°C)"]
["Length (m)",null,"Height (m)",null,"Area (m²)",0,"U Value (W/m²K)",{"$f":"IF($B$3=\"Ground floor\",'Design Details'!B$51,IF($B$3=\"Mid-floor\",'Design Details'!B$61,IF($B$3=\"Upper floor\",'Design Details'!B$71,IF($B$3=\"Single Storey\",'Design Details'!B$81,0))))","v":0},{"$f":"IF(L55=\"\",0,IF(L55=\"unheated\",C$4-10,C$4-L55))","v":0},0]
["Length (m)",null,"Height (m)",null,"Area (m²)",0,"U Value (W/m²K)",{"$f":"IF($B$3=\"Ground floor\",'Design Details'!B$51,IF($B$3=\"Mid-floor\",'Design Details'!B$61,IF($B$3=\"Upper floor\",'Design Details'!B$71,IF($B$3=\"Single Storey\",'Design Details'!B$81,0))))","v":0},{"$f":"IF(L56=\"\",0,IF(L56=\"unheated\",C$4-10,C$4-L56))","v":0},0]
["Length (m)",null,"Height (m)",null,"Area (m²)",0,"U Value (W/m²K)",{"$f":"IF($B$3=\"Ground floor\",'Design Details'!B$51,IF($B$3=\"Mid-floor\",'Design Details'!B$61,IF($B$3=\"Upper floor\",'Design Details'!B$71,IF($B$3=\"Single Storey\",'Design Details'!B$81,0))))","v":0},{"$f":"IF(L57=\"\",0,IF(L57=\"unheated\",C$4-10,C$4-L57))","v":0},0]
["Length (m)",null,"Height (m)",null,"Area (m²)",0,"U Value (W/m²K)",{"$f":"IF($B$3=\"Ground floor\",'Design Details'!B$51,IF($B$3=\"Mid-floor\",'Design Details'!B$61,IF($B$3=\"Upper floor\",'Design Details'!B$71,IF($B$3=\"Single Storey\",'Design Details'!B$81,0))))","v":0},{"$f":"IF(L58=\"\",0,IF(L58=\"unheated\",C$4-10,C$4-L58))","v":0},0]
["Party Wall"]
["Length (m)",null,"Height (m)",null,"Area (m²)",0,"U Value (W/m²K)",{"$f":"IF($B$3=\"Ground floor\",'Design Details'!B$52,IF($B$3=\"Mid-floor\",'Design Details'!B$62,IF($B$3=\"Upper floor\",'Design Details'!B$72,IF($B$3=\"Single Storey\",'Design Details'!B$82,0))))","v":0},{"$f":"C4-10","v":-10},0,{"$f":"F60*H60*$C$7*24/1000","v":0}]

{"sheet":"30","index":47,"n_rows":60,"n_cols":24,"rows_kept":60,"cut":false,"hidden":false,"merged":[[2,1,2,2],[2,3,2,4],[0,0,0,2],[0,3,0,5],[0,9,0,10],[1,3,1,4],[3,0,3,1],[3,3,3,4],[4,0,4,1],[4,3,4,4],[5,0,5,1],[5,3,5,4],[57,11,57,13],[6,0,6,1],[18,11,18,13],[19,11,19,13],[53,11,53,13],[54,11,54,13],[55,11,55,13],[56,11,56,13],[30,11,30,13],[10,10,10,13],[9,10,9,13],[20,11,20,13],[21,11,21,13]]}
["Room Information",null,null,"Ventilation Heat Loss",null,null,"Fabric ","Heat Loss (W)"," Usage (kWh)","Additional heat loss",null,"Addition","Watts","kWh"]
["Room","-",null,"Air Changes a hour",null,{"$f":"'Design Details'!F116","v":0},"Floor",{"$f":"SUM(J20:J22)","v":0},{"$f":"SUM(K20:K22)","v":0},"Thermal Bridging (New Build >2006)",null,0,{"$f":"SUM(H$2:H$6)*L2","v":0},{"$f":"SUM(I$2:I$6)*L2","v":0},null,"3 edges (long single)","Level",null,null,null,null,null,null,1]
["Level",null,null,"Air Change Factor (W/m³K)",null,0.33,"Ext Wall",{"$f":"J27","v":0},{"$f":"K27","v":0},"Exposed location",null,0,{"$f":"SUM(H$2:H$6)*L3","v":0},{"$f":"SUM(I$2:I$6)*L3","v":0},null,"3 edges (short single)","Please Select Floor",{"$f":"IF($B$3=\"Ground floor\",\"Solid Floor (in contact with ground)\",IF($B$3=\"Single Storey\",\"Solid Floor (in contact with ground)\",\"n/a\"))","v":"n/a"},{"$f":"'Design Details'!B21","v":10},"unheated",0,0,0,2]
["Design Room Temp (°C)",null,{"$f":"'Design Details'!D116","v":0},"Total Volume (m³)",null,{"$f":"SUM(H10:H12,H14:H18)","v":0},"Roof",{"$f":"SUM(J32,J35)","v":0},{"$f":"SUM(K32,K35)","v":0},"High ceiling",null,0,{"$f":"SUM(H$2:H$6)*L4","v":0},{"$f":"SUM(I$2:I$6)*L4","v":0},null,"One edge","Ground floor",{"$f":"IF($B$3=\"Ground floor\",\"Suspended Floor\",IF($B$3=\"Single Storey\",\"Suspended Floor\",\"n/a\"))","v":"n/a"},null,16,0.1,0.2,2.5000000000000001E-2,3]
["Outside Design Temp (°C)",null,{"$f":"'Design Details'!B19","v":-3},"Heat loss (W)",null,{"$f":"F4*F3*C6*F2","v":0},"Glazing",{"$f":"SUM(J37:J43,J45:J48,J50:J53)","v":0},{"$f":"SUM(K37:K43,K45:K48,K50:K53)","v":0},"Intermittent heating",null,0,{"$f":"SUM(H$2:H$6)*L5","v":0},{"$f":"SUM(I$2:I$6)*L5","v":0},null,"Two adjacent","Mid-floor",null,null,18,null,null,0.05,4]
["Temp Difference (°C)",null,{"$f":"C4-C5","v":3},"Estimated Energy usage (kWh)",null,{"$f":"F4*F3*C7*24/1000","v":0},"Int./Party Wall",{"$f":"SUM(J55:J58,J60)","v":0},{"$f":"SUM(K60)","v":0},null,null,null,"Total Room Heat Loss (W)",{"$f":"SUM(F5,H2:H6,M2:M5)","v":0},null,"Two opposite","Single storey",null,null,21,null,null,7.4999999999999997E-2,5]
["Degree Days",null,{"$f":"'Design Details'!B20","v":2228},null,null,null,null,null,null,null,null,null,"Total Room Energy Usage (kWh)",{"$f":"SUM(F6,I2:I6,N2:N5)","v":0},null,null,"Upper floor",null,null,22,null,null,0.1,6]
[null,null,null,null,null,null,null,null,null,null,null,null,null,null,null,null,{"$f":"IF($B$3=\"Ground floor\",'Design Details'!B$45,IF($B$3=\"Mid-floor\",'Design Details'!B$55,IF($B$3=\"Upper floor\",'Design Details'!B$65,IF($B$3=\"Single Storey\",'Design Details'!B$75,0))))","v":0},null,null,null,null,null,null,7]
["Room Dimensions",null,null,null,null,null,null,null,null,null,null,null,null,null,null,null,null,null,null,null,null,null,null,8]
["Length (m)",null,"Width (m)",null,"Height (m)",null,"Volume (m³)",{"$f":"B10*D10*F10","v":0},null,null,null,null,null,null,null,null,null,null,null,null,null,null,null,9]
["Length (m)",null,"Width (m)",null,"Height (m)",null,"Volume (m³)",{"$f":"B11*D11*F11","v":0},null,null,null,null,null,null,null,null,null,null,null,null,null,null,null,10]
["Length (m)",null,"Width (m)",null,"Height (m)",null,"Volume (m³)",{"$f":"B12*D12*F12","v":0}]
["Awkward Room Dimensions"]
["Length (m)",null,"Width (m)",null,"Height (m)",null,"Volume (m³)",{"$f":"((F14*D14)/2)*B14","v":0},"Pitched"]
["Length (m)",null,"Width (m)",null,"Height (m)",null,"Volume (m³)",{"$f":"B15*D15*F15/2","v":0},"Single Pitch"]
["Length (m)",null,"Height (m)",null,"Depth (m)",null,"Volume (m³)",{"$f":"D16*F16*B16/2","v":0},"Dormer 1"]
["Length (m)",null,"Height (m)",null,"Depth (m)",null,"Volume (m³)",{"$f":"D17*F17*B17/2","v":0},"Dormer 2"]
["Length (m)",null,"Height (m)",null,"Depth (m)",null,"Volume (m³)",{"$f":"D18*F18*B18/2","v":0},"Dormer 3"]
["Floor",null,null,null,null,null,null,null,"Temp Difference","Heat Loss (W)","Usage (kWh)","Type of Ground Floor"]
["Length (m)",null,"Width (m)",null,"Area (m²)",{"$f":"B20*D20","v":0},"U Value (W/m²K)",{"$f":"IF(L22=\"\",Q8,'floor u values'!K31)","v":0},{"$f":"IF(B$3=\"Ground Floor\",IF(L20=\"Solid Floor (in contact with ground)\",C$4-S$3,C$4-C$5),IF(B$3=\"Single Storey\",IF(L20=\"Solid Floor (in contact with ground)\",C$4-S$3,C$4-C$5),0))","v":0},{"$f":"F20*H20*I20","v":0},{"$f":"IF($B$3=$Q$5,0,IF($B$3=$Q$7,0,F20*H20*$C$7*24/1000))","v":0}]
["Length (m)",null,"Width (m)",null,"Area (m²)",{"$f":"B21*D21","v":0},"U Value (W/m²K)",{"$f":"H20","v":0},{"$f":"IF(B$3=\"Ground Floor\",IF(L20=\"Solid Floor (in contact with ground)\",C$4-S$3,C$4-C$5),IF(B$3=\"Single Storey\",IF(L20=\"Solid Floor (in contact with ground)\",C$4-S$3,C$4-C$5),0))","v":0},{"$f":"F21*H21*I21","v":0},{"$f":"IF($B$3=$Q$5,0,IF($B$3=$Q$7,0,F21*H21*$C$7*24/1000))","v":0},"Exposed floor (external)"]
["Length (m)",null,"Width (m)",null,"Area (m²)",0,"U Value (W/m²K)",{"$f":"H20","v":0},{"$f":"IF(B$3=\"Ground Floor\",IF(L20=\"Solid Floor (in contact with ground)\",C$4-S$3,C$4-C$5),IF(B$3=\"Single Storey\",IF(L20=\"Solid Floor (in contact with ground)\",C$4-S$3,C$4-C$5),0))","v":0},{"$f":"F22*H22*I22","v":0},{"$f":"IF($B$3=$Q$5,0,IF($B$3=$Q$7,0,F22*H22*$C$7*24/1000))","v":0}]
["External Wall",null,null,null,null,null,null,null,null,null,null,{"$f":"IF(L22=\"Two opposite\",\"Between edges\",IF(L22=\"One edge\",\"Depth of room\",IF(L22=\"3 edges (short single)\",\"Short length\",IF(L22=\"3 edges (long single)\",\"Short length\",\"\"))))","v":""},null,{"$f":"IF(L22=\"3 edges (short single)\",\"Long length\",IF(L22=\"3 edges (long single)\",\"Long length\",\"\"))","v":""}]
["Length (m)",null,"Height (m)",null,"Area (m²)",0]
["Length (m)",null,"Height (m)",null,"Area (m²)",0]
["Length (m)",null,"Height (m)",null,"Area (m²)",0]
[null,null,null,"Total","Area (m²)",{"$f":"SUM(F24:F26)-SUM(F37:F43,F50:F53)","v":0},"U Value (W/m²K)",{"$f":"IF($B$3=\"Ground floor\",'Design Details'!B$48,IF($B$3=\"Mid-floor\",'Design Details'!B$58,IF($B$3=\"Upper floor\",'Design Details'!B$68,IF($B$3=\"Single Storey\",'Design Details'!B$78,0))))","v":0},{"$f":"$C$6","v":3},{"$f":"F27*H27*I27","v":0},{"$f":"F27*H27*$C$7*24/1000","v":0}]
["Roof"]
["Length (m)",null,"Width (m)",null,"Area (m²)",0]
["Length (m)",null,"Width (m)",null,"Area (m²)",0]
["Length (m)",null,"Width (m)",null,"Area (m²)",0]
[null,null,null,"Total","Area (m²)",{"$f":"SUM(F29:F31)-SUM(F45:F48)","v":0},"U Value (W/m²K)",{"$f":"IF($B$3=\"Ground floor\",'Design Details'!B$49,IF($B$3=\"Mid-floor\",'Design Details'!B$59,IF($B$3=\"Upper floor\",'Design Details'!B$69,IF($B$3=\"Single Storey\",'Design Details'!B$79,0))))","v":0},{"$f":"$C$6","v":3},0,{"$f":"IF($B$3=$Q$4,0,IF($B$3=$Q$5,0,F32*H32*$C$7*24/1000))","v":0}]
["Length (m)",null,"Pitch (m)",null,"Area (m²)",0,"Pitched"]
["Length (m)",null,"Pitch (m)",null,"Area (m²)",0,"Single Pitch"]
[null,null,null,"Total","Area (m²)",{"$f":"SUM(F33:F34)-SUM(F45:F48)","v":0},"U Value (W/m²K)",{"$f":"IF($B$3=\"Ground floor\",'Design Details'!B$50,IF($B$3=\"Mid-floor\",'Design Details'!B$60,IF($B$3=\"Upper floor\",'Design Details'!B$70,IF($B$3=\"Single Storey\",'Design Details'!B$80,0))))","v":0},3,0,{"$f":"IF($B$3=$Q$4,0,IF($B$3=$Q$5,0,F35*H35*$C$7*24/1000))","v":0}]
["Windows"]
["Width (m)",null,"Height (m)",null,"Area (m²)",0,"U Value (W/m²K)",{"$f":"IF($B$3=\"Ground floor\",'Design Details'!B$46,IF($B$3=\"Mid-floor\",'Design Details'!B$56,IF($B$3=\"Upper floor\",'Design Details'!B$66,IF($B$3=\"Single Storey\",'Design Details'!B$76,0))))","v":0},3,0,{"$f":"F37*H37*$C$7*24/1000","v":0}]
["Width (m)",null,"Height (m)",null,"Area (m²)",0,"U Value (W/m²K)",{"$f":"IF($B$3=\"Ground floor\",'Design Details'!B$46,IF($B$3=\"Mid-floor\",'Design Details'!B$56,IF($B$3=\"Upper floor\",'Design Details'!B$66,IF($B$3=\"Single Storey\",'Design Details'!B$76,0))))","v":0},3,0,0]
["Width (m)",null,"Height (m)",null,"Area (m²)",0,"U Value (W/m²K)",{"$f":"IF($B$3=\"Ground floor\",'Design Details'!B$46,IF($B$3=\"Mid-floor\",'Design Details'!B$56,IF($B$3=\"Upper floor\",'Design Details'!B$66,IF($B$3=\"Single Storey\",'Design Details'!B$76,0))))","v":0},3,0,0]
["Width (m)",null,"Height (m)",null,"Area (m²)",0,"U Value (W/m²K)",{"$f":"IF($B$3=\"Ground floor\",'Design Details'!B$46,IF($B$3=\"Mid-floor\",'Design Details'!B$56,IF($B$3=\"Upper floor\",'Design Details'!B$66,IF($B$3=\"Single Storey\",'Design Details'!B$76,0))))","v":0},3,0,0]
["Width (m)",null,"Height (m)",null,"Area (m²)",0,"U Value (W/m²K)",{"$f":"IF($B$3=\"Ground floor\",'Design Details'!B$46,IF($B$3=\"Mid-floor\",'Design Details'!B$56,IF($B$3=\"Upper floor\",'Design Details'!B$66,IF($B$3=\"Single Storey\",'Design Details'!B$76,0))))","v":0},3,0,0]
["Width (m)",null,"Height (m)",null,"Area (m²)",0,"U Value (W/m²K)",{"$f":"IF($B$3=\"Ground floor\",'Design Details'!B$46,IF($B$3=\"Mid-floor\",'Design Details'!B$56,IF($B$3=\"Upper floor\",'Design Details'!B$66,IF($B$3=\"Single Storey\",'Design Details'!B$76,0))))","v":0},3,0,0]
["Width (m)",null,"Height (m)",null,"Area (m²)",0,"U Value (W/m²K)",{"$f":"IF($B$3=\"Ground floor\",'Design Details'!B$46,IF($B$3=\"Mid-floor\",'Design Details'!B$56,IF($B$3=\"Upper floor\",'Design Details'!B$66,IF($B$3=\"Single Storey\",'Design Details'!B$76,0))))","v":0},3,0,0]
["Roof Glazing"]
["Width (m)",null,"Height (m)",null,"Area (m²)",0,"U Value (W/m²K)",{"$f":"IF($B$3=\"Ground floor\",'Design Details'!B$53,IF($B$3=\"Mid-floor\",'Design Details'!B$63,IF($B$3=\"Upper floor\",'Design Details'!B$73,IF($B$3=\"Single Storey\",'Design Details'!B$83,0))))","v":0},3,0,{"$f":"F45*H45*$C$7*24/1000","v":0}]
["Width (m)",null,"Height (m)",null,"Area (m²)",0,"U Value (W/m²K)",{"$f":"IF($B$3=\"Ground floor\",'Design Details'!B$53,IF($B$3=\"Mid-floor\",'Design Details'!B$63,IF($B$3=\"Upper floor\",'Design Details'!B$73,IF($B$3=\"Single Storey\",'Design Details'!B$83,0))))","v":0},3,0,{"$f":"F46*H46*$C$7*24/1000","v":0}]
["Width (m)",null,"Height (m)",null,"Area (m²)",0,"U Value (W/m²K)",{"$f":"IF($B$3=\"Ground floor\",'Design Details'!B$53,IF($B$3=\"Mid-floor\",'Design Details'!B$63,IF($B$3=\"Upper floor\",'Design Details'!B$73,IF($B$3=\"Single Storey\",'Design Details'!B$83,0))))","v":0},3,0,{"$f":"F47*H47*$C$7*24/1000","v":0}]
["Width (m)",null,"Height (m)",null,"Area (m²)",0,"U Value (W/m²K)",{"$f":"IF($B$3=\"Ground floor\",'Design Details'!B$53,IF($B$3=\"Mid-floor\",'Design Details'!B$63,IF($B$3=\"Upper floor\",'Design Details'!B$73,IF($B$3=\"Single Storey\",'Design Details'!B$83,0))))","v":0},3,0,{"$f":"F48*H48*$C$7*24/1000","v":0}]
["Doors"]
["Width (m)",null,"Height (m)",null,"Area (m²)",0,"U Value (W/m²K)",{"$f":"IF($B$3=\"Ground floor\",'Design Details'!B$47,IF($B$3=\"Mid-floor\",'Design Details'!B$57,IF($B$3=\"Upper floor\",'Design Details'!B$67,IF($B$3=\"Single Storey\",'Design Details'!B$77,0))))","v":0},3,0,{"$f":"F50*H50*$C$7*24/1000","v":0}]
["Width (m)",null,"Height (m)",null,"Area (m²)",0,"U Value (W/m²K)",{"$f":"IF($B$3=\"Ground floor\",'Design Details'!B$47,IF($B$3=\"Mid-floor\",'Design Details'!B$57,IF($B$3=\"Upper floor\",'Design Details'!B$67,IF($B$3=\"Single Storey\",'Design Details'!B$77,0))))","v":0},3,0,{"$f":"F51*H51*$C$7*24/1000","v":0}]
["Width (m)",null,"Height (m)",null,"Area (m²)",0,"U Value (W/m²K)",{"$f":"IF($B$3=\"Ground floor\",'Design Details'!B$47,IF($B$3=\"Mid-floor\",'Design Details'!B$57,IF($B$3=\"Upper floor\",'Design Details'!B$67,IF($B$3=\"Single Storey\",'Design Details'!B$77,0))))","v":0},3,0,{"$f":"F52*H52*$C$7*24/1000","v":0}]
["Width (m)",null,"Height (m)",null,"Area (m²)",0,"U Value (W/m²K)",{"$f":"IF($B$3=\"Ground floor\",'Design Details'!B$47,IF($B$3=\"Mid-floor\",'Design Details'!B$57,IF($B$3=\"Upper floor\",'Design Details'!B$67,IF($B$3=\"Single Storey\",'Design Details'!B$77,0))))","v":0},3,0,{"$f":"F53*H53*$C$7*24/1000","v":0}]
["Internal Walls",null,null,null,null,null,null,null,null,null,null,"Adjoining Room Temp (°C)"]
["Length (m)",null,"Height (m)",null,"Area (m²)",0,"U Value (W/m²K)",{"$f":"IF($B$3=\"Ground floor\",'Design Details'!B$51,IF($B$3=\"Mid-floor\",'Design Details'!B$61,IF($B$3=\"Upper floor\",'Design Details'!B$71,IF($B$3=\"Single Storey\",'Design Details'!B$81,0))))","v":0},{"$f":"IF(L55=\"\",0,IF(L55=\"unheated\",C$4-10,C$4-L55))","v":0},0]
["Length (m)",null,"Height (m)",null,"Area (m²)",0,"U Value (W/m²K)",{"$f":"IF($B$3=\"Ground floor\",'Design Details'!B$51,IF($B$3=\"Mid-floor\",'Design Details'!B$61,IF($B$3=\"Upper floor\",'Design Details'!B$71,IF($B$3=\"Single Storey\",'Design Details'!B$81,0))))","v":0},{"$f":"IF(L56=\"\",0,IF(L56=\"unheated\",C$4-10,C$4-L56))","v":0},0]
["Length (m)",null,"Height (m)",null,"Area (m²)",0,"U Value (W/m²K)",{"$f":"IF($B$3=\"Ground floor\",'Design Details'!B$51,IF($B$3=\"Mid-floor\",'Design Details'!B$61,IF($B$3=\"Upper floor\",'Design Details'!B$71,IF($B$3=\"Single Storey\",'Design Details'!B$81,0))))","v":0},{"$f":"IF(L57=\"\",0,IF(L57=\"unheated\",C$4-10,C$4-L57))","v":0},0]
["Length (m)",null,"Height (m)",null,"Area (m²)",0,"U Value (W/m²K)",{"$f":"IF($B$3=\"Ground floor\",'Design Details'!B$51,IF($B$3=\"Mid-floor\",'Design Details'!B$61,IF($B$3=\"Upper floor\",'Design Details'!B$71,IF($B$3=\"Single Storey\",'Design Details'!B$81,0))))","v":0},{"$f":"IF(L58=\"\",0,IF(L58=\"unheated\",C$4-10,C$4-L58))","v":0},0]
["Party Wall"]
["Length (m)",null,"Height (m)",null,"Area (m²)",0,"U Value (W/m²K)",{"$f":"IF($B$3=\"Ground floor\",'Design Details'!B$52,IF($B$3=\"Mid-floor\",'Design Details'!B$62,IF($B$3=\"Upper floor\",'Design Details'!B$72,IF($B$3=\"Single Storey\",'Design Details'!B$82,0))))","v":0},{"$f":"C4-10","v":-10},0,{"$f":"F60*H60*$C$7*24/1000","v":0}]

{"sheet":"Version","index":48,"n_rows":18,"n_cols":4,"rows_kept":18,"cut":false,"hidden":false,"merged":[]}
[]
[null,"AMENDMENTS SINCE PUBLICATION"]
[]
[null,"Date","Version","Notes"]
[null,"2015-11-03",1,"First issue."]
[null,"2015-12-15",1.1000000000000001,"Updates to functionality and corrected reported errors."]
[null,"2016-01-28",1.2,"Updates to functionality and corrected reported errors."]
[null,"2016-02-01",1.3,"Updates to functionality and corrected reported errors."]
[null,"2016-05-10",1.4,"Post 2006 building room design temp changed to 21°C throughout , \nexcept for bathroom (22) and store (16)"]
[null,"2016-05-10",1.4,"Added kWh to additional heat on room tabs"]
[null,"2016-05-10",1.4,"Added W/m2 to overview on design details tab"]
[null,"2016-05-27",1.4,"Updated postcode degree data"]
[null,"2017-03-28",1.5,"Updates to functionality and corrected reported errors including:\nRadiator selection for room 3\nDimensions for roof windows "]
[null,"2017-05-12",1.6,"Minor update to unlock drop downs for Exposed floor (external) "]
[null,"2017-06-15",1.6,"Corrected cell value on sheet 11 cell F3"]
[null,"2017-09-19",1.7,"Updated to include version 2.0 and guidance for the Compliance Certificate"]
[null,"2018-04-18",1.8,"Corrected cell entry issues on Compliance Certificate v1.2 tab (cell D22, D23, D24, and D25)"]
[null,"2019-07-29",1.9,"Rebranding of document, update of email and website addresses and cosmetic changes"]